{"text_format":"1","workbook":"xlsx","n_sheets":117,"sheets":["STARTSEITE","INFO","LINEARMODUL-ÜBERSICHT","EM-LM-1","EM-LM-1-1","EM-LM-2","EM-LM-2-1","EM-LM-4","EM-LM-4-1","EM-LM-5","EM-LM-5-1","EM-LM-3","EM-LM-3-1","EM-LM-6","EM-LM-6-1","EM-PMP-1","EM-PMP-2","EM-PMP-3","EM-Ber-LM25-1","EM-Ber-LM25-2","EM-Ber-LM25-3","EM-Ber-LM25-4","EM-Ber-LM25-5","EM-Ber-LM25-6","EM-Ber-LM50-1","EM-Ber-LM50-2","EM-Ber-LM50-3","EM-Ber-LM50-4","EM-Ber-LM50-5","EM-Ber-LM50-6","EM-Ber-LM100-1","EM-Ber-LM100-2","EM-Ber-LM100-3","EM-Ber-LM100-4","EM-Ber-LM100-5","EM-Ber-LM100-6","EM-Ber-LM200-1","EM-Ber-LM200-2","EM-Ber-LM200-3","EM-Ber-LM200-4","EM-Ber-LM200-5","EM-Ber-LM200-6","EM-Ber-LM300-1","EM-Ber-LM300-2","EM-Ber-LM300-3","EM-Ber-LM300-4","EM-Ber-LM300-5","EM-Ber-LM300-6","EM-Ber-KLM25-1","EM-Ber-KLM25-2","EM-Ber-KLM25-3","EM-Ber-KLM25-4","EM-Ber-KLM25-5","EM-Ber-KLM25-6","EM-Ber-KLM50-1","EM-Ber-KLM50-2","EM-Ber-KLM50-3","EM-Ber-KLM50-4","EM-Ber-KLM50-5","EM-Ber-KLM50-6","EM-Ber-KLM100-1","EM-Ber-KLM100-2","EM-Ber-KLM100-3","EM-Ber-KLM100-4","EM-Ber-KLM100-5","EM-Ber-KLM100-6","EM-Ber-KLM300-1","EM-Ber-KLM300-2","EM-Ber-KLM300-3","EM-Ber-KLM300-4","EM-Ber-KLM300-5","EM-Ber-KLM300-6","EM-Ber-CLM08-1","EM-Ber-CLM08-2","EM-Ber-CLM08-3","EM-Ber-CLM08-4","EM-Ber-CLM08-5","EM-Ber-CLM08-6","EM-Ber-CLM10-1","EM-Ber-CLM10-2","EM-Ber-CLM10-3","EM-Ber-CLM10-4","EM-Ber-CLM10-5","EM-Ber-CLM10-6","EM-Ber-CLM25-1","EM-Ber-CLM25-2","EM-Ber-CLM25-3","EM-Ber-CLM25-4","EM-Ber-CLM25-5","EM-Ber-CLM25-6","EM-Ber-CLM50-1","EM-Ber-CLM50-2","EM-Ber-CLM50-3","EM-Ber-CLM50-4","EM-Ber-CLM50-5","EM-Ber-CLM50-6","EM-Ber-CLM100-1","EM-Ber-CLM100-2","EM-Ber-CLM100-3","EM-Ber-CLM100-4","EM-Ber-CLM100-5","EM-Ber-CLM100-6","EM-Ber-CLM200-1","EM-Ber-CLM200-2","EM-Ber-CLM200-3","EM-Ber-CLM200-4","EM-Ber-CLM200-5","EM-Ber-CLM200-6","EM-Ber-PMP16-1","EM-Ber-PMP25-1","EM-Ber-PMP16-2","EM-Ber-PMP25-2","EM-Ber-PMP16-3","EM-Ber-PMP25-3","Translation","Info-Translation","Allgemeine Werte"],"not_rendered":{"charts":0,"images":134,"macros":1,"external_links":0,"defined_names":19,"comments":0,"pivot_tables":0},"unopened":[],"bounds":{"document_bytes":16777216,"sheet_cells":100000,"rows_first":2000,"rows_last":500,"rows_between":2000,"halvings":0,"cell_chars":16384,"cell_head_chars":4096},"cells_cut":0,"cells_raw":0,"read":"whole","date_system":"1900"}

{"sheet":"STARTSEITE","index":0,"n_rows":62,"n_cols":4,"rows_kept":62,"cut":false,"hidden":false,"merged":[[40,0,43,1],[44,0,46,1],[13,0,13,1],[8,3,9,7],[11,3,18,6],[21,3,29,6]]}
[]
[{"$f":"Translation!A14","v":"Toolbox-Translation - MODULARE MONTAGEAUTOMATION"}]
[{"$f":"Translation!A13","v":"Version 04/15"}]
[]
[]
[]
[]
[]
[null,null,null,{"$f":"Translation!A6","v":"Modul-Berechnungsprogramm"}]
[]
[]
[null,null,null,{"$f":"Translation!A7","v":"Mit diesem Software-Tool werden für Linearmodule die zulässigen Belastungen und Taktzeiten berechnet"}]
[]
[{"$f":"Translation!A15","v":"Zoom (%)"}]
[]
[]
[]
[]
[]
[null,null,null,{"$f":"Translation!A17","v":"Achtung:"}]
[]
[null,null,null,{"$f":"Translation!A16","v":"Bitte überprüfen Sie regelmäßig die Aktualität dieses Berechnungsprogramms im \"Download-Bereich\" unserer Homepage !"}]
[]
[]
[]
[]
[]
[]
[]
[]
[]
[]
[]
[]
[]
[]
[]
[]
[]
[]
["http://www.schunk.com"]
[null,null,null,{"$f":"Translation!A8","v":"Software: MS Excel 2007"}]
[null,null,null,{"$f":"Translation!A11","v":"ActiveX Steuerelemente müssen aktiviert sein !"}]
[null,null,null,{"$f":"Translation!A12","v":"MAKROS müssen aktiviert sein !"}]
["mailto:\nautomation@\nde.schunk.com"]
[]
[]
[]
[]
[1,"100"]
[null,100]
[null,95]
[null,90]
[null,85]
[null,80]
[null,75]
[null,70]
[]
[null,100]
[null,{"$f":"IF(B59>100,100,B59)","v":100}]
[null,{"$f":"B60*0.85","v":85}]
[null,{"$f":"B60*0.95","v":95}]

{"sheet":"INFO","index":1,"n_rows":158,"n_cols":21,"rows_kept":158,"cut":false,"hidden":false,"merged":[[105,3,106,11],[92,13,95,21],[89,20,89,21],[128,3,129,13],[102,3,103,21],[89,3,93,10],[97,3,99,21],[90,15,90,18],[90,20,90,21],[89,15,89,18],[86,20,86,21],[85,13,85,14],[84,20,84,21],[83,15,83,18],[83,20,83,21],[64,17,65,21],[64,3,65,15],[74,3,74,5],[74,13,75,21],[72,3,73,5],[66,3,66,15],[74,6,75,10],[84,15,84,18],[83,13,83,14],[84,13,84,14],[79,19,80,21],[82,15,82,18],[70,3,71,21],[78,6,79,10],[80,6,81,10],[79,13,80,14],[79,15,80,18],[76,6,77,10],[72,11,73,12],[72,13,73,21],[72,6,73,10],[76,13,77,21],[11,3,13,10],[47,3,48,21],[28,7,29,16],[30,7,31,16],[43,3,45,6],[24,7,26,15],[14,3,19,21],[157,3,162,21],[155,3,156,6],[115,3,118,21],[119,3,120,21],[124,3,125,13],[135,3,136,4],[142,5,144,21],[126,3,127,13],[122,3,123,13],[137,5,140,21],[150,3,152,6],[85,3,88,10],[100,3,101,21],[111,3,112,11],[135,5,136,21],[130,19,130,20],[130,3,131,13],[85,20,85,21],[87,20,87,21],[88,20,88,21],[86,13,86,14],[85,15,85,18],[86,15,86,18],[108,3,109,11],[87,15,87,18],[88,15,88,18],[62,5,62,7],[62,19,62,21],[62,16,62,18],[62,13,62,15],[62,9,62,11]]}
[]
[{"$f":"Translation!A14","v":"Toolbox-Translation - MODULARE MONTAGEAUTOMATION"}]
[{"$f":"'Info-Translation'!A15","v":"Informationen"}]
[]
[]
[]
[]
[]
[]
[]
[]
[null,null,null,{"$f":"'Info-Translation'!A6","v":"Infos zur Toolbox-Translation"}]
[]
[]
[null,null,null,{"$f":"'Info-Translation'!A19","v":"SCHUNK bietet Ihnen Produkte und Dienstleistungen mit zukunftsgerichtetem technischen Niveau. Um Ihnen die geforderte Planungssicherheit zu garantieren wurde diese Software entwickelt mit der Linear- und Portalmodule berechnet werden können. Nachfolgend ist die Funktion und Bedienung kurz beschrieben."}]
[]
[]
[]
[]
[]
[null,null,null,{"$f":"'Info-Translation'!A7","v":"Klicken Sie hier..."}]
[]
[]
[]
[null,null,null,null,null,null,null,{"$f":"'Info-Translation'!A12","v":"Berechnung der Taktzeiten und Belastungen"}]
[]
[]
[]
[]
[]
[]
[]
[]
[]
[]
[]
[]
[]
[]
[]
[]
[]
[]
[null,null,null,{"$f":"'Info-Translation'!A8","v":"Linearmodule"}]
[]
[]
[]
[null,null,null,{"$f":"'Info-Translation'!A20","v":"Unter folgenden Belastungen können Linear- und Portalmodule berechnet werden:"}]
[]
[]
[]
[]
[]
[]
[]
[]
[]
[]
[]
[]
[]
[]
[null,null,null,null,null,{"$f":"'Info-Translation'!A22","v":"Belastungsart 2"},null,null,null,{"$f":"'Info-Translation'!A23","v":"Belastungsart 3"},null,null,null,{"$f":"'Info-Translation'!A24","v":"Belastungsart 4"},null,null,{"$f":"'Info-Translation'!A25","v":"Belastungsart 5"},null,null,{"$f":"'Info-Translation'!A26","v":"Belastungsart 6"}]
[]
[null,null,null,{"$f":"'Info-Translation'!A27","v":"Einbaulage horizontal"},null,null,null,null,null,null,null,null,null,null,null,null,null,{"$f":"'Info-Translation'!A28","v":"Einbaulage vertikal"}]
[]
[null,null,null,{"$f":"'Info-Translation'!A29","v":"Berechnungen für die Belastungsfälle 1 bis 6 gelten auch bei um 180 Grad gedrehter Einbaulage"}]
[]
[]
[]
[null,null,null,{"$f":"'Info-Translation'!A30","v":"Berechnungsgrundlagen für Linear- und Portalmodule"}]
[]
[null,null,null,{"$f":"'Info-Translation'!A31","v":"Anwendungsdaten:"},null,null,{"$f":"'Info-Translation'!A33","v":"Hub"},null,null,null,null,{"$f":"'Info-Translation'!A40","v":"Moduldaten:"},null,{"$f":"'Info-Translation'!A41","v":"Betriebsdruck 6 bar und Anschluß beider Luftanschlüsse pro Zylinderseite bei LM100, LM200 und LM300"}]
[]
[null,null,null,{"$f":"'Info-Translation'!A32","v":"Kundenanforderungen"},null,null,{"$f":"'Info-Translation'!A34","v":"Gewicht der Zusatzmasse"},null,null,null,null,null,null,{"$f":"'Info-Translation'!A42","v":"Stoßdämpferauslastung pro Hub und Stunde max. 95%"}]
[]
[null,null,null,null,null,null,{"$f":"'Info-Translation'!A35","v":"Koordinaten des Zusatzmassenschwerpunktes"},null,null,null,null,null,null,{"$f":"'Info-Translation'!A43","v":"Führungsbelastung durch Beschleunigung und Verzögerung unter Berücksichtigung aller auftretenden Kräfte und Momente"}]
[]
[null,null,null,null,null,null,{"$f":"'Info-Translation'!A36","v":"Extern einwirkende Kräfte im Ruhezustand "}]
[null,null,null,null,null,null,null,null,null,null,null,null,null,{"$f":"'Info-Translation'!A44","v":"Modultyp"},null,{"$f":"'Info-Translation'!A45","v":"Geschwindigkeit beim Beginn der Verzögerung (m/sek.)"},null,null,null,{"$f":"'Info-Translation'!A46","v":"Verzögerungsweg (mm)"}]
[null,null,null,null,null,null,{"$f":"'Info-Translation'!A37","v":"Koordinaten der externen Kraftangriffspunkte"}]
[]
[null,null,null,null,null,null,null,null,null,null,null,null,null,"CLM 08",null,{"$f":"'Info-Translation'!A47","v":"V-mittel x 1.75"},null,null,null,0.1]
[null,null,null,null,null,null,null,null,null,null,null,null,null,"CLM 10",null,{"$f":"'Info-Translation'!A47","v":"V-mittel x 1.75"},null,null,null,4.5,{"$f":"'Info-Translation'!A49","v":"Stoßdämpferhub"}]
[null,null,null,null,null,null,null,null,null,null,null,null,null,"LM/KLM/CLM25",null,{"$f":"'Info-Translation'!A47","v":"V-mittel x 1.75"},null,null,null,5.5,{"$f":"'Info-Translation'!A49","v":"Stoßdämpferhub"}]
[null,null,null,{"$f":"'Info-Translation'!A38","v":"Eine Belastung kann durch eine Zusatzmasse und/oder durch extern einwirkende Kräfte entstehen. Die Zusatzmasse ist angebaut und wird somit mit bewegt. Externe Kräfte dürfen nur im Ruhezustand einwirken."},null,null,null,null,null,null,null,null,null,"LM/KLM/CLM50",null,{"$f":"'Info-Translation'!A47","v":"V-mittel x 1.75"},null,null,null,6,{"$f":"'Info-Translation'!A49","v":"Stoßdämpferhub"}]
[null,null,null,null,null,null,null,null,null,null,null,null,null,"LM/KLM/CLM100",null,{"$f":"'Info-Translation'!A47","v":"V-mittel x 1.75"},null,null,null,8.3000000000000007,{"$f":"'Info-Translation'!A49","v":"Stoßdämpferhub"}]
[null,null,null,null,null,null,null,null,null,null,null,null,null,"LM/CLM200",null,{"$f":"'Info-Translation'!A47","v":"V-mittel x 1.75"},null,null,null,13.5,{"$f":"'Info-Translation'!A49","v":"Stoßdämpferhub"}]
[null,null,null,null,null,null,null,null,null,null,null,null,null,"LM/KLM300",null,{"$f":"'Info-Translation'!A47","v":"V-mittel x 1.75"},null,null,null,13.5,{"$f":"'Info-Translation'!A49","v":"Stoßdämpferhub"}]
[null,null,null,{"$f":"'Info-Translation'!A39","v":"Eine extern einwirkende Kraft kann auch eine Belastung durch Beschleunigung oder Verzögerung darstellen. Dies ist der Fall wenn das mit dieser Software zu berechnende Linear- oder Portalmodul auf einer weiteren Bewegungsachse aufgebaut ist und somit einer dynamischen Belastung ausgsetzt wird."},null,null,null,null,null,null,null,null,null,"PMP16",null,{"$f":"'Info-Translation'!A48","v":"wird berechnet (max. 1.1m/sek.)"},null,null,null,8.3000000000000007,{"$f":"'Info-Translation'!A49","v":"Stoßdämpferhub"}]
[null,null,null,null,null,null,null,null,null,null,null,null,null,"PMP25",null,{"$f":"'Info-Translation'!A48","v":"wird berechnet (max. 1.1m/sek.)"},null,null,null,13.5,{"$f":"'Info-Translation'!A49","v":"Stoßdämpferhub"}]
[]
[null,null,null,null,null,null,null,null,null,null,null,null,null,{"$f":"'Info-Translation'!A50","v":"Die mittlere Verfahrgeschwindigkeit V-mittel errechnet sich aus dem Hub und der Verfahrzeit. Die Beschleunigung ist geringer als die Verzögerung und muß deshalb nicht berücksichtigt werden."}]
[]
[]
[]
[]
[null,null,null,{"$f":"'Info-Translation'!A51","v":"Nach Auswahl der gewünschten Belastungsart (im Beispiel Belastungsart 1) gelangen Sie in die Eingabemaske in der Sie bitte Ihre Daten eingeben. Dabei sind bei allen Koordinaten und extern einwirkenden Kräften die VORZEICHEN anzugeben."}]
[]
[]
[null,null,null,{"$f":"'Info-Translation'!A67","v":"Sind alle Anwendungsdaten eingegeben, gelangen Sie auf die Modulberechnungsseite."}]
[]
[null,null,null,{"$f":"'Info-Translation'!A52","v":"Hier können von den ursprünglich aufgezeigten Modulen aus folgenden Gründen einige Typen entfallen sein:"}]
[]
[]
[null,null,null,{"$f":"'Info-Translation'!A53","v":"Der eingebene Hub übersteigt den Maximalhub dieses Typs"}]
[]
[]
[null,null,null,{"$f":"'Info-Translation'!A54","v":"Die eingebene Zusatzmasse übersteigt den Maximalwert dieses Typs"}]
[]
[]
[null,null,null,{"$f":"'Info-Translation'!A55","v":"Die eingebene Kraft übersteigt den Maximalwert dieses Typs"}]
[]
[]
[]
[null,null,null,{"$f":"'Info-Translation'!A56","v":"Mit allen verbliebenen Typen ist Ihr Anwendungsfall grundsätzlich realisierbar. Verändern Sie nun die Verfahrzeit bis ein Typ die von Ihnen gewünschte Verfahrzeit erreicht hat. Dabei werden alle Werte laufend neu berechnet, bei Überlastung werden die entsprechenden Werte rot markiert."}]
[]
[]
[]
[null,null,null,{"$f":"'Info-Translation'!A57","v":"Berechnungsergebnisse"}]
[]
[]
[null,null,null,{"$f":"'Info-Translation'!A68","v":"Verzögerungskraft, resultierend aus Zusatzmasse + Masse von Schlitten/Grundkörper beim Abbremsen in der Endlage"}]
[]
[null,null,null,{"$f":"'Info-Translation'!A58","v":"Auslastung des Führungssystems"}]
[]
[null,null,null,{"$f":"'Info-Translation'!A59","v":"Stoßdämpferauslastung pro Hub"}]
[]
[null,null,null,{"$f":"'Info-Translation'!A60","v":"Verfahrzeit pro Hubbewegung (gültig für Vor- und Rückhub)"}]
[]
[null,null,null,{"$f":"'Info-Translation'!A61","v":"Maximal mögliche Zykluszahl pro Minute"},null,null,null,null,null,null,null,null,null,null,null,null,null,null,null,{"$f":"'Info-Translation'!A62","v":"Beispiel"}]
[]
[]
[]
[]
[null,null,null,{"$f":"'Info-Translation'!A63","v":"ACHTUNG:"},null,{"$f":"'Info-Translation'!A64","v":"Die berechneten Werte dürfen nicht über- bzw. unterschritten werden !"}]
[]
[null,null,null,null,null,{"$f":"'Info-Translation'!A65","v":"Wegen der vielfältigen Gestaltungsmöglichkeiten sind in den Verfahrzeiten und Zykluszahlen keine Ansteuerungs- und Ventilschaltzeiten berücksichtigt. Je nach Aufbau und Art der verwendeten Steuerungen und Ventile sind Ansteuerungs- und Schaltzeiten von 0,05 sek. pro Bewegung realisierbar. Diese sind zu den berechneten Zeiten zu addieren."}]
[]
[]
[]
[]
[null,null,null,null,null,{"$f":"'Info-Translation'!A66","v":"Bei einer Stoßdämpferauslastung > 95%  kann bei einigen Typen die Stoßdämpferstückzahl auf 2 pro Endlage erhöht werden. Dadurch erhöht sich das Einsatzspektrum."}]
[]
[]
[]
[]
[]
[]
[]
[null,null,null,{"$f":"'Info-Translation'!A11","v":"Allgemeine Infos"}]
[]
[]
[]
[]
[null,null,null,{"$f":"'Info-Translation'!A98","v":"Haftung"}]
[]
[null,null,null,{"$f":"'Info-Translation'!A99","v":"Alle Angaben und technische Werte wurden nach bestem Wissen und Gewissen zusammengestellt. Eine Rechtsverbindlichkeit besteht nur dann, wenn Ihnen diese Daten, bezogen auf Ihren Anwendungsfall, schriftlich durch uns direkt zugesichert wurden. Änderungen und Abweichungen in der Ausführung eines in Auftrag gegebenen Produkts sind zulässig, insbesondere wenn sie qualitätsfördernd sind oder dem technischen Fortschritt dienen, also eine Produktverbesserung beinhalten. Sie sind aber immer so ausgelegt, daß sie den berechtigten Interessen des Verwenders zumutbar sind."}]

{"sheet":"LINEARMODUL-ÜBERSICHT","index":2,"n_rows":41,"n_cols":14,"rows_kept":41,"cut":false,"hidden":false,"merged":[[40,3,40,5],[40,13,40,19],[22,13,22,19],[39,13,39,19],[23,13,23,19],[22,3,22,5],[39,3,39,5],[22,8,22,11],[39,8,39,11]]}
[]
[{"$f":"Translation!A14","v":"Toolbox-Translation - MODULARE MONTAGEAUTOMATION"}]
[{"$f":"Translation!A25","v":"Berechnung von Linear- und Portalmodulen"}]
[]
[]
[]
[]
[null,null,null,{"$f":"Translation!A27","v":"Auswahltabelle"}]
[]
[]
[]
[]
[]
[]
[]
[]
[]
[]
[]
[]
[]
[]
[null,null,null,{"$f":"Translation!A36","v":"LM / KLM / CLM-Maximalhub = 450"},null,null,null,null,{"$f":"Translation!A36","v":"LM / KLM / CLM-Maximalhub = 450"},null,null,null,null,{"$f":"Translation!A36","v":"LM / KLM / CLM-Maximalhub = 450"}]
[null,null,null,null,null,null,null,null,null,null,null,null,null,{"$f":"Translation!A37","v":"PMP-Maximalhub = 3700"}]
[]
[]
[]
[]
[]
[]
[]
[]
[]
[]
[]
[]
[]
[]
[]
[null,null,null,{"$f":"Translation!A36","v":"LM / KLM / CLM-Maximalhub = 450"},null,null,null,null,{"$f":"Translation!A36","v":"LM / KLM / CLM-Maximalhub = 450"},null,null,null,null,{"$f":"Translation!A36","v":"LM / KLM / CLM-Maximalhub = 450"}]
[null,null,null,{"$f":"Translation!A37","v":"PMP-Maximalhub = 3700"},null,null,null,null,null,null,null,null,null,{"$f":"Translation!A37","v":"PMP-Maximalhub = 3700"}]

{"sheet":"EM-LM-1","index":3,"n_rows":51,"n_cols":17,"rows_kept":51,"cut":false,"hidden":false,"merged":[[5,10,5,16],[9,12,9,16],[5,2,5,6],[27,2,29,2],[31,2,42,6],[33,8,33,16],[34,8,34,16],[26,2,26,6],[7,12,7,16],[30,2,30,6]]}
[]
[{"$f":"Translation!A14","v":"Toolbox-Translation - MODULARE MONTAGEAUTOMATION"}]
[{"$f":"Translation!A50","v":"Berechnung Linearmodule"}]
[]
[]
[null,null,{"$f":"Translation!A54","v":"LM / KLM / CLM - Linearmodule"},null,null,null,null,null,null,null,{"$f":"Translation!A58","v":"Geben Sie Ihre Werte mit -Enter- ein !"}]
[]
[null,null,null,null,null,null,null,null,"H (mm)",null,10,null,{"$f":"Translation!A59","v":"H = Hub ( max. 450 )"}]
[]
[null,null,null,null,null,null,null,null,null,null,{"$f":"Translation!A60","v":"Masse (m)"},null,{"$f":"Translation!A62","v":"Koordinaten Massenschwerpunkt / Kraftangriff"}]
[]
[null,null,null,null,null,null,null,null,null,null,{"$f":"Translation!A61","v":"Kraft (F)"},null,"X  ( mm )",null,"Y  ( mm )",null,"Z  ( mm )"]
[]
[null,null,null,null,null,null,null,null,"m (kg)",null,0,null,0,null,0,null,0]
[]
[null,null,null,null,null,null,null,null,null,null,null,null,"X  ( mm )",null,"Y  ( mm )",null,"Z  ( mm )"]
[]
[null,null,null,null,null,null,null,null,"Fx (N)",null,0,null,null,null,0,null,0]
[]
[null,null,null,null,null,null,null,null,"Fy (N)",null,0,null,0,null,null,null,0]
[]
[null,null,null,null,null,null,null,null,"Fz (N)",null,0,null,0,null,0]
[]
[]
[]
[]
[null,null,{"$f":"Translation!A57","v":"Achtung: Kräfte und Koordinaten mit Vorzeichen !"}]
[null,null,{"$f":"Translation!A84","v":"ACHTUNG:"}]
[]
[]
[]
[null,null,{"$f":"Translation!A85","v":"Die auf der Berechnungsseite angegebenen Verfahrzeiten sind reine Verfahrzeiten von einer Endlage in die andere Endlage.\nVentilschaltzeiten, Schlauchbefüllungszeiten oder SPS-Reaktionszeiten sind nicht enthalten und bei der Ermittlung von Zykluszeiten zu berücksichtigen.\nBitte beachten Sie, dass zum Erreichen der minimal möglichen Verfahrzeit die kundenseitige Stützkonstruktion der resultierenden Dynamik angepasst werden muss !"}]
[]
[]
[null,null,null,null,null,null,null,null,{"$f":"Translation!A87","v":"Auf der Berechnungsseite der Linearmodule können Sie die Verfahrzeit ändern !"}]
[]
[]
[]
[]
[]
[]
[]
[]
[]
[]
[]
[]
[]
[]
[]
[null,null,null,null,null,null,true]

{"sheet":"EM-LM-1-1","index":4,"n_rows":78,"n_cols":19,"rows_kept":78,"cut":false,"hidden":false,"merged":[[29,10,29,18],[5,8,5,12],[5,5,5,7],[45,6,45,16],[13,10,13,18],[21,2,21,7],[37,2,37,7],[9,2,9,4],[25,2,25,4],[41,2,41,4]]}
[]
[{"$f":"Translation!A14","v":"Toolbox-Translation - MODULARE MONTAGEAUTOMATION"}]
[{"$f":"Translation!A50","v":"Berechnung Linearmodule"}]
[]
[]
[null,null,null,null,null," +                    -",null,null,{"$f":"Translation!A65","v":"Hier ändern Sie die Verfahrzeit"}]
[]
[]
[]
[null,null,{"$f":"Translation!A66","v":"LM - Linearmodule"},null,null,null,null,null,null,null,{"$f":"IF(OR('EM-LM-1'!K8>59,'EM-LM-1'!K8<3,K63=1,M63=1),\" \",\"LM 25\")","v":"LM 25"},null,{"$f":"IF(OR('EM-LM-1'!K8>100,K65=1,M65=1),\" \",\"LM 50\")","v":"LM 50"},null,{"$f":"IF(OR('EM-LM-1'!K8>225,K67=1,M67=1),\" \",\"LM 100\")","v":"LM 100"},null,{"$f":"IF(OR('EM-LM-1'!K8>350,K71=1,M71=1),\" \",\"LM 200\")","v":"LM 200"},null,{"$f":"IF(OR('EM-LM-1'!K8>450,K73=1,M73=1),\" \",\"LM 300\")","v":"LM 300"}]
[null,null,{"$f":"Translation!A67","v":"Katalogseite"},null,null,null,null,null,null,null,{"$f":"IF(K10=\"LM 25\",\"01.010\",\" \")","v":"01.010"},null,{"$f":"IF(M10=\"LM 50\",\"01.020\",\" \")","v":"01.020"},null,{"$f":"IF(O10=\"LM 100\",\"01.030\",\" \")","v":"01.030"},null,{"$f":"IF(Q10=\"LM 200\",\"01.040\",\" \")","v":"01.040"},null,{"$f":"IF(S10=\"LM 300\",\"01.050\",\" \")","v":"01.050"}]
[null,null,{"$f":"Translation!A68","v":"Zyl.-kraft bei 6 bar ( N )"},null,null,null,null,null,null,null,{"$f":"IF(K10=\"LM 25\",\"67 / 50\",C59)","v":"67 / 50"},null,{"$f":"IF(M10=\"LM 50\",\"120 / 103\",C59)","v":"120 / 103"},null,{"$f":"IF(O10=\"LM 100\",\"294 / 226\",C59)","v":"294 / 226"},null,{"$f":"IF(Q10=\"LM 200\",\"482 / 415\",C59)","v":"482 / 415"},null,{"$f":"IF(S10=\"LM 300\",\"753 / 633\",C59)","v":"753 / 633"}]
[]
[null,null,{"$f":"Translation!A70","v":"Führungssystem"},null,null,null,null,null,null,null,{"$f":"IF(AND(K10=\" \",M10=\" \",O10=\" \",Q10=\" \",S10=\" \"),\" \",C60)","v":"Kreuzrollenführung für Anwendungen mit höheren Anforderungen"}]
[]
[null,null,{"$f":"Translation!A93","v":"Verzögerungskraft ( N )"},null,null,null,null,null,null,null,{"$f":"IF(K10=\"LM 25\",'EM-Ber-LM25-1'!C43,-1)","v":0.32258149221392629},null,{"$f":"IF(M10=\"LM 50\",'EM-Ber-LM50-1'!C43,-1)","v":1.5397950224866064},null,{"$f":"IF(O10=\"LM 100\",'EM-Ber-LM100-1'!C43,-1)","v":2.2501651713079212},null,{"$f":"IF(Q10=\"LM 200\",'EM-Ber-LM200-1'!C43,-1)","v":5.0144845393286692},null,{"$f":"IF(S10=\"LM 300\",'EM-Ber-LM300-1'!C43,-1)","v":8.5637899600961749}]
[null,null,{"$f":"Translation!A71","v":"Auslastung Führung"},null,null,null,null,null,null,null,{"$f":"IF(K10=\"LM 25\",'EM-Ber-LM25-1'!J38,-1)","v":0},null,{"$f":"IF(M10=\"LM 50\",'EM-Ber-LM50-1'!J38,-1)","v":0},null,{"$f":"IF(O10=\"LM 100\",'EM-Ber-LM100-1'!J38,-1)","v":0},null,{"$f":"IF(Q10=\"LM 200\",'EM-Ber-LM200-1'!J38,-1)","v":0},null,{"$f":"IF(S10=\"LM 300\",'EM-Ber-LM300-1'!J38,-1)","v":0}]
[null,null,{"$f":"Translation!A72","v":"Auslastung Dämpfer/Hub"},null,null,null,null,null,null,null,{"$f":"IF(K10=\"LM 25\",'EM-Ber-LM25-1'!C55,-1)","v":0.13443225919956667},null,{"$f":"IF(M10=\"LM 50\",'EM-Ber-LM50-1'!C55,-1)","v":0.14120360644257701},null,{"$f":"IF(O10=\"LM 100\",'EM-Ber-LM100-1'!C55,-1)","v":0.3331703453573458},null,{"$f":"IF(Q10=\"LM 200\",'EM-Ber-LM200-1'!C55,-1)","v":0.29868289516390778},null,{"$f":"IF(S10=\"LM 300\",'EM-Ber-LM300-1'!C55,-1)","v":0.46691553186047041}]
[null,null,{"$f":"Translation!A73","v":"Verfahrzeit / Hub ( s )"},null,null,null,null,null,null,null,{"$f":"IF(K10=\"LM 25\",'EM-Ber-LM25-1'!L50,-1)","v":0.16117647058823531},null,{"$f":"IF(M10=\"LM 50\",'EM-Ber-LM50-1'!L50,-1)","v":9.8000000000000004E-2},null,{"$f":"IF(O10=\"LM 100\",'EM-Ber-LM100-1'!L50,-1)","v":9.1999999999999998E-2},null,{"$f":"IF(Q10=\"LM 200\",'EM-Ber-LM200-1'!L50,-1)","v":7.5000000000000011E-2},null,{"$f":"IF(S10=\"LM 300\",'EM-Ber-LM300-1'!L50,-1)","v":6.4000000000000001E-2}]
[null,null,{"$f":"Translation!A74","v":"Max. Zyklenzahl / Min."},null,null,null,null,null,null,null,{"$f":"IF(K10=\"LM 25\",'EM-Ber-LM25-1'!G52,-1)","v":120},null,{"$f":"IF(M10=\"LM 50\",'EM-Ber-LM50-1'!G52,-1)","v":120},null,{"$f":"IF(O10=\"LM 100\",'EM-Ber-LM100-1'!G52,-1)","v":120},null,{"$f":"IF(Q10=\"LM 200\",'EM-Ber-LM200-1'!G52,-1)","v":70.198925934699787},null,{"$f":"IF(S10=\"LM 300\",'EM-Ber-LM300-1'!G52,-1)","v":44.905806307249925}]
[null,null,null,null,null,null,null,null,null,null,null,null,null,null,{"$f":"IF(O10=\"LM 100\",1,0)","v":1},null,{"$f":"IF(Q10=\"LM 200\",1,0)","v":1},null,{"$f":"IF(S10=\"LM 300\",1,0)","v":1}]
[null,null,{"$f":"Translation!A75","v":"Anzahl der Stoßdämpfer pro Endlage"},null,null,null,null,null,null,null,null,null,null,null,1,null,1,null,1]
[]
[]
[]
[null,null,{"$f":"Translation!A82","v":"KLM - Linearmodule"},null,null,null,null,null,null,null,{"$f":"IF(OR('EM-LM-1'!K8>59,'EM-LM-1'!K8<3,K63=1,M63=1),\" \",\"KLM 25\")","v":"KLM 25"},null,{"$f":"IF(OR('EM-LM-1'!K8>125,K65=1,M65=1),\" \",\"KLM 50\")","v":"KLM 50"},null,{"$f":"IF(OR('EM-LM-1'!K8>225,K67=1,M67=1),\" \",\"KLM 100\")","v":"KLM 100"},null,null,null,{"$f":"IF(OR('EM-LM-1'!K8>300,K73=1,M73=1),\" \",\"KLM 300\")","v":"KLM 300"}]
[null,null,{"$f":"Translation!A67","v":"Katalogseite"},null,null,null,null,null,null,null,{"$f":"IF(K26=\"KLM 25\",\"01.110\",\" \")","v":"01.110"},null,{"$f":"IF(M26=\"KLM 50\",\"01.120\",\" \")","v":"01.120"},null,{"$f":"IF(O26=\"KLM 100\",\"1.130\",\" \")","v":"1.130"},null,null,null,{"$f":"IF(S26=\"KLM 100\",\"1.130\",\" \")","v":" "}]
[null,null,{"$f":"Translation!A68","v":"Zyl.-kraft bei 6 bar ( N )"},null,null,null,null,null,null,null,{"$f":"IF(K26=\"KLM 25\",\"67 / 50\",C59)","v":"67 / 50"},null,{"$f":"IF(M26=\"KLM 50\",\"120 / 103\",C59)","v":"120 / 103"},null,{"$f":"IF(O26=\"KLM 100\",\"294 / 226\",C59)","v":"294 / 226"},null,null,null,{"$f":"IF(S26=\"KLM 300\",\"753 / 633\",C59)","v":"753 / 633"}]
[]
[null,null,{"$f":"Translation!A70","v":"Führungssystem"},null,null,null,null,null,null,null,{"$f":"IF(AND(K26=\" \",M26=\" \",O26=\" \",S26=\" \"),\" \",C61)","v":"Kugelumlaufführung für Standardanwendungen"}]
[]
[null,null,{"$f":"Translation!A93","v":"Verzögerungskraft ( N )"},null,null,null,null,null,null,null,{"$f":"IF(K26=\"KLM 25\",'EM-Ber-KLM25-1'!C43,-1)","v":0.36656987751582532},null,{"$f":"IF(M26=\"KLM 50\",'EM-Ber-KLM50-1'!C43,-1)","v":3.1408242952318619},null,{"$f":"IF(O26=\"KLM 100\",'EM-Ber-KLM100-1'!C43,-1)","v":3.4287560210781147},null,null,null,{"$f":"IF(S26=\"KLM 300\",'EM-Ber-KLM300-1'!C43,-1)","v":13.066401176229217}]
[null,null,{"$f":"Translation!A71","v":"Auslastung Führung"},null,null,null,null,null,null,null,{"$f":"IF(K26=\"KLM 25\",'EM-Ber-KLM25-1'!J38,-1)","v":0},null,{"$f":"IF(M26=\"KLM 50\",'EM-Ber-KLM50-1'!J38,-1)","v":0},null,{"$f":"IF(O26=\"KLM 100\",'EM-Ber-KLM100-1'!J38,-1)","v":0},null,null,null,{"$f":"IF(S26=\"KLM 300\",'EM-Ber-KLM300-1'!J38,-1)","v":0}]
[null,null,{"$f":"Translation!A72","v":"Auslastung Dämpfer/Hub"},null,null,null,null,null,null,null,{"$f":"IF(K26=\"KLM 25\",'EM-Ber-KLM25-1'!C55,-1)","v":0.13449120363587119},null,{"$f":"IF(M26=\"KLM 50\",'EM-Ber-KLM50-1'!C55,-1)","v":0.14245507765743959},null,{"$f":"IF(O26=\"KLM 100\",'EM-Ber-KLM100-1'!C55,-1)","v":0.33406064364141241},null,null,null,{"$f":"IF(S26=\"KLM 300\",'EM-Ber-KLM300-1'!C55,-1)","v":0.46877199310035295}]
[null,null,{"$f":"Translation!A73","v":"Verfahrzeit / Hub ( s )"},null,null,null,null,null,null,null,{"$f":"IF(K26=\"KLM 25\",'EM-Ber-KLM25-1'!L50,-1)","v":0.16117647058823531},null,{"$f":"IF(M26=\"KLM 50\",'EM-Ber-KLM50-1'!L50,-1)","v":8.3400000000000002E-2},null,{"$f":"IF(O26=\"KLM 100\",'EM-Ber-KLM100-1'!L50,-1)","v":8.2000000000000003E-2},null,null,null,{"$f":"IF(S26=\"KLM 300\",'EM-Ber-KLM300-1'!L50,-1)","v":6.4000000000000001E-2}]
[null,null,{"$f":"Translation!A74","v":"Max. Zyklenzahl / Min."},null,null,null,null,null,null,null,{"$f":"IF(K26=\"KLM 25\",'EM-Ber-KLM25-1'!G52,-1)","v":120},null,{"$f":"IF(M26=\"KLM 50\",'EM-Ber-KLM50-1'!G52,-1)","v":120},null,{"$f":"IF(O26=\"KLM 100\",'EM-Ber-KLM100-1'!G52,-1)","v":120},null,null,null,{"$f":"IF(S26=\"KLM 300\",'EM-Ber-KLM300-1'!G52,-1)","v":44.727967421646454}]
[null,null,null,null,null,null,null,null,null,null,null,null,null,null,{"$f":"IF(O26=\"KLM 100\",1,0)","v":1},null,null,null,{"$f":"IF(S26=\"KLM 300\",1,0)","v":1}]
[null,null,{"$f":"Translation!A75","v":"Anzahl der Stoßdämpfer pro Endlage"},null,null,null,null,null,null,null,null,null,null,null,1,null,null,null,1]
[]
[]
[]
[null,null,{"$f":"Translation!A83","v":"CLM - Linearmodule"},null,null,null,{"$f":"IF(OR('EM-LM-1'!K8>42,K75=1,M75=1),\" \",\"CLM 08\")","v":"CLM 08"},null,{"$f":"IF(OR('EM-LM-1'!K8>48,'EM-LM-1'!K8<2,K77=1,M77=1),\" \",\"CLM 10\")","v":"CLM 10"},null,{"$f":"IF(OR('EM-LM-1'!K8>59,'EM-LM-1'!K8<3,K63=1,M63=1),\" \",\"CLM 25\")","v":"CLM 25"},null,{"$f":"IF(OR('EM-LM-1'!K8>100,K65=1,M65=1),\" \",\"CLM 50\")","v":"CLM 50"},null,{"$f":"IF(OR('EM-LM-1'!K8>150,K69=1,M69=1),\" \",\"CLM 100\")","v":"CLM 100"},null,{"$f":"IF(OR('EM-LM-1'!K8>150,K71=1,M71=1),\" \",\"CLM 200\")","v":"CLM 200"}]
[null,null,{"$f":"Translation!A67","v":"Katalogseite"},null,null,null,{"$f":"IF(G42=\"CLM 08\",\"01.310\",\" \")","v":"01.310"},null,{"$f":"IF(I42=\"CLM 10\",\"01.320\",\" \")","v":"01.320"},null,{"$f":"IF(K42=\"CLM 25\",\"01.330\",\" \")","v":"01.330"},null,{"$f":"IF(M42=\"CLM 50\",\"01.340\",\" \")","v":"01.340"},null,{"$f":"IF(O42=\"CLM 100\",\"01.350\",\" \")","v":"01.350"},null,{"$f":"IF(Q42=\"CLM 200\",\"01.360\",\" \")","v":"01.360"}]
[null,null,{"$f":"Translation!A68","v":"Zyl.-kraft bei 6 bar ( N )"},null,null,null,{"$f":"IF(G42=\"CLM 08\",\"30 / 25\",C59)","v":"30 / 25"},null,{"$f":"IF(I42=\"CLM 10\",\"47 / 39\",C59)","v":"47 / 39"},null,{"$f":"IF(K42=\"CLM 25\",\"67 / 50\",C59)","v":"67 / 50"},null,{"$f":"IF(M42=\"CLM 50\",\"120 / 103\",C59)","v":"120 / 103"},null,{"$f":"IF(O42=\"CLM 100\",\"294 / 247\",C59)","v":"294 / 247"},null,{"$f":"IF(Q42=\"CLM 200\",\"482 / 415\",C59)","v":"482 / 415"}]
[]
[null,null,{"$f":"Translation!A70","v":"Führungssystem"},null,null,null,{"$f":"IF(AND(G42=\" \",I42=\" \",K42=\" \",M42=\" \",O42=\" \",Q42=\" \"),\" \",C60)","v":"Kreuzrollenführung für Anwendungen mit höheren Anforderungen"}]
[]
[null,null,{"$f":"Translation!A93","v":"Verzögerungskraft ( N )"},null,null,null,{"$f":"IF(G42=\"CLM 08\",'EM-Ber-CLM08-1'!C43,-1)","v":21.420958719135804},null,{"$f":"IF(I42=\"CLM 10\",'EM-Ber-CLM10-1'!C43,-1)","v":0.7832734954716023},null,{"$f":"IF(K42=\"CLM 25\",'EM-Ber-CLM25-1'!C43,-1)","v":0.32258149221392629},null,{"$f":"IF(M42=\"CLM 50\",'EM-Ber-CLM50-1'!C43,-1)","v":1.3298229739657057},null,{"$f":"IF(O42=\"CLM 100\",'EM-Ber-CLM100-1'!C43,-1)","v":1.7764461878746749},null,{"$f":"IF(Q42=\"CLM 200\",'EM-Ber-CLM200-1'!C43,-1)","v":3.9858723261330455}]
[null,null,{"$f":"Translation!A71","v":"Auslastung Führung"},null,null,null,{"$f":"IF(G42=\"CLM 08\",'EM-Ber-CLM08-1'!J38,-1)","v":0},null,{"$f":"IF(I42=\"CLM 10\",'EM-Ber-CLM10-1'!J38,-1)","v":0},null,{"$f":"IF(K42=\"CLM 25\",'EM-Ber-CLM25-1'!J38,-1)","v":0},null,{"$f":"IF(M42=\"CLM 50\",'EM-Ber-CLM50-1'!J38,-1)","v":0},null,{"$f":"IF(O42=\"CLM 100\",'EM-Ber-CLM100-1'!J38,-1)","v":0},null,{"$f":"IF(Q42=\"CLM 200\",'EM-Ber-CLM200-1'!J38,-1)","v":0}]
[null,null,{"$f":"Translation!A72","v":"Auslastung Dämpfer/Hub"},null,null,null,null,null,{"$f":"IF(I42=\"CLM 10\",'EM-Ber-CLM10-1'!C55,-1)","v":0.2376239662098299},null,{"$f":"IF(K42=\"CLM 25\",'EM-Ber-CLM25-1'!C55,-1)","v":0.13443225919956667},null,{"$f":"IF(M42=\"CLM 50\",'EM-Ber-CLM50-1'!C55,-1)","v":0.14103947829131652},null,{"$f":"IF(O42=\"CLM 100\",'EM-Ber-CLM100-1'!C55,-1)","v":0.33281250175270338},null,{"$f":"IF(Q42=\"CLM 200\",'EM-Ber-CLM200-1'!C55,-1)","v":0.29825879043600562}]
[null,null,{"$f":"Translation!A73","v":"Verfahrzeit / Hub ( s )"},null,null,null,{"$f":"IF(G42=\"CLM 08\",'EM-Ber-CLM08-1'!L50,-1)","v":5.1428571428571428E-2},null,{"$f":"IF(I42=\"CLM 10\",'EM-Ber-CLM10-1'!L50,-1)","v":6.5714285714285711E-2},null,{"$f":"IF(K42=\"CLM 25\",'EM-Ber-CLM25-1'!L50,-1)","v":0.16117647058823531},null,{"$f":"IF(M42=\"CLM 50\",'EM-Ber-CLM50-1'!L50,-1)","v":9.8000000000000004E-2},null,{"$f":"IF(O42=\"CLM 100\",'EM-Ber-CLM100-1'!L50,-1)","v":9.1999999999999998E-2},null,{"$f":"IF(Q42=\"CLM 200\",'EM-Ber-CLM200-1'!L50,-1)","v":7.5000000000000011E-2}]
[null,null,{"$f":"Translation!A74","v":"Max. Zyklenzahl / Min."},null,null,null,{"$f":"IF(G42=\"CLM 08\",'EM-Ber-CLM08-1'!G52,-1)","v":120},null,{"$f":"IF(I42=\"CLM 10\",'EM-Ber-CLM10-1'!G52,-1)","v":120},null,{"$f":"IF(K42=\"CLM 25\",'EM-Ber-CLM25-1'!G52,-1)","v":120},null,{"$f":"IF(M42=\"CLM 50\",'EM-Ber-CLM50-1'!G52,-1)","v":120},null,{"$f":"IF(O42=\"CLM 100\",'EM-Ber-CLM100-1'!G52,-1)","v":120},null,{"$f":"IF(Q42=\"CLM 200\",'EM-Ber-CLM200-1'!G52,-1)","v":70.298744271450374}]
[]
[]
[]
[]
[]
[null,null,null,null,null,null,null,null,{"$f":"I59*0.01","v":2.02}]
[null,null,{"$f":"Translation!A78","v":"UNZULÄSSIG"},null,null,null,null,null,202]
[null,null,{"$f":"Translation!A76","v":"Kreuzrollenführung für Anwendungen mit höheren Anforderungen"}]
[null,null,{"$f":"Translation!A77","v":"Kugelumlaufführung für Standardanwendungen"}]
[]
[null,null,"Wegfallkriterium wegen Kraft Y:",null,null,null,"LM/KLM/CLM 25",null,{"$f":"IF(AND('EM-LM-1'!G$51=TRUE,'EM-LM-1'!K$20>'Allgemeine Werte'!E$52),1,0)","v":0},null,{"$f":"IF(OR(I63=1,I64=1),1,0)","v":0},null,{"$f":"IF(AND('EM-LM-1'!K$20<='Allgemeine Werte'!G52,'EM-LM-1'!K$20>=-'Allgemeine Werte'!G52),0,1)","v":0}]
[null,null,null,null,null,null,null,null,{"$f":"IF(AND('EM-LM-1'!G$51=FALSE,'EM-LM-1'!K$20<-'Allgemeine Werte'!E$52),1,0)","v":0}]
[null,null,null,null,null,null,"LM/KLM/CLM 50",null,{"$f":"IF(AND('EM-LM-1'!G$51=TRUE,'EM-LM-1'!K$20>'Allgemeine Werte'!E$53),1,0)","v":0},null,{"$f":"IF(OR(I65=1,I66=1),1,0)","v":0},null,{"$f":"IF(AND('EM-LM-1'!K$20<='Allgemeine Werte'!G53,'EM-LM-1'!K$20>=-'Allgemeine Werte'!G53),0,1)","v":0}]
[null,null,null,null,null,null,null,null,{"$f":"IF(AND('EM-LM-1'!G$51=FALSE,'EM-LM-1'!K$20<-'Allgemeine Werte'!E$53),1,0)","v":0}]
[null,null,null,null,null,null,"LM/KLM 100",null,{"$f":"IF(AND('EM-LM-1'!G$51=TRUE,'EM-LM-1'!K$20>'Allgemeine Werte'!E$54),1,0)","v":0},null,{"$f":"IF(OR(I67=1,I68=1),1,0)","v":0},null,{"$f":"IF(AND('EM-LM-1'!K$20<='Allgemeine Werte'!G54,'EM-LM-1'!K$20>=-'Allgemeine Werte'!G54),0,1)","v":0}]
[null,null,null,null,null,null,null,null,{"$f":"IF(AND('EM-LM-1'!G$51=FALSE,'EM-LM-1'!K$20<-'Allgemeine Werte'!E$54),1,0)","v":0}]
[null,null,null,null,null,null,"CLM 100",null,{"$f":"IF(AND('EM-LM-1'!G$51=TRUE,'EM-LM-1'!K$20>'Allgemeine Werte'!E$55),1,0)","v":0},null,{"$f":"IF(OR(I69=1,I70=1),1,0)","v":0},null,{"$f":"IF(AND('EM-LM-1'!K$20<='Allgemeine Werte'!G55,'EM-LM-1'!K$20>=-'Allgemeine Werte'!G55),0,1)","v":0}]
[null,null,null,null,null,null,null,null,{"$f":"IF(AND('EM-LM-1'!G$51=FALSE,'EM-LM-1'!K$20<-'Allgemeine Werte'!E$55),1,0)","v":0}]
[null,null,null,null,null,null,"LM/CLM 200",null,{"$f":"IF(AND('EM-LM-1'!G$51=TRUE,'EM-LM-1'!K$20>'Allgemeine Werte'!E$56),1,0)","v":0},null,{"$f":"IF(OR(I71=1,I72=1),1,0)","v":0},null,{"$f":"IF(AND('EM-LM-1'!K$20<='Allgemeine Werte'!G56,'EM-LM-1'!K$20>=-'Allgemeine Werte'!G56),0,1)","v":0}]
[null,null,null,null,null,null,null,null,{"$f":"IF(AND('EM-LM-1'!G$51=FALSE,'EM-LM-1'!K$20<-'Allgemeine Werte'!E$56),1,0)","v":0}]
[null,null,null,null,null,null,"LM/KLM 300",null,{"$f":"IF(AND('EM-LM-1'!G$51=TRUE,'EM-LM-1'!K$20>'Allgemeine Werte'!E$57),1,0)","v":0},null,{"$f":"IF(OR(I73=1,I74=1),1,0)","v":0},null,{"$f":"IF(AND('EM-LM-1'!K$20<='Allgemeine Werte'!G57,'EM-LM-1'!K$20>=-'Allgemeine Werte'!G57),0,1)","v":0}]
[null,null,null,null,null,null,null,null,{"$f":"IF(AND('EM-LM-1'!G$51=FALSE,'EM-LM-1'!K$20<-'Allgemeine Werte'!E$57),1,0)","v":0}]
[null,null,null,null,null,null,"CLM 08",null,{"$f":"IF(AND('EM-LM-1'!G$51=TRUE,'EM-LM-1'!K$20>'Allgemeine Werte'!E$60),1,0)","v":0},null,{"$f":"IF(OR(I75=1,I76=1),1,0)","v":0},null,{"$f":"IF(AND('EM-LM-1'!K$20<='Allgemeine Werte'!G60,'EM-LM-1'!K$20>=-'Allgemeine Werte'!G60),0,1)","v":0}]
[null,null,null,null,null,null,null,null,{"$f":"IF(AND('EM-LM-1'!G$51=FALSE,'EM-LM-1'!K$20<-'Allgemeine Werte'!E$60),1,0)","v":0}]
[null,null,null,null,null,null,"CLM 10",null,{"$f":"IF(AND('EM-LM-1'!G$51=TRUE,'EM-LM-1'!K$20>'Allgemeine Werte'!E$61),1,0)","v":0},null,{"$f":"IF(OR(I77=1,I78=1),1,0)","v":0},null,{"$f":"IF(AND('EM-LM-1'!K$20<='Allgemeine Werte'!G61,'EM-LM-1'!K$20>=-'Allgemeine Werte'!G61),0,1)","v":0}]
[null,null,null,null,null,null,null,null,{"$f":"IF(AND('EM-LM-1'!G$51=FALSE,'EM-LM-1'!K$20<-'Allgemeine Werte'!E$61),1,0)","v":0}]

{"sheet":"EM-LM-2","index":5,"n_rows":51,"n_cols":17,"rows_kept":51,"cut":false,"hidden":false,"merged":[[34,8,34,16],[5,2,5,6],[26,2,26,6],[5,10,5,16],[7,12,7,16],[9,12,9,16],[27,2,29,2],[31,2,42,6]]}
[]
[{"$f":"Translation!A14","v":"Toolbox-Translation - MODULARE MONTAGEAUTOMATION"}]
[{"$f":"Translation!A50","v":"Berechnung Linearmodule"}]
[]
[]
[null,null,{"$f":"Translation!A54","v":"LM / KLM / CLM - Linearmodule"},null,null,null,null,null,null,null,{"$f":"Translation!A58","v":"Geben Sie Ihre Werte mit -Enter- ein !"}]
[]
[null,null,null,null,null,null,null,null,"H (mm)",null,10,null,{"$f":"Translation!A59","v":"H = Hub ( max. 450 )"}]
[]
[null,null,null,null,null,null,null,null,null,null,{"$f":"Translation!A60","v":"Masse (m)"},null,{"$f":"Translation!A62","v":"Koordinaten Massenschwerpunkt / Kraftangriff"}]
[]
[null,null,null,null,null,null,null,null,null,null,{"$f":"Translation!A61","v":"Kraft (F)"},null,"X  ( mm )",null,"Y  ( mm )",null,"Z  ( mm )"]
[]
[null,null,null,null,null,null,null,null,"m (kg)",null,0,null,0,null,0,null,0]
[]
[null,null,null,null,null,null,null,null,null,null,null,null,"( N )"]
[]
[null,null,null,null,null,null,null,null,"Fx (N)",null,0,null,null,null,0,null,0]
[]
[null,null,null,null,null,null,null,null,"Fy (N)",null,0,null,0,null,null,null,0]
[]
[null,null,null,null,null,null,null,null,"Fz (N)",null,0,null,0,null,0]
[]
[]
[]
[]
[null,null,{"$f":"Translation!A57","v":"Achtung: Kräfte und Koordinaten mit Vorzeichen !"}]
[null,null,{"$f":"Translation!A84","v":"ACHTUNG:"}]
[]
[]
[]
[null,null,{"$f":"Translation!A85","v":"Die auf der Berechnungsseite angegebenen Verfahrzeiten sind reine Verfahrzeiten von einer Endlage in die andere Endlage.\nVentilschaltzeiten, Schlauchbefüllungszeiten oder SPS-Reaktionszeiten sind nicht enthalten und bei der Ermittlung von Zykluszeiten zu berücksichtigen.\nBitte beachten Sie, dass zum Erreichen der minimal möglichen Verfahrzeit die kundenseitige Stützkonstruktion der resultierenden Dynamik angepasst werden muss !"}]
[]
[]
[null,null,null,null,null,null,null,null,{"$f":"Translation!A87","v":"Auf der Berechnungsseite der Linearmodule können Sie die Verfahrzeit ändern !"}]
[]
[]
[]
[]
[]
[]
[]
[]
[]
[]
[]
[]
[]
[]
[]
[null,null,null,null,null,null,true]

{"sheet":"EM-LM-2-1","index":6,"n_rows":78,"n_cols":19,"rows_kept":78,"cut":false,"hidden":false,"merged":[[29,10,29,18],[5,8,5,12],[5,5,5,7],[45,6,45,16],[13,10,13,18],[21,2,21,7],[37,2,37,7],[9,2,9,4],[25,2,25,4],[41,2,41,4]]}
[]
[{"$f":"Translation!A14","v":"Toolbox-Translation - MODULARE MONTAGEAUTOMATION"}]
[{"$f":"Translation!A50","v":"Berechnung Linearmodule"}]
[]
[]
[null,null,null,null,null," +                    -",null,null,{"$f":"Translation!A65","v":"Hier ändern Sie die Verfahrzeit"}]
[]
[]
[]
[null,null,{"$f":"Translation!A66","v":"LM - Linearmodule"},null,null,null,null,null,null,null,{"$f":"IF(OR('EM-LM-2'!K8>59,'EM-LM-2'!K8<3,K63=1,M63=1),\" \",\"LM 25\")","v":"LM 25"},null,{"$f":"IF(OR('EM-LM-2'!K8>100,K65=1,M65=1),\" \",\"LM 50\")","v":"LM 50"},null,{"$f":"IF(OR('EM-LM-2'!K8>225,K67=1,M67=1),\" \",\"LM 100\")","v":"LM 100"},null,{"$f":"IF(OR('EM-LM-2'!K8>350,K71=1,M71=1),\" \",\"LM 200\")","v":"LM 200"},null,{"$f":"IF(OR('EM-LM-2'!K8>450,K73=1,M73=1),\" \",\"LM 300\")","v":"LM 300"}]
[null,null,{"$f":"Translation!A67","v":"Katalogseite"},null,null,null,null,null,null,null,{"$f":"IF(K10=\"LM 25\",\"01.010\",\" \")","v":"01.010"},null,{"$f":"IF(M10=\"LM 50\",\"01.020\",\" \")","v":"01.020"},null,{"$f":"IF(O10=\"LM 100\",\"01.030\",\" \")","v":"01.030"},null,{"$f":"IF(Q10=\"LM 200\",\"01.040\",\" \")","v":"01.040"},null,{"$f":"IF(S10=\"LM 300\",\"01.050\",\" \")","v":"01.050"}]
[null,null,{"$f":"Translation!A68","v":"Zyl.-kraft bei 6 bar ( N )"},null,null,null,null,null,null,null,{"$f":"IF(K10=\"LM 25\",\"67 / 50\",C59)","v":"67 / 50"},null,{"$f":"IF(M10=\"LM 50\",\"120 / 103\",C59)","v":"120 / 103"},null,{"$f":"IF(O10=\"LM 100\",\"294 / 226\",C59)","v":"294 / 226"},null,{"$f":"IF(Q10=\"LM 200\",\"482 / 415\",C59)","v":"482 / 415"},null,{"$f":"IF(S10=\"LM 300\",\"753 / 633\",C59)","v":"753 / 633"}]
[]
[null,null,{"$f":"Translation!A70","v":"Führungssystem"},null,null,null,null,null,null,null,{"$f":"IF(AND(K10=\" \",M10=\" \",O10=\" \",Q10=\" \",S10=\" \"),\" \",C60)","v":"Kreuzrollenführung für Anwendungen mit höheren Anforderungen"}]
[]
[null,null,{"$f":"Translation!A93","v":"Verzögerungskraft ( N )"},null,null,null,null,null,null,null,{"$f":"IF(K10=\"LM 25\",'EM-Ber-LM25-2'!C43,-1)","v":0.32258149221392629},null,{"$f":"IF(M10=\"LM 50\",'EM-Ber-LM50-2'!C43,-1)","v":1.5397950224866064},null,{"$f":"IF(O10=\"LM 100\",'EM-Ber-LM100-2'!C43,-1)","v":2.2501651713079212},null,{"$f":"IF(Q10=\"LM 200\",'EM-Ber-LM200-2'!C43,-1)","v":5.0144845393286692},null,{"$f":"IF(S10=\"LM 300\",'EM-Ber-LM300-2'!C43,-1)","v":8.5637899600961749}]
[null,null,{"$f":"Translation!A71","v":"Auslastung Führung"},null,null,null,null,null,null,null,{"$f":"IF(K10=\"LM 25\",'EM-Ber-LM25-2'!J38,-1)","v":0},null,{"$f":"IF(M10=\"LM 50\",'EM-Ber-LM50-2'!J38,-1)","v":0},null,{"$f":"IF(O10=\"LM 100\",'EM-Ber-LM100-2'!J38,-1)","v":0},null,{"$f":"IF(Q10=\"LM 200\",'EM-Ber-LM200-2'!J38,-1)","v":0},null,{"$f":"IF(S10=\"LM 300\",'EM-Ber-LM300-2'!J38,-1)","v":0}]
[null,null,{"$f":"Translation!A72","v":"Auslastung Dämpfer/Hub"},null,null,null,null,null,null,null,{"$f":"IF(K10=\"LM 25\",'EM-Ber-LM25-2'!C55,-1)","v":0.13443225919956667},null,{"$f":"IF(M10=\"LM 50\",'EM-Ber-LM50-2'!C55,-1)","v":0.14120360644257701},null,{"$f":"IF(O10=\"LM 100\",'EM-Ber-LM100-2'!C55,-1)","v":0.3331703453573458},null,{"$f":"IF(Q10=\"LM 200\",'EM-Ber-LM200-2'!C55,-1)","v":0.29868289516390778},null,{"$f":"IF(S10=\"LM 300\",'EM-Ber-LM300-2'!C55,-1)","v":0.46691553186047041}]
[null,null,{"$f":"Translation!A73","v":"Verfahrzeit / Hub ( s )"},null,null,null,null,null,null,null,{"$f":"IF(K10=\"LM 25\",'EM-Ber-LM25-2'!L50,-1)","v":0.16117647058823531},null,{"$f":"IF(M10=\"LM 50\",'EM-Ber-LM50-2'!L50,-1)","v":9.8000000000000004E-2},null,{"$f":"IF(O10=\"LM 100\",'EM-Ber-LM100-2'!L50,-1)","v":9.1999999999999998E-2},null,{"$f":"IF(Q10=\"LM 200\",'EM-Ber-LM200-2'!L50,-1)","v":7.5000000000000011E-2},null,{"$f":"IF(S10=\"LM 300\",'EM-Ber-LM300-2'!L50,-1)","v":6.4000000000000001E-2}]
[null,null,{"$f":"Translation!A74","v":"Max. Zyklenzahl / Min."},null,null,null,null,null,null,null,{"$f":"IF(K10=\"LM 25\",'EM-Ber-LM25-2'!G52,-1)","v":120},null,{"$f":"IF(M10=\"LM 50\",'EM-Ber-LM50-2'!G52,-1)","v":120},null,{"$f":"IF(O10=\"LM 100\",'EM-Ber-LM100-2'!G52,-1)","v":120},null,{"$f":"IF(Q10=\"LM 200\",'EM-Ber-LM200-2'!G52,-1)","v":70.198925934699787},null,{"$f":"IF(S10=\"LM 300\",'EM-Ber-LM300-2'!G52,-1)","v":44.905806307249925}]
[null,null,null,null,null,null,null,null,null,null,null,null,null,null,{"$f":"IF(O10=\"LM 100\",1,0)","v":1},null,{"$f":"IF(Q10=\"LM 200\",1,0)","v":1},null,{"$f":"IF(S10=\"LM 300\",1,0)","v":1}]
[null,null,{"$f":"Translation!A75","v":"Anzahl der Stoßdämpfer pro Endlage"},null,null,null,null,null,null,null,null,null,null,null,1,null,1,null,1]
[]
[]
[]
[null,null,{"$f":"Translation!A82","v":"KLM - Linearmodule"},null,null,null,null,null,null,null,{"$f":"IF(OR('EM-LM-2'!K8>59,'EM-LM-2'!K8<3,K63=1,M63=1),\" \",\"KLM 25\")","v":"KLM 25"},null,{"$f":"IF(OR('EM-LM-2'!K8>125,K65=1,M65=1),\" \",\"KLM 50\")","v":"KLM 50"},null,{"$f":"IF(OR('EM-LM-2'!K8>225,K67=1,M67=1),\" \",\"KLM 100\")","v":"KLM 100"},null,null,null,{"$f":"IF(OR('EM-LM-2'!K8>300,K73=1,M73=1),\" \",\"KLM 300\")","v":"KLM 300"}]
[null,null,{"$f":"Translation!A67","v":"Katalogseite"},null,null,null,null,null,null,null,{"$f":"IF(K26=\"KLM 25\",\"01.110\",\" \")","v":"01.110"},null,{"$f":"IF(M26=\"KLM 50\",\"01.120\",\" \")","v":"01.120"},null,{"$f":"IF(O26=\"KLM 100\",\"1.130\",\" \")","v":"1.130"},null,null,null,{"$f":"IF(S26=\"KLM 100\",\"1.130\",\" \")","v":" "}]
[null,null,{"$f":"Translation!A68","v":"Zyl.-kraft bei 6 bar ( N )"},null,null,null,null,null,null,null,{"$f":"IF(K26=\"KLM 25\",\"67 / 50\",C59)","v":"67 / 50"},null,{"$f":"IF(M26=\"KLM 50\",\"120 / 103\",C59)","v":"120 / 103"},null,{"$f":"IF(O26=\"KLM 100\",\"294 / 226\",C59)","v":"294 / 226"},null,null,null,{"$f":"IF(S26=\"KLM 300\",\"753 / 633\",C59)","v":"753 / 633"}]
[]
[null,null,{"$f":"Translation!A70","v":"Führungssystem"},null,null,null,null,null,null,null,{"$f":"IF(AND(K26=\" \",M26=\" \",O26=\" \",S26=\" \"),\" \",C61)","v":"Kugelumlaufführung für Standardanwendungen"}]
[]
[null,null,{"$f":"Translation!A93","v":"Verzögerungskraft ( N )"},null,null,null,null,null,null,null,{"$f":"IF(K26=\"KLM 25\",'EM-Ber-KLM25-2'!C43,-1)","v":0.36656987751582532},null,{"$f":"IF(M26=\"KLM 50\",'EM-Ber-KLM50-2'!C43,-1)","v":3.1408242952318619},null,{"$f":"IF(O26=\"KLM 100\",'EM-Ber-KLM100-2'!C43,-1)","v":3.4287560210781147},null,null,null,{"$f":"IF(S26=\"KLM 300\",'EM-Ber-KLM300-2'!C43,-1)","v":13.066401176229217}]
[null,null,{"$f":"Translation!A71","v":"Auslastung Führung"},null,null,null,null,null,null,null,{"$f":"IF(K26=\"KLM 25\",'EM-Ber-KLM25-2'!J38,-1)","v":0},null,{"$f":"IF(M26=\"KLM 50\",'EM-Ber-KLM50-2'!J38,-1)","v":0},null,{"$f":"IF(O26=\"KLM 100\",'EM-Ber-KLM100-2'!J38,-1)","v":0},null,null,null,{"$f":"IF(S26=\"KLM 300\",'EM-Ber-KLM300-2'!J38,-1)","v":0}]
[null,null,{"$f":"Translation!A72","v":"Auslastung Dämpfer/Hub"},null,null,null,null,null,null,null,{"$f":"IF(K26=\"KLM 25\",'EM-Ber-KLM25-2'!C55,-1)","v":0.13449120363587119},null,{"$f":"IF(M26=\"KLM 50\",'EM-Ber-KLM50-2'!C55,-1)","v":0.14245507765743959},null,{"$f":"IF(O26=\"KLM 100\",'EM-Ber-KLM100-2'!C55,-1)","v":0.33406064364141241},null,null,null,{"$f":"IF(S26=\"KLM 300\",'EM-Ber-KLM300-2'!C55,-1)","v":0.46877199310035295}]
[null,null,{"$f":"Translation!A73","v":"Verfahrzeit / Hub ( s )"},null,null,null,null,null,null,null,{"$f":"IF(K26=\"KLM 25\",'EM-Ber-KLM25-2'!L50,-1)","v":0.16117647058823531},null,{"$f":"IF(M26=\"KLM 50\",'EM-Ber-KLM50-2'!L50,-1)","v":8.3400000000000002E-2},null,{"$f":"IF(O26=\"KLM 100\",'EM-Ber-KLM100-2'!L50,-1)","v":8.2000000000000003E-2},null,null,null,{"$f":"IF(S26=\"KLM 300\",'EM-Ber-KLM300-2'!L50,-1)","v":6.4000000000000001E-2}]
[null,null,{"$f":"Translation!A74","v":"Max. Zyklenzahl / Min."},null,null,null,null,null,null,null,{"$f":"IF(K26=\"KLM 25\",'EM-Ber-KLM25-2'!G52,-1)","v":120},null,{"$f":"IF(M26=\"KLM 50\",'EM-Ber-KLM50-2'!G52,-1)","v":120},null,{"$f":"IF(O26=\"KLM 100\",'EM-Ber-KLM100-2'!G52,-1)","v":120},null,null,null,{"$f":"IF(S26=\"KLM 300\",'EM-Ber-KLM300-2'!G52,-1)","v":44.727967421646454}]
[null,null,null,null,null,null,null,null,null,null,null,null,null,null,{"$f":"IF(O26=\"KLM 100\",1,0)","v":1},null,null,null,{"$f":"IF(S26=\"KLM 300\",1,0)","v":1}]
[null,null,{"$f":"Translation!A75","v":"Anzahl der Stoßdämpfer pro Endlage"},null,null,null,null,null,null,null,null,null,null,null,1,null,null,null,1]
[]
[]
[]
[null,null,{"$f":"Translation!A83","v":"CLM - Linearmodule"},null,null,null,{"$f":"IF(OR('EM-LM-2'!K8>42,K75=1,M75=1),\" \",\"CLM 08\")","v":"CLM 08"},null,{"$f":"IF(OR('EM-LM-2'!K8>48,'EM-LM-2'!K8<2,K77=1,M77=1),\" \",\"CLM 10\")","v":"CLM 10"},null,{"$f":"IF(OR('EM-LM-2'!K8>59,'EM-LM-2'!K8<3,K63=1,M63=1),\" \",\"CLM 25\")","v":"CLM 25"},null,{"$f":"IF(OR('EM-LM-2'!K8>100,K65=1,M65=1),\" \",\"CLM 50\")","v":"CLM 50"},null,{"$f":"IF(OR('EM-LM-2'!K8>150,K69=1,M69=1),\" \",\"CLM 100\")","v":"CLM 100"},null,{"$f":"IF(OR('EM-LM-2'!K8>150,K71=1,M71=1),\" \",\"CLM 200\")","v":"CLM 200"}]
[null,null,{"$f":"Translation!A67","v":"Katalogseite"},null,null,null,{"$f":"IF(G42=\"CLM 08\",\"01.310\",\" \")","v":"01.310"},null,{"$f":"IF(I42=\"CLM 10\",\"01.320\",\" \")","v":"01.320"},null,{"$f":"IF(K42=\"CLM 25\",\"01.330\",\" \")","v":"01.330"},null,{"$f":"IF(M42=\"CLM 50\",\"01.340\",\" \")","v":"01.340"},null,{"$f":"IF(O42=\"CLM 100\",\"01.350\",\" \")","v":"01.350"},null,{"$f":"IF(Q42=\"CLM 200\",\"01.360\",\" \")","v":"01.360"}]
[null,null,{"$f":"Translation!A68","v":"Zyl.-kraft bei 6 bar ( N )"},null,null,null,{"$f":"IF(G42=\"CLM 08\",\"30 / 25\",C59)","v":"30 / 25"},null,{"$f":"IF(I42=\"CLM 10\",\"47 / 39\",C59)","v":"47 / 39"},null,{"$f":"IF(K42=\"CLM 25\",\"67 / 50\",C59)","v":"67 / 50"},null,{"$f":"IF(M42=\"CLM 50\",\"120 / 103\",C59)","v":"120 / 103"},null,{"$f":"IF(O42=\"CLM 100\",\"294 / 247\",C59)","v":"294 / 247"},null,{"$f":"IF(Q42=\"CLM 200\",\"482 / 415\",C59)","v":"482 / 415"}]
[]
[null,null,{"$f":"Translation!A70","v":"Führungssystem"},null,null,null,{"$f":"IF(AND(G42=\" \",I42=\" \",K42=\" \",M42=\" \",O42=\" \",Q42=\" \"),\" \",C60)","v":"Kreuzrollenführung für Anwendungen mit höheren Anforderungen"}]
[]
[null,null,{"$f":"Translation!A93","v":"Verzögerungskraft ( N )"},null,null,null,{"$f":"IF(G42=\"CLM 08\",'EM-Ber-CLM08-2'!C43,-1)","v":21.420958719135804},null,{"$f":"IF(I42=\"CLM 10\",'EM-Ber-CLM10-2'!C43,-1)","v":0.7832734954716023},null,{"$f":"IF(K42=\"CLM 25\",'EM-Ber-CLM25-2'!C43,-1)","v":0.32258149221392629},null,{"$f":"IF(M42=\"CLM 50\",'EM-Ber-CLM50-2'!C43,-1)","v":1.3298229739657057},null,{"$f":"IF(O42=\"CLM 100\",'EM-Ber-CLM100-2'!C43,-1)","v":1.7764461878746749},null,{"$f":"IF(Q42=\"CLM 200\",'EM-Ber-CLM200-2'!C43,-1)","v":3.9858723261330455}]
[null,null,{"$f":"Translation!A71","v":"Auslastung Führung"},null,null,null,{"$f":"IF(G42=\"CLM 08\",'EM-Ber-CLM08-2'!J38,-1)","v":0},null,{"$f":"IF(I42=\"CLM 10\",'EM-Ber-CLM10-2'!J38,-1)","v":0},null,{"$f":"IF(K42=\"CLM 25\",'EM-Ber-CLM25-2'!J38,-1)","v":0},null,{"$f":"IF(M42=\"CLM 50\",'EM-Ber-CLM50-2'!J38,-1)","v":0},null,{"$f":"IF(O42=\"CLM 100\",'EM-Ber-CLM100-2'!J38,-1)","v":0},null,{"$f":"IF(Q42=\"CLM 200\",'EM-Ber-CLM200-2'!J38,-1)","v":0}]
[null,null,{"$f":"Translation!A72","v":"Auslastung Dämpfer/Hub"},null,null,null,null,null,{"$f":"IF(I42=\"CLM 10\",'EM-Ber-CLM10-2'!C55,-1)","v":0.2376239662098299},null,{"$f":"IF(K42=\"CLM 25\",'EM-Ber-CLM25-2'!C55,-1)","v":0.13443225919956667},null,{"$f":"IF(M42=\"CLM 50\",'EM-Ber-CLM50-2'!C55,-1)","v":0.14103947829131652},null,{"$f":"IF(O42=\"CLM 100\",'EM-Ber-CLM100-2'!C55,-1)","v":0.33281250175270338},null,{"$f":"IF(Q42=\"CLM 200\",'EM-Ber-CLM200-2'!C55,-1)","v":0.29825879043600562}]
[null,null,{"$f":"Translation!A73","v":"Verfahrzeit / Hub ( s )"},null,null,null,{"$f":"IF(G42=\"CLM 08\",'EM-Ber-CLM08-2'!L50,-1)","v":5.1428571428571428E-2},null,{"$f":"IF(I42=\"CLM 10\",'EM-Ber-CLM10-2'!L50,-1)","v":6.5714285714285711E-2},null,{"$f":"IF(K42=\"CLM 25\",'EM-Ber-CLM25-2'!L50,-1)","v":0.16117647058823531},null,{"$f":"IF(M42=\"CLM 50\",'EM-Ber-CLM50-2'!L50,-1)","v":9.8000000000000004E-2},null,{"$f":"IF(O42=\"CLM 100\",'EM-Ber-CLM100-2'!L50,-1)","v":9.1999999999999998E-2},null,{"$f":"IF(Q42=\"CLM 200\",'EM-Ber-CLM200-2'!L50,-1)","v":7.5000000000000011E-2}]
[null,null,{"$f":"Translation!A74","v":"Max. Zyklenzahl / Min."},null,null,null,{"$f":"IF(G42=\"CLM 08\",'EM-Ber-CLM08-2'!G52,-1)","v":120},null,{"$f":"IF(I42=\"CLM 10\",'EM-Ber-CLM10-2'!G52,-1)","v":120},null,{"$f":"IF(K42=\"CLM 25\",'EM-Ber-CLM25-2'!G52,-1)","v":120},null,{"$f":"IF(M42=\"CLM 50\",'EM-Ber-CLM50-2'!G52,-1)","v":120},null,{"$f":"IF(O42=\"CLM 100\",'EM-Ber-CLM100-2'!G52,-1)","v":120},null,{"$f":"IF(Q42=\"CLM 200\",'EM-Ber-CLM200-2'!G52,-1)","v":70.298744271450374}]
[]
[]
[]
[]
[]
[null,null,null,null,null,null,null,null,{"$f":"I59*0.01","v":2.02}]
[null,null,{"$f":"Translation!A78","v":"UNZULÄSSIG"},null,null,null,null,null,202]
[null,null,{"$f":"Translation!A76","v":"Kreuzrollenführung für Anwendungen mit höheren Anforderungen"}]
[null,null,{"$f":"Translation!A77","v":"Kugelumlaufführung für Standardanwendungen"}]
[]
[null,null,"Wegfallkriterium wegen Kraft Y:",null,null,null,"LM/KLM/CLM 25",null,{"$f":"IF(AND('EM-LM-2'!G$51=TRUE,'EM-LM-2'!K$20>'Allgemeine Werte'!E$52),1,0)","v":0},null,{"$f":"IF(OR(I63=1,I64=1),1,0)","v":0},null,{"$f":"IF(AND('EM-LM-2'!K$20<='Allgemeine Werte'!G52,'EM-LM-2'!K$20>=-'Allgemeine Werte'!G52),0,1)","v":0}]
[null,null,null,null,null,null,null,null,{"$f":"IF(AND('EM-LM-2'!G$51=FALSE,'EM-LM-2'!K$20<-'Allgemeine Werte'!E$52),1,0)","v":0}]
[null,null,null,null,null,null,"LM/KLM/CLM 50",null,{"$f":"IF(AND('EM-LM-2'!G$51=TRUE,'EM-LM-2'!K$20>'Allgemeine Werte'!E$53),1,0)","v":0},null,{"$f":"IF(OR(I65=1,I66=1),1,0)","v":0},null,{"$f":"IF(AND('EM-LM-2'!K$20<='Allgemeine Werte'!G53,'EM-LM-2'!K$20>=-'Allgemeine Werte'!G53),0,1)","v":0}]
[null,null,null,null,null,null,null,null,{"$f":"IF(AND('EM-LM-2'!G$51=FALSE,'EM-LM-2'!K$20<-'Allgemeine Werte'!E$53),1,0)","v":0}]
[null,null,null,null,null,null,"LM/KLM 100",null,{"$f":"IF(AND('EM-LM-2'!G$51=TRUE,'EM-LM-2'!K$20>'Allgemeine Werte'!E$54),1,0)","v":0},null,{"$f":"IF(OR(I67=1,I68=1),1,0)","v":0},null,{"$f":"IF(AND('EM-LM-2'!K$20<='Allgemeine Werte'!G54,'EM-LM-2'!K$20>=-'Allgemeine Werte'!G54),0,1)","v":0}]
[null,null,null,null,null,null,null,null,{"$f":"IF(AND('EM-LM-2'!G$51=FALSE,'EM-LM-2'!K$20<-'Allgemeine Werte'!E$54),1,0)","v":0}]
[null,null,null,null,null,null,"CLM 100",null,{"$f":"IF(AND('EM-LM-2'!G$51=TRUE,'EM-LM-2'!K$20>'Allgemeine Werte'!E$55),1,0)","v":0},null,{"$f":"IF(OR(I69=1,I70=1),1,0)","v":0},null,{"$f":"IF(AND('EM-LM-2'!K$20<='Allgemeine Werte'!G55,'EM-LM-2'!K$20>=-'Allgemeine Werte'!G55),0,1)","v":0}]
[null,null,null,null,null,null,null,null,{"$f":"IF(AND('EM-LM-2'!G$51=FALSE,'EM-LM-2'!K$20<-'Allgemeine Werte'!E$55),1,0)","v":0}]
[null,null,null,null,null,null,"LM/CLM 200",null,{"$f":"IF(AND('EM-LM-2'!G$51=TRUE,'EM-LM-2'!K$20>'Allgemeine Werte'!E$56),1,0)","v":0},null,{"$f":"IF(OR(I71=1,I72=1),1,0)","v":0},null,{"$f":"IF(AND('EM-LM-2'!K$20<='Allgemeine Werte'!G56,'EM-LM-2'!K$20>=-'Allgemeine Werte'!G56),0,1)","v":0}]
[null,null,null,null,null,null,null,null,{"$f":"IF(AND('EM-LM-2'!G$51=FALSE,'EM-LM-2'!K$20<-'Allgemeine Werte'!E$56),1,0)","v":0}]
[null,null,null,null,null,null,"LM/KLM 300",null,{"$f":"IF(AND('EM-LM-2'!G$51=TRUE,'EM-LM-2'!K$20>'Allgemeine Werte'!E$57),1,0)","v":0},null,{"$f":"IF(OR(I73=1,I74=1),1,0)","v":0},null,{"$f":"IF(AND('EM-LM-2'!K$20<='Allgemeine Werte'!G57,'EM-LM-2'!K$20>=-'Allgemeine Werte'!G57),0,1)","v":0}]
[null,null,null,null,null,null,null,null,{"$f":"IF(AND('EM-LM-2'!G$51=FALSE,'EM-LM-2'!K$20<-'Allgemeine Werte'!E$57),1,0)","v":0}]
[null,null,null,null,null,null,"CLM 08",null,{"$f":"IF(AND('EM-LM-2'!G$51=TRUE,'EM-LM-2'!K$20>'Allgemeine Werte'!E$60),1,0)","v":0},null,{"$f":"IF(OR(I75=1,I76=1),1,0)","v":0},null,{"$f":"IF(AND('EM-LM-2'!K$20<='Allgemeine Werte'!G60,'EM-LM-2'!K$20>=-'Allgemeine Werte'!G60),0,1)","v":0}]
[null,null,null,null,null,null,null,null,{"$f":"IF(AND('EM-LM-2'!G$51=FALSE,'EM-LM-2'!K$20<-'Allgemeine Werte'!E$60),1,0)","v":0}]
[null,null,null,null,null,null,"CLM 10",null,{"$f":"IF(AND('EM-LM-2'!G$51=TRUE,'EM-LM-2'!K$20>'Allgemeine Werte'!E$61),1,0)","v":0},null,{"$f":"IF(OR(I77=1,I78=1),1,0)","v":0},null,{"$f":"IF(AND('EM-LM-2'!K$20<='Allgemeine Werte'!G61,'EM-LM-2'!K$20>=-'Allgemeine Werte'!G61),0,1)","v":0}]
[null,null,null,null,null,null,null,null,{"$f":"IF(AND('EM-LM-2'!G$51=FALSE,'EM-LM-2'!K$20<-'Allgemeine Werte'!E$61),1,0)","v":0}]

{"sheet":"EM-LM-4","index":7,"n_rows":51,"n_cols":17,"rows_kept":51,"cut":false,"hidden":false,"merged":[[7,12,7,16],[9,12,9,16],[5,2,5,6],[5,10,5,16],[34,8,34,16],[26,2,26,6],[27,2,29,2],[31,2,42,6]]}
[]
[{"$f":"Translation!A14","v":"Toolbox-Translation - MODULARE MONTAGEAUTOMATION"}]
[{"$f":"Translation!A50","v":"Berechnung Linearmodule"}]
[]
[]
[null,null,{"$f":"Translation!A54","v":"LM / KLM / CLM - Linearmodule"},null,null,null,null,null,null,null,{"$f":"Translation!A58","v":"Geben Sie Ihre Werte mit -Enter- ein !"}]
[]
[null,null,null,null,null,null,null,null,"H (mm)",null,10,null,{"$f":"Translation!A59","v":"H = Hub ( max. 450 )"}]
[]
[null,null,null,null,null,null,null,null,null,null,{"$f":"Translation!A60","v":"Masse (m)"},null,{"$f":"Translation!A62","v":"Koordinaten Massenschwerpunkt / Kraftangriff"}]
[]
[null,null,null,null,null,null,null,null,null,null,{"$f":"Translation!A61","v":"Kraft (F)"},null,"X  ( mm )",null,"Y  ( mm )",null,"Z  ( mm )"]
[]
[null,null,null,null,null,null,null,null,"m (kg)",null,0,null,0,null,0,null,0]
[]
[null,null,null,null,null,null,null,null,null,null,null,null,"( N )"]
[]
[null,null,null,null,null,null,null,null,"Fx (N)",null,0,null,null,null,0,null,0]
[]
[null,null,null,null,null,null,null,null,"Fy (N)",null,0,null,0,null,null,null,0]
[]
[null,null,null,null,null,null,null,null,"Fz (N)",null,0,null,0,null,0]
[]
[]
[]
[]
[null,null,{"$f":"Translation!A57","v":"Achtung: Kräfte und Koordinaten mit Vorzeichen !"}]
[null,null,{"$f":"Translation!A84","v":"ACHTUNG:"}]
[]
[]
[]
[null,null,{"$f":"Translation!A85","v":"Die auf der Berechnungsseite angegebenen Verfahrzeiten sind reine Verfahrzeiten von einer Endlage in die andere Endlage.\nVentilschaltzeiten, Schlauchbefüllungszeiten oder SPS-Reaktionszeiten sind nicht enthalten und bei der Ermittlung von Zykluszeiten zu berücksichtigen.\nBitte beachten Sie, dass zum Erreichen der minimal möglichen Verfahrzeit die kundenseitige Stützkonstruktion der resultierenden Dynamik angepasst werden muss !"}]
[]
[]
[null,null,null,null,null,null,null,null,{"$f":"Translation!A87","v":"Auf der Berechnungsseite der Linearmodule können Sie die Verfahrzeit ändern !"}]
[]
[]
[]
[]
[]
[]
[]
[]
[]
[]
[]
[]
[]
[]
[]
[null,null,null,null,null,null,false]

{"sheet":"EM-LM-4-1","index":8,"n_rows":78,"n_cols":19,"rows_kept":78,"cut":false,"hidden":false,"merged":[[29,10,29,18],[45,6,45,16],[13,10,13,18],[5,8,5,12],[5,5,5,7],[21,2,21,7],[37,2,37,7],[9,2,9,4],[25,2,25,4],[41,2,41,4]]}
[]
[{"$f":"Translation!A14","v":"Toolbox-Translation - MODULARE MONTAGEAUTOMATION"}]
[{"$f":"Translation!A50","v":"Berechnung Linearmodule"}]
[]
[]
[null,null,null,null,null," +                    -",null,null,{"$f":"Translation!A65","v":"Hier ändern Sie die Verfahrzeit"}]
[]
[]
[]
[null,null,{"$f":"Translation!A66","v":"LM - Linearmodule"},null,null,null,null,null,null,null,{"$f":"IF(OR('EM-LM-4'!K8>59,'EM-LM-4'!K8<3,K63=1,M63=1),\" \",\"LM 25\")","v":"LM 25"},null,{"$f":"IF(OR('EM-LM-4'!K8>100,K65=1,M65=1),\" \",\"LM 50\")","v":"LM 50"},null,{"$f":"IF(OR('EM-LM-4'!K8>225,K67=1,M67=1),\" \",\"LM 100\")","v":"LM 100"},null,{"$f":"IF(OR('EM-LM-4'!K8>350,K71=1,M71=1),\" \",\"LM 200\")","v":"LM 200"},null,{"$f":"IF(OR('EM-LM-4'!K8>450,K73=1,M73=1),\" \",\"LM 300\")","v":"LM 300"}]
[null,null,{"$f":"Translation!A67","v":"Katalogseite"},null,null,null,null,null,null,null,{"$f":"IF(K10=\"LM 25\",\"01.010\",\" \")","v":"01.010"},null,{"$f":"IF(M10=\"LM 50\",\"01.020\",\" \")","v":"01.020"},null,{"$f":"IF(O10=\"LM 100\",\"01.030\",\" \")","v":"01.030"},null,{"$f":"IF(Q10=\"LM 200\",\"01.040\",\" \")","v":"01.040"},null,{"$f":"IF(S10=\"LM 300\",\"01.050\",\" \")","v":"01.050"}]
[null,null,{"$f":"Translation!A68","v":"Zyl.-kraft bei 6 bar ( N )"},null,null,null,null,null,null,null,{"$f":"IF(K10=\"LM 25\",\"67 / 50\",C59)","v":"67 / 50"},null,{"$f":"IF(M10=\"LM 50\",\"120 / 103\",C59)","v":"120 / 103"},null,{"$f":"IF(O10=\"LM 100\",\"294 / 226\",C59)","v":"294 / 226"},null,{"$f":"IF(Q10=\"LM 200\",\"482 / 415\",C59)","v":"482 / 415"},null,{"$f":"IF(S10=\"LM 300\",\"753 / 633\",C59)","v":"753 / 633"}]
[]
[null,null,{"$f":"Translation!A70","v":"Führungssystem"},null,null,null,null,null,null,null,{"$f":"IF(AND(K10=\" \",M10=\" \",O10=\" \",Q10=\" \",S10=\" \"),\" \",C60)","v":"Kreuzrollenführung für Anwendungen mit höheren Anforderungen"}]
[]
[null,null,{"$f":"Translation!A93","v":"Verzögerungskraft ( N )"},null,null,null,null,null,null,null,{"$f":"IF(K10=\"LM 25\",'EM-Ber-LM25-4'!C43,-1)","v":0.32258149221392629},null,{"$f":"IF(M10=\"LM 50\",'EM-Ber-LM50-4'!C43,-1)","v":1.5397950224866064},null,{"$f":"IF(O10=\"LM 100\",'EM-Ber-LM100-4'!C43,-1)","v":2.2501651713079212},null,{"$f":"IF(Q10=\"LM 200\",'EM-Ber-LM200-4'!C43,-1)","v":5.0144845393286692},null,{"$f":"IF(S10=\"LM 300\",'EM-Ber-LM300-4'!C43,-1)","v":8.5637899600961749}]
[null,null,{"$f":"Translation!A71","v":"Auslastung Führung"},null,null,null,null,null,null,null,{"$f":"IF(K10=\"LM 25\",'EM-Ber-LM25-4'!J38,-1)","v":0},null,{"$f":"IF(M10=\"LM 50\",'EM-Ber-LM50-4'!J38,-1)","v":0},null,{"$f":"IF(O10=\"LM 100\",'EM-Ber-LM100-4'!J38,-1)","v":0},null,{"$f":"IF(Q10=\"LM 200\",'EM-Ber-LM200-4'!J38,-1)","v":0},null,{"$f":"IF(S10=\"LM 300\",'EM-Ber-LM300-4'!J38,-1)","v":0}]
[null,null,{"$f":"Translation!A72","v":"Auslastung Dämpfer/Hub"},null,null,null,null,null,null,null,{"$f":"IF(K10=\"LM 25\",'EM-Ber-LM25-4'!C55,-1)","v":0.13443225919956667},null,{"$f":"IF(M10=\"LM 50\",'EM-Ber-LM50-4'!C55,-1)","v":0.14120360644257701},null,{"$f":"IF(O10=\"LM 100\",'EM-Ber-LM100-4'!C55,-1)","v":0.3331703453573458},null,{"$f":"IF(Q10=\"LM 200\",'EM-Ber-LM200-4'!C55,-1)","v":0.29868289516390778},null,{"$f":"IF(S10=\"LM 300\",'EM-Ber-LM300-4'!C55,-1)","v":0.46691553186047041}]
[null,null,{"$f":"Translation!A73","v":"Verfahrzeit / Hub ( s )"},null,null,null,null,null,null,null,{"$f":"IF(K10=\"LM 25\",'EM-Ber-LM25-4'!L50,-1)","v":0.16117647058823531},null,{"$f":"IF(M10=\"LM 50\",'EM-Ber-LM50-4'!L50,-1)","v":9.8000000000000004E-2},null,{"$f":"IF(O10=\"LM 100\",'EM-Ber-LM100-4'!L50,-1)","v":9.1999999999999998E-2},null,{"$f":"IF(Q10=\"LM 200\",'EM-Ber-LM200-4'!L50,-1)","v":7.5000000000000011E-2},null,{"$f":"IF(S10=\"LM 300\",'EM-Ber-LM300-4'!L50,-1)","v":6.4000000000000001E-2}]
[null,null,{"$f":"Translation!A74","v":"Max. Zyklenzahl / Min."},null,null,null,null,null,null,null,{"$f":"IF(K10=\"LM 25\",'EM-Ber-LM25-4'!G52,-1)","v":120},null,{"$f":"IF(M10=\"LM 50\",'EM-Ber-LM50-4'!G52,-1)","v":120},null,{"$f":"IF(O10=\"LM 100\",'EM-Ber-LM100-4'!G52,-1)","v":120},null,{"$f":"IF(Q10=\"LM 200\",'EM-Ber-LM200-4'!G52,-1)","v":70.198925934699787},null,{"$f":"IF(S10=\"LM 300\",'EM-Ber-LM300-4'!G52,-1)","v":44.905806307249925}]
[null,null,null,null,null,null,null,null,null,null,null,null,null,null,{"$f":"IF(O10=\"LM 100\",1,0)","v":1},null,{"$f":"IF(Q10=\"LM 200\",1,0)","v":1},null,{"$f":"IF(S10=\"LM 300\",1,0)","v":1}]
[null,null,{"$f":"Translation!A75","v":"Anzahl der Stoßdämpfer pro Endlage"},null,null,null,null,null,null,null,null,null,null,null,1,null,1,null,1]
[]
[]
[]
[null,null,{"$f":"Translation!A82","v":"KLM - Linearmodule"},null,null,null,null,null,null,null,{"$f":"IF(OR('EM-LM-4'!K8>59,'EM-LM-4'!K8<3,K63=1,M63=1),\" \",\"KLM 25\")","v":"KLM 25"},null,{"$f":"IF(OR('EM-LM-4'!K8>125,K65=1,M65=1),\" \",\"KLM 50\")","v":"KLM 50"},null,{"$f":"IF(OR('EM-LM-4'!K8>225,K67=1,M67=1),\" \",\"KLM 100\")","v":"KLM 100"},null,null,null,{"$f":"IF(OR('EM-LM-4'!K8>300,K73=1,M73=1),\" \",\"KLM 300\")","v":"KLM 300"}]
[null,null,{"$f":"Translation!A67","v":"Katalogseite"},null,null,null,null,null,null,null,{"$f":"IF(K26=\"KLM 25\",\"01.110\",\" \")","v":"01.110"},null,{"$f":"IF(M26=\"KLM 50\",\"01.120\",\" \")","v":"01.120"},null,{"$f":"IF(O26=\"KLM 100\",\"1.130\",\" \")","v":"1.130"},null,null,null,{"$f":"IF(S26=\"KLM 100\",\"1.130\",\" \")","v":" "}]
[null,null,{"$f":"Translation!A68","v":"Zyl.-kraft bei 6 bar ( N )"},null,null,null,null,null,null,null,{"$f":"IF(K26=\"KLM 25\",\"67 / 50\",C59)","v":"67 / 50"},null,{"$f":"IF(M26=\"KLM 50\",\"120 / 103\",C59)","v":"120 / 103"},null,{"$f":"IF(O26=\"KLM 100\",\"294 / 226\",C59)","v":"294 / 226"},null,null,null,{"$f":"IF(S26=\"KLM 300\",\"753 / 633\",C59)","v":"753 / 633"}]
[]
[null,null,{"$f":"Translation!A70","v":"Führungssystem"},null,null,null,null,null,null,null,{"$f":"IF(AND(K26=\" \",M26=\" \",O26=\" \",S26=\" \"),\" \",C61)","v":"Kugelumlaufführung für Standardanwendungen"}]
[]
[null,null,{"$f":"Translation!A93","v":"Verzögerungskraft ( N )"},null,null,null,null,null,null,null,{"$f":"IF(K26=\"KLM 25\",'EM-Ber-KLM25-4'!C43,-1)","v":0.36656987751582532},null,{"$f":"IF(M26=\"KLM 50\",'EM-Ber-KLM50-4'!C43,-1)","v":3.1408242952318619},null,{"$f":"IF(O26=\"KLM 100\",'EM-Ber-KLM100-4'!C43,-1)","v":3.4287560210781147},null,null,null,{"$f":"IF(S26=\"KLM 300\",'EM-Ber-KLM300-4'!C43,-1)","v":13.066401176229217}]
[null,null,{"$f":"Translation!A71","v":"Auslastung Führung"},null,null,null,null,null,null,null,{"$f":"IF(K26=\"KLM 25\",'EM-Ber-KLM25-4'!J38,-1)","v":0},null,{"$f":"IF(M26=\"KLM 50\",'EM-Ber-KLM50-4'!J38,-1)","v":0},null,{"$f":"IF(O26=\"KLM 100\",'EM-Ber-KLM100-4'!J38,-1)","v":0},null,null,null,{"$f":"IF(S26=\"KLM 300\",'EM-Ber-KLM300-4'!J38,-1)","v":0}]
[null,null,{"$f":"Translation!A72","v":"Auslastung Dämpfer/Hub"},null,null,null,null,null,null,null,{"$f":"IF(K26=\"KLM 25\",'EM-Ber-KLM25-4'!C55,-1)","v":0.13449120363587119},null,{"$f":"IF(M26=\"KLM 50\",'EM-Ber-KLM50-4'!C55,-1)","v":0.14245507765743959},null,{"$f":"IF(O26=\"KLM 100\",'EM-Ber-KLM100-4'!C55,-1)","v":0.33406064364141241},null,null,null,{"$f":"IF(S26=\"KLM 300\",'EM-Ber-KLM300-4'!C55,-1)","v":0.46877199310035295}]
[null,null,{"$f":"Translation!A73","v":"Verfahrzeit / Hub ( s )"},null,null,null,null,null,null,null,{"$f":"IF(K26=\"KLM 25\",'EM-Ber-KLM25-4'!L50,-1)","v":0.16117647058823531},null,{"$f":"IF(M26=\"KLM 50\",'EM-Ber-KLM50-4'!L50,-1)","v":8.3400000000000002E-2},null,{"$f":"IF(O26=\"KLM 100\",'EM-Ber-KLM100-4'!L50,-1)","v":8.2000000000000003E-2},null,null,null,{"$f":"IF(S26=\"KLM 300\",'EM-Ber-KLM300-4'!L50,-1)","v":6.4000000000000001E-2}]
[null,null,{"$f":"Translation!A74","v":"Max. Zyklenzahl / Min."},null,null,null,null,null,null,null,{"$f":"IF(K26=\"KLM 25\",'EM-Ber-KLM25-4'!G52,-1)","v":120},null,{"$f":"IF(M26=\"KLM 50\",'EM-Ber-KLM50-4'!G52,-1)","v":120},null,{"$f":"IF(O26=\"KLM 100\",'EM-Ber-KLM100-4'!G52,-1)","v":120},null,null,null,{"$f":"IF(S26=\"KLM 300\",'EM-Ber-KLM300-4'!G52,-1)","v":44.727967421646454}]
[null,null,null,null,null,null,null,null,null,null,null,null,null,null,{"$f":"IF(O26=\"KLM 100\",1,0)","v":1},null,null,null,{"$f":"IF(S26=\"KLM 300\",1,0)","v":1}]
[null,null,{"$f":"Translation!A75","v":"Anzahl der Stoßdämpfer pro Endlage"},null,null,null,null,null,null,null,null,null,null,null,1,null,null,null,1]
[]
[]
[]
[null,null,{"$f":"Translation!A83","v":"CLM - Linearmodule"},null,null,null,{"$f":"IF(OR('EM-LM-4'!K8>42,K75=1,M75=1),\" \",\"CLM 08\")","v":"CLM 08"},null,{"$f":"IF(OR('EM-LM-4'!K8>48,'EM-LM-4'!K8<2,K77=1,M77=1),\" \",\"CLM 10\")","v":"CLM 10"},null,{"$f":"IF(OR('EM-LM-4'!K8>59,'EM-LM-4'!K8<3,K63=1,M63=1),\" \",\"CLM 25\")","v":"CLM 25"},null,{"$f":"IF(OR('EM-LM-4'!K8>100,K65=1,M65=1),\" \",\"CLM 50\")","v":"CLM 50"},null,{"$f":"IF(OR('EM-LM-4'!K8>150,K69=1,M69=1),\" \",\"CLM 100\")","v":"CLM 100"},null,{"$f":"IF(OR('EM-LM-4'!K8>150,K71=1,M71=1),\" \",\"CLM 200\")","v":"CLM 200"}]
[null,null,{"$f":"Translation!A67","v":"Katalogseite"},null,null,null,{"$f":"IF(G42=\"CLM 08\",\"01.310\",\" \")","v":"01.310"},null,{"$f":"IF(I42=\"CLM 10\",\"01.320\",\" \")","v":"01.320"},null,{"$f":"IF(K42=\"CLM 25\",\"01.330\",\" \")","v":"01.330"},null,{"$f":"IF(M42=\"CLM 50\",\"01.340\",\" \")","v":"01.340"},null,{"$f":"IF(O42=\"CLM 100\",\"01.350\",\" \")","v":"01.350"},null,{"$f":"IF(Q42=\"CLM 200\",\"01.360\",\" \")","v":"01.360"}]
[null,null,{"$f":"Translation!A68","v":"Zyl.-kraft bei 6 bar ( N )"},null,null,null,{"$f":"IF(G42=\"CLM 08\",\"30 / 25\",C59)","v":"30 / 25"},null,{"$f":"IF(I42=\"CLM 10\",\"47 / 39\",C59)","v":"47 / 39"},null,{"$f":"IF(K42=\"CLM 25\",\"67 / 50\",C59)","v":"67 / 50"},null,{"$f":"IF(M42=\"CLM 50\",\"120 / 103\",C59)","v":"120 / 103"},null,{"$f":"IF(O42=\"CLM 100\",\"294 / 247\",C59)","v":"294 / 247"},null,{"$f":"IF(Q42=\"CLM 200\",\"482 / 415\",C59)","v":"482 / 415"}]
[]
[null,null,{"$f":"Translation!A70","v":"Führungssystem"},null,null,null,{"$f":"IF(AND(G42=\" \",I42=\" \",K42=\" \",M42=\" \",O42=\" \",Q42=\" \"),\" \",C60)","v":"Kreuzrollenführung für Anwendungen mit höheren Anforderungen"}]
[]
[null,null,{"$f":"Translation!A93","v":"Verzögerungskraft ( N )"},null,null,null,{"$f":"IF(G42=\"CLM 08\",'EM-Ber-CLM08-4'!C43,-1)","v":21.420958719135804},null,{"$f":"IF(I42=\"CLM 10\",'EM-Ber-CLM10-4'!C43,-1)","v":0.7832734954716023},null,{"$f":"IF(K42=\"CLM 25\",'EM-Ber-CLM25-4'!C43,-1)","v":0.32258149221392629},null,{"$f":"IF(M42=\"CLM 50\",'EM-Ber-CLM50-4'!C43,-1)","v":1.3298229739657057},null,{"$f":"IF(O42=\"CLM 100\",'EM-Ber-CLM100-4'!C43,-1)","v":1.7764461878746749},null,{"$f":"IF(Q42=\"CLM 200\",'EM-Ber-CLM200-4'!C43,-1)","v":3.9858723261330455}]
[null,null,{"$f":"Translation!A71","v":"Auslastung Führung"},null,null,null,{"$f":"IF(G42=\"CLM 08\",'EM-Ber-CLM08-4'!J38,-1)","v":0},null,{"$f":"IF(I42=\"CLM 10\",'EM-Ber-CLM10-4'!J38,-1)","v":0},null,{"$f":"IF(K42=\"CLM 25\",'EM-Ber-CLM25-4'!J38,-1)","v":0},null,{"$f":"IF(M42=\"CLM 50\",'EM-Ber-CLM50-4'!J38,-1)","v":0},null,{"$f":"IF(O42=\"CLM 100\",'EM-Ber-CLM100-4'!J38,-1)","v":0},null,{"$f":"IF(Q42=\"CLM 200\",'EM-Ber-CLM200-4'!J38,-1)","v":0}]
[null,null,{"$f":"Translation!A72","v":"Auslastung Dämpfer/Hub"},null,null,null,null,null,{"$f":"IF(I42=\"CLM 10\",'EM-Ber-CLM10-4'!C55,-1)","v":0.2376239662098299},null,{"$f":"IF(K42=\"CLM 25\",'EM-Ber-CLM25-4'!C55,-1)","v":0.13443225919956667},null,{"$f":"IF(M42=\"CLM 50\",'EM-Ber-CLM50-4'!C55,-1)","v":0.14103947829131652},null,{"$f":"IF(O42=\"CLM 100\",'EM-Ber-CLM100-4'!C55,-1)","v":0.33281250175270338},null,{"$f":"IF(Q42=\"CLM 200\",'EM-Ber-CLM200-4'!C55,-1)","v":0.29825879043600562}]
[null,null,{"$f":"Translation!A73","v":"Verfahrzeit / Hub ( s )"},null,null,null,{"$f":"IF(G42=\"CLM 08\",'EM-Ber-CLM08-4'!L50,-1)","v":5.1428571428571428E-2},null,{"$f":"IF(I42=\"CLM 10\",'EM-Ber-CLM10-4'!L50,-1)","v":6.5714285714285711E-2},null,{"$f":"IF(K42=\"CLM 25\",'EM-Ber-CLM25-4'!L50,-1)","v":0.16117647058823531},null,{"$f":"IF(M42=\"CLM 50\",'EM-Ber-CLM50-4'!L50,-1)","v":9.8000000000000004E-2},null,{"$f":"IF(O42=\"CLM 100\",'EM-Ber-CLM100-4'!L50,-1)","v":9.1999999999999998E-2},null,{"$f":"IF(Q42=\"CLM 200\",'EM-Ber-CLM200-4'!L50,-1)","v":7.5000000000000011E-2}]
[null,null,{"$f":"Translation!A74","v":"Max. Zyklenzahl / Min."},null,null,null,{"$f":"IF(G42=\"CLM 08\",'EM-Ber-CLM08-4'!G52,-1)","v":120},null,{"$f":"IF(I42=\"CLM 10\",'EM-Ber-CLM10-4'!G52,-1)","v":120},null,{"$f":"IF(K42=\"CLM 25\",'EM-Ber-CLM25-4'!G52,-1)","v":120},null,{"$f":"IF(M42=\"CLM 50\",'EM-Ber-CLM50-4'!G52,-1)","v":120},null,{"$f":"IF(O42=\"CLM 100\",'EM-Ber-CLM100-4'!G52,-1)","v":120},null,{"$f":"IF(Q42=\"CLM 200\",'EM-Ber-CLM200-4'!G52,-1)","v":70.298744271450374}]
[]
[]
[]
[]
[]
[null,null,null,null,null,null,null,null,{"$f":"I59*0.01","v":2.02}]
[null,null,{"$f":"Translation!A78","v":"UNZULÄSSIG"},null,null,null,null,null,202]
[null,null,{"$f":"Translation!A76","v":"Kreuzrollenführung für Anwendungen mit höheren Anforderungen"}]
[null,null,{"$f":"Translation!A77","v":"Kugelumlaufführung für Standardanwendungen"}]
[]
[null,null,"Wegfallkriterium wegen Kraft Y:",null,null,null,"LM/KLM/CLM 25",null,{"$f":"IF(AND('EM-LM-4'!G$51=FALSE,'EM-LM-4'!K$20>'Allgemeine Werte'!E$52),1,0)","v":0},null,{"$f":"IF(OR(I63=1,I64=1),1,0)","v":0},null,{"$f":"IF(AND('EM-LM-4'!K$20<='Allgemeine Werte'!G52,'EM-LM-4'!K$20>=-'Allgemeine Werte'!G52),0,1)","v":0}]
[null,null,null,null,null,null,null,null,{"$f":"IF(AND('EM-LM-4'!G$51=TRUE,'EM-LM-4'!K$20<-'Allgemeine Werte'!E$52),1,0)","v":0}]
[null,null,null,null,null,null,"LM/KLM/CLM 50",null,{"$f":"IF(AND('EM-LM-4'!G$51=FALSE,'EM-LM-4'!K$20>'Allgemeine Werte'!E$53),1,0)","v":0},null,{"$f":"IF(OR(I65=1,I66=1),1,0)","v":0},null,{"$f":"IF(AND('EM-LM-4'!K$20<='Allgemeine Werte'!G53,'EM-LM-4'!K$20>=-'Allgemeine Werte'!G53),0,1)","v":0}]
[null,null,null,null,null,null,null,null,{"$f":"IF(AND('EM-LM-4'!G$51=TRUE,'EM-LM-4'!K$20<-'Allgemeine Werte'!E$53),1,0)","v":0}]
[null,null,null,null,null,null,"LM/KLM 100",null,{"$f":"IF(AND('EM-LM-4'!G$51=FALSE,'EM-LM-4'!K$20>'Allgemeine Werte'!E$54),1,0)","v":0},null,{"$f":"IF(OR(I67=1,I68=1),1,0)","v":0},null,{"$f":"IF(AND('EM-LM-4'!K$20<='Allgemeine Werte'!G54,'EM-LM-4'!K$20>=-'Allgemeine Werte'!G54),0,1)","v":0}]
[null,null,null,null,null,null,null,null,{"$f":"IF(AND('EM-LM-4'!G$51=TRUE,'EM-LM-4'!K$20<-'Allgemeine Werte'!E$54),1,0)","v":0}]
[null,null,null,null,null,null,"CLM 100",null,{"$f":"IF(AND('EM-LM-4'!G$51=FALSE,'EM-LM-4'!K$20>'Allgemeine Werte'!E$55),1,0)","v":0},null,{"$f":"IF(OR(I69=1,I70=1),1,0)","v":0},null,{"$f":"IF(AND('EM-LM-4'!K$20<='Allgemeine Werte'!G55,'EM-LM-4'!K$20>=-'Allgemeine Werte'!G55),0,1)","v":0}]
[null,null,null,null,null,null,null,null,{"$f":"IF(AND('EM-LM-4'!G$51=TRUE,'EM-LM-4'!K$20<-'Allgemeine Werte'!E$55),1,0)","v":0}]
[null,null,null,null,null,null,"LM/CLM 200",null,{"$f":"IF(AND('EM-LM-4'!G$51=FALSE,'EM-LM-4'!K$20>'Allgemeine Werte'!E$56),1,0)","v":0},null,{"$f":"IF(OR(I71=1,I72=1),1,0)","v":0},null,{"$f":"IF(AND('EM-LM-4'!K$20<='Allgemeine Werte'!G56,'EM-LM-4'!K$20>=-'Allgemeine Werte'!G56),0,1)","v":0}]
[null,null,null,null,null,null,null,null,{"$f":"IF(AND('EM-LM-4'!G$51=TRUE,'EM-LM-4'!K$20<-'Allgemeine Werte'!E$56),1,0)","v":0}]
[null,null,null,null,null,null,"LM/KLM 300",null,{"$f":"IF(AND('EM-LM-4'!G$51=FALSE,'EM-LM-4'!K$20>'Allgemeine Werte'!E$57),1,0)","v":0},null,{"$f":"IF(OR(I73=1,I74=1),1,0)","v":0},null,{"$f":"IF(AND('EM-LM-4'!K$20<='Allgemeine Werte'!G57,'EM-LM-4'!K$20>=-'Allgemeine Werte'!G57),0,1)","v":0}]
[null,null,null,null,null,null,null,null,{"$f":"IF(AND('EM-LM-4'!G$51=TRUE,'EM-LM-4'!K$20<-'Allgemeine Werte'!E$57),1,0)","v":0}]
[null,null,null,null,null,null,"CLM 08",null,{"$f":"IF(AND('EM-LM-4'!G$51=FALSE,'EM-LM-4'!K$20>'Allgemeine Werte'!E$60),1,0)","v":0},null,{"$f":"IF(OR(I75=1,I76=1),1,0)","v":0},null,{"$f":"IF(AND('EM-LM-4'!K$20<='Allgemeine Werte'!G60,'EM-LM-4'!K$20>=-'Allgemeine Werte'!G60),0,1)","v":0}]
[null,null,null,null,null,null,null,null,{"$f":"IF(AND('EM-LM-4'!G$51=TRUE,'EM-LM-4'!K$20<-'Allgemeine Werte'!E$60),1,0)","v":0}]
[null,null,null,null,null,null,"CLM 10",null,{"$f":"IF(AND('EM-LM-4'!G$51=FALSE,'EM-LM-4'!K$20>'Allgemeine Werte'!E$61),1,0)","v":0},null,{"$f":"IF(OR(I77=1,I78=1),1,0)","v":0},null,{"$f":"IF(AND('EM-LM-4'!K$20<='Allgemeine Werte'!G61,'EM-LM-4'!K$20>=-'Allgemeine Werte'!G61),0,1)","v":0}]
[null,null,null,null,null,null,null,null,{"$f":"IF(AND('EM-LM-4'!G$51=TRUE,'EM-LM-4'!K$20<-'Allgemeine Werte'!E$61),1,0)","v":0}]

{"sheet":"EM-LM-5","index":9,"n_rows":51,"n_cols":17,"rows_kept":51,"cut":false,"hidden":false,"merged":[[5,2,5,6],[26,2,26,6],[34,8,34,16],[5,10,5,16],[7,12,7,16],[9,12,9,16],[27,2,29,2],[31,2,42,6]]}
[]
[{"$f":"Translation!A14","v":"Toolbox-Translation - MODULARE MONTAGEAUTOMATION"}]
[{"$f":"Translation!A50","v":"Berechnung Linearmodule"}]
[]
[]
[null,null,{"$f":"Translation!A54","v":"LM / KLM / CLM - Linearmodule"},null,null,null,null,null,null,null,{"$f":"Translation!A58","v":"Geben Sie Ihre Werte mit -Enter- ein !"}]
[]
[null,null,null,null,null,null,null,null,"H (mm)",null,10,null,{"$f":"Translation!A59","v":"H = Hub ( max. 450 )"}]
[]
[null,null,null,null,null,null,null,null,null,null,{"$f":"Translation!A60","v":"Masse (m)"},null,{"$f":"Translation!A62","v":"Koordinaten Massenschwerpunkt / Kraftangriff"}]
[]
[null,null,null,null,null,null,null,null,null,null,{"$f":"Translation!A61","v":"Kraft (F)"},null,"X  ( mm )",null,"Y  ( mm )",null,"Z  ( mm )"]
[]
[null,null,null,null,null,null,null,null,"m (kg)",null,0,null,0,null,0,null,0]
[]
[null,null,null,null,null,null,null,null,null,null,null,null,"( N )"]
[]
[null,null,null,null,null,null,null,null,"Fx (N)",null,0,null,null,null,0,null,0]
[]
[null,null,null,null,null,null,null,null,"Fy (N)",null,0,null,0,null,null,null,0]
[]
[null,null,null,null,null,null,null,null,"Fz (N)",null,0,null,0,null,0]
[]
[]
[]
[]
[null,null,{"$f":"Translation!A57","v":"Achtung: Kräfte und Koordinaten mit Vorzeichen !"}]
[null,null,{"$f":"Translation!A84","v":"ACHTUNG:"}]
[]
[]
[]
[null,null,{"$f":"Translation!A85","v":"Die auf der Berechnungsseite angegebenen Verfahrzeiten sind reine Verfahrzeiten von einer Endlage in die andere Endlage.\nVentilschaltzeiten, Schlauchbefüllungszeiten oder SPS-Reaktionszeiten sind nicht enthalten und bei der Ermittlung von Zykluszeiten zu berücksichtigen.\nBitte beachten Sie, dass zum Erreichen der minimal möglichen Verfahrzeit die kundenseitige Stützkonstruktion der resultierenden Dynamik angepasst werden muss !"}]
[]
[]
[null,null,null,null,null,null,null,null,{"$f":"Translation!A87","v":"Auf der Berechnungsseite der Linearmodule können Sie die Verfahrzeit ändern !"}]
[]
[]
[]
[]
[]
[]
[]
[]
[]
[]
[]
[]
[]
[]
[]
[null,null,null,null,null,null,false]

{"sheet":"EM-LM-5-1","index":10,"n_rows":78,"n_cols":19,"rows_kept":78,"cut":false,"hidden":false,"merged":[[29,10,29,18],[5,8,5,12],[5,5,5,7],[45,6,45,16],[13,10,13,18],[21,2,21,7],[37,2,37,7],[9,2,9,4],[25,2,25,4],[41,2,41,4]]}
[]
[{"$f":"Translation!A14","v":"Toolbox-Translation - MODULARE MONTAGEAUTOMATION"}]
[{"$f":"Translation!A50","v":"Berechnung Linearmodule"}]
[]
[]
[null,null,null,null,null," +                    -",null,null,{"$f":"Translation!A65","v":"Hier ändern Sie die Verfahrzeit"}]
[]
[]
[]
[null,null,{"$f":"Translation!A66","v":"LM - Linearmodule"},null,null,null,null,null,null,null,{"$f":"IF(OR('EM-LM-5'!K8>59,'EM-LM-5'!K8<3,K63=1,M63=1),\" \",\"LM 25\")","v":"LM 25"},null,{"$f":"IF(OR('EM-LM-5'!K8>100,K65=1,M65=1),\" \",\"LM 50\")","v":"LM 50"},null,{"$f":"IF(OR('EM-LM-5'!K8>225,K67=1,M67=1),\" \",\"LM 100\")","v":"LM 100"},null,{"$f":"IF(OR('EM-LM-5'!K8>350,K71=1,M71=1),\" \",\"LM 200\")","v":"LM 200"},null,{"$f":"IF(OR('EM-LM-5'!K8>450,K73=1,M73=1),\" \",\"LM 300\")","v":"LM 300"}]
[null,null,{"$f":"Translation!A67","v":"Katalogseite"},null,null,null,null,null,null,null,{"$f":"IF(K10=\"LM 25\",\"01.010\",\" \")","v":"01.010"},null,{"$f":"IF(M10=\"LM 50\",\"01.020\",\" \")","v":"01.020"},null,{"$f":"IF(O10=\"LM 100\",\"01.030\",\" \")","v":"01.030"},null,{"$f":"IF(Q10=\"LM 200\",\"01.040\",\" \")","v":"01.040"},null,{"$f":"IF(S10=\"LM 300\",\"01.050\",\" \")","v":"01.050"}]
[null,null,{"$f":"Translation!A68","v":"Zyl.-kraft bei 6 bar ( N )"},null,null,null,null,null,null,null,{"$f":"IF(K10=\"LM 25\",\"67 / 50\",C59)","v":"67 / 50"},null,{"$f":"IF(M10=\"LM 50\",\"120 / 103\",C59)","v":"120 / 103"},null,{"$f":"IF(O10=\"LM 100\",\"294 / 226\",C59)","v":"294 / 226"},null,{"$f":"IF(Q10=\"LM 200\",\"482 / 415\",C59)","v":"482 / 415"},null,{"$f":"IF(S10=\"LM 300\",\"753 / 633\",C59)","v":"753 / 633"}]
[]
[null,null,{"$f":"Translation!A70","v":"Führungssystem"},null,null,null,null,null,null,null,{"$f":"IF(AND(K10=\" \",M10=\" \",O10=\" \",Q10=\" \",S10=\" \"),\" \",C60)","v":"Kreuzrollenführung für Anwendungen mit höheren Anforderungen"}]
[]
[null,null,{"$f":"Translation!A93","v":"Verzögerungskraft ( N )"},null,null,null,null,null,null,null,{"$f":"IF(K10=\"LM 25\",'EM-Ber-LM25-5'!C43,-1)","v":0.32258149221392629},null,{"$f":"IF(M10=\"LM 50\",'EM-Ber-LM50-5'!C43,-1)","v":1.5397950224866064},null,{"$f":"IF(O10=\"LM 100\",'EM-Ber-LM100-5'!C43,-1)","v":2.2501651713079212},null,{"$f":"IF(Q10=\"LM 200\",'EM-Ber-LM200-5'!C43,-1)","v":5.0144845393286692},null,{"$f":"IF(S10=\"LM 300\",'EM-Ber-LM300-5'!C43,-1)","v":8.5637899600961749}]
[null,null,{"$f":"Translation!A71","v":"Auslastung Führung"},null,null,null,null,null,null,null,{"$f":"IF(K10=\"LM 25\",'EM-Ber-LM25-5'!J38,-1)","v":0},null,{"$f":"IF(M10=\"LM 50\",'EM-Ber-LM50-5'!J38,-1)","v":0},null,{"$f":"IF(O10=\"LM 100\",'EM-Ber-LM100-5'!J38,-1)","v":0},null,{"$f":"IF(Q10=\"LM 200\",'EM-Ber-LM200-5'!J38,-1)","v":0},null,{"$f":"IF(S10=\"LM 300\",'EM-Ber-LM300-5'!J38,-1)","v":0}]
[null,null,{"$f":"Translation!A72","v":"Auslastung Dämpfer/Hub"},null,null,null,null,null,null,null,{"$f":"IF(K10=\"LM 25\",'EM-Ber-LM25-5'!C55,-1)","v":0.13443225919956667},null,{"$f":"IF(M10=\"LM 50\",'EM-Ber-LM50-5'!C55,-1)","v":0.14120360644257701},null,{"$f":"IF(O10=\"LM 100\",'EM-Ber-LM100-5'!C55,-1)","v":0.3331703453573458},null,{"$f":"IF(Q10=\"LM 200\",'EM-Ber-LM200-5'!C55,-1)","v":0.29868289516390778},null,{"$f":"IF(S10=\"LM 300\",'EM-Ber-LM300-5'!C55,-1)","v":0.46691553186047041}]
[null,null,{"$f":"Translation!A73","v":"Verfahrzeit / Hub ( s )"},null,null,null,null,null,null,null,{"$f":"IF(K10=\"LM 25\",'EM-Ber-LM25-5'!L50,-1)","v":0.16117647058823531},null,{"$f":"IF(M10=\"LM 50\",'EM-Ber-LM50-5'!L50,-1)","v":9.8000000000000004E-2},null,{"$f":"IF(O10=\"LM 100\",'EM-Ber-LM100-5'!L50,-1)","v":9.1999999999999998E-2},null,{"$f":"IF(Q10=\"LM 200\",'EM-Ber-LM200-5'!L50,-1)","v":7.5000000000000011E-2},null,{"$f":"IF(S10=\"LM 300\",'EM-Ber-LM300-5'!L50,-1)","v":6.4000000000000001E-2}]
[null,null,{"$f":"Translation!A74","v":"Max. Zyklenzahl / Min."},null,null,null,null,null,null,null,{"$f":"IF(K10=\"LM 25\",'EM-Ber-LM25-5'!G52,-1)","v":120},null,{"$f":"IF(M10=\"LM 50\",'EM-Ber-LM50-5'!G52,-1)","v":120},null,{"$f":"IF(O10=\"LM 100\",'EM-Ber-LM100-5'!G52,-1)","v":120},null,{"$f":"IF(Q10=\"LM 200\",'EM-Ber-LM200-5'!G52,-1)","v":70.198925934699787},null,{"$f":"IF(S10=\"LM 300\",'EM-Ber-LM300-5'!G52,-1)","v":44.905806307249925}]
[null,null,null,null,null,null,null,null,null,null,null,null,null,null,{"$f":"IF(O10=\"LM 100\",1,0)","v":1},null,{"$f":"IF(Q10=\"LM 200\",1,0)","v":1},null,{"$f":"IF(S10=\"LM 300\",1,0)","v":1}]
[null,null,{"$f":"Translation!A75","v":"Anzahl der Stoßdämpfer pro Endlage"},null,null,null,null,null,null,null,null,null,null,null,1,null,1,null,1]
[]
[]
[]
[null,null,{"$f":"Translation!A82","v":"KLM - Linearmodule"},null,null,null,null,null,null,null,{"$f":"IF(OR('EM-LM-5'!K8>59,'EM-LM-5'!K8<3,K63=1,M63=1),\" \",\"KLM 25\")","v":"KLM 25"},null,{"$f":"IF(OR('EM-LM-5'!K8>125,K65=1,M65=1),\" \",\"KLM 50\")","v":"KLM 50"},null,{"$f":"IF(OR('EM-LM-5'!K8>225,K67=1,M67=1),\" \",\"KLM 100\")","v":"KLM 100"},null,null,null,{"$f":"IF(OR('EM-LM-5'!K8>300,K73=1,M73=1),\" \",\"KLM 300\")","v":"KLM 300"}]
[null,null,{"$f":"Translation!A67","v":"Katalogseite"},null,null,null,null,null,null,null,{"$f":"IF(K26=\"KLM 25\",\"01.110\",\" \")","v":"01.110"},null,{"$f":"IF(M26=\"KLM 50\",\"01.120\",\" \")","v":"01.120"},null,{"$f":"IF(O26=\"KLM 100\",\"1.130\",\" \")","v":"1.130"},null,null,null,{"$f":"IF(S26=\"KLM 100\",\"1.130\",\" \")","v":" "}]
[null,null,{"$f":"Translation!A68","v":"Zyl.-kraft bei 6 bar ( N )"},null,null,null,null,null,null,null,{"$f":"IF(K26=\"KLM 25\",\"67 / 50\",C59)","v":"67 / 50"},null,{"$f":"IF(M26=\"KLM 50\",\"120 / 103\",C59)","v":"120 / 103"},null,{"$f":"IF(O26=\"KLM 100\",\"294 / 226\",C59)","v":"294 / 226"},null,null,null,{"$f":"IF(S26=\"KLM 300\",\"753 / 633\",C59)","v":"753 / 633"}]
[]
[null,null,{"$f":"Translation!A70","v":"Führungssystem"},null,null,null,null,null,null,null,{"$f":"IF(AND(K26=\" \",M26=\" \",O26=\" \",S26=\" \"),\" \",C61)","v":"Kugelumlaufführung für Standardanwendungen"}]
[]
[null,null,{"$f":"Translation!A93","v":"Verzögerungskraft ( N )"},null,null,null,null,null,null,null,{"$f":"IF(K26=\"KLM 25\",'EM-Ber-KLM25-5'!C43,-1)","v":0.36656987751582532},null,{"$f":"IF(M26=\"KLM 50\",'EM-Ber-KLM50-5'!C43,-1)","v":3.1408242952318619},null,{"$f":"IF(O26=\"KLM 100\",'EM-Ber-KLM100-5'!C43,-1)","v":3.4287560210781147},null,null,null,{"$f":"IF(S26=\"KLM 300\",'EM-Ber-KLM300-5'!C43,-1)","v":13.066401176229217}]
[null,null,{"$f":"Translation!A71","v":"Auslastung Führung"},null,null,null,null,null,null,null,{"$f":"IF(K26=\"KLM 25\",'EM-Ber-KLM25-5'!J38,-1)","v":0},null,{"$f":"IF(M26=\"KLM 50\",'EM-Ber-KLM50-5'!J38,-1)","v":0},null,{"$f":"IF(O26=\"KLM 100\",'EM-Ber-KLM100-5'!J38,-1)","v":0},null,null,null,{"$f":"IF(S26=\"KLM 300\",'EM-Ber-KLM300-5'!J38,-1)","v":0}]
[null,null,{"$f":"Translation!A72","v":"Auslastung Dämpfer/Hub"},null,null,null,null,null,null,null,{"$f":"IF(K26=\"KLM 25\",'EM-Ber-KLM25-5'!C55,-1)","v":0.13449120363587119},null,{"$f":"IF(M26=\"KLM 50\",'EM-Ber-KLM50-5'!C55,-1)","v":0.14245507765743959},null,{"$f":"IF(O26=\"KLM 100\",'EM-Ber-KLM100-5'!C55,-1)","v":0.33406064364141241},null,null,null,{"$f":"IF(S26=\"KLM 300\",'EM-Ber-KLM300-5'!C55,-1)","v":0.46877199310035295}]
[null,null,{"$f":"Translation!A73","v":"Verfahrzeit / Hub ( s )"},null,null,null,null,null,null,null,{"$f":"IF(K26=\"KLM 25\",'EM-Ber-KLM25-5'!L50,-1)","v":0.16117647058823531},null,{"$f":"IF(M26=\"KLM 50\",'EM-Ber-KLM50-5'!L50,-1)","v":8.3400000000000002E-2},null,{"$f":"IF(O26=\"KLM 100\",'EM-Ber-KLM100-5'!L50,-1)","v":8.2000000000000003E-2},null,null,null,{"$f":"IF(S26=\"KLM 300\",'EM-Ber-KLM300-5'!L50,-1)","v":6.4000000000000001E-2}]
[null,null,{"$f":"Translation!A74","v":"Max. Zyklenzahl / Min."},null,null,null,null,null,null,null,{"$f":"IF(K26=\"KLM 25\",'EM-Ber-KLM25-5'!G52,-1)","v":120},null,{"$f":"IF(M26=\"KLM 50\",'EM-Ber-KLM50-5'!G52,-1)","v":120},null,{"$f":"IF(O26=\"KLM 100\",'EM-Ber-KLM100-5'!G52,-1)","v":120},null,null,null,{"$f":"IF(S26=\"KLM 300\",'EM-Ber-KLM300-5'!G52,-1)","v":44.727967421646454}]
[null,null,null,null,null,null,null,null,null,null,null,null,null,null,{"$f":"IF(O26=\"KLM 100\",1,0)","v":1},null,null,null,{"$f":"IF(S26=\"KLM 300\",1,0)","v":1}]
[null,null,{"$f":"Translation!A75","v":"Anzahl der Stoßdämpfer pro Endlage"},null,null,null,null,null,null,null,null,null,null,null,1,null,null,null,1]
[]
[]
[]
[null,null,{"$f":"Translation!A83","v":"CLM - Linearmodule"},null,null,null,{"$f":"IF(OR('EM-LM-5'!K8>42,K75=1,M75=1),\" \",\"CLM 08\")","v":"CLM 08"},null,{"$f":"IF(OR('EM-LM-5'!K8>48,'EM-LM-5'!K8<2,K77=1,M77=1),\" \",\"CLM 10\")","v":"CLM 10"},null,{"$f":"IF(OR('EM-LM-5'!K8>59,'EM-LM-5'!K8<3,K63=1,M63=1),\" \",\"CLM 25\")","v":"CLM 25"},null,{"$f":"IF(OR('EM-LM-5'!K8>100,K65=1,M65=1),\" \",\"CLM 50\")","v":"CLM 50"},null,{"$f":"IF(OR('EM-LM-5'!K8>150,K69=1,M69=1),\" \",\"CLM 100\")","v":"CLM 100"},null,{"$f":"IF(OR('EM-LM-5'!K8>150,K71=1,M71=1),\" \",\"CLM 200\")","v":"CLM 200"}]
[null,null,{"$f":"Translation!A67","v":"Katalogseite"},null,null,null,{"$f":"IF(G42=\"CLM 08\",\"01.310\",\" \")","v":"01.310"},null,{"$f":"IF(I42=\"CLM 10\",\"01.320\",\" \")","v":"01.320"},null,{"$f":"IF(K42=\"CLM 25\",\"01.330\",\" \")","v":"01.330"},null,{"$f":"IF(M42=\"CLM 50\",\"01.340\",\" \")","v":"01.340"},null,{"$f":"IF(O42=\"CLM 100\",\"01.350\",\" \")","v":"01.350"},null,{"$f":"IF(Q42=\"CLM 200\",\"01.360\",\" \")","v":"01.360"}]
[null,null,{"$f":"Translation!A68","v":"Zyl.-kraft bei 6 bar ( N )"},null,null,null,{"$f":"IF(G42=\"CLM 08\",\"30 / 25\",C59)","v":"30 / 25"},null,{"$f":"IF(I42=\"CLM 10\",\"47 / 39\",C59)","v":"47 / 39"},null,{"$f":"IF(K42=\"CLM 25\",\"67 / 50\",C59)","v":"67 / 50"},null,{"$f":"IF(M42=\"CLM 50\",\"120 / 103\",C59)","v":"120 / 103"},null,{"$f":"IF(O42=\"CLM 100\",\"294 / 247\",C59)","v":"294 / 247"},null,{"$f":"IF(Q42=\"CLM 200\",\"482 / 415\",C59)","v":"482 / 415"}]
[]
[null,null,{"$f":"Translation!A70","v":"Führungssystem"},null,null,null,{"$f":"IF(AND(G42=\" \",I42=\" \",K42=\" \",M42=\" \",O42=\" \",Q42=\" \"),\" \",C60)","v":"Kreuzrollenführung für Anwendungen mit höheren Anforderungen"}]
[]
[null,null,{"$f":"Translation!A93","v":"Verzögerungskraft ( N )"},null,null,null,{"$f":"IF(G42=\"CLM 08\",'EM-Ber-CLM08-5'!C43,-1)","v":21.420958719135804},null,{"$f":"IF(I42=\"CLM 10\",'EM-Ber-CLM10-5'!C43,-1)","v":0.7832734954716023},null,{"$f":"IF(K42=\"CLM 25\",'EM-Ber-CLM25-5'!C43,-1)","v":0.32258149221392629},null,{"$f":"IF(M42=\"CLM 50\",'EM-Ber-CLM50-5'!C43,-1)","v":1.3298229739657057},null,{"$f":"IF(O42=\"CLM 100\",'EM-Ber-CLM100-5'!C43,-1)","v":1.7764461878746749},null,{"$f":"IF(Q42=\"CLM 200\",'EM-Ber-CLM200-5'!C43,-1)","v":3.9858723261330455}]
[null,null,{"$f":"Translation!A71","v":"Auslastung Führung"},null,null,null,{"$f":"IF(G42=\"CLM 08\",'EM-Ber-CLM08-5'!J38,-1)","v":0},null,{"$f":"IF(I42=\"CLM 10\",'EM-Ber-CLM10-5'!J38,-1)","v":0},null,{"$f":"IF(K42=\"CLM 25\",'EM-Ber-CLM25-5'!J38,-1)","v":0},null,{"$f":"IF(M42=\"CLM 50\",'EM-Ber-CLM50-5'!J38,-1)","v":0},null,{"$f":"IF(O42=\"CLM 100\",'EM-Ber-CLM100-5'!J38,-1)","v":0},null,{"$f":"IF(Q42=\"CLM 200\",'EM-Ber-CLM200-5'!J38,-1)","v":0}]
[null,null,{"$f":"Translation!A72","v":"Auslastung Dämpfer/Hub"},null,null,null,null,null,{"$f":"IF(I42=\"CLM 10\",'EM-Ber-CLM10-5'!C55,-1)","v":0.2376239662098299},null,{"$f":"IF(K42=\"CLM 25\",'EM-Ber-CLM25-5'!C55,-1)","v":0.13443225919956667},null,{"$f":"IF(M42=\"CLM 50\",'EM-Ber-CLM50-5'!C55,-1)","v":0.14103947829131652},null,{"$f":"IF(O42=\"CLM 100\",'EM-Ber-CLM100-5'!C55,-1)","v":0.33281250175270338},null,{"$f":"IF(Q42=\"CLM 200\",'EM-Ber-CLM200-5'!C55,-1)","v":0.29825879043600562}]
[null,null,{"$f":"Translation!A73","v":"Verfahrzeit / Hub ( s )"},null,null,null,{"$f":"IF(G42=\"CLM 08\",'EM-Ber-CLM08-5'!L50,-1)","v":5.1428571428571428E-2},null,{"$f":"IF(I42=\"CLM 10\",'EM-Ber-CLM10-5'!L50,-1)","v":6.5714285714285711E-2},null,{"$f":"IF(K42=\"CLM 25\",'EM-Ber-CLM25-5'!L50,-1)","v":0.16117647058823531},null,{"$f":"IF(M42=\"CLM 50\",'EM-Ber-CLM50-5'!L50,-1)","v":9.8000000000000004E-2},null,{"$f":"IF(O42=\"CLM 100\",'EM-Ber-CLM100-5'!L50,-1)","v":9.1999999999999998E-2},null,{"$f":"IF(Q42=\"CLM 200\",'EM-Ber-CLM200-5'!L50,-1)","v":7.5000000000000011E-2}]
[null,null,{"$f":"Translation!A74","v":"Max. Zyklenzahl / Min."},null,null,null,{"$f":"IF(G42=\"CLM 08\",'EM-Ber-CLM08-5'!G52,-1)","v":120},null,{"$f":"IF(I42=\"CLM 10\",'EM-Ber-CLM10-5'!G52,-1)","v":120},null,{"$f":"IF(K42=\"CLM 25\",'EM-Ber-CLM25-5'!G52,-1)","v":120},null,{"$f":"IF(M42=\"CLM 50\",'EM-Ber-CLM50-5'!G52,-1)","v":120},null,{"$f":"IF(O42=\"CLM 100\",'EM-Ber-CLM100-5'!G52,-1)","v":120},null,{"$f":"IF(Q42=\"CLM 200\",'EM-Ber-CLM200-5'!G52,-1)","v":70.298744271450374}]
[]
[]
[]
[]
[]
[null,null,null,null,null,null,null,null,{"$f":"I59*0.01","v":2.02}]
[null,null,{"$f":"Translation!A78","v":"UNZULÄSSIG"},null,null,null,null,null,202]
[null,null,{"$f":"Translation!A76","v":"Kreuzrollenführung für Anwendungen mit höheren Anforderungen"}]
[null,null,{"$f":"Translation!A77","v":"Kugelumlaufführung für Standardanwendungen"}]
[]
[null,null,"Wegfallkriterium wegen Kraft Y:",null,null,null,"LM/KLM/CLM 25",null,{"$f":"IF(AND('EM-LM-5'!G$51=FALSE,'EM-LM-5'!K$20>'Allgemeine Werte'!E$52),1,0)","v":0},null,{"$f":"IF(OR(I63=1,I64=1),1,0)","v":0},null,{"$f":"IF(AND('EM-LM-5'!K$20<='Allgemeine Werte'!G52,'EM-LM-5'!K$20>=-'Allgemeine Werte'!G52),0,1)","v":0}]
[null,null,null,null,null,null,null,null,{"$f":"IF(AND('EM-LM-5'!G$51=TRUE,'EM-LM-5'!K$20<-'Allgemeine Werte'!E$52),1,0)","v":0}]
[null,null,null,null,null,null,"LM/KLM/CLM 50",null,{"$f":"IF(AND('EM-LM-5'!G$51=FALSE,'EM-LM-5'!K$20>'Allgemeine Werte'!E$53),1,0)","v":0},null,{"$f":"IF(OR(I65=1,I66=1),1,0)","v":0},null,{"$f":"IF(AND('EM-LM-5'!K$20<='Allgemeine Werte'!G53,'EM-LM-5'!K$20>=-'Allgemeine Werte'!G53),0,1)","v":0}]
[null,null,null,null,null,null,null,null,{"$f":"IF(AND('EM-LM-5'!G$51=TRUE,'EM-LM-5'!K$20<-'Allgemeine Werte'!E$53),1,0)","v":0}]
[null,null,null,null,null,null,"LM/KLM 100",null,{"$f":"IF(AND('EM-LM-5'!G$51=FALSE,'EM-LM-5'!K$20>'Allgemeine Werte'!E$54),1,0)","v":0},null,{"$f":"IF(OR(I67=1,I68=1),1,0)","v":0},null,{"$f":"IF(AND('EM-LM-5'!K$20<='Allgemeine Werte'!G54,'EM-LM-5'!K$20>=-'Allgemeine Werte'!G54),0,1)","v":0}]
[null,null,null,null,null,null,null,null,{"$f":"IF(AND('EM-LM-5'!G$51=TRUE,'EM-LM-5'!K$20<-'Allgemeine Werte'!E$54),1,0)","v":0}]
[null,null,null,null,null,null,"CLM 100",null,{"$f":"IF(AND('EM-LM-5'!G$51=FALSE,'EM-LM-5'!K$20>'Allgemeine Werte'!E$55),1,0)","v":0},null,{"$f":"IF(OR(I69=1,I70=1),1,0)","v":0},null,{"$f":"IF(AND('EM-LM-5'!K$20<='Allgemeine Werte'!G55,'EM-LM-5'!K$20>=-'Allgemeine Werte'!G55),0,1)","v":0}]
[null,null,null,null,null,null,null,null,{"$f":"IF(AND('EM-LM-5'!G$51=TRUE,'EM-LM-5'!K$20<-'Allgemeine Werte'!E$55),1,0)","v":0}]
[null,null,null,null,null,null,"LM/CLM 200",null,{"$f":"IF(AND('EM-LM-5'!G$51=FALSE,'EM-LM-5'!K$20>'Allgemeine Werte'!E$56),1,0)","v":0},null,{"$f":"IF(OR(I71=1,I72=1),1,0)","v":0},null,{"$f":"IF(AND('EM-LM-5'!K$20<='Allgemeine Werte'!G56,'EM-LM-5'!K$20>=-'Allgemeine Werte'!G56),0,1)","v":0}]
[null,null,null,null,null,null,null,null,{"$f":"IF(AND('EM-LM-5'!G$51=TRUE,'EM-LM-5'!K$20<-'Allgemeine Werte'!E$56),1,0)","v":0}]
[null,null,null,null,null,null,"LM/KLM 300",null,{"$f":"IF(AND('EM-LM-5'!G$51=FALSE,'EM-LM-5'!K$20>'Allgemeine Werte'!E$57),1,0)","v":0},null,{"$f":"IF(OR(I73=1,I74=1),1,0)","v":0},null,{"$f":"IF(AND('EM-LM-5'!K$20<='Allgemeine Werte'!G57,'EM-LM-5'!K$20>=-'Allgemeine Werte'!G57),0,1)","v":0}]
[null,null,null,null,null,null,null,null,{"$f":"IF(AND('EM-LM-5'!G$51=TRUE,'EM-LM-5'!K$20<-'Allgemeine Werte'!E$57),1,0)","v":0}]
[null,null,null,null,null,null,"CLM 08",null,{"$f":"IF(AND('EM-LM-5'!G$51=FALSE,'EM-LM-5'!K$20>'Allgemeine Werte'!E$60),1,0)","v":0},null,{"$f":"IF(OR(I75=1,I76=1),1,0)","v":0},null,{"$f":"IF(AND('EM-LM-5'!K$20<='Allgemeine Werte'!G60,'EM-LM-5'!K$20>=-'Allgemeine Werte'!G60),0,1)","v":0}]
[null,null,null,null,null,null,null,null,{"$f":"IF(AND('EM-LM-5'!G$51=TRUE,'EM-LM-5'!K$20<-'Allgemeine Werte'!E$60),1,0)","v":0}]
[null,null,null,null,null,null,"CLM 10",null,{"$f":"IF(AND('EM-LM-5'!G$51=FALSE,'EM-LM-5'!K$20>'Allgemeine Werte'!E$61),1,0)","v":0},null,{"$f":"IF(OR(I77=1,I78=1),1,0)","v":0},null,{"$f":"IF(AND('EM-LM-5'!K$20<='Allgemeine Werte'!G61,'EM-LM-5'!K$20>=-'Allgemeine Werte'!G61),0,1)","v":0}]
[null,null,null,null,null,null,null,null,{"$f":"IF(AND('EM-LM-5'!G$51=TRUE,'EM-LM-5'!K$20<-'Allgemeine Werte'!E$61),1,0)","v":0}]

{"sheet":"EM-LM-3","index":11,"n_rows":52,"n_cols":17,"rows_kept":52,"cut":false,"hidden":false,"merged":[[34,8,34,16],[5,2,5,6],[5,10,5,16],[7,12,7,16],[9,12,9,16],[26,2,26,6],[27,2,29,2],[31,2,42,6]]}
[]
[{"$f":"Translation!A14","v":"Toolbox-Translation - MODULARE MONTAGEAUTOMATION"}]
[{"$f":"Translation!A50","v":"Berechnung Linearmodule"}]
[]
[]
[null,null,{"$f":"Translation!A80","v":"LM / KLM / CLM - Linearmodule"},null,null,null,null,null,null,null,{"$f":"Translation!A58","v":"Geben Sie Ihre Werte mit -Enter- ein !"}]
[]
[null,null,null,null,null,null,null,null,"H (mm)",null,10,null,{"$f":"Translation!A59","v":"H = Hub ( max. 450 )"}]
[]
[null,null,null,null,null,null,null,null,null,null,{"$f":"Translation!A60","v":"Masse (m)"},null,{"$f":"Translation!A62","v":"Koordinaten Massenschwerpunkt / Kraftangriff"}]
[]
[null,null,null,null,null,null,null,null,null,null,{"$f":"Translation!A61","v":"Kraft (F)"},null,"X  ( mm )",null,"Y  ( mm )",null,"Z  ( mm )"]
[]
[null,null,null,null,null,null,null,null,"m (kg)",null,0,null,0,null,0,null,0]
[]
[null,null,null,null,null,null,null,null,null,null,null,null,"( N )"]
[]
[null,null,null,null,null,null,null,null,"Fx (N)",null,0,null,null,null,0,null,0]
[]
[null,null,null,null,null,null,null,null,"Fy (N)",null,0,null,0,null,null,null,0]
[null,null,null,null,null,null,null,null,null,null,","]
[null,null,null,null,null,null,null,null,"Fz (N)",null,0,null,0,null,0]
[]
[]
[]
[]
[null,null,{"$f":"Translation!A57","v":"Achtung: Kräfte und Koordinaten mit Vorzeichen !"}]
[null,null,{"$f":"Translation!A84","v":"ACHTUNG:"}]
[]
[]
[]
[null,null,{"$f":"Translation!A85","v":"Die auf der Berechnungsseite angegebenen Verfahrzeiten sind reine Verfahrzeiten von einer Endlage in die andere Endlage.\nVentilschaltzeiten, Schlauchbefüllungszeiten oder SPS-Reaktionszeiten sind nicht enthalten und bei der Ermittlung von Zykluszeiten zu berücksichtigen.\nBitte beachten Sie, dass zum Erreichen der minimal möglichen Verfahrzeit die kundenseitige Stützkonstruktion der resultierenden Dynamik angepasst werden muss !"}]
[]
[]
[null,null,null,null,null,null,null,null,{"$f":"Translation!A87","v":"Auf der Berechnungsseite der Linearmodule können Sie die Verfahrzeit ändern !"}]
[]
[]
[]
[]
[]
[]
[]
[]
[]
[]
[]
[]
[]
[]
[]
[null,null,null,null,null,null,true]
[null,null,null,null,null,null,true]

{"sheet":"EM-LM-3-1","index":12,"n_rows":122,"n_cols":19,"rows_kept":122,"cut":false,"hidden":false,"merged":[[29,10,29,18],[45,6,45,16],[13,10,13,18],[5,8,5,12],[5,5,5,7],[21,2,21,7],[37,2,37,7],[9,2,9,4],[25,2,25,4],[41,2,41,4]]}
[]
[{"$f":"Translation!A14","v":"Toolbox-Translation - MODULARE MONTAGEAUTOMATION"}]
[{"$f":"Translation!A50","v":"Berechnung Linearmodule"}]
[]
[]
[null,null,null,null,null," +                    -",null,null,{"$f":"Translation!A65","v":"Hier ändern Sie die Verfahrzeit"}]
[]
[]
[]
[null,null,{"$f":"Translation!A66","v":"LM - Linearmodule"},null,null,null,null,null,null,null,{"$f":"IF(OR('EM-LM-3'!K8>59,'EM-LM-3'!K8<3,'EM-LM-3'!K14>3,K63=1),\" \",\"LM 25\")","v":"LM 25"},null,{"$f":"IF(OR('EM-LM-3'!K8>100,'EM-LM-3'!K14>6,K67=1),\" \",\"LM 50\")","v":"LM 50"},null,{"$f":"IF(OR('EM-LM-3'!K8>225,'EM-LM-3'!K14>14,K71=1),\" \",\"LM 100\")","v":"LM 100"},null,{"$f":"IF(OR('EM-LM-3'!K8>350,'EM-LM-3'!K14>24,K75=1),\" \",\"LM 200\")","v":"LM 200"},null,{"$f":"IF(OR('EM-LM-3'!K8>450,'EM-LM-3'!K14>37,K79=1),\" \",\"LM 300\")","v":"LM 300"}]
[null,null,{"$f":"Translation!A67","v":"Katalogseite"},null,null,null,null,null,null,null,{"$f":"IF(K10=\"LM 25\",\"01.010\",\" \")","v":"01.010"},null,{"$f":"IF(M10=\"LM 50\",\"01.020\",\" \")","v":"01.020"},null,{"$f":"IF(O10=\"LM 100\",\"01.030\",\" \")","v":"01.030"},null,{"$f":"IF(Q10=\"LM 200\",\"01.040\",\" \")","v":"01.040"},null,{"$f":"IF(S10=\"LM 300\",\"01.050\",\" \")","v":"01.050"}]
[null,null,{"$f":"Translation!A68","v":"Zyl.-kraft bei 6 bar ( N )"},null,null,null,null,null,null,null,{"$f":"IF(K10=\"LM 25\",\"67 / 50\",C59)","v":"67 / 50"},null,{"$f":"IF(M10=\"LM 50\",\"120 / 103\",C59)","v":"120 / 103"},null,{"$f":"IF(O10=\"LM 100\",\"294 / 226\",C59)","v":"294 / 226"},null,{"$f":"IF(Q10=\"LM 200\",\"482 / 415\",C59)","v":"482 / 415"},null,{"$f":"IF(S10=\"LM 300\",\"753 / 633\",C59)","v":"753 / 633"}]
[]
[null,null,{"$f":"Translation!A70","v":"Führungssystem"},null,null,null,null,null,null,null,{"$f":"IF(AND(K10=\" \",M10=\" \",O10=\" \",Q10=\" \",S10=\" \"),\" \",C60)","v":"Kreuzrollenführung für Anwendungen mit höheren Anforderungen"}]
[]
[null,null,{"$f":"Translation!A93","v":"Verzögerungskraft ( N )"},null,null,null,null,null,null,null,{"$f":"IF(K10=\"LM 25\",'EM-Ber-LM25-3'!C43,-1)","v":0.36666911095478716},null,{"$f":"IF(M10=\"LM 50\",'EM-Ber-LM50-3'!C43,-1)","v":1.4213947900770254},null,{"$f":"IF(O10=\"LM 100\",'EM-Ber-LM100-3'!C43,-1)","v":3.6738807889564522},null,{"$f":"IF(Q10=\"LM 200\",'EM-Ber-LM200-3'!C43,-1)","v":5.4410639532646199},null,{"$f":"IF(S10=\"LM 300\",'EM-Ber-LM300-3'!C43,-1)","v":8.0526362893833632}]
[null,null,{"$f":"Translation!A71","v":"Auslastung Führung"},null,null,null,null,null,null,null,{"$f":"IF(K10=\"LM 25\",'EM-Ber-LM25-3'!J38,-1)","v":0},null,{"$f":"IF(M10=\"LM 50\",'EM-Ber-LM50-3'!J38,-1)","v":0},null,{"$f":"IF(O10=\"LM 100\",'EM-Ber-LM100-3'!J38,-1)","v":0},null,{"$f":"IF(Q10=\"LM 200\",'EM-Ber-LM200-3'!J38,-1)","v":0},null,{"$f":"IF(S10=\"LM 300\",'EM-Ber-LM300-3'!J38,-1)","v":0}]
[null,null,{"$f":"Translation!A72","v":"Auslastung Dämpfer/Hub"},null,null,null,null,null,null,null,{"$f":"IF(K10=\"LM 25\",'EM-Ber-LM25-3'!C55,-1)","v":0.1301749366086794},null,{"$f":"IF(M10=\"LM 50\",'EM-Ber-LM50-3'!C55,-1)","v":0.13607525692757688},null,{"$f":"IF(O10=\"LM 100\",'EM-Ber-LM100-3'!C55,-1)","v":0.32373852955675586},null,{"$f":"IF(Q10=\"LM 200\",'EM-Ber-LM200-3'!C55,-1)","v":0.28708677713765374},null,{"$f":"IF(S10=\"LM 300\",'EM-Ber-LM300-3'!C55,-1)","v":0.45206524080854565}]
[null,null,{"$f":"Translation!A73","v":"Verfahrzeit / Hub ( s )"},null,null,null,null,null,null,null,{"$f":"IF(K10=\"LM 25\",'EM-Ber-LM25-3'!L50,-1)","v":0.1511764705882353},null,{"$f":"IF(M10=\"LM 50\",'EM-Ber-LM50-3'!L50,-1)","v":0.10199999999999999},null,{"$f":"IF(O10=\"LM 100\",'EM-Ber-LM100-3'!L50,-1)","v":7.1999999999999995E-2},null,{"$f":"IF(Q10=\"LM 200\",'EM-Ber-LM200-3'!L50,-1)","v":7.1999999999999995E-2},null,{"$f":"IF(S10=\"LM 300\",'EM-Ber-LM300-3'!L50,-1)","v":6.6000000000000003E-2}]
[null,null,{"$f":"Translation!A74","v":"Max. Zyklenzahl / Min."},null,null,null,null,null,null,null,{"$f":"IF(K10=\"LM 25\",'EM-Ber-LM25-3'!G52,-1)","v":120},null,{"$f":"IF(M10=\"LM 50\",'EM-Ber-LM50-3'!G52,-1)","v":120},null,{"$f":"IF(O10=\"LM 100\",'EM-Ber-LM100-3'!G52,-1)","v":120},null,{"$f":"IF(Q10=\"LM 200\",'EM-Ber-LM200-3'!G52,-1)","v":73.034427585354806},null,{"$f":"IF(S10=\"LM 300\",'EM-Ber-LM300-3'!G52,-1)","v":46.380956868242606}]
[null,null,null,null,null,null,null,null,null,null,null,null,null,null,{"$f":"IF(O10=\"LM 100\",1,0)","v":1},null,{"$f":"IF(Q10=\"LM 200\",1,0)","v":1},null,{"$f":"IF(S10=\"LM 300\",1,0)","v":1}]
[null,null,{"$f":"Translation!A75","v":"Anzahl der Stoßdämpfer pro Endlage"},null,null,null,null,null,null,null,null,null,null,null,1,null,1,null,1]
[]
[]
[]
[null,null,{"$f":"Translation!A82","v":"KLM - Linearmodule"},null,null,null,null,null,null,null,{"$f":"IF(OR('EM-LM-3'!K8>59,'EM-LM-3'!K8<3,'EM-LM-3'!K14>3,K83=1),\" \",\"KLM 25\")","v":"KLM 25"},null,{"$f":"IF(OR('EM-LM-3'!K8>125,'EM-LM-3'!K14>6,K87=1),\" \",\"KLM 50\")","v":"KLM 50"},null,{"$f":"IF(OR('EM-LM-3'!K8>225,'EM-LM-3'!K14>14,K91=1),\" \",\"KLM 100\")","v":"KLM 100"},null,null,null,{"$f":"IF(OR('EM-LM-3'!K8>300,'EM-LM-3'!K14>37,K119=1),\" \",\"KLM 300\")","v":"KLM 300"}]
[null,null,{"$f":"Translation!A67","v":"Katalogseite"},null,null,null,null,null,null,null,{"$f":"IF(K26=\"KLM 25\",\"01.110\",\" \")","v":"01.110"},null,{"$f":"IF(M26=\"KLM 50\",\"01.120\",\" \")","v":"01.120"},null,{"$f":"IF(O26=\"KLM 100\",\"1.130\",\" \")","v":"1.130"},null,null,null,{"$f":"IF(S26=\"KLM 100\",\"1.130\",\" \")","v":" "}]
[null,null,{"$f":"Translation!A68","v":"Zyl.-kraft bei 6 bar ( N )"},null,null,null,null,null,null,null,{"$f":"IF(K26=\"KLM 25\",\"67 / 50\",C59)","v":"67 / 50"},null,{"$f":"IF(M26=\"KLM 50\",\"120 / 103\",C59)","v":"120 / 103"},null,{"$f":"IF(O26=\"KLM 100\",\"294 / 226\",C59)","v":"294 / 226"},null,null,null,{"$f":"IF(S26=\"KLM 300\",\"753 / 633\",C59)","v":"753 / 633"}]
[]
[null,null,{"$f":"Translation!A70","v":"Führungssystem"},null,null,null,null,null,null,null,{"$f":"IF(AND(K26=\" \",M26=\" \",O26=\" \",S26=\" \"),\" \",C61)","v":"Kugelumlaufführung für Standardanwendungen"}]
[]
[null,null,{"$f":"Translation!A93","v":"Verzögerungskraft ( N )"},null,null,null,null,null,null,null,{"$f":"IF(K26=\"KLM 25\",'EM-Ber-KLM25-3'!C43,-1)","v":0.41666944426680358},null,{"$f":"IF(M26=\"KLM 50\",'EM-Ber-KLM50-3'!C43,-1)","v":2.2746971923097599},null,{"$f":"IF(O26=\"KLM 100\",'EM-Ber-KLM100-3'!C43,-1)","v":1.9765908338245237},null,null,null,{"$f":"IF(S26=\"KLM 300\",'EM-Ber-KLM300-3'!C43,-1)","v":12.286496606481833}]
[null,null,{"$f":"Translation!A71","v":"Auslastung Führung"},null,null,null,null,null,null,null,{"$f":"IF(K26=\"KLM 25\",'EM-Ber-KLM25-3'!J38,-1)","v":0},null,{"$f":"IF(M26=\"KLM 50\",'EM-Ber-KLM50-3'!J38,-1)","v":0},null,{"$f":"IF(O26=\"KLM 100\",'EM-Ber-KLM100-3'!J38,-1)","v":0},null,null,null,{"$f":"IF(S26=\"KLM 300\",'EM-Ber-KLM300-3'!J38,-1)","v":0}]
[null,null,{"$f":"Translation!A72","v":"Auslastung Dämpfer/Hub"},null,null,null,null,null,null,null,{"$f":"IF(K26=\"KLM 25\",'EM-Ber-KLM25-3'!C55,-1)","v":0.12965333705531748},null,{"$f":"IF(M26=\"KLM 50\",'EM-Ber-KLM50-3'!C55,-1)","v":0.13433880497198877},null,{"$f":"IF(O26=\"KLM 100\",'EM-Ber-KLM100-3'!C55,-1)","v":0.32024435121319789},null,null,null,{"$f":"IF(S26=\"KLM 300\",'EM-Ber-KLM300-3'!C55,-1)","v":0.4461138170623648}]
[null,null,{"$f":"Translation!A73","v":"Verfahrzeit / Hub ( s )"},null,null,null,null,null,null,null,{"$f":"IF(K26=\"KLM 25\",'EM-Ber-KLM25-3'!L50,-1)","v":0.1511764705882353},null,{"$f":"IF(M26=\"KLM 50\",'EM-Ber-KLM50-3'!L50,-1)","v":9.8000000000000004E-2},null,{"$f":"IF(O26=\"KLM 100\",'EM-Ber-KLM100-3'!L50,-1)","v":0.10800000000000001},null,null,null,{"$f":"IF(S26=\"KLM 300\",'EM-Ber-KLM300-3'!L50,-1)","v":6.6000000000000003E-2}]
[null,null,{"$f":"Translation!A74","v":"Max. Zyklenzahl / Min."},null,null,null,null,null,null,null,{"$f":"IF(K26=\"KLM 25\",'EM-Ber-KLM25-3'!G52,-1)","v":120},null,{"$f":"IF(M26=\"KLM 50\",'EM-Ber-KLM50-3'!G52,-1)","v":120},null,{"$f":"IF(O26=\"KLM 100\",'EM-Ber-KLM100-3'!G52,-1)","v":120},null,null,null,{"$f":"IF(S26=\"KLM 300\",'EM-Ber-KLM300-3'!G52,-1)","v":46.999706428374843}]
[null,null,null,null,null,null,null,null,null,null,null,null,null,null,{"$f":"IF(O26=\"KLM 100\",1,0)","v":1},null,null,null,{"$f":"IF(S26=\"KLM 300\",1,0)","v":1}]
[null,null,{"$f":"Translation!A75","v":"Anzahl der Stoßdämpfer pro Endlage"},null,null,null,null,null,null,null,null,null,null,null,1,null,null,null,1]
[]
[]
[]
[null,null,{"$f":"Translation!A83","v":"CLM - Linearmodule"},null,null,null,{"$f":"IF(OR('EM-LM-3'!K8>42,'EM-LM-3'!K14>1.4,K111=1),\" \",\"CLM 08\")","v":"CLM 08"},null,{"$f":"IF(OR('EM-LM-3'!K8>48,'EM-LM-3'!K8<2,'EM-LM-3'!K14>2,K115=1),\" \",\"CLM 10\")","v":"CLM 10"},null,{"$f":"IF(OR('EM-LM-3'!K8>59,'EM-LM-3'!K8<3,'EM-LM-3'!K14>3,K95=1),\" \",\"CLM 25\")","v":"CLM 25"},null,{"$f":"IF(OR('EM-LM-3'!K8>100,'EM-LM-3'!K14>6,K99=1),\" \",\"CLM 50\")","v":"CLM 50"},null,{"$f":"IF(OR('EM-LM-3'!K8>150,'EM-LM-3'!K14>14,K103=1),\" \",\"CLM 100\")","v":"CLM 100"},null,{"$f":"IF(OR('EM-LM-3'!K8>150,'EM-LM-3'!K14>24,K107=1),\" \",\"CLM 200\")","v":"CLM 200"}]
[null,null,{"$f":"Translation!A67","v":"Katalogseite"},null,null,null,{"$f":"IF(G42=\"CLM 08\",\"01.310\",\" \")","v":"01.310"},null,{"$f":"IF(I42=\"CLM 10\",\"01.320\",\" \")","v":"01.320"},null,{"$f":"IF(K42=\"CLM 25\",\"01.330\",\" \")","v":"01.330"},null,{"$f":"IF(M42=\"CLM 50\",\"01.340\",\" \")","v":"01.340"},null,{"$f":"IF(O42=\"CLM 100\",\"01.350\",\" \")","v":"01.350"},null,{"$f":"IF(Q42=\"CLM 200\",\"01.360\",\" \")","v":"01.360"}]
[null,null,{"$f":"Translation!A68","v":"Zyl.-kraft bei 6 bar ( N )"},null,null,null,{"$f":"IF(G42=\"CLM 08\",\"30 / 25\",C59)","v":"30 / 25"},null,{"$f":"IF(I42=\"CLM 10\",\"47 / 39\",C59)","v":"47 / 39"},null,{"$f":"IF(K42=\"CLM 25\",\"67 / 50\",C59)","v":"67 / 50"},null,{"$f":"IF(M42=\"CLM 50\",\"120 / 103\",C59)","v":"120 / 103"},null,{"$f":"IF(O42=\"CLM 100\",\"294 / 247\",C59)","v":"294 / 247"},null,{"$f":"IF(Q42=\"CLM 200\",\"482 / 415\",C59)","v":"482 / 415"}]
[]
[null,null,{"$f":"Translation!A70","v":"Führungssystem"},null,null,null,{"$f":"IF(AND(G42=\" \",I42=\" \",K42=\" \",M42=\" \",O42=\" \",Q42=\" \"),\" \",C60)","v":"Kreuzrollenführung für Anwendungen mit höheren Anforderungen"}]
[]
[null,null,{"$f":"Translation!A93","v":"Verzögerungskraft ( N )"},null,null,null,{"$f":"IF(G42=\"CLM 08\",'EM-Ber-CLM08-3'!C43,-1)","v":21.420958719135804},null,{"$f":"IF(I42=\"CLM 10\",'EM-Ber-CLM10-3'!C43,-1)","v":0.7832734954716023},null,{"$f":"IF(K42=\"CLM 25\",'EM-Ber-CLM25-3'!C43,-1)","v":0.36666911095478716},null,{"$f":"IF(M42=\"CLM 50\",'EM-Ber-CLM50-3'!C43,-1)","v":1.2275682277937949},null,{"$f":"IF(O42=\"CLM 100\",'EM-Ber-CLM100-3'!C43,-1)","v":2.9004322018077255},null,{"$f":"IF(Q42=\"CLM 200\",'EM-Ber-CLM200-3'!C43,-1)","v":4.3249482705436719}]
[null,null,{"$f":"Translation!A71","v":"Auslastung Führung"},null,null,null,{"$f":"IF(G42=\"CLM 08\",'EM-Ber-CLM08-3'!J38,-1)","v":0},null,{"$f":"IF(I42=\"CLM 10\",'EM-Ber-CLM10-3'!J38,-1)","v":0},null,{"$f":"IF(K42=\"CLM 25\",'EM-Ber-CLM25-3'!J38,-1)","v":0},null,{"$f":"IF(M42=\"CLM 50\",'EM-Ber-CLM50-3'!J38,-1)","v":0},null,{"$f":"IF(O42=\"CLM 100\",'EM-Ber-CLM100-3'!J38,-1)","v":0},null,{"$f":"IF(Q42=\"CLM 200\",'EM-Ber-CLM200-3'!J38,-1)","v":0}]
[null,null,{"$f":"Translation!A72","v":"Auslastung Dämpfer/Hub"},null,null,null,null,null,{"$f":"IF(I42=\"CLM 10\",'EM-Ber-CLM10-3'!C55,-1)","v":0.23399426620982988},null,{"$f":"IF(K42=\"CLM 25\",'EM-Ber-CLM25-3'!C55,-1)","v":0.1301749366086794},null,{"$f":"IF(M42=\"CLM 50\",'EM-Ber-CLM50-3'!C55,-1)","v":0.13661044916472548},null,{"$f":"IF(O42=\"CLM 100\",'EM-Ber-CLM100-3'!C55,-1)","v":0.32536633138381654},null,{"$f":"IF(Q42=\"CLM 200\",'EM-Ber-CLM200-3'!C55,-1)","v":0.28904136328693181}]
[null,null,{"$f":"Translation!A73","v":"Verfahrzeit / Hub ( s )"},null,null,null,{"$f":"IF(G42=\"CLM 08\",'EM-Ber-CLM08-3'!L50,-1)","v":5.1428571428571428E-2},null,{"$f":"IF(I42=\"CLM 10\",'EM-Ber-CLM10-3'!L50,-1)","v":6.5714285714285711E-2},null,{"$f":"IF(K42=\"CLM 25\",'EM-Ber-CLM25-3'!L50,-1)","v":0.1511764705882353},null,{"$f":"IF(M42=\"CLM 50\",'EM-Ber-CLM50-3'!L50,-1)","v":0.10199999999999999},null,{"$f":"IF(O42=\"CLM 100\",'EM-Ber-CLM100-3'!L50,-1)","v":7.1999999999999995E-2},null,{"$f":"IF(Q42=\"CLM 200\",'EM-Ber-CLM200-3'!L50,-1)","v":7.1999999999999995E-2}]
[null,null,{"$f":"Translation!A74","v":"Max. Zyklenzahl / Min."},null,null,null,{"$f":"IF(G42=\"CLM 08\",'EM-Ber-CLM08-3'!G52,-1)","v":120},null,{"$f":"IF(I42=\"CLM 10\",'EM-Ber-CLM10-3'!G52,-1)","v":120},null,{"$f":"IF(K42=\"CLM 25\",'EM-Ber-CLM25-3'!G52,-1)","v":120},null,{"$f":"IF(M42=\"CLM 50\",'EM-Ber-CLM50-3'!G52,-1)","v":120},null,{"$f":"IF(O42=\"CLM 100\",'EM-Ber-CLM100-3'!G52,-1)","v":120},null,{"$f":"IF(Q42=\"CLM 200\",'EM-Ber-CLM200-3'!G52,-1)","v":72.540546436458214}]
[]
[]
[]
[]
[]
[null,null,null,null,null,null,null,null,{"$f":"I59*0.01","v":2.02}]
[null,null,{"$f":"Translation!A78","v":"UNZULÄSSIG"},null,null,null,null,null,202]
[null,null,{"$f":"Translation!A76","v":"Kreuzrollenführung für Anwendungen mit höheren Anforderungen"}]
[null,null,{"$f":"Translation!A77","v":"Kugelumlaufführung für Standardanwendungen"}]
[]
[null,null,"Wegfallkriterium wegen Kraft Y:",null,null,null,"LM 25",null,{"$f":"IF(AND('EM-LM-3'!G$51=TRUE,'EM-LM-3'!G$52=TRUE,OR('EM-LM-3'!K$20>'Allgemeine Werte'!E$52+'EM-Ber-LM25-3'!C$47*9.81,'EM-LM-3'!K$20<-('Allgemeine Werte'!G$52-'EM-Ber-LM25-3'!C$47*9.81))),1,0)","v":0},null,{"$f":"IF(OR(I63=1,I64=1,I65=1,I66=1),1,0)","v":0}]
[null,null,null,null,null,null,null,null,{"$f":"IF(AND('EM-LM-3'!G$51=TRUE,'EM-LM-3'!G$52=FALSE,OR('EM-LM-3'!K$20>'Allgemeine Werte'!E$52-'EM-Ber-LM25-3'!C$47*9.81,'EM-LM-3'!K$20<-('Allgemeine Werte'!G$52+'EM-Ber-LM25-3'!C$47*9.81))),1,0)","v":0}]
[null,null,null,null,null,null,null,null,{"$f":"IF(AND('EM-LM-3'!G$51=FALSE,'EM-LM-3'!G$52=FALSE,OR('EM-LM-3'!K$20<-('Allgemeine Werte'!E$52+'EM-Ber-LM25-3'!C$47*9.81),'EM-LM-3'!K$20>'Allgemeine Werte'!G$52-'EM-Ber-LM25-3'!C$47*9.81)),1,0)","v":0}]
[null,null,null,null,null,null,null,null,{"$f":"IF(AND('EM-LM-3'!G$51=FALSE,'EM-LM-3'!G$52=TRUE,OR('EM-LM-3'!K$20<-('Allgemeine Werte'!E$52-'EM-Ber-LM25-3'!C$47*9.81),'EM-LM-3'!K$20>'Allgemeine Werte'!G$52+'EM-Ber-LM25-3'!C$47*9.81)),1,0)","v":0}]
[null,null,null,null,null,null,"LM 50",null,{"$f":"IF(AND('EM-LM-3'!G$51=TRUE,'EM-LM-3'!G$52=TRUE,OR('EM-LM-3'!K$20>'Allgemeine Werte'!E$53+'EM-Ber-LM50-3'!C$47*9.81,'EM-LM-3'!K$20<-('Allgemeine Werte'!G$53-'EM-Ber-LM50-3'!C$47*9.81))),1,0)","v":0},null,{"$f":"IF(OR(I67=1,I68=1,I69=1,I70=1),1,0)","v":0}]
[null,null,null,null,null,null,null,null,{"$f":"IF(AND('EM-LM-3'!G$51=TRUE,'EM-LM-3'!G$52=FALSE,OR('EM-LM-3'!K$20>'Allgemeine Werte'!E$53-'EM-Ber-LM50-3'!C$47*9.81,'EM-LM-3'!K$20<-('Allgemeine Werte'!G$53+'EM-Ber-LM50-3'!C$47*9.81))),1,0)","v":0}]
[null,null,null,null,null,null,null,null,{"$f":"IF(AND('EM-LM-3'!G$51=FALSE,'EM-LM-3'!G$52=FALSE,OR('EM-LM-3'!K$20<-('Allgemeine Werte'!E$53+'EM-Ber-LM50-3'!C$47*9.81),'EM-LM-3'!K$20>'Allgemeine Werte'!G$53-'EM-Ber-LM50-3'!C$47*9.81)),1,0)","v":0}]
[null,null,null,null,null,null,null,null,{"$f":"IF(AND('EM-LM-3'!G$51=FALSE,'EM-LM-3'!G$52=TRUE,OR('EM-LM-3'!K$20<-('Allgemeine Werte'!E$53-'EM-Ber-LM50-3'!C$47*9.81),'EM-LM-3'!K$20>'Allgemeine Werte'!G$53+'EM-Ber-LM50-3'!C$47*9.81)),1,0)","v":0}]
[null,null,null,null,null,null,"LM 100",null,{"$f":"IF(AND('EM-LM-3'!G$51=TRUE,'EM-LM-3'!G$52=TRUE,OR('EM-LM-3'!K$20>'Allgemeine Werte'!E$54+'EM-Ber-LM100-3'!C$47*9.81,'EM-LM-3'!K$20<-('Allgemeine Werte'!G$54-'EM-Ber-LM100-3'!C$47*9.81))),1,0)","v":0},null,{"$f":"IF(OR(I71=1,I72=1,I73=1,I74=1),1,0)","v":0}]
[null,null,null,null,null,null,null,null,{"$f":"IF(AND('EM-LM-3'!G$51=TRUE,'EM-LM-3'!G$52=FALSE,OR('EM-LM-3'!K$20>'Allgemeine Werte'!E$54-'EM-Ber-LM100-3'!C$47*9.81,'EM-LM-3'!K$20<-('Allgemeine Werte'!G$54+'EM-Ber-LM100-3'!C$47*9.81))),1,0)","v":0}]
[null,null,null,null,null,null,null,null,{"$f":"IF(AND('EM-LM-3'!G$51=FALSE,'EM-LM-3'!G$52=FALSE,OR('EM-LM-3'!K$20<-('Allgemeine Werte'!E$54+'EM-Ber-LM100-3'!C$47*9.81),'EM-LM-3'!K$20>'Allgemeine Werte'!G$54-'EM-Ber-LM100-3'!C$47*9.81)),1,0)","v":0}]
[null,null,null,null,null,null,null,null,{"$f":"IF(AND('EM-LM-3'!G$51=FALSE,'EM-LM-3'!G$52=TRUE,OR('EM-LM-3'!K$20<-('Allgemeine Werte'!E$54-'EM-Ber-LM100-3'!C$47*9.81),'EM-LM-3'!K$20>'Allgemeine Werte'!G$54+'EM-Ber-LM100-3'!C$47*9.81)),1,0)","v":0}]
[null,null,null,null,null,null,"LM 200",null,{"$f":"IF(AND('EM-LM-3'!G$51=TRUE,'EM-LM-3'!G$52=TRUE,OR('EM-LM-3'!K$20>'Allgemeine Werte'!E$56+'EM-Ber-LM200-3'!C$47*9.81,'EM-LM-3'!K$20<-('Allgemeine Werte'!G$56-'EM-Ber-LM200-3'!C$47*9.81))),1,0)","v":0},null,{"$f":"IF(OR(I75=1,I76=1,I77=1,I78=1),1,0)","v":0}]
[null,null,null,null,null,null,null,null,{"$f":"IF(AND('EM-LM-3'!G$51=TRUE,'EM-LM-3'!G$52=FALSE,OR('EM-LM-3'!K$20>'Allgemeine Werte'!E$56-'EM-Ber-LM200-3'!C$47*9.81,'EM-LM-3'!K$20<-('Allgemeine Werte'!G$56+'EM-Ber-LM200-3'!C$47*9.81))),1,0)","v":0}]
[null,null,null,null,null,null,null,null,{"$f":"IF(AND('EM-LM-3'!G$51=FALSE,'EM-LM-3'!G$52=FALSE,OR('EM-LM-3'!K$20<-('Allgemeine Werte'!E$56+'EM-Ber-LM200-3'!C$47*9.81),'EM-LM-3'!K$20>'Allgemeine Werte'!G$56-'EM-Ber-LM200-3'!C$47*9.81)),1,0)","v":0}]
[null,null,null,null,null,null,null,null,{"$f":"IF(AND('EM-LM-3'!G$51=FALSE,'EM-LM-3'!G$52=TRUE,OR('EM-LM-3'!K$20<-('Allgemeine Werte'!E$56-'EM-Ber-LM200-3'!C$47*9.81),'EM-LM-3'!K$20>'Allgemeine Werte'!G$56+'EM-Ber-LM200-3'!C$47*9.81)),1,0)","v":0}]
[null,null,null,null,null,null,"LM 300",null,{"$f":"IF(AND('EM-LM-3'!G$51=TRUE,'EM-LM-3'!G$52=TRUE,OR('EM-LM-3'!K$20>'Allgemeine Werte'!E$57+'EM-Ber-LM300-3'!C$47*9.81,'EM-LM-3'!K$20<-('Allgemeine Werte'!G$57-'EM-Ber-LM300-3'!C$47*9.81))),1,0)","v":0},null,{"$f":"IF(OR(I79=1,I80=1,I81=1,I82=1),1,0)","v":0}]
[null,null,null,null,null,null,null,null,{"$f":"IF(AND('EM-LM-3'!G$51=TRUE,'EM-LM-3'!G$52=FALSE,OR('EM-LM-3'!K$20>'Allgemeine Werte'!E$57-'EM-Ber-LM300-3'!C$47*9.81,'EM-LM-3'!K$20<-('Allgemeine Werte'!G$57+'EM-Ber-LM300-3'!C$47*9.81))),1,0)","v":0}]
[null,null,null,null,null,null,null,null,{"$f":"IF(AND('EM-LM-3'!G$51=FALSE,'EM-LM-3'!G$52=FALSE,OR('EM-LM-3'!K$20<-('Allgemeine Werte'!E$57+'EM-Ber-LM300-3'!C$47*9.81),'EM-LM-3'!K$20>'Allgemeine Werte'!G$57-'EM-Ber-LM300-3'!C$47*9.81)),1,0)","v":0}]
[null,null,null,null,null,null,null,null,{"$f":"IF(AND('EM-LM-3'!G$51=FALSE,'EM-LM-3'!G$52=TRUE,OR('EM-LM-3'!K$20<-('Allgemeine Werte'!E$57-'EM-Ber-LM300-3'!C$47*9.81),'EM-LM-3'!K$20>'Allgemeine Werte'!G$57+'EM-Ber-LM300-3'!C$47*9.81)),1,0)","v":0}]
[null,null,null,null,null,null,"KLM 25",null,{"$f":"IF(AND('EM-LM-3'!G$51=TRUE,'EM-LM-3'!G$52=TRUE,OR('EM-LM-3'!K$20>'Allgemeine Werte'!E$52+'EM-Ber-KLM25-3'!C$47*9.81,'EM-LM-3'!K$20<-('Allgemeine Werte'!G$52-'EM-Ber-KLM25-3'!C$47*9.81))),1,0)","v":0},null,{"$f":"IF(OR(I83=1,I84=1,I85=1,I86=1),1,0)","v":0}]
[null,null,null,null,null,null,null,null,{"$f":"IF(AND('EM-LM-3'!G$51=TRUE,'EM-LM-3'!G$52=FALSE,OR('EM-LM-3'!K$20>'Allgemeine Werte'!E$52-'EM-Ber-KLM25-3'!C$47*9.81,'EM-LM-3'!K$20<-('Allgemeine Werte'!G$52+'EM-Ber-KLM25-3'!C$47*9.81))),1,0)","v":0}]
[null,null,null,null,null,null,null,null,{"$f":"IF(AND('EM-LM-3'!G$51=FALSE,'EM-LM-3'!G$52=FALSE,OR('EM-LM-3'!K$20<-('Allgemeine Werte'!E$52+'EM-Ber-KLM25-3'!C$47*9.81),'EM-LM-3'!K$20>'Allgemeine Werte'!G$52-'EM-Ber-KLM25-3'!C$47*9.81)),1,0)","v":0}]
[null,null,null,null,null,null,null,null,{"$f":"IF(AND('EM-LM-3'!G$51=FALSE,'EM-LM-3'!G$52=TRUE,OR('EM-LM-3'!K$20<-('Allgemeine Werte'!E$52-'EM-Ber-KLM25-3'!C$47*9.81),'EM-LM-3'!K$20>'Allgemeine Werte'!G$52+'EM-Ber-KLM25-3'!C$47*9.81)),1,0)","v":0}]
[null,null,null,null,null,null,"KLM 50",null,{"$f":"IF(AND('EM-LM-3'!G$51=TRUE,'EM-LM-3'!G$52=TRUE,OR('EM-LM-3'!K$20>'Allgemeine Werte'!E$53+'EM-Ber-KLM50-3'!C$47*9.81,'EM-LM-3'!K$20<-('Allgemeine Werte'!G$53-'EM-Ber-KLM50-3'!C$47*9.81))),1,0)","v":0},null,{"$f":"IF(OR(I87=1,I88=1,I89=1,I90=1),1,0)","v":0}]
[null,null,null,null,null,null,null,null,{"$f":"IF(AND('EM-LM-3'!G$51=TRUE,'EM-LM-3'!G$52=FALSE,OR('EM-LM-3'!K$20>'Allgemeine Werte'!E$53-'EM-Ber-KLM50-3'!C$47*9.81,'EM-LM-3'!K$20<-('Allgemeine Werte'!G$53+'EM-Ber-KLM50-3'!C$47*9.81))),1,0)","v":0}]
[null,null,null,null,null,null,null,null,{"$f":"IF(AND('EM-LM-3'!G$51=FALSE,'EM-LM-3'!G$52=FALSE,OR('EM-LM-3'!K$20<-('Allgemeine Werte'!E$53+'EM-Ber-KLM50-3'!C$47*9.81),'EM-LM-3'!K$20>'Allgemeine Werte'!G$53-'EM-Ber-KLM50-3'!C$47*9.81)),1,0)","v":0}]
[null,null,null,null,null,null,null,null,{"$f":"IF(AND('EM-LM-3'!G$51=FALSE,'EM-LM-3'!G$52=TRUE,OR('EM-LM-3'!K$20<-('Allgemeine Werte'!E$53-'EM-Ber-KLM50-3'!C$47*9.81),'EM-LM-3'!K$20>'Allgemeine Werte'!G$53+'EM-Ber-KLM50-3'!C$47*9.81)),1,0)","v":0}]
[null,null,null,null,null,null,"KLM 100",null,{"$f":"IF(AND('EM-LM-3'!G$51=TRUE,'EM-LM-3'!G$52=TRUE,OR('EM-LM-3'!K$20>'Allgemeine Werte'!E$54+'EM-Ber-KLM100-3'!C$47*9.81,'EM-LM-3'!K$20<-('Allgemeine Werte'!G$54-'EM-Ber-KLM100-3'!C$47*9.81))),1,0)","v":0},null,{"$f":"IF(OR(I91=1,I92=1,I93=1,I94=1),1,0)","v":0}]
[null,null,null,null,null,null,null,null,{"$f":"IF(AND('EM-LM-3'!G$51=TRUE,'EM-LM-3'!G$52=FALSE,OR('EM-LM-3'!K$20>'Allgemeine Werte'!E$54-'EM-Ber-KLM100-3'!C$47*9.81,'EM-LM-3'!K$20<-('Allgemeine Werte'!G$54+'EM-Ber-KLM100-3'!C$47*9.81))),1,0)","v":0}]
[null,null,null,null,null,null,null,null,{"$f":"IF(AND('EM-LM-3'!G$51=FALSE,'EM-LM-3'!G$52=FALSE,OR('EM-LM-3'!K$20<-('Allgemeine Werte'!E$54+'EM-Ber-KLM100-3'!C$47*9.81),'EM-LM-3'!K$20>'Allgemeine Werte'!G$54-'EM-Ber-KLM100-3'!C$47*9.81)),1,0)","v":0}]
[null,null,null,null,null,null,null,null,{"$f":"IF(AND('EM-LM-3'!G$51=FALSE,'EM-LM-3'!G$52=TRUE,OR('EM-LM-3'!K$20<-('Allgemeine Werte'!E$54-'EM-Ber-KLM100-3'!C$47*9.81),'EM-LM-3'!K$20>'Allgemeine Werte'!G$54+'EM-Ber-KLM100-3'!C$47*9.81)),1,0)","v":0}]
[null,null,null,null,null,null,"CLM 25",null,{"$f":"IF(AND('EM-LM-3'!G$51=TRUE,'EM-LM-3'!G$52=TRUE,OR('EM-LM-3'!K$20>'Allgemeine Werte'!E$52+'EM-Ber-CLM25-3'!C$47*9.81,'EM-LM-3'!K$20<-('Allgemeine Werte'!G$52-'EM-Ber-CLM25-3'!C$47*9.81))),1,0)","v":0},null,{"$f":"IF(OR(I95=1,I96=1,I97=1,I98=1),1,0)","v":0}]
[null,null,null,null,null,null,null,null,{"$f":"IF(AND('EM-LM-3'!G$51=TRUE,'EM-LM-3'!G$52=FALSE,OR('EM-LM-3'!K$20>'Allgemeine Werte'!E$52-'EM-Ber-CLM25-3'!C$47*9.81,'EM-LM-3'!K$20<-('Allgemeine Werte'!G$52+'EM-Ber-CLM25-3'!C$47*9.81))),1,0)","v":0}]
[null,null,null,null,null,null,null,null,{"$f":"IF(AND('EM-LM-3'!G$51=FALSE,'EM-LM-3'!G$52=FALSE,OR('EM-LM-3'!K$20<-('Allgemeine Werte'!E$52+'EM-Ber-CLM25-3'!C$47*9.81),'EM-LM-3'!K$20>'Allgemeine Werte'!G$52-'EM-Ber-CLM25-3'!C$47*9.81)),1,0)","v":0}]
[null,null,null,null,null,null,null,null,{"$f":"IF(AND('EM-LM-3'!G$51=FALSE,'EM-LM-3'!G$52=TRUE,OR('EM-LM-3'!K$20<-('Allgemeine Werte'!E$52-'EM-Ber-CLM25-3'!C$47*9.81),'EM-LM-3'!K$20>'Allgemeine Werte'!G$52+'EM-Ber-CLM25-3'!C$47*9.81)),1,0)","v":0}]
[null,null,null,null,null,null,"CLM 50",null,{"$f":"IF(AND('EM-LM-3'!G$51=TRUE,'EM-LM-3'!G$52=TRUE,OR('EM-LM-3'!K$20>'Allgemeine Werte'!E$53+'EM-Ber-CLM50-3'!C$47*9.81,'EM-LM-3'!K$20<-('Allgemeine Werte'!G$53-'EM-Ber-CLM50-3'!C$47*9.81))),1,0)","v":0},null,{"$f":"IF(OR(I99=1,I100=1,I101=1,I102=1),1,0)","v":0}]
[null,null,null,null,null,null,null,null,{"$f":"IF(AND('EM-LM-3'!G$51=TRUE,'EM-LM-3'!G$52=FALSE,OR('EM-LM-3'!K$20>'Allgemeine Werte'!E$53-'EM-Ber-CLM50-3'!C$47*9.81,'EM-LM-3'!K$20<-('Allgemeine Werte'!G$53+'EM-Ber-CLM50-3'!C$47*9.81))),1,0)","v":0}]
[null,null,null,null,null,null,null,null,{"$f":"IF(AND('EM-LM-3'!G$51=FALSE,'EM-LM-3'!G$52=FALSE,OR('EM-LM-3'!K$20<-('Allgemeine Werte'!E$53+'EM-Ber-CLM50-3'!C$47*9.81),'EM-LM-3'!K$20>'Allgemeine Werte'!G$53-'EM-Ber-CLM50-3'!C$47*9.81)),1,0)","v":0}]
[null,null,null,null,null,null,null,null,{"$f":"IF(AND('EM-LM-3'!G$51=FALSE,'EM-LM-3'!G$52=TRUE,OR('EM-LM-3'!K$20<-('Allgemeine Werte'!E$53-'EM-Ber-CLM50-3'!C$47*9.81),'EM-LM-3'!K$20>'Allgemeine Werte'!G$53+'EM-Ber-CLM50-3'!C$47*9.81)),1,0)","v":0}]
[null,null,null,null,null,null,"CLM 100",null,{"$f":"IF(AND('EM-LM-3'!G$51=TRUE,'EM-LM-3'!G$52=TRUE,OR('EM-LM-3'!K$20>'Allgemeine Werte'!E$55+'EM-Ber-CLM100-3'!C$47*9.81,'EM-LM-3'!K$20<-('Allgemeine Werte'!G$55-'EM-Ber-CLM100-3'!C$47*9.81))),1,0)","v":0},null,{"$f":"IF(OR(I103=1,I104=1,I105=1,I106=1),1,0)","v":0}]
[null,null,null,null,null,null,null,null,{"$f":"IF(AND('EM-LM-3'!G$51=TRUE,'EM-LM-3'!G$52=FALSE,OR('EM-LM-3'!K$20>'Allgemeine Werte'!E$55-'EM-Ber-CLM100-3'!C$47*9.81,'EM-LM-3'!K$20<-('Allgemeine Werte'!G$55+'EM-Ber-CLM100-3'!C$47*9.81))),1,0)","v":0}]
[null,null,null,null,null,null,null,null,{"$f":"IF(AND('EM-LM-3'!G$51=FALSE,'EM-LM-3'!G$52=FALSE,OR('EM-LM-3'!K$20<-('Allgemeine Werte'!E$55+'EM-Ber-CLM100-3'!C$47*9.81),'EM-LM-3'!K$20>'Allgemeine Werte'!G$55-'EM-Ber-CLM100-3'!C$47*9.81)),1,0)","v":0}]
[null,null,null,null,null,null,null,null,{"$f":"IF(AND('EM-LM-3'!G$51=FALSE,'EM-LM-3'!G$52=TRUE,OR('EM-LM-3'!K$20<-('Allgemeine Werte'!E$55-'EM-Ber-CLM100-3'!C$47*9.81),'EM-LM-3'!K$20>'Allgemeine Werte'!G$55+'EM-Ber-CLM100-3'!C$47*9.81)),1,0)","v":0}]
[null,null,null,null,null,null,"CLM 200",null,{"$f":"IF(AND('EM-LM-3'!G$51=TRUE,'EM-LM-3'!G$52=TRUE,OR('EM-LM-3'!K$20>'Allgemeine Werte'!E$56+'EM-Ber-CLM200-3'!C$47*9.81,'EM-LM-3'!K$20<-('Allgemeine Werte'!G$56-'EM-Ber-CLM200-3'!C$47*9.81))),1,0)","v":0},null,{"$f":"IF(OR(I107=1,I108=1,I109=1,I110=1),1,0)","v":0}]
[null,null,null,null,null,null,null,null,{"$f":"IF(AND('EM-LM-3'!G$51=TRUE,'EM-LM-3'!G$52=FALSE,OR('EM-LM-3'!K$20>'Allgemeine Werte'!E$56-'EM-Ber-CLM200-3'!C$47*9.81,'EM-LM-3'!K$20<-('Allgemeine Werte'!G$56+'EM-Ber-CLM200-3'!C$47*9.81))),1,0)","v":0}]
[null,null,null,null,null,null,null,null,{"$f":"IF(AND('EM-LM-3'!G$51=FALSE,'EM-LM-3'!G$52=FALSE,OR('EM-LM-3'!K$20<-('Allgemeine Werte'!E$56+'EM-Ber-CLM200-3'!C$47*9.81),'EM-LM-3'!K$20>'Allgemeine Werte'!G$56-'EM-Ber-CLM200-3'!C$47*9.81)),1,0)","v":0}]
[null,null,null,null,null,null,null,null,{"$f":"IF(AND('EM-LM-3'!G$51=FALSE,'EM-LM-3'!G$52=TRUE,OR('EM-LM-3'!K$20<-('Allgemeine Werte'!E$56-'EM-Ber-CLM200-3'!C$47*9.81),'EM-LM-3'!K$20>'Allgemeine Werte'!G$56+'EM-Ber-CLM200-3'!C$47*9.81)),1,0)","v":0}]
[null,null,null,null,null,null,"CLM 08",null,{"$f":"IF(AND('EM-LM-3'!G$51=TRUE,'EM-LM-3'!G$52=TRUE,OR('EM-LM-3'!K$20>'Allgemeine Werte'!E$60+'EM-Ber-CLM08-3'!C$47*9.81,'EM-LM-3'!K$20<-('Allgemeine Werte'!G$60-'EM-Ber-CLM08-3'!C$47*9.81))),1,0)","v":0},null,{"$f":"IF(OR(I111=1,I112=1,I113=1,I114=1),1,0)","v":0}]
[null,null,null,null,null,null,null,null,{"$f":"IF(AND('EM-LM-3'!G$51=TRUE,'EM-LM-3'!G$52=FALSE,OR('EM-LM-3'!K$20>'Allgemeine Werte'!E$60-'EM-Ber-CLM08-3'!C$47*9.81,'EM-LM-3'!K$20<-('Allgemeine Werte'!G$60+'EM-Ber-CLM08-3'!C$47*9.81))),1,0)","v":0}]
[null,null,null,null,null,null,null,null,{"$f":"IF(AND('EM-LM-3'!G$51=FALSE,'EM-LM-3'!G$52=FALSE,OR('EM-LM-3'!K$20<-('Allgemeine Werte'!E$60+'EM-Ber-CLM08-3'!C$47*9.81),'EM-LM-3'!K$20>'Allgemeine Werte'!G$60-'EM-Ber-CLM08-3'!C$47*9.81)),1,0)","v":0}]
[null,null,null,null,null,null,null,null,{"$f":"IF(AND('EM-LM-3'!G$51=FALSE,'EM-LM-3'!G$52=TRUE,OR('EM-LM-3'!K$20<-('Allgemeine Werte'!E$60-'EM-Ber-CLM08-3'!C$47*9.81),'EM-LM-3'!K$20>'Allgemeine Werte'!G$60+'EM-Ber-CLM08-3'!C$47*9.81)),1,0)","v":0}]
[null,null,null,null,null,null,"CLM 10",null,{"$f":"IF(AND('EM-LM-3'!G$51=TRUE,'EM-LM-3'!G$52=TRUE,OR('EM-LM-3'!K$20>'Allgemeine Werte'!E$61+'EM-Ber-CLM10-3'!C$47*9.81,'EM-LM-3'!K$20<-('Allgemeine Werte'!G$61-'EM-Ber-CLM10-3'!C$47*9.81))),1,0)","v":0},null,{"$f":"IF(OR(I115=1,I116=1,I117=1,I118=1),1,0)","v":0}]
[null,null,null,null,null,null,null,null,{"$f":"IF(AND('EM-LM-3'!G$51=TRUE,'EM-LM-3'!G$52=FALSE,OR('EM-LM-3'!K$20>'Allgemeine Werte'!E$61-'EM-Ber-CLM10-3'!C$47*9.81,'EM-LM-3'!K$20<-('Allgemeine Werte'!G$61+'EM-Ber-CLM10-3'!C$47*9.81))),1,0)","v":0}]
[null,null,null,null,null,null,null,null,{"$f":"IF(AND('EM-LM-3'!G$51=FALSE,'EM-LM-3'!G$52=FALSE,OR('EM-LM-3'!K$20<-('Allgemeine Werte'!E$61+'EM-Ber-CLM10-3'!C$47*9.81),'EM-LM-3'!K$20>'Allgemeine Werte'!G$61-'EM-Ber-CLM10-3'!C$47*9.81)),1,0)","v":0}]
[null,null,null,null,null,null,null,null,{"$f":"IF(AND('EM-LM-3'!G$51=FALSE,'EM-LM-3'!G$52=TRUE,OR('EM-LM-3'!K$20<-('Allgemeine Werte'!E$61-'EM-Ber-CLM10-3'!C$47*9.81),'EM-LM-3'!K$20>'Allgemeine Werte'!G$61+'EM-Ber-CLM10-3'!C$47*9.81)),1,0)","v":0}]
[null,null,null,null,null,null,"KLM 300",null,{"$f":"IF(AND('EM-LM-3'!G$51=TRUE,'EM-LM-3'!G$52=TRUE,OR('EM-LM-3'!K$20>'Allgemeine Werte'!E$57+'EM-Ber-KLM300-3'!C$47*9.81,'EM-LM-3'!K$20<-('Allgemeine Werte'!G$57-'EM-Ber-KLM300-3'!C$47*9.81))),1,0)","v":0},null,{"$f":"IF(OR(I119=1,I120=1,I121=1,I122=1),1,0)","v":0}]
[null,null,null,null,null,null,null,null,{"$f":"IF(AND('EM-LM-3'!G$51=TRUE,'EM-LM-3'!G$52=FALSE,OR('EM-LM-3'!K$20>'Allgemeine Werte'!E$57-'EM-Ber-KLM300-3'!C$47*9.81,'EM-LM-3'!K$20<-('Allgemeine Werte'!G$57+'EM-Ber-KLM300-3'!C$47*9.81))),1,0)","v":0}]
[null,null,null,null,null,null,null,null,{"$f":"IF(AND('EM-LM-3'!G$51=FALSE,'EM-LM-3'!G$52=FALSE,OR('EM-LM-3'!K$20<-('Allgemeine Werte'!E$57+'EM-Ber-KLM300-3'!C$47*9.81),'EM-LM-3'!K$20>'Allgemeine Werte'!G$57-'EM-Ber-KLM300-3'!C$47*9.81)),1,0)","v":0}]
[null,null,null,null,null,null,null,null,{"$f":"IF(AND('EM-LM-3'!G$51=FALSE,'EM-LM-3'!G$52=TRUE,OR('EM-LM-3'!K$20<-('Allgemeine Werte'!E$57-'EM-Ber-KLM300-3'!C$47*9.81),'EM-LM-3'!K$20>'Allgemeine Werte'!G$57+'EM-Ber-KLM300-3'!C$47*9.81)),1,0)","v":0}]

{"sheet":"EM-LM-6","index":13,"n_rows":52,"n_cols":17,"rows_kept":52,"cut":false,"hidden":false,"merged":[[34,8,34,16],[27,2,29,2],[31,2,42,6],[5,10,5,16],[7,12,7,16],[9,12,9,16],[5,2,5,6],[26,2,26,6]]}
[]
[{"$f":"Translation!A14","v":"Toolbox-Translation - MODULARE MONTAGEAUTOMATION"}]
[{"$f":"Translation!A50","v":"Berechnung Linearmodule"}]
[]
[]
[null,null,{"$f":"Translation!A81","v":"LM / KLM / CLM - Linearmodule"},null,null,null,null,null,null,null,{"$f":"Translation!A58","v":"Geben Sie Ihre Werte mit -Enter- ein !"}]
[]
[null,null,null,null,null,null,null,null,"H (mm)",null,10,null,{"$f":"Translation!A59","v":"H = Hub ( max. 450 )"}]
[]
[null,null,null,null,null,null,null,null,null,null,{"$f":"Translation!A60","v":"Masse (m)"},null,{"$f":"Translation!A62","v":"Koordinaten Massenschwerpunkt / Kraftangriff"}]
[]
[null,null,null,null,null,null,null,null,null,null,{"$f":"Translation!A61","v":"Kraft (F)"},null,"X  ( mm )",null,"Y  ( mm )",null,"Z  ( mm )"]
[]
[null,null,null,null,null,null,null,null,"m (kg)",null,0,null,0,null,0,null,0]
[]
[null,null,null,null,null,null,null,null,null,null,null,null,"( N )"]
[]
[null,null,null,null,null,null,null,null,"Fx (N)",null,0,null,null,null,0,null,0]
[]
[null,null,null,null,null,null,null,null,"Fy (N)",null,0,null,0,null,null,null,0]
[]
[null,null,null,null,null,null,null,null,"Fz (N)",null,0,null,0,null,0]
[]
[]
[]
[]
[null,null,{"$f":"Translation!A57","v":"Achtung: Kräfte und Koordinaten mit Vorzeichen !"}]
[null,null,{"$f":"Translation!A84","v":"ACHTUNG:"}]
[]
[]
[]
[null,null,{"$f":"Translation!A85","v":"Die auf der Berechnungsseite angegebenen Verfahrzeiten sind reine Verfahrzeiten von einer Endlage in die andere Endlage.\nVentilschaltzeiten, Schlauchbefüllungszeiten oder SPS-Reaktionszeiten sind nicht enthalten und bei der Ermittlung von Zykluszeiten zu berücksichtigen.\nBitte beachten Sie, dass zum Erreichen der minimal möglichen Verfahrzeit die kundenseitige Stützkonstruktion der resultierenden Dynamik angepasst werden muss !"}]
[]
[]
[null,null,null,null,null,null,null,null,{"$f":"Translation!A87","v":"Auf der Berechnungsseite der Linearmodule können Sie die Verfahrzeit ändern !"}]
[]
[]
[]
[]
[]
[]
[]
[]
[]
[]
[]
[]
[]
[]
[]
[null,null,null,null,null,null,false]
[null,null,null,null,null,null,true]

{"sheet":"EM-LM-6-1","index":14,"n_rows":122,"n_cols":19,"rows_kept":122,"cut":false,"hidden":false,"merged":[[29,10,29,18],[5,8,5,12],[5,5,5,7],[45,6,45,16],[13,10,13,18],[21,2,21,7],[37,2,37,7],[9,2,9,4],[25,2,25,4],[41,2,41,4]]}
[]
[{"$f":"Translation!A14","v":"Toolbox-Translation - MODULARE MONTAGEAUTOMATION"}]
[{"$f":"Translation!A50","v":"Berechnung Linearmodule"}]
[]
[]
[null,null,null,null,null," +                    -",null,null,{"$f":"Translation!A65","v":"Hier ändern Sie die Verfahrzeit"}]
[]
[]
[]
[null,null,{"$f":"Translation!A66","v":"LM - Linearmodule"},null,null,null,null,null,null,null,{"$f":"IF(OR('EM-LM-6'!K8>59,'EM-LM-6'!K8<3,'EM-LM-6'!K14>3,K63=1),\" \",\"LM 25\")","v":"LM 25"},null,{"$f":"IF(OR('EM-LM-6'!K8>100,'EM-LM-6'!K14>6,K67=1),\" \",\"LM 50\")","v":"LM 50"},null,{"$f":"IF(OR('EM-LM-6'!K8>225,'EM-LM-6'!K14>14,K71=1),\" \",\"LM 100\")","v":"LM 100"},null,{"$f":"IF(OR('EM-LM-6'!K8>350,'EM-LM-6'!K14>24,K75=1),\" \",\"LM 200\")","v":"LM 200"},null,{"$f":"IF(OR('EM-LM-6'!K8>450,'EM-LM-6'!K14>37,K79=1),\" \",\"LM 300\")","v":"LM 300"}]
[null,null,{"$f":"Translation!A67","v":"Katalogseite"},null,null,null,null,null,null,null,{"$f":"IF(K10=\"LM 25\",\"01.010\",\" \")","v":"01.010"},null,{"$f":"IF(M10=\"LM 50\",\"01.020\",\" \")","v":"01.020"},null,{"$f":"IF(O10=\"LM 100\",\"01.030\",\" \")","v":"01.030"},null,{"$f":"IF(Q10=\"LM 200\",\"01.040\",\" \")","v":"01.040"},null,{"$f":"IF(S10=\"LM 300\",\"01.050\",\" \")","v":"01.050"}]
[null,null,{"$f":"Translation!A68","v":"Zyl.-kraft bei 6 bar ( N )"},null,null,null,null,null,null,null,{"$f":"IF(K10=\"LM 25\",\"67 / 50\",C59)","v":"67 / 50"},null,{"$f":"IF(M10=\"LM 50\",\"120 / 103\",C59)","v":"120 / 103"},null,{"$f":"IF(O10=\"LM 100\",\"294 / 226\",C59)","v":"294 / 226"},null,{"$f":"IF(Q10=\"LM 200\",\"482 / 415\",C59)","v":"482 / 415"},null,{"$f":"IF(S10=\"LM 300\",\"753 / 633\",C59)","v":"753 / 633"}]
[]
[null,null,{"$f":"Translation!A70","v":"Führungssystem"},null,null,null,null,null,null,null,{"$f":"IF(AND(K10=\" \",M10=\" \",O10=\" \",Q10=\" \",S10=\" \"),\" \",C60)","v":"Kreuzrollenführung für Anwendungen mit höheren Anforderungen"}]
[]
[null,null,{"$f":"Translation!A93","v":"Verzögerungskraft ( N )"},null,null,null,null,null,null,null,{"$f":"IF(K10=\"LM 25\",'EM-Ber-LM25-6'!C43,-1)","v":0.36666911095478716},null,{"$f":"IF(M10=\"LM 50\",'EM-Ber-LM50-6'!C43,-1)","v":1.4213947900770254},null,{"$f":"IF(O10=\"LM 100\",'EM-Ber-LM100-6'!C43,-1)","v":3.6738807889564522},null,{"$f":"IF(Q10=\"LM 200\",'EM-Ber-LM200-6'!C43,-1)","v":5.4410639532646199},null,{"$f":"IF(S10=\"LM 300\",'EM-Ber-LM300-6'!C43,-1)","v":8.0526362893833632}]
[null,null,{"$f":"Translation!A71","v":"Auslastung Führung"},null,null,null,null,null,null,null,{"$f":"IF(K10=\"LM 25\",'EM-Ber-LM25-6'!J38,-1)","v":0},null,{"$f":"IF(M10=\"LM 50\",'EM-Ber-LM50-6'!J38,-1)","v":0},null,{"$f":"IF(O10=\"LM 100\",'EM-Ber-LM100-6'!J38,-1)","v":0},null,{"$f":"IF(Q10=\"LM 200\",'EM-Ber-LM200-6'!J38,-1)","v":0},null,{"$f":"IF(S10=\"LM 300\",'EM-Ber-LM300-6'!J38,-1)","v":0}]
[null,null,{"$f":"Translation!A72","v":"Auslastung Dämpfer/Hub"},null,null,null,null,null,null,null,{"$f":"IF(K10=\"LM 25\",'EM-Ber-LM25-6'!C55,-1)","v":0.1301749366086794},null,{"$f":"IF(M10=\"LM 50\",'EM-Ber-LM50-6'!C55,-1)","v":0.13607525692757688},null,{"$f":"IF(O10=\"LM 100\",'EM-Ber-LM100-6'!C55,-1)","v":0.32373852955675586},null,{"$f":"IF(Q10=\"LM 200\",'EM-Ber-LM200-6'!C55,-1)","v":0.28708677713765374},null,{"$f":"IF(S10=\"LM 300\",'EM-Ber-LM300-6'!C55,-1)","v":0.45206524080854565}]
[null,null,{"$f":"Translation!A73","v":"Verfahrzeit / Hub ( s )"},null,null,null,null,null,null,null,{"$f":"IF(K10=\"LM 25\",'EM-Ber-LM25-6'!L50,-1)","v":0.1511764705882353},null,{"$f":"IF(M10=\"LM 50\",'EM-Ber-LM50-6'!L50,-1)","v":0.10199999999999999},null,{"$f":"IF(O10=\"LM 100\",'EM-Ber-LM100-6'!L50,-1)","v":7.1999999999999995E-2},null,{"$f":"IF(Q10=\"LM 200\",'EM-Ber-LM200-6'!L50,-1)","v":7.1999999999999995E-2},null,{"$f":"IF(S10=\"LM 300\",'EM-Ber-LM300-6'!L50,-1)","v":6.6000000000000003E-2}]
[null,null,{"$f":"Translation!A74","v":"Max. Zyklenzahl / Min."},null,null,null,null,null,null,null,{"$f":"IF(K10=\"LM 25\",'EM-Ber-LM25-6'!G52,-1)","v":120},null,{"$f":"IF(M10=\"LM 50\",'EM-Ber-LM50-6'!G52,-1)","v":120},null,{"$f":"IF(O10=\"LM 100\",'EM-Ber-LM100-6'!G52,-1)","v":120},null,{"$f":"IF(Q10=\"LM 200\",'EM-Ber-LM200-6'!G52,-1)","v":73.034427585354806},null,{"$f":"IF(S10=\"LM 300\",'EM-Ber-LM300-6'!G52,-1)","v":46.380956868242606}]
[null,null,null,null,null,null,null,null,null,null,null,null,null,null,{"$f":"IF(O10=\"LM 100\",1,0)","v":1},null,{"$f":"IF(Q10=\"LM 200\",1,0)","v":1},null,{"$f":"IF(S10=\"LM 300\",1,0)","v":1}]
[null,null,{"$f":"Translation!A75","v":"Anzahl der Stoßdämpfer pro Endlage"},null,null,null,null,null,null,null,null,null,null,null,1,null,1,null,1]
[]
[]
[]
[null,null,{"$f":"Translation!A82","v":"KLM - Linearmodule"},null,null,null,null,null,null,null,{"$f":"IF(OR('EM-LM-6'!K8>59,'EM-LM-6'!K8<3,'EM-LM-6'!K14>3,K83=1),\" \",\"KLM 25\")","v":"KLM 25"},null,{"$f":"IF(OR('EM-LM-6'!K8>125,'EM-LM-6'!K14>6,K87=1),\" \",\"KLM 50\")","v":"KLM 50"},null,{"$f":"IF(OR('EM-LM-6'!K8>225,'EM-LM-6'!K14>14,K91=1),\" \",\"KLM 100\")","v":"KLM 100"},null,null,null,{"$f":"IF(OR('EM-LM-6'!K8>300,'EM-LM-6'!K14>37,K119=1),\" \",\"KLM 300\")","v":"KLM 300"}]
[null,null,{"$f":"Translation!A67","v":"Katalogseite"},null,null,null,null,null,null,null,{"$f":"IF(K26=\"KLM 25\",\"01.110\",\" \")","v":"01.110"},null,{"$f":"IF(M26=\"KLM 50\",\"01.120\",\" \")","v":"01.120"},null,{"$f":"IF(O26=\"KLM 100\",\"1.130\",\" \")","v":"1.130"},null,null,null,{"$f":"IF(S26=\"KLM 100\",\"1.130\",\" \")","v":" "}]
[null,null,{"$f":"Translation!A68","v":"Zyl.-kraft bei 6 bar ( N )"},null,null,null,null,null,null,null,{"$f":"IF(K26=\"KLM 25\",\"67 / 50\",C59)","v":"67 / 50"},null,{"$f":"IF(M26=\"KLM 50\",\"120 / 103\",C59)","v":"120 / 103"},null,{"$f":"IF(O26=\"KLM 100\",\"294 / 226\",C59)","v":"294 / 226"},null,null,null,{"$f":"IF(S26=\"KLM 300\",\"753 / 633\",C59)","v":"753 / 633"}]
[]
[null,null,{"$f":"Translation!A70","v":"Führungssystem"},null,null,null,null,null,null,null,{"$f":"IF(AND(K26=\" \",M26=\" \",O26=\" \",S26=\" \"),\" \",C61)","v":"Kugelumlaufführung für Standardanwendungen"}]
[]
[null,null,{"$f":"Translation!A93","v":"Verzögerungskraft ( N )"},null,null,null,null,null,null,null,{"$f":"IF(K26=\"KLM 25\",'EM-Ber-KLM25-6'!C43,-1)","v":0.41666944426680358},null,{"$f":"IF(M26=\"KLM 50\",'EM-Ber-KLM50-6'!C43,-1)","v":2.2746971923097599},null,{"$f":"IF(O26=\"KLM 100\",'EM-Ber-KLM100-6'!C43,-1)","v":1.9765908338245237},null,null,null,{"$f":"IF(S26=\"KLM 300\",'EM-Ber-KLM300-6'!C43,-1)","v":12.286496606481833}]
[null,null,{"$f":"Translation!A71","v":"Auslastung Führung"},null,null,null,null,null,null,null,{"$f":"IF(K26=\"KLM 25\",'EM-Ber-KLM25-6'!J38,-1)","v":0},null,{"$f":"IF(M26=\"KLM 50\",'EM-Ber-KLM50-6'!J38,-1)","v":0},null,{"$f":"IF(O26=\"KLM 100\",'EM-Ber-KLM100-6'!J38,-1)","v":0},null,null,null,{"$f":"IF(S26=\"KLM 300\",'EM-Ber-KLM300-6'!J38,-1)","v":0}]
[null,null,{"$f":"Translation!A72","v":"Auslastung Dämpfer/Hub"},null,null,null,null,null,null,null,{"$f":"IF(K26=\"KLM 25\",'EM-Ber-KLM25-6'!C55,-1)","v":0.12965333705531748},null,{"$f":"IF(M26=\"KLM 50\",'EM-Ber-KLM50-6'!C55,-1)","v":0.13433880497198877},null,{"$f":"IF(O26=\"KLM 100\",'EM-Ber-KLM100-6'!C55,-1)","v":0.32024435121319789},null,null,null,{"$f":"IF(S26=\"KLM 300\",'EM-Ber-KLM300-6'!C55,-1)","v":0.4461138170623648}]
[null,null,{"$f":"Translation!A73","v":"Verfahrzeit / Hub ( s )"},null,null,null,null,null,null,null,{"$f":"IF(K26=\"KLM 25\",'EM-Ber-KLM25-6'!L50,-1)","v":0.1511764705882353},null,{"$f":"IF(M26=\"KLM 50\",'EM-Ber-KLM50-6'!L50,-1)","v":9.8000000000000004E-2},null,{"$f":"IF(O26=\"KLM 100\",'EM-Ber-KLM100-6'!L50,-1)","v":0.10800000000000001},null,null,null,{"$f":"IF(S26=\"KLM 300\",'EM-Ber-KLM300-6'!L50,-1)","v":6.6000000000000003E-2}]
[null,null,{"$f":"Translation!A74","v":"Max. Zyklenzahl / Min."},null,null,null,null,null,null,null,{"$f":"IF(K26=\"KLM 25\",'EM-Ber-KLM25-6'!G52,-1)","v":120},null,{"$f":"IF(M26=\"KLM 50\",'EM-Ber-KLM50-6'!G52,-1)","v":120},null,{"$f":"IF(O26=\"KLM 100\",'EM-Ber-KLM100-6'!G52,-1)","v":120},null,null,null,{"$f":"IF(S26=\"KLM 300\",'EM-Ber-KLM300-6'!G52,-1)","v":46.999706428374843}]
[null,null,null,null,null,null,null,null,null,null,null,null,null,null,{"$f":"IF(O26=\"KLM 100\",1,0)","v":1},null,null,null,{"$f":"IF(S26=\"KLM 300\",1,0)","v":1}]
[null,null,{"$f":"Translation!A75","v":"Anzahl der Stoßdämpfer pro Endlage"},null,null,null,null,null,null,null,null,null,null,null,1,null,null,null,1]
[]
[]
[]
[null,null,{"$f":"Translation!A83","v":"CLM - Linearmodule"},null,null,null,{"$f":"IF(OR('EM-LM-6'!K8>42,'EM-LM-6'!K14>1.4,K111=1),\" \",\"CLM 08\")","v":"CLM 08"},null,{"$f":"IF(OR('EM-LM-6'!K8>48,'EM-LM-6'!K8<2,'EM-LM-6'!K14>2,K115=1),\" \",\"CLM 10\")","v":"CLM 10"},null,{"$f":"IF(OR('EM-LM-6'!K8>59,'EM-LM-6'!K8<3,'EM-LM-6'!K14>3,K95=1),\" \",\"CLM 25\")","v":"CLM 25"},null,{"$f":"IF(OR('EM-LM-6'!K8>100,'EM-LM-6'!K14>6,K99=1),\" \",\"CLM 50\")","v":"CLM 50"},null,{"$f":"IF(OR('EM-LM-6'!K8>150,'EM-LM-6'!K14>14,K103=1),\" \",\"CLM 100\")","v":"CLM 100"},null,{"$f":"IF(OR('EM-LM-6'!K8>150,'EM-LM-6'!K14>24,K107=1),\" \",\"CLM 200\")","v":"CLM 200"}]
[null,null,{"$f":"Translation!A67","v":"Katalogseite"},null,null,null,{"$f":"IF(G42=\"CLM 08\",\"01.310\",\" \")","v":"01.310"},null,{"$f":"IF(I42=\"CLM 10\",\"01.320\",\" \")","v":"01.320"},null,{"$f":"IF(K42=\"CLM 25\",\"01.330\",\" \")","v":"01.330"},null,{"$f":"IF(M42=\"CLM 50\",\"01.340\",\" \")","v":"01.340"},null,{"$f":"IF(O42=\"CLM 100\",\"01.350\",\" \")","v":"01.350"},null,{"$f":"IF(Q42=\"CLM 200\",\"01.360\",\" \")","v":"01.360"}]
[null,null,{"$f":"Translation!A68","v":"Zyl.-kraft bei 6 bar ( N )"},null,null,null,{"$f":"IF(G42=\"CLM 08\",\"30 / 25\",C59)","v":"30 / 25"},null,{"$f":"IF(I42=\"CLM 10\",\"47 / 39\",C59)","v":"47 / 39"},null,{"$f":"IF(K42=\"CLM 25\",\"67 / 50\",C59)","v":"67 / 50"},null,{"$f":"IF(M42=\"CLM 50\",\"120 / 103\",C59)","v":"120 / 103"},null,{"$f":"IF(O42=\"CLM 100\",\"294 / 247\",C59)","v":"294 / 247"},null,{"$f":"IF(Q42=\"CLM 200\",\"482 / 415\",C59)","v":"482 / 415"}]
[]
[null,null,{"$f":"Translation!A70","v":"Führungssystem"},null,null,null,{"$f":"IF(AND(G42=\" \",I42=\" \",K42=\" \",M42=\" \",O42=\" \",Q42=\" \"),\" \",C60)","v":"Kreuzrollenführung für Anwendungen mit höheren Anforderungen"}]
[]
[null,null,{"$f":"Translation!A93","v":"Verzögerungskraft ( N )"},null,null,null,{"$f":"IF(G42=\"CLM 08\",'EM-Ber-CLM08-6'!C43,-1)","v":21.420958719135804},null,{"$f":"IF(I42=\"CLM 10\",'EM-Ber-CLM10-6'!C43,-1)","v":0.7832734954716023},null,{"$f":"IF(K42=\"CLM 25\",'EM-Ber-CLM25-6'!C43,-1)","v":0.36666911095478716},null,{"$f":"IF(M42=\"CLM 50\",'EM-Ber-CLM50-6'!C43,-1)","v":1.2275682277937949},null,{"$f":"IF(O42=\"CLM 100\",'EM-Ber-CLM100-6'!C43,-1)","v":2.9004322018077255},null,{"$f":"IF(Q42=\"CLM 200\",'EM-Ber-CLM200-6'!C43,-1)","v":4.3249482705436719}]
[null,null,{"$f":"Translation!A71","v":"Auslastung Führung"},null,null,null,{"$f":"IF(G42=\"CLM 08\",'EM-Ber-CLM08-6'!J38,-1)","v":0},null,{"$f":"IF(I42=\"CLM 10\",'EM-Ber-CLM10-6'!J38,-1)","v":0},null,{"$f":"IF(K42=\"CLM 25\",'EM-Ber-CLM25-6'!J38,-1)","v":0},null,{"$f":"IF(M42=\"CLM 50\",'EM-Ber-CLM50-6'!J38,-1)","v":0},null,{"$f":"IF(O42=\"CLM 100\",'EM-Ber-CLM100-6'!J38,-1)","v":0},null,{"$f":"IF(Q42=\"CLM 200\",'EM-Ber-CLM200-6'!J38,-1)","v":0}]
[null,null,{"$f":"Translation!A72","v":"Auslastung Dämpfer/Hub"},null,null,null,null,null,{"$f":"IF(I42=\"CLM 10\",'EM-Ber-CLM10-6'!C55,-1)","v":0.23399426620982988},null,{"$f":"IF(K42=\"CLM 25\",'EM-Ber-CLM25-6'!C55,-1)","v":0.1301749366086794},null,{"$f":"IF(M42=\"CLM 50\",'EM-Ber-CLM50-6'!C55,-1)","v":0.13661044916472548},null,{"$f":"IF(O42=\"CLM 100\",'EM-Ber-CLM100-6'!C55,-1)","v":0.32536633138381654},null,{"$f":"IF(Q42=\"CLM 200\",'EM-Ber-CLM200-6'!C55,-1)","v":0.28904136328693181}]
[null,null,{"$f":"Translation!A73","v":"Verfahrzeit / Hub ( s )"},null,null,null,{"$f":"IF(G42=\"CLM 08\",'EM-Ber-CLM08-6'!L50,-1)","v":5.1428571428571428E-2},null,{"$f":"IF(I42=\"CLM 10\",'EM-Ber-CLM10-6'!L50,-1)","v":6.5714285714285711E-2},null,{"$f":"IF(K42=\"CLM 25\",'EM-Ber-CLM25-6'!L50,-1)","v":0.1511764705882353},null,{"$f":"IF(M42=\"CLM 50\",'EM-Ber-CLM50-6'!L50,-1)","v":0.10199999999999999},null,{"$f":"IF(O42=\"CLM 100\",'EM-Ber-CLM100-6'!L50,-1)","v":7.1999999999999995E-2},null,{"$f":"IF(Q42=\"CLM 200\",'EM-Ber-CLM200-6'!L50,-1)","v":7.1999999999999995E-2}]
[null,null,{"$f":"Translation!A74","v":"Max. Zyklenzahl / Min."},null,null,null,{"$f":"IF(G42=\"CLM 08\",'EM-Ber-CLM08-6'!G52,-1)","v":120},null,{"$f":"IF(I42=\"CLM 10\",'EM-Ber-CLM10-6'!G52,-1)","v":120},null,{"$f":"IF(K42=\"CLM 25\",'EM-Ber-CLM25-6'!G52,-1)","v":120},null,{"$f":"IF(M42=\"CLM 50\",'EM-Ber-CLM50-6'!G52,-1)","v":120},null,{"$f":"IF(O42=\"CLM 100\",'EM-Ber-CLM100-6'!G52,-1)","v":120},null,{"$f":"IF(Q42=\"CLM 200\",'EM-Ber-CLM200-6'!G52,-1)","v":72.540546436458214}]
[]
[]
[]
[]
[]
[null,null,null,null,null,null,null,null,{"$f":"I59*0.01","v":2.02}]
[null,null,{"$f":"Translation!A78","v":"UNZULÄSSIG"},null,null,null,null,null,202]
[null,null,{"$f":"Translation!A76","v":"Kreuzrollenführung für Anwendungen mit höheren Anforderungen"}]
[null,null,{"$f":"Translation!A77","v":"Kugelumlaufführung für Standardanwendungen"}]
[]
[null,null,"Wegfallkriterium wegen Kraft Y:",null,null,null,"LM 25",null,{"$f":"IF(AND('EM-LM-6'!G$51=TRUE,'EM-LM-6'!G$52=TRUE,OR('EM-LM-6'!K$20<-('Allgemeine Werte'!E$52-'EM-Ber-LM25-6'!C$47*9.81),'EM-LM-6'!K$20>'Allgemeine Werte'!G$52+'EM-Ber-LM25-6'!C$47*9.81)),1,0)","v":0},null,{"$f":"IF(OR(I63=1,I64=1,I65=1,I66=1),1,0)","v":0}]
[null,null,null,null,null,null,null,null,{"$f":"IF(AND('EM-LM-6'!G$51=TRUE,'EM-LM-6'!G$52=FALSE,OR('EM-LM-6'!K$20<-('Allgemeine Werte'!E$52+'EM-Ber-LM25-6'!C$47*9.81),'EM-LM-6'!K$20>'Allgemeine Werte'!G$52-'EM-Ber-LM25-6'!C$47*9.81)),1,0)","v":0}]
[null,null,null,null,null,null,null,null,{"$f":"IF(AND('EM-LM-6'!G$51=FALSE,'EM-LM-6'!G$52=FALSE,OR('EM-LM-6'!K$20>'Allgemeine Werte'!E$52-'EM-Ber-LM25-6'!C$47*9.81,'EM-LM-6'!K$20<-('Allgemeine Werte'!G$52+'EM-Ber-LM25-6'!C$47*9.81))),1,0)","v":0}]
[null,null,null,null,null,null,null,null,{"$f":"IF(AND('EM-LM-6'!G$51=FALSE,'EM-LM-6'!G$52=TRUE,OR('EM-LM-6'!K$20>'Allgemeine Werte'!E$52+'EM-Ber-LM25-6'!C$47*9.81,'EM-LM-6'!K$20<-('Allgemeine Werte'!G$52-'EM-Ber-LM25-6'!C$47*9.81))),1,0)","v":0}]
[null,null,null,null,null,null,"LM 50",null,{"$f":"IF(AND('EM-LM-6'!G$51=TRUE,'EM-LM-6'!G$52=TRUE,OR('EM-LM-6'!K$20<-('Allgemeine Werte'!E$53-'EM-Ber-LM50-6'!C$47*9.81),'EM-LM-6'!K$20>'Allgemeine Werte'!G$53+'EM-Ber-LM50-6'!C$47*9.81)),1,0)","v":0},null,{"$f":"IF(OR(I67=1,I68=1,I69=1,I70=1),1,0)","v":0}]
[null,null,null,null,null,null,null,null,{"$f":"IF(AND('EM-LM-6'!G$51=TRUE,'EM-LM-6'!G$52=FALSE,OR('EM-LM-6'!K$20<-('Allgemeine Werte'!E$53+'EM-Ber-LM50-6'!C$47*9.81),'EM-LM-6'!K$20>'Allgemeine Werte'!G$53-'EM-Ber-LM50-6'!C$47*9.81)),1,0)","v":0}]
[null,null,null,null,null,null,null,null,{"$f":"IF(AND('EM-LM-6'!G$51=FALSE,'EM-LM-6'!G$52=FALSE,OR('EM-LM-6'!K$20>'Allgemeine Werte'!E$53-'EM-Ber-LM50-6'!C$47*9.81,'EM-LM-6'!K$20<-('Allgemeine Werte'!G$53+'EM-Ber-LM50-6'!C$47*9.81))),1,0)","v":0}]
[null,null,null,null,null,null,null,null,{"$f":"IF(AND('EM-LM-6'!G$51=FALSE,'EM-LM-6'!G$52=TRUE,OR('EM-LM-6'!K$20>'Allgemeine Werte'!E$53+'EM-Ber-LM50-6'!C$47*9.81,'EM-LM-6'!K$20<-('Allgemeine Werte'!G$53-'EM-Ber-LM50-6'!C$47*9.81))),1,0)","v":0}]
[null,null,null,null,null,null,"LM 100",null,{"$f":"IF(AND('EM-LM-6'!G$51=TRUE,'EM-LM-6'!G$52=TRUE,OR('EM-LM-6'!K$20<-('Allgemeine Werte'!E$54-'EM-Ber-LM100-6'!C$47*9.81),'EM-LM-6'!K$20>'Allgemeine Werte'!G$54+'EM-Ber-LM100-6'!C$47*9.81)),1,0)","v":0},null,{"$f":"IF(OR(I71=1,I72=1,I73=1,I74=1),1,0)","v":0}]
[null,null,null,null,null,null,null,null,{"$f":"IF(AND('EM-LM-6'!G$51=TRUE,'EM-LM-6'!G$52=FALSE,OR('EM-LM-6'!K$20<-('Allgemeine Werte'!E$54+'EM-Ber-LM100-6'!C$47*9.81),'EM-LM-6'!K$20>'Allgemeine Werte'!G$54-'EM-Ber-LM100-6'!C$47*9.81)),1,0)","v":0}]
[null,null,null,null,null,null,null,null,{"$f":"IF(AND('EM-LM-6'!G$51=FALSE,'EM-LM-6'!G$52=FALSE,OR('EM-LM-6'!K$20>'Allgemeine Werte'!E$54-'EM-Ber-LM100-6'!C$47*9.81,'EM-LM-6'!K$20<-('Allgemeine Werte'!G$54+'EM-Ber-LM100-6'!C$47*9.81))),1,0)","v":0}]
[null,null,null,null,null,null,null,null,{"$f":"IF(AND('EM-LM-6'!G$51=FALSE,'EM-LM-6'!G$52=TRUE,OR('EM-LM-6'!K$20>'Allgemeine Werte'!E$54+'EM-Ber-LM100-6'!C$47*9.81,'EM-LM-6'!K$20<-('Allgemeine Werte'!G$54-'EM-Ber-LM100-6'!C$47*9.81))),1,0)","v":0}]
[null,null,null,null,null,null,"LM 200",null,{"$f":"IF(AND('EM-LM-6'!G$51=TRUE,'EM-LM-6'!G$52=TRUE,OR('EM-LM-6'!K$20<-('Allgemeine Werte'!E$56-'EM-Ber-LM200-6'!C$47*9.81),'EM-LM-6'!K$20>'Allgemeine Werte'!G$56+'EM-Ber-LM200-6'!C$47*9.81)),1,0)","v":0},null,{"$f":"IF(OR(I75=1,I76=1,I77=1,I78=1),1,0)","v":0}]
[null,null,null,null,null,null,null,null,{"$f":"IF(AND('EM-LM-6'!G$51=TRUE,'EM-LM-6'!G$52=FALSE,OR('EM-LM-6'!K$20<-('Allgemeine Werte'!E$56+'EM-Ber-LM200-6'!C$47*9.81),'EM-LM-6'!K$20>'Allgemeine Werte'!G$56-'EM-Ber-LM200-6'!C$47*9.81)),1,0)","v":0}]
[null,null,null,null,null,null,null,null,{"$f":"IF(AND('EM-LM-6'!G$51=FALSE,'EM-LM-6'!G$52=FALSE,OR('EM-LM-6'!K$20>'Allgemeine Werte'!E$56-'EM-Ber-LM200-6'!C$47*9.81,'EM-LM-6'!K$20<-('Allgemeine Werte'!G$56+'EM-Ber-LM200-6'!C$47*9.81))),1,0)","v":0}]
[null,null,null,null,null,null,null,null,{"$f":"IF(AND('EM-LM-6'!G$51=FALSE,'EM-LM-6'!G$52=TRUE,OR('EM-LM-6'!K$20>'Allgemeine Werte'!E$56+'EM-Ber-LM200-6'!C$47*9.81,'EM-LM-6'!K$20<-('Allgemeine Werte'!G$56-'EM-Ber-LM200-6'!C$47*9.81))),1,0)","v":0}]
[null,null,null,null,null,null,"LM 300",null,{"$f":"IF(AND('EM-LM-6'!G$51=TRUE,'EM-LM-6'!G$52=TRUE,OR('EM-LM-6'!K$20<-('Allgemeine Werte'!E$57-'EM-Ber-LM300-6'!C$47*9.81),'EM-LM-6'!K$20>'Allgemeine Werte'!G$57+'EM-Ber-LM300-6'!C$47*9.81)),1,0)","v":0},null,{"$f":"IF(OR(I79=1,I80=1,I81=1,I82=1),1,0)","v":0}]
[null,null,null,null,null,null,null,null,{"$f":"IF(AND('EM-LM-6'!G$51=TRUE,'EM-LM-6'!G$52=FALSE,OR('EM-LM-6'!K$20<-('Allgemeine Werte'!E$57+'EM-Ber-LM300-6'!C$47*9.81),'EM-LM-6'!K$20>'Allgemeine Werte'!G$57-'EM-Ber-LM300-6'!C$47*9.81)),1,0)","v":0}]
[null,null,null,null,null,null,null,null,{"$f":"IF(AND('EM-LM-6'!G$51=FALSE,'EM-LM-6'!G$52=FALSE,OR('EM-LM-6'!K$20>'Allgemeine Werte'!E$57-'EM-Ber-LM300-6'!C$47*9.81,'EM-LM-6'!K$20<-('Allgemeine Werte'!G$57+'EM-Ber-LM300-6'!C$47*9.81))),1,0)","v":0}]
[null,null,null,null,null,null,null,null,{"$f":"IF(AND('EM-LM-6'!G$51=FALSE,'EM-LM-6'!G$52=TRUE,OR('EM-LM-6'!K$20>'Allgemeine Werte'!E$57+'EM-Ber-LM300-6'!C$47*9.81,'EM-LM-6'!K$20<-('Allgemeine Werte'!G$57-'EM-Ber-LM300-6'!C$47*9.81))),1,0)","v":0}]
[null,null,null,null,null,null,"KLM 25",null,{"$f":"IF(AND('EM-LM-6'!G$51=TRUE,'EM-LM-6'!G$52=TRUE,OR('EM-LM-6'!K$20<-('Allgemeine Werte'!E$52-'EM-Ber-KLM25-6'!C$47*9.81),'EM-LM-6'!K$20>'Allgemeine Werte'!G$52+'EM-Ber-KLM25-6'!C$47*9.81)),1,0)","v":0},null,{"$f":"IF(OR(I83=1,I84=1,I85=1,I86=1),1,0)","v":0}]
[null,null,null,null,null,null,null,null,{"$f":"IF(AND('EM-LM-6'!G$51=TRUE,'EM-LM-6'!G$52=FALSE,OR('EM-LM-6'!K$20<-('Allgemeine Werte'!E$52+'EM-Ber-KLM25-6'!C$47*9.81),'EM-LM-6'!K$20>'Allgemeine Werte'!G$52-'EM-Ber-KLM25-6'!C$47*9.81)),1,0)","v":0}]
[null,null,null,null,null,null,null,null,{"$f":"IF(AND('EM-LM-6'!G$51=FALSE,'EM-LM-6'!G$52=FALSE,OR('EM-LM-6'!K$20>'Allgemeine Werte'!E$52-'EM-Ber-KLM25-6'!C$47*9.81,'EM-LM-6'!K$20<-('Allgemeine Werte'!G$52+'EM-Ber-KLM25-6'!C$47*9.81))),1,0)","v":0}]
[null,null,null,null,null,null,null,null,{"$f":"IF(AND('EM-LM-6'!G$51=FALSE,'EM-LM-6'!G$52=TRUE,OR('EM-LM-6'!K$20>'Allgemeine Werte'!E$52+'EM-Ber-KLM25-6'!C$47*9.81,'EM-LM-6'!K$20<-('Allgemeine Werte'!G$52-'EM-Ber-KLM25-6'!C$47*9.81))),1,0)","v":0}]
[null,null,null,null,null,null,"KLM 50",null,{"$f":"IF(AND('EM-LM-6'!G$51=TRUE,'EM-LM-6'!G$52=TRUE,OR('EM-LM-6'!K$20<-('Allgemeine Werte'!E$53-'EM-Ber-KLM50-6'!C$47*9.81),'EM-LM-6'!K$20>'Allgemeine Werte'!G$53+'EM-Ber-KLM50-6'!C$47*9.81)),1,0)","v":0},null,{"$f":"IF(OR(I87=1,I88=1,I89=1,I90=1),1,0)","v":0}]
[null,null,null,null,null,null,null,null,{"$f":"IF(AND('EM-LM-6'!G$51=TRUE,'EM-LM-6'!G$52=FALSE,OR('EM-LM-6'!K$20<-('Allgemeine Werte'!E$53+'EM-Ber-KLM50-6'!C$47*9.81),'EM-LM-6'!K$20>'Allgemeine Werte'!G$53-'EM-Ber-KLM50-6'!C$47*9.81)),1,0)","v":0}]
[null,null,null,null,null,null,null,null,{"$f":"IF(AND('EM-LM-6'!G$51=FALSE,'EM-LM-6'!G$52=FALSE,OR('EM-LM-6'!K$20>'Allgemeine Werte'!E$53-'EM-Ber-KLM50-6'!C$47*9.81,'EM-LM-6'!K$20<-('Allgemeine Werte'!G$53+'EM-Ber-KLM50-6'!C$47*9.81))),1,0)","v":0}]
[null,null,null,null,null,null,null,null,{"$f":"IF(AND('EM-LM-6'!G$51=FALSE,'EM-LM-6'!G$52=TRUE,OR('EM-LM-6'!K$20>'Allgemeine Werte'!E$53+'EM-Ber-KLM50-6'!C$47*9.81,'EM-LM-6'!K$20<-('Allgemeine Werte'!G$53-'EM-Ber-KLM50-6'!C$47*9.81))),1,0)","v":0}]
[null,null,null,null,null,null,"KLM 100",null,{"$f":"IF(AND('EM-LM-6'!G$51=TRUE,'EM-LM-6'!G$52=TRUE,OR('EM-LM-6'!K$20<-('Allgemeine Werte'!E$54-'EM-Ber-KLM100-6'!C$47*9.81),'EM-LM-6'!K$20>'Allgemeine Werte'!G$54+'EM-Ber-KLM100-6'!C$47*9.81)),1,0)","v":0},null,{"$f":"IF(OR(I91=1,I92=1,I93=1,I94=1),1,0)","v":0}]
[null,null,null,null,null,null,null,null,{"$f":"IF(AND('EM-LM-6'!G$51=TRUE,'EM-LM-6'!G$52=FALSE,OR('EM-LM-6'!K$20<-('Allgemeine Werte'!E$54+'EM-Ber-KLM100-6'!C$47*9.81),'EM-LM-6'!K$20>'Allgemeine Werte'!G$54-'EM-Ber-KLM100-6'!C$47*9.81)),1,0)","v":0}]
[null,null,null,null,null,null,null,null,{"$f":"IF(AND('EM-LM-6'!G$51=FALSE,'EM-LM-6'!G$52=FALSE,OR('EM-LM-6'!K$20>'Allgemeine Werte'!E$54-'EM-Ber-KLM100-6'!C$47*9.81,'EM-LM-6'!K$20<-('Allgemeine Werte'!G$54+'EM-Ber-KLM100-6'!C$47*9.81))),1,0)","v":0}]
[null,null,null,null,null,null,null,null,{"$f":"IF(AND('EM-LM-6'!G$51=FALSE,'EM-LM-6'!G$52=TRUE,OR('EM-LM-6'!K$20>'Allgemeine Werte'!E$54+'EM-Ber-KLM100-6'!C$47*9.81,'EM-LM-6'!K$20<-('Allgemeine Werte'!G$54-'EM-Ber-KLM100-6'!C$47*9.81))),1,0)","v":0}]
[null,null,null,null,null,null,"CLM 25",null,{"$f":"IF(AND('EM-LM-6'!G$51=TRUE,'EM-LM-6'!G$52=TRUE,OR('EM-LM-6'!K$20<-('Allgemeine Werte'!E$52-'EM-Ber-CLM25-6'!C$47*9.81),'EM-LM-6'!K$20>'Allgemeine Werte'!G$52+'EM-Ber-CLM25-6'!C$47*9.81)),1,0)","v":0},null,{"$f":"IF(OR(I95=1,I96=1,I97=1,I98=1),1,0)","v":0}]
[null,null,null,null,null,null,null,null,{"$f":"IF(AND('EM-LM-6'!G$51=TRUE,'EM-LM-6'!G$52=FALSE,OR('EM-LM-6'!K$20<-('Allgemeine Werte'!E$52+'EM-Ber-CLM25-6'!C$47*9.81),'EM-LM-6'!K$20>'Allgemeine Werte'!G$52-'EM-Ber-CLM25-6'!C$47*9.81)),1,0)","v":0}]
[null,null,null,null,null,null,null,null,{"$f":"IF(AND('EM-LM-6'!G$51=FALSE,'EM-LM-6'!G$52=FALSE,OR('EM-LM-6'!K$20>'Allgemeine Werte'!E$52-'EM-Ber-CLM25-6'!C$47*9.81,'EM-LM-6'!K$20<-('Allgemeine Werte'!G$52+'EM-Ber-CLM25-6'!C$47*9.81))),1,0)","v":0}]
[null,null,null,null,null,null,null,null,{"$f":"IF(AND('EM-LM-6'!G$51=FALSE,'EM-LM-6'!G$52=TRUE,OR('EM-LM-6'!K$20>'Allgemeine Werte'!E$52+'EM-Ber-CLM25-6'!C$47*9.81,'EM-LM-6'!K$20<-('Allgemeine Werte'!G$52-'EM-Ber-CLM25-6'!C$47*9.81))),1,0)","v":0}]
[null,null,null,null,null,null,"CLM 50",null,{"$f":"IF(AND('EM-LM-6'!G$51=TRUE,'EM-LM-6'!G$52=TRUE,OR('EM-LM-6'!K$20<-('Allgemeine Werte'!E$53-'EM-Ber-CLM50-6'!C$47*9.81),'EM-LM-6'!K$20>'Allgemeine Werte'!G$53+'EM-Ber-CLM50-6'!C$47*9.81)),1,0)","v":0},null,{"$f":"IF(OR(I99=1,I100=1,I101=1,I102=1),1,0)","v":0}]
[null,null,null,null,null,null,null,null,{"$f":"IF(AND('EM-LM-6'!G$51=TRUE,'EM-LM-6'!G$52=FALSE,OR('EM-LM-6'!K$20<-('Allgemeine Werte'!E$53+'EM-Ber-CLM50-6'!C$47*9.81),'EM-LM-6'!K$20>'Allgemeine Werte'!G$53-'EM-Ber-CLM50-6'!C$47*9.81)),1,0)","v":0}]
[null,null,null,null,null,null,null,null,{"$f":"IF(AND('EM-LM-6'!G$51=FALSE,'EM-LM-6'!G$52=FALSE,OR('EM-LM-6'!K$20>'Allgemeine Werte'!E$53-'EM-Ber-CLM50-6'!C$47*9.81,'EM-LM-6'!K$20<-('Allgemeine Werte'!G$53+'EM-Ber-CLM50-6'!C$47*9.81))),1,0)","v":0}]
[null,null,null,null,null,null,null,null,{"$f":"IF(AND('EM-LM-6'!G$51=FALSE,'EM-LM-6'!G$52=TRUE,OR('EM-LM-6'!K$20>'Allgemeine Werte'!E$53+'EM-Ber-CLM50-6'!C$47*9.81,'EM-LM-6'!K$20<-('Allgemeine Werte'!G$53-'EM-Ber-CLM50-6'!C$47*9.81))),1,0)","v":0}]
[null,null,null,null,null,null,"CLM 100",null,{"$f":"IF(AND('EM-LM-6'!G$51=TRUE,'EM-LM-6'!G$52=TRUE,OR('EM-LM-6'!K$20<-('Allgemeine Werte'!E$55-'EM-Ber-CLM100-6'!C$47*9.81),'EM-LM-6'!K$20>'Allgemeine Werte'!G$55+'EM-Ber-CLM100-6'!C$47*9.81)),1,0)","v":0},null,{"$f":"IF(OR(I103=1,I104=1,I105=1,I106=1),1,0)","v":0}]
[null,null,null,null,null,null,null,null,{"$f":"IF(AND('EM-LM-6'!G$51=TRUE,'EM-LM-6'!G$52=FALSE,OR('EM-LM-6'!K$20<-('Allgemeine Werte'!E$55+'EM-Ber-CLM100-6'!C$47*9.81),'EM-LM-6'!K$20>'Allgemeine Werte'!G$55-'EM-Ber-CLM100-6'!C$47*9.81)),1,0)","v":0}]
[null,null,null,null,null,null,null,null,{"$f":"IF(AND('EM-LM-6'!G$51=FALSE,'EM-LM-6'!G$52=FALSE,OR('EM-LM-6'!K$20>'Allgemeine Werte'!E$55-'EM-Ber-CLM100-6'!C$47*9.81,'EM-LM-6'!K$20<-('Allgemeine Werte'!G$55+'EM-Ber-CLM100-6'!C$47*9.81))),1,0)","v":0}]
[null,null,null,null,null,null,null,null,{"$f":"IF(AND('EM-LM-6'!G$51=FALSE,'EM-LM-6'!G$52=TRUE,OR('EM-LM-6'!K$20>'Allgemeine Werte'!E$55+'EM-Ber-CLM100-6'!C$47*9.81,'EM-LM-6'!K$20<-('Allgemeine Werte'!G$55-'EM-Ber-CLM100-6'!C$47*9.81))),1,0)","v":0}]
[null,null,null,null,null,null,"CLM 200",null,{"$f":"IF(AND('EM-LM-6'!G$51=TRUE,'EM-LM-6'!G$52=TRUE,OR('EM-LM-6'!K$20<-('Allgemeine Werte'!E$56-'EM-Ber-CLM200-6'!C$47*9.81),'EM-LM-6'!K$20>'Allgemeine Werte'!G$56+'EM-Ber-CLM200-6'!C$47*9.81)),1,0)","v":0},null,{"$f":"IF(OR(I107=1,I108=1,I109=1,I110=1),1,0)","v":0}]
[null,null,null,null,null,null,null,null,{"$f":"IF(AND('EM-LM-6'!G$51=TRUE,'EM-LM-6'!G$52=FALSE,OR('EM-LM-6'!K$20<-('Allgemeine Werte'!E$56+'EM-Ber-CLM200-6'!C$47*9.81),'EM-LM-6'!K$20>'Allgemeine Werte'!G$56-'EM-Ber-CLM200-6'!C$47*9.81)),1,0)","v":0}]
[null,null,null,null,null,null,null,null,{"$f":"IF(AND('EM-LM-6'!G$51=FALSE,'EM-LM-6'!G$52=FALSE,OR('EM-LM-6'!K$20>'Allgemeine Werte'!E$56-'EM-Ber-CLM200-6'!C$47*9.81,'EM-LM-6'!K$20<-('Allgemeine Werte'!G$56+'EM-Ber-CLM200-6'!C$47*9.81))),1,0)","v":0}]
[null,null,null,null,null,null,null,null,{"$f":"IF(AND('EM-LM-6'!G$51=FALSE,'EM-LM-6'!G$52=TRUE,OR('EM-LM-6'!K$20>'Allgemeine Werte'!E$56+'EM-Ber-CLM200-6'!C$47*9.81,'EM-LM-6'!K$20<-('Allgemeine Werte'!G$56-'EM-Ber-CLM200-6'!C$47*9.81))),1,0)","v":0}]
[null,null,null,null,null,null,"CLM 08",null,{"$f":"IF(AND('EM-LM-6'!G$51=TRUE,'EM-LM-6'!G$52=TRUE,OR('EM-LM-6'!K$20<-('Allgemeine Werte'!E$60-'EM-Ber-CLM08-6'!C$47*9.81),'EM-LM-6'!K$20>'Allgemeine Werte'!G$60+'EM-Ber-CLM08-6'!C$47*9.81)),1,0)","v":0},null,{"$f":"IF(OR(I111=1,I112=1,I113=1,I114=1),1,0)","v":0}]
[null,null,null,null,null,null,null,null,{"$f":"IF(AND('EM-LM-6'!G$51=TRUE,'EM-LM-6'!G$52=FALSE,OR('EM-LM-6'!K$20<-('Allgemeine Werte'!E$60+'EM-Ber-CLM08-6'!C$47*9.81),'EM-LM-6'!K$20>'Allgemeine Werte'!G$60-'EM-Ber-CLM08-6'!C$47*9.81)),1,0)","v":0}]
[null,null,null,null,null,null,null,null,{"$f":"IF(AND('EM-LM-6'!G$51=FALSE,'EM-LM-6'!G$52=FALSE,OR('EM-LM-6'!K$20>'Allgemeine Werte'!E$60-'EM-Ber-CLM08-6'!C$47*9.81,'EM-LM-6'!K$20<-('Allgemeine Werte'!G$60+'EM-Ber-CLM08-6'!C$47*9.81))),1,0)","v":0}]
[null,null,null,null,null,null,null,null,{"$f":"IF(AND('EM-LM-6'!G$51=FALSE,'EM-LM-6'!G$52=TRUE,OR('EM-LM-6'!K$20>'Allgemeine Werte'!E$60+'EM-Ber-CLM08-6'!C$47*9.81,'EM-LM-6'!K$20<-('Allgemeine Werte'!G$60-'EM-Ber-CLM08-6'!C$47*9.81))),1,0)","v":0}]
[null,null,null,null,null,null,"CLM 10",null,{"$f":"IF(AND('EM-LM-6'!G$51=TRUE,'EM-LM-6'!G$52=TRUE,OR('EM-LM-6'!K$20<-('Allgemeine Werte'!E$61-'EM-Ber-CLM10-6'!C$47*9.81),'EM-LM-6'!K$20>'Allgemeine Werte'!G$61+'EM-Ber-CLM10-6'!C$47*9.81)),1,0)","v":0},null,{"$f":"IF(OR(I115=1,I116=1,I117=1,I118=1),1,0)","v":0}]
[null,null,null,null,null,null,null,null,{"$f":"IF(AND('EM-LM-6'!G$51=TRUE,'EM-LM-6'!G$52=FALSE,OR('EM-LM-6'!K$20<-('Allgemeine Werte'!E$61+'EM-Ber-CLM10-6'!C$47*9.81),'EM-LM-6'!K$20>'Allgemeine Werte'!G$61-'EM-Ber-CLM10-6'!C$47*9.81)),1,0)","v":0}]
[null,null,null,null,null,null,null,null,{"$f":"IF(AND('EM-LM-6'!G$51=FALSE,'EM-LM-6'!G$52=FALSE,OR('EM-LM-6'!K$20>'Allgemeine Werte'!E$61-'EM-Ber-CLM10-6'!C$47*9.81,'EM-LM-6'!K$20<-('Allgemeine Werte'!G$61+'EM-Ber-CLM10-6'!C$47*9.81))),1,0)","v":0}]
[null,null,null,null,null,null,null,null,{"$f":"IF(AND('EM-LM-6'!G$51=FALSE,'EM-LM-6'!G$52=TRUE,OR('EM-LM-6'!K$20>'Allgemeine Werte'!E$61+'EM-Ber-CLM10-6'!C$47*9.81,'EM-LM-6'!K$20<-('Allgemeine Werte'!G$61-'EM-Ber-CLM10-6'!C$47*9.81))),1,0)","v":0}]
[null,null,null,null,null,null,"KLM 300",null,{"$f":"IF(AND('EM-LM-6'!G$51=TRUE,'EM-LM-6'!G$52=TRUE,OR('EM-LM-6'!K$20<-('Allgemeine Werte'!E$57-'EM-Ber-KLM300-6'!C$47*9.81),'EM-LM-6'!K$20>'Allgemeine Werte'!G$57+'EM-Ber-KLM300-6'!C$47*9.81)),1,0)","v":0},null,{"$f":"IF(OR(I119=1,I120=1,I121=1,I122=1),1,0)","v":0}]
[null,null,null,null,null,null,null,null,{"$f":"IF(AND('EM-LM-6'!G$51=TRUE,'EM-LM-6'!G$52=FALSE,OR('EM-LM-6'!K$20<-('Allgemeine Werte'!E$57+'EM-Ber-KLM300-6'!C$47*9.81),'EM-LM-6'!K$20>'Allgemeine Werte'!G$57-'EM-Ber-KLM300-6'!C$47*9.81)),1,0)","v":0}]
[null,null,null,null,null,null,null,null,{"$f":"IF(AND('EM-LM-6'!G$51=FALSE,'EM-LM-6'!G$52=FALSE,OR('EM-LM-6'!K$20>'Allgemeine Werte'!E$57-'EM-Ber-KLM300-6'!C$47*9.81,'EM-LM-6'!K$20<-('Allgemeine Werte'!G$57+'EM-Ber-KLM300-6'!C$47*9.81))),1,0)","v":0}]
[null,null,null,null,null,null,null,null,{"$f":"IF(AND('EM-LM-6'!G$51=FALSE,'EM-LM-6'!G$52=TRUE,OR('EM-LM-6'!K$20>'Allgemeine Werte'!E$57+'EM-Ber-KLM300-6'!C$47*9.81,'EM-LM-6'!K$20<-('Allgemeine Werte'!G$57-'EM-Ber-KLM300-6'!C$47*9.81))),1,0)","v":0}]

{"sheet":"EM-PMP-1","index":15,"n_rows":57,"n_cols":17,"rows_kept":57,"cut":false,"hidden":false,"merged":[[39,14,39,16],[40,14,40,16],[40,6,40,8],[42,6,42,10],[42,14,42,16],[39,10,39,12],[40,10,40,12],[30,10,30,12],[31,10,31,12],[5,10,5,16],[7,12,7,16],[9,12,9,16],[26,12,26,16],[26,9,26,11],[30,14,30,16],[31,14,31,16],[38,6,38,8],[39,6,39,8],[5,2,5,6],[26,2,26,6],[27,2,28,2],[29,2,42,4],[30,6,30,8],[31,6,31,8],[32,6,32,8],[33,6,33,8],[38,14,38,16],[32,10,32,12],[33,10,33,12],[34,10,34,12],[37,10,37,12],[32,14,32,16],[33,14,33,16],[38,10,38,12],[36,10,36,12],[36,14,36,16],[34,6,34,8],[34,14,34,16],[37,14,37,16],[37,6,37,8],[36,6,36,8]]}
[]
[{"$f":"Translation!A14","v":"Toolbox-Translation - MODULARE MONTAGEAUTOMATION"}]
[{"$f":"Translation!A104","v":"Berechnung Portalmodule"}]
[]
[]
[null,null,{"$f":"Translation!A107","v":"PMP - Portalmodule"},null,null,null,null,null,null,null,{"$f":"Translation!A111","v":"Geben Sie Ihre Werte mit -Enter- ein !"}]
[]
[null,null,null,null,null,null,null,null,"H (mm)",null,10,null,{"$f":"Translation!A112","v":"H = Hub ( max. 3700 )"}]
[]
[null,null,null,null,null,null,null,null,null,null,{"$f":"Translation!A113","v":"Masse (m)"},null,{"$f":"Translation!A115","v":"Koordinaten Massenschwerpunkt / Kraftangriff"}]
[]
[null,null,null,null,null,null,null,null,null,null,{"$f":"Translation!A114","v":"Kraft (F)"},null,"X  ( mm )",null,"Y  ( mm )",null,"Z  ( mm )"]
[]
[null,null,null,null,null,null,null,null,"m (kg)",null,0,null,0,null,0,null,0]
[]
[null,null,null,null,null,null,null,null,null,null,null,null,"( N )"]
[]
[null,null,null,null,null,null,null,null,"Fx (N)",null,0,null,null,null,0,null,0]
[]
[null,null,null,null,null,null,null,null,"Fy (N)",null,0,null,0,null,null,null,0]
[]
[null,null,null,null,null,null,null,null,"Fz (N)",null,0,null,0,null,0]
[]
[]
[]
[]
[null,null,{"$f":"Translation!A110","v":"Achtung: Kräfte und Koordinaten mit Vorzeichen !"},null,null,null,null,null,null,"+                     -",null,null,{"$f":"Translation!A117","v":"Hier ändern Sie die Verfahrzeit"}]
[null,null,{"$f":"Translation!A130","v":"ACHTUNG:"}]
[]
[null,null,{"$f":"Translation!A131","v":"Die angegebenen Verfahrzeiten sind reine Verfahrzeiten von einer Endlage in die andere Endlage.\nVentilschaltzeiten, Schlauchbefüllungszeiten oder SPS-Reaktionszeiten sind nicht enthalten und bei der Ermittlung von Zykluszeiten zu berücksichtigen.\nBitte beachten Sie, dass zum Erreichen der minimal möglichen Verfahrzeit die kundenseitige Stützkonstruktion der resultierenden Dynamik angepasst werden muss !"}]
[null,null,null,null,null,null,{"$f":"Translation!A118","v":"Module"},null,null,null,{"$f":"IF(OR(K14>20,K8>3700,I54=1),\" \",\"PMP 16\")","v":"PMP 16"},null,null,null,{"$f":"IF(OR(K14>40,K8>3700,I56=1),\" \",\"PMP 25\")","v":"PMP 25"}]
[null,null,null,null,null,null,{"$f":"Translation!A119","v":"Katalogseite"},null,null,null,{"$f":"IF(K31=\"PMP 16\",\"01.520\",\" \")","v":"01.520"},null,null,null,{"$f":"IF(O31=\"PMP 25\",\"01.530\",\" \")","v":"01.530"}]
[null,null,null,null,null,null,{"$f":"Translation!A120","v":"Zyl.-kraft bei 6 bar ( N )"},null,null,null,{"$f":"IF(K31=\"PMP 16\",\"100\",C50)","v":"100"},null,null,null,{"$f":"IF(O31=\"PMP 25\",\"250\",C50)","v":"250"}]
[]
[null,null,null,null,null,null,{"$f":"Translation!A122","v":"Führungssystem"},null,null,null,{"$f":"IF(K31=\"PMP 16\",C51,\" \")","v":"Profilschienenführung"},null,null,null,{"$f":"IF(O31=\"PMP 25\",C51,\" \")","v":"Profilschienenführung"}]
[]
[null,null,null,null,null,null,{"$f":"Translation!A132","v":"Verzögerungskraft ( N )"},null,null,null,{"$f":"IF(K31=\"PMP 16\",'EM-Ber-PMP16-1'!C43,-1)","v":0.51106980288749992},null,null,null,{"$f":"IF(O31=\"PMP 25\",'EM-Ber-PMP25-1'!C43,-1)","v":0.61772312102955107}]
[null,null,null,null,null,null,{"$f":"Translation!A123","v":"Auslastung Führung"},null,null,null,{"$f":"IF(K31=\"PMP 16\",'EM-Ber-PMP16-1'!J38,-1)","v":0},null,null,null,{"$f":"IF(O31=\"PMP 25\",'EM-Ber-PMP25-1'!J38,-1)","v":0}]
[null,null,null,null,null,null,{"$f":"Translation!A124","v":"Auslastung Dämpfer/Hub"},null,null,null,{"$f":"IF(K31=\"PMP 16\",'EM-Ber-PMP16-1'!C55,-1)","v":0.1131311561599263},null,null,null,{"$f":"IF(O31=\"PMP 25\",'EM-Ber-PMP25-1'!C55,-1)","v":0.15410084584067063}]
[null,null,null,null,null,null,{"$f":"Translation!A125","v":"Verfahrzeit / Hub ( s )"},null,null,null,{"$f":"IF(K31=\"PMP 16\",'EM-Ber-PMP16-1'!L50,-1)","v":0.214},null,null,null,{"$f":"IF(O31=\"PMP 25\",'EM-Ber-PMP25-1'!L50,-1)","v":0.23500000000000001}]
[null,null,null,null,null,null,{"$f":"Translation!A126","v":"Max. Zyklenzahl / Min."},null,null,null,{"$f":"IF(K31=\"PMP 16\",'EM-Ber-PMP16-1'!G52,-1)","v":120},null,null,null,{"$f":"IF(O31=\"PMP 25\",'EM-Ber-PMP25-1'!G52,-1)","v":80}]
[]
[null,null,null,null,null,null,{"$f":"Translation!A127","v":"Anzahl der Stoßdämpfer pro Endlage"},null,null,null,null,null,null,null,1]
[]
[]
[]
[]
[]
[null,null,null,null,null,null,null,null,{"$f":"I50*0.01","v":2.02}]
[null,null,{"$f":"Translation!A129","v":"UNZULÄSSIG"},null,null,null,null,null,202]
[null,null,{"$f":"Translation!A128","v":"Profilschienenführung"},null,null,null,false]
[]
[]
[null,null,"Wegfallkriterium wegen Kraft Y:",null,"PMP 16",null,{"$f":"IF(AND(G51=TRUE,OR(K20>'Allgemeine Werte'!G58,K20<-'Allgemeine Werte'!E58)),1,0)","v":0},null,{"$f":"IF(OR(G54=1,G55=1),1,0)","v":0}]
[null,null,null,null,null,null,{"$f":"IF(AND(G51=FALSE,OR(K20>'Allgemeine Werte'!E58,K20<-'Allgemeine Werte'!G58)),1,0)","v":0}]
[null,null,null,null,"PMP 25",null,{"$f":"IF(AND(G51=TRUE,OR(K20>'Allgemeine Werte'!G59,K20<-'Allgemeine Werte'!E59)),1,0)","v":0},null,{"$f":"IF(OR(G56=1,G57=1),1,0)","v":0}]
[null,null,null,null,null,null,{"$f":"IF(AND(G51=FALSE,OR(K20>'Allgemeine Werte'!E59,K20<-'Allgemeine Werte'!G59)),1,0)","v":0}]

{"sheet":"EM-PMP-2","index":16,"n_rows":57,"n_cols":17,"rows_kept":57,"cut":false,"hidden":false,"merged":[[26,2,26,6],[5,10,5,16],[7,12,7,16],[9,12,9,16],[26,9,26,11],[26,12,26,16],[5,2,5,6],[38,14,38,16],[39,14,39,16],[37,6,37,8],[38,6,38,8],[39,6,39,8],[30,6,30,8],[31,6,31,8],[32,6,32,8],[33,6,33,8],[37,14,37,16],[36,6,36,8],[36,10,36,12],[36,14,36,16],[30,14,30,16],[31,14,31,16],[32,14,32,16],[33,14,33,16],[34,14,34,16],[27,2,28,2],[29,2,42,4],[40,14,40,16],[42,14,42,16],[42,6,42,11],[34,10,34,12],[37,10,37,12],[38,10,38,12],[39,10,39,12],[40,10,40,12],[40,6,40,8],[34,6,34,8],[30,10,30,12],[31,10,31,12],[32,10,32,12],[33,10,33,12]]}
[]
[{"$f":"Translation!A14","v":"Toolbox-Translation - MODULARE MONTAGEAUTOMATION"}]
[{"$f":"Translation!A104","v":"Berechnung Portalmodule"}]
[]
[]
[null,null,{"$f":"Translation!A107","v":"PMP - Portalmodule"},null,null,null,null,null,null,null,{"$f":"Translation!A111","v":"Geben Sie Ihre Werte mit -Enter- ein !"}]
[]
[null,null,null,null,null,null,null,null,"H (mm)",null,10,null,{"$f":"Translation!A112","v":"H = Hub ( max. 3700 )"}]
[]
[null,null,null,null,null,null,null,null,null,null,{"$f":"Translation!A113","v":"Masse (m)"},null,{"$f":"Translation!A115","v":"Koordinaten Massenschwerpunkt / Kraftangriff"}]
[]
[null,null,null,null,null,null,null,null,null,null,{"$f":"Translation!A114","v":"Kraft (F)"},null,"X  ( mm )",null,"Y  ( mm )",null,"Z  ( mm )"]
[]
[null,null,null,null,null,null,null,null,"m (kg)",null,0,null,0,null,0,null,0]
[]
[null,null,null,null,null,null,null,null,null,null,null,null,"( N )"]
[]
[null,null,null,null,null,null,null,null,"Fx (N)",null,0,null,null,null,0,null,0]
[]
[null,null,null,null,null,null,null,null,"Fy (N)",null,0,null,0,null,null,null,0]
[]
[null,null,null,null,null,null,null,null,"Fz (N)",null,0,null,0,null,0]
[]
[]
[]
[]
[null,null,{"$f":"Translation!A110","v":"Achtung: Kräfte und Koordinaten mit Vorzeichen !"},null,null,null,null,null,null,"+                     -",null,null,{"$f":"Translation!A117","v":"Hier ändern Sie die Verfahrzeit"}]
[null,null,{"$f":"Translation!A130","v":"ACHTUNG:"}]
[]
[null,null,{"$f":"Translation!A131","v":"Die angegebenen Verfahrzeiten sind reine Verfahrzeiten von einer Endlage in die andere Endlage.\nVentilschaltzeiten, Schlauchbefüllungszeiten oder SPS-Reaktionszeiten sind nicht enthalten und bei der Ermittlung von Zykluszeiten zu berücksichtigen.\nBitte beachten Sie, dass zum Erreichen der minimal möglichen Verfahrzeit die kundenseitige Stützkonstruktion der resultierenden Dynamik angepasst werden muss !"}]
[null,null,null,null,null,null,{"$f":"Translation!A118","v":"Module"},null,null,null,{"$f":"IF(OR(K14>20,K8>3700,I54=1),\" \",\"PMP 16\")","v":"PMP 16"},null,null,null,{"$f":"IF(OR(K14>40,K8>3700,I56=1),\" \",\"PMP 25\")","v":"PMP 25"}]
[null,null,null,null,null,null,{"$f":"Translation!A119","v":"Katalogseite"},null,null,null,{"$f":"IF(K31=\"PMP 16\",\"01.520\",\" \")","v":"01.520"},null,null,null,{"$f":"IF(O31=\"PMP 25\",\"01.530\",\" \")","v":"01.530"}]
[null,null,null,null,null,null,{"$f":"Translation!A120","v":"Zyl.-kraft bei 6 bar ( N )"},null,null,null,{"$f":"IF(K31=\"PMP 16\",\"100\",C50)","v":"100"},null,null,null,{"$f":"IF(O31=\"PMP 25\",\"250\",C50)","v":"250"}]
[]
[null,null,null,null,null,null,{"$f":"Translation!A122","v":"Führungssystem"},null,null,null,{"$f":"IF(K31=\"PMP 16\",C51,\" \")","v":"Profilschienenführung"},null,null,null,{"$f":"IF(O31=\"PMP 25\",C51,\" \")","v":"Profilschienenführung"}]
[]
[null,null,null,null,null,null,{"$f":"Translation!A132","v":"Verzögerungskraft ( N )"},null,null,null,{"$f":"IF(K31=\"PMP 16\",'EM-Ber-PMP16-2'!C43,-1)","v":0.51106980288749992},null,null,null,{"$f":"IF(O31=\"PMP 25\",'EM-Ber-PMP25-2'!C43,-1)","v":0.61772312102955107}]
[null,null,null,null,null,null,{"$f":"Translation!A123","v":"Auslastung Führung"},null,null,null,{"$f":"IF(K31=\"PMP 16\",'EM-Ber-PMP16-2'!J38,-1)","v":0},null,null,null,{"$f":"IF(O31=\"PMP 25\",'EM-Ber-PMP25-2'!J38,-1)","v":0}]
[null,null,null,null,null,null,{"$f":"Translation!A124","v":"Auslastung Dämpfer/Hub"},null,null,null,{"$f":"IF(K31=\"PMP 16\",'EM-Ber-PMP16-2'!C55,-1)","v":0.1131311561599263},null,null,null,{"$f":"IF(O31=\"PMP 25\",'EM-Ber-PMP25-2'!C55,-1)","v":0.15410084584067063}]
[null,null,null,null,null,null,{"$f":"Translation!A125","v":"Verfahrzeit / Hub ( s )"},null,null,null,{"$f":"IF(K31=\"PMP 16\",'EM-Ber-PMP16-2'!L50,-1)","v":0.214},null,null,null,{"$f":"IF(O31=\"PMP 25\",'EM-Ber-PMP25-2'!L50,-1)","v":0.23500000000000001}]
[null,null,null,null,null,null,{"$f":"Translation!A126","v":"Max. Zyklenzahl / Min."},null,null,null,{"$f":"IF(K31=\"PMP 16\",'EM-Ber-PMP16-2'!G52,-1)","v":120},null,null,null,{"$f":"IF(O31=\"PMP 25\",'EM-Ber-PMP25-2'!G52,-1)","v":80}]
[]
[null,null,null,null,null,null,{"$f":"Translation!A127","v":"Anzahl der Stoßdämpfer pro Endlage"},null,null,null,null,null,null,null,1]
[]
[]
[]
[]
[]
[null,null,null,null,null,null,null,null,{"$f":"I50*0.01","v":2.02}]
[null,null,{"$f":"Translation!A129","v":"UNZULÄSSIG"},null,null,null,null,null,202]
[null,null,{"$f":"Translation!A128","v":"Profilschienenführung"},null,null,null,false]
[]
[]
[null,null,"Wegfallkriterium wegen Kraft Y:",null,"PMP 16",null,{"$f":"IF(AND(G51=TRUE,OR(K20>'Allgemeine Werte'!G58,K20<-'Allgemeine Werte'!E58)),1,0)","v":0},null,{"$f":"IF(OR(G54=1,G55=1),1,0)","v":0}]
[null,null,null,null,null,null,{"$f":"IF(AND(G51=FALSE,OR(K20>'Allgemeine Werte'!E58,K20<-'Allgemeine Werte'!G58)),1,0)","v":0}]
[null,null,null,null,"PMP 25",null,{"$f":"IF(AND(G51=TRUE,OR(K20>'Allgemeine Werte'!G59,K20<-'Allgemeine Werte'!E59)),1,0)","v":0},null,{"$f":"IF(OR(G56=1,G57=1),1,0)","v":0}]
[null,null,null,null,null,null,{"$f":"IF(AND(G51=FALSE,OR(K20>'Allgemeine Werte'!E59,K20<-'Allgemeine Werte'!G59)),1,0)","v":0}]

{"sheet":"EM-PMP-3","index":17,"n_rows":57,"n_cols":17,"rows_kept":57,"cut":false,"hidden":false,"merged":[[40,6,40,8],[42,6,42,10],[40,10,40,12],[5,2,5,6],[39,6,39,8],[32,10,32,12],[33,10,33,12],[34,10,34,12],[37,10,37,12],[38,10,38,12],[39,10,39,12],[9,12,9,16],[38,14,38,16],[26,2,26,6],[32,6,32,8],[33,6,33,8],[34,6,34,8],[27,2,28,2],[29,2,42,4],[26,9,26,11],[5,10,5,16],[7,12,7,16],[26,12,26,16],[30,10,30,12],[30,14,30,16],[31,16,31,18],[32,14,32,16],[37,6,37,8],[38,6,38,8],[39,14,39,16],[33,14,33,16],[36,6,36,8],[34,14,34,16],[37,14,37,16],[36,10,36,12],[36,14,36,16],[42,14,42,16],[40,14,40,16]]}
[]
[{"$f":"Translation!A14","v":"Toolbox-Translation - MODULARE MONTAGEAUTOMATION"}]
[{"$f":"Translation!A104","v":"Berechnung Portalmodule"}]
[]
[]
[null,null,{"$f":"Translation!A107","v":"PMP - Portalmodule"},null,null,null,null,null,null,null,{"$f":"Translation!A111","v":"Geben Sie Ihre Werte mit -Enter- ein !"}]
[]
[null,null,null,null,null,null,null,null,"H (mm)",null,10,null,{"$f":"Translation!A112","v":"H = Hub ( max. 3700 )"}]
[]
[null,null,null,null,null,null,null,null,null,null,{"$f":"Translation!A113","v":"Masse (m)"},null,{"$f":"Translation!A115","v":"Koordinaten Massenschwerpunkt / Kraftangriff"}]
[]
[null,null,null,null,null,null,null,null,null,null,{"$f":"Translation!A114","v":"Kraft (F)"},null,"X  ( mm )",null,"Y  ( mm )",null,"Z  ( mm )"]
[]
[null,null,null,null,null,null,null,null,"m (kg)",null,0,null,0,null,0,null,0]
[]
[null,null,null,null,null,null,null,null,null,null,null,null,"( N )"]
[]
[null,null,null,null,null,null,null,null,"Fx (N)",null,0,null,null,null,0,null,0]
[]
[null,null,null,null,null,null,null,null,"Fy (N)",null,0,null,0,null,null,null,0]
[]
[null,null,null,null,null,null,null,null,"Fz (N)",null,0,null,0,null,0]
[]
[]
[]
[]
[null,null,{"$f":"Translation!A110","v":"Achtung: Kräfte und Koordinaten mit Vorzeichen !"},null,null,null,null,null,null,"+                     -",null,null,{"$f":"Translation!A117","v":"Hier ändern Sie die Verfahrzeit"}]
[null,null,{"$f":"Translation!A130","v":"ACHTUNG:"}]
[]
[null,null,{"$f":"Translation!A131","v":"Die angegebenen Verfahrzeiten sind reine Verfahrzeiten von einer Endlage in die andere Endlage.\nVentilschaltzeiten, Schlauchbefüllungszeiten oder SPS-Reaktionszeiten sind nicht enthalten und bei der Ermittlung von Zykluszeiten zu berücksichtigen.\nBitte beachten Sie, dass zum Erreichen der minimal möglichen Verfahrzeit die kundenseitige Stützkonstruktion der resultierenden Dynamik angepasst werden muss !"}]
[null,null,null,null,null,null,{"$f":"Translation!A118","v":"Module"},null,null,null,{"$f":"IF(OR(K14>5,K8>3700,I54=1),\" \",\"PMP 16\")","v":"PMP 16"},null,null,null,{"$f":"IF(OR(K14>12.5,K8>3700,I56=1),\" \",\"PMP 25\")","v":"PMP 25"}]
[null,null,null,null,null,null,null,null,{"$f":"Translation!A119","v":"Katalogseite"},null,null,null,{"$f":"IF(K31=\"PMP 16\",\"01.520\",\" \")","v":"01.520"},null,null,null,{"$f":"IF(O31=\"PMP 25\",\"01.530\",\" \")","v":"01.530"}]
[null,null,null,null,null,null,{"$f":"Translation!A120","v":"Zyl.-kraft bei 6 bar ( N )"},null,null,null,{"$f":"IF(K31=\"PMP 16\",\"100\",C50)","v":"100"},null,null,null,{"$f":"IF(O31=\"PMP 25\",\"250\",C50)","v":"250"}]
[]
[null,null,null,null,null,null,{"$f":"Translation!A122","v":"Führungssystem"},null,null,null,{"$f":"IF(K31=\"PMP 16\",C51,\" \")","v":"Profilschienenführung"},null,null,null,{"$f":"IF(O31=\"PMP 25\",C51,\" \")","v":"Profilschienenführung"}]
[]
[null,null,null,null,null,null,{"$f":"Translation!A132","v":"Verzögerungskraft ( N )"},null,null,null,{"$f":"IF(K31=\"PMP 16\",'EM-Ber-PMP16-3'!C43,-1)","v":0.31388102792064798},null,null,null,{"$f":"IF(O31=\"PMP 25\",'EM-Ber-PMP25-3'!C43,-1)","v":0.56576815607039077}]
[null,null,null,null,null,null,{"$f":"Translation!A123","v":"Auslastung Führung"},null,null,null,{"$f":"IF(K31=\"PMP 16\",'EM-Ber-PMP16-3'!J38,-1)","v":0},null,null,null,{"$f":"IF(O31=\"PMP 25\",'EM-Ber-PMP25-3'!J38,-1)","v":0}]
[null,null,null,null,null,null,{"$f":"Translation!A124","v":"Auslastung Dämpfer/Hub"},null,null,null,{"$f":"IF(K31=\"PMP 16\",'EM-Ber-PMP16-3'!C55,-1)","v":0.12625455424707144},null,null,null,{"$f":"IF(O31=\"PMP 25\",'EM-Ber-PMP25-3'!C55,-1)","v":0.16856803979357976}]
[null,null,null,null,null,null,{"$f":"Translation!A125","v":"Verfahrzeit / Hub ( s )"},null,null,null,{"$f":"IF(K31=\"PMP 16\",'EM-Ber-PMP16-3'!L50,-1)","v":0.27300000000000002},null,null,null,{"$f":"IF(O31=\"PMP 25\",'EM-Ber-PMP25-3'!L50,-1)","v":0.246}]
[null,null,null,null,null,null,{"$f":"Translation!A126","v":"Max. Zyklenzahl / Min."},null,null,null,{"$f":"IF(K31=\"PMP 16\",'EM-Ber-PMP16-3'!G52,-1)","v":109.89010989010988},null,null,null,{"$f":"IF(O31=\"PMP 25\",'EM-Ber-PMP25-3'!G52,-1)","v":80}]
[]
[null,null,null,null,null,null,{"$f":"Translation!A127","v":"Anzahl der Stoßdämpfer pro Endlage"},null,null,null,null,null,null,null,1]
[]
[]
[]
[]
[]
[null,null,null,null,null,null,null,null,{"$f":"I50*0.01","v":2.02}]
[null,null,{"$f":"Translation!A129","v":"UNZULÄSSIG"},null,null,null,null,null,202]
[null,null,{"$f":"Translation!A128","v":"Profilschienenführung"},null,null,null,false]
[]
[]
[null,null,"Wegfallkriterium wegen Kraft Y:",null,"PMP 16",null,{"$f":"IF(AND(G51=TRUE,OR(K20>'Allgemeine Werte'!G58+'EM-Ber-PMP16-3'!C47*9.81,K20<-('Allgemeine Werte'!E58-'EM-Ber-PMP16-3'!C47*9.81))),1,0)","v":0},null,{"$f":"IF(OR(G54=1,G55=1),1,0)","v":0}]
[null,null,null,null,null,null,{"$f":"IF(AND(G51=FALSE,OR(K20>'Allgemeine Werte'!E58+'EM-Ber-PMP16-3'!C47*9.81,K20<-('Allgemeine Werte'!G58-'EM-Ber-PMP16-3'!C47*9.81))),1,0)","v":0}]
[null,null,null,null,"PMP 25",null,{"$f":"IF(AND(G51=TRUE,OR(K20>'Allgemeine Werte'!G59+'EM-Ber-PMP25-3'!C47*9.81,K20<-('Allgemeine Werte'!E59-'EM-Ber-PMP25-3'!C47*9.81))),1,0)","v":0},null,{"$f":"IF(OR(G56=1,G57=1),1,0)","v":0}]
[null,null,null,null,null,null,{"$f":"IF(AND(G51=FALSE,OR(K20>'Allgemeine Werte'!E59+'EM-Ber-PMP25-3'!C47*9.81,K20<-('Allgemeine Werte'!G59-'EM-Ber-PMP25-3'!C47*9.81))),1,0)","v":0}]

{"sheet":"EM-Ber-LM25-1","index":18,"n_rows":55,"n_cols":12,"rows_kept":55,"cut":false,"hidden":false,"merged":[]}
["Linearmodul Typ",null,"LM 25"]
[]
["Berechnung der Führungsbelastung"]
[null,null,null,null,null,null,"Statisch auf Grund","Statisch auf Grund"]
["Hub","mm",{"$f":"'EM-LM-1'!K8","v":10},null,null,null,"Zusatzmasse m","Zusatzmasse m","Dynamisch auf Grund","Statisch auf Grund","Statisch auf Grund"]
["Zylinderkraft","N",67,null,null,null,"Modul ausgef.","Modul eingef.","Zusatzmasse m","Zusatzkraft Modul eingef.","Zusatzkraft Modul ausgef."]
["Faktor",null,{"$f":"ROUNDDOWN(((C5-8)/17.1),0)","v":0},null,null,null,"I","II","III","IV","V"]
["Modulgewicht","kg",{"$f":"0.44+(C7*0.08)","v":0.44},null,"Moment Mx=M2","Nm",{"$f":"(C12*9.81)*((C38+C34/2+C33)/1000)","v":0},{"$f":"C12*9.81*((C37+C34/2+C33)/1000)","v":0},{"$f":"C42*(C15/1000)","v":0},{"$f":"(C21*C23/1000)-C25*((C27+C37+C34/2)/1000)","v":0},{"$f":"(C21*C23/1000)-C25*((C27+C38+C34/2)/1000)","v":0}]
["Zylinderkraft zurück","N",50,null,"Moment My=M1","Nm",{"$f":"C12*9.81*(C13/1000)","v":0},{"$f":"C12*9.81*(C13/1000)","v":0},"-",{"$f":"C17*C19/1000-C25*(C26/1000)","v":0},{"$f":"C17*C19/1000-C25*(C26/1000)","v":0}]
["Verfahrgeschwindigkeit","m/s",{"$f":"'EM-LM-1-1'!I58","v":2.02},null,"Moment Mz=M3","Nm","-","-",{"$f":"C42*(C13/1000)","v":0},{"$f":"C21*C22/1000-C17*(C18+C37+C34/2)/1000","v":0},{"$f":"C21*C22/1000-C17*(C18+C38+C34/2)/1000","v":0}]
[null,null,null,null,null,null,null,null,null,{"$f":"'EM-LM-1'!G51","v":true}]
["Zusatzmasse","kg",{"$f":"'EM-LM-1'!K14","v":0},null,"Mx Summe  I + III","Nm",{"$f":"G8+I8","v":0}]
["Schwerpunktabstand x-Richtung","mm",{"$f":"'EM-LM-1'!M14","v":0},null,"Absolutbetrag",null,{"$f":"ABS(G12)","v":0}]
["Schwerpunktabstand y-Richtung","mm",{"$f":"'EM-LM-1'!O14","v":0},null,"Mx Summe  II-III",null,{"$f":"H8-I8","v":0}]
["Schwerpunktabstand z-Richt.(Mitte Rolle)","mm",{"$f":"'EM-LM-1'!Q14+9","v":9},null,"Absolutbetrag",null,{"$f":"ABS(G14)","v":0}]
[null,null,null,null,"I ","Nm",{"$f":"ABS(G8)","v":0}]
["Zusatzkraft Fx","N",{"$f":"'EM-LM-1'!K18","v":0},null,"I oder I+III oder II-III",null,{"$f":"MAX(G16,G15,G13)","v":0}]
["Kraftangriffspunkt von Fx in y-Richtung","mm",{"$f":"'EM-LM-1'!O18","v":0},null,"Mx Summe  I+V oder II+IV","Nm",{"$f":"IF(AND(J8=0,K8=0),MAX(G8,H8),IF(J11=TRUE,H8+J8,G8+K8))","v":0}]
["Kraftangrp. von Fx in z-Richt.(Mitte Rolle)","mm",{"$f":"'EM-LM-1'!Q18+9","v":9},null,"Absolutbetrag",null,{"$f":"ABS(G18)","v":0}]
[null,null,null,null,"Mx ges","Nm",{"$f":"MAX(G17,G19)","v":0}]
["Zusatzkraft Fy","N",{"$f":"'EM-LM-1'!K20","v":0},null,"Mx zul","Nm",{"$f":"C34/1000*120","v":4.8},null,"Maximal-Werte der Momente und Kräfte nicht aus Katalog, sondern exakt berechnete Werte !!"]
["Kraftangriffspunkt von Fy in x-Richtung","mm",{"$f":"'EM-LM-1'!M20","v":0}]
["Kraftangrp. von Fy in z-Richt.(Mitte Rolle)","mm",{"$f":"'EM-LM-1'!Q20+9","v":9},null,"My Summe  I+V ( = II+IV )","Nm",{"$f":"G9+K9","v":0}]
[null,null,null,null,"Absolutbetrag",null,{"$f":"ABS(G23)","v":0}]
["Zusatzkraft Fz","N",{"$f":"'EM-LM-1'!K22","v":0},null,"My ges","Nm",{"$f":"G24","v":0}]
["Kraftangriffspunkt von Fz in x-Richtung","mm",{"$f":"'EM-LM-1'!M22","v":0},null,"My zul","Nm",{"$f":"4.4+(0.85*C7)","v":4.4000000000000004}]
["Kraftangriffspunkt von Fz in y-Richtung","mm",{"$f":"'EM-LM-1'!O22","v":0}]
[]
[null,null,null,null,"Mz III","Nm",{"$f":"I10","v":0}]
["Länge L (Stirnplatte zu 1. Rolle - HubN/2)","mm",29,null,"Absolutbetrag",null,{"$f":"ABS(G29)","v":0}]
["Nennhub/2        HubN/2","mm",{"$f":"(25+(C7*17))/2","v":12.5},null,"Mz IV/V","Nm",{"$f":"IF(J11=TRUE,J10,K10)","v":0}]
["tatsächlicher gefahrener Hub/2","mm",{"$f":"C5/2","v":5},null,"Absolutbetrag",null,{"$f":"ABS(G31)","v":0}]
["Schwerpunktabstand in y-Richtung","mm",{"$f":"C14","v":0},null,"Mz ges","Nm",{"$f":"MAX(G30,G32)","v":0}]
["Wert K ( Abstand erste / letzte Rolle )","mm",{"$f":"40+(C7*8)","v":40},null,"Mz zul","Nm",{"$f":"G21/2","v":2.4}]
[]
[null,null,null,null,null,null,null,null,"Belastungsgleichung stat.",{"$f":"G19/G21+G25/G26+G32/G34+G38/G39+G42/G43","v":0}]
["l1 bei eingefahrenem Hub","mm",{"$f":"C30+C31","v":41.5},null,"Fx ges","N",{"$f":"C17","v":0},null,"Belastungsgleichung dyn.",{"$f":"G17/G21+G30/G34+G40/G43","v":0}]
["l1 bei ausgefahrenem Hub","mm",{"$f":"C30+C31+C32","v":46.5},null,"Absolutwert",null,{"$f":"ABS(G37)","v":0},null,"Belastungsgleichung",{"$f":"MAX(J36:J37)","v":0}]
[null,null,null,null,"Fx zul","N",{"$f":"G43","v":660}]
["Stoßdämpferhub s ( Hub bis a=0 )","m",{"$f":"'Allgemeine Werte'!M34","v":4.0200000000000001E-3},null,"Gewichtskraft","N",{"$f":"C12*9.81","v":0}]
["Verzögerung a=vxv/2xs","m/s2",{"$f":"POWER(C48,2)/(2*C40)","v":1.4662795100633013},null,"Fz ges abs","N",{"$f":"ABS(-C25+C12*9.81)","v":0},null,"Verfahrzeitberechnung",null,{"$f":"0.000709343*POWER(C5,2)-0.095761246*C5+6.100692042","v":5.2140138820000006}]
["Kraft zur Verzögerung der Masse","N",{"$f":"C12*C41","v":0},null,"Max aus E40,E41",null,{"$f":"MAX(G40,G41)","v":0},null,"Verfahrzeit berechnet ( t=Wurzel aus (2xsxm/F)",null,{"$f":"(SQRT(2*(C5/1000)*(C12+C8/2)/C9))*K41","v":4.891178576814189E-2}]
["Kraft zur Verzög. d. Masse incl Modul/2","N",{"$f":"C47*C41","v":0.32258149221392629},null,"Fz zul","N",{"$f":"660+120*C7","v":660},null,"Mittlere Verfahrgeschwindigkeit berechnet",null,{"$f":"(C5/1000)/K42","v":0.20444970149737166}]
[null,null,null,null,null,null,null,null,"Endgeschwindigkeit berechnet",null,{"$f":"K43*'Allgemeine Werte'!E71","v":0.3577869776204004}]
["Stoßdämpferberechnung",null,null,null,"Max. Zyklenzahl / Min."]
["Anzahl Stoßdämpfer",null,1,null,"Zyklen aus Verfahrzeit",null,{"$f":"60/(2*L50)","v":186.13138686131384},null,"Endgeschwindigkeit (Eingabe)",null,{"$f":"C10","v":2.02}]
["Gesamtmasse","kg",{"$f":"C12+C8/2","v":0.22},null,null,null,null,null,"Mittlere Verfahrgeschwindigkeit (Eingabe)   m/s",null,{"$f":"C10/'Allgemeine Werte'!E71","v":1.1542857142857144}]
["Aufprallgeschwindigkeit","m/s",{"$f":"L54","v":0.10857664233576642},null,"Ezul / Stunde","Nm",{"$f":"'Allgemeine Werte'!H34*C46*0.95","v":13680},null,"Verfahrzeit (Eingabe)","s",{"$f":"(C5/1000)/K47","v":8.6633663366336624E-3},"Verfahrzeit für Berechnung"]
["W1","Nm",{"$f":"C47*POWER(C48,2)*0.5","v":1.2967775986999837E-3},null,"Ezul / Minute","Nm",{"$f":"G48/60","v":228},null,null,null,null,"( max )"]
["Hub Stoßdämpfer","m",{"$f":"'Allgemeine Werte'!L34","v":6.0000000000000001E-3},null,"Zyklen aus Ezul",null,{"$f":"G49/C53","v":565.34049529865354},null,"min. Verfahrzeit vor","gemessen",{"$f":"0.14+((C5-8)/17)*0.01","v":0.14117647058823532},{"$f":"MAX(K48,K53,K42)","v":0.16117647058823531}]
["Zylinderkraft","N",67,null,null,null,null,null,"Mittlere Verfahrgeschwindigkeit vor",null,{"$f":"(C5/1000)/K50","v":7.0833333333333318E-2}]
["W2 ( Antriebsenergie )","Nm",{"$f":"C51*C50","v":0.40200000000000002},null,"Max. Zyklen",null,{"$f":"MIN(G46,G50,G55)","v":120},null,"Endgeschwindigkeit vor",null,{"$f":"K51*'Allgemeine Werte'!E71","v":0.12395833333333331},"Endgeschwindigkeit f. Ber."]
["W1+W2 ( Energie / Hub )","Nm",{"$f":"C52+C49","v":0.40329677759870003},null,null,null,null,null,"min. Verfahrzeit zurück",null,{"$f":"0.16+((C5-8)/17)*0.01","v":0.16117647058823531},"( min )"]
["Ezul / Zyklus ( Hub )","Nm",{"$f":"'Allgemeine Werte'!G34*C50/'Allgemeine Werte'!K34*C46","v":3.0000000000000004},null,"Stoßd.-kolbenrückstellzeit",null,{"$f":"'Allgemeine Werte'!E34","v":0.5},null,"Mittlere Verfahrgeschwindigkeit zurück",null,{"$f":"(C5/1000)/K53","v":6.204379562043795E-2},{"$f":"MIN(K46,K55,K44)","v":0.10857664233576642}]
["Auslastung / Zyklus",null,{"$f":"C53/C54","v":0.13443225919956667},null,"Max. Zyklen aus Rückstellzeit",null,{"$f":"60/G54","v":120},null,"Endgeschwindigkeit zurück",null,{"$f":"K54*'Allgemeine Werte'!E71","v":0.10857664233576642}]

{"sheet":"EM-Ber-LM25-2","index":19,"n_rows":55,"n_cols":12,"rows_kept":55,"cut":false,"hidden":false,"merged":[]}
["Linearmodul Typ",null,"LM 25"]
[]
["Berechnung der Führungsbelastung"]
[null,null,null,null,null,null,"Statisch auf Grund","Statisch auf Grund"]
["Hub","mm",{"$f":"'EM-LM-2'!K8","v":10},null,null,null,"Zusatzmasse m","Zusatzmasse m","Dynamisch auf Grund","Statisch auf Grund","Statisch auf Grund"]
["Zylinderkraft","N",67,null,null,null,"Modul ausgef.","Modul eingef.","Zusatzmasse m","Zusatzkraft Modul eingef.","Zusatzkraft Modul ausgef."]
["Faktor",null,{"$f":"ROUNDDOWN(((C5-8)/17.1),0)","v":0},null,null,null,"I","II","III","IV","V"]
["Modulgewicht","kg",{"$f":"0.44+(C7*0.08)","v":0.44},null,"Moment Mx=M3","Nm",{"$f":"(C12*9.81)*((C38+C34/2+C33)/1000)","v":0},{"$f":"C12*9.81*((C37+C34/2+C33)/1000)","v":0},{"$f":"C42*(C15/1000)","v":0},{"$f":"(C21*C23/1000)-C25*((C27+C37+C34/2)/1000)","v":0},{"$f":"(C21*C23/1000)-C25*((C27+C38+C34/2)/1000)","v":0}]
["Zylinderkraft zurück","N",50,null,"Moment My=M1","Nm",{"$f":"C12*9.81*((C13)/1000)","v":0},{"$f":"C12*9.81*((C13)/1000)","v":0},"-",{"$f":"C17*(C19/1000)-C25*C26/1000","v":0},{"$f":"C17*(C19/1000)-C25*C26/1000","v":0}]
["Verfahrgeschwindigkeit","m/s",{"$f":"'EM-LM-2-1'!I58","v":2.02},null,"Moment Mz=M2","Nm","-","-",{"$f":"C42*(C13/1000)","v":0},{"$f":"C21*C22/1000-C17*(C18+C37+C34/2)/1000","v":0},{"$f":"C21*C22/1000-C17*(C18+C38+C34/2)/1000","v":0}]
[null,null,null,null,null,null,null,null,null,{"$f":"'EM-LM-2'!G51","v":true}]
["Zusatzmasse","kg",{"$f":"'EM-LM-2'!K14","v":0},null,"Mx Summe  I + III","Nm",{"$f":"G8+I8","v":0}]
["Schwerpunktabstand x-Richt.(Mitte Rolle)","mm",{"$f":"'EM-LM-2'!M14+9","v":9},null,"Absolutbetrag",null,{"$f":"ABS(G12)","v":0}]
["Schwerpunktabstand y-Richtung","mm",{"$f":"'EM-LM-2'!O14","v":0},null,"Mx Summe  II-III",null,{"$f":"H8-I8","v":0}]
["Schwerpunktabstand z-Richtung","mm",{"$f":"'EM-LM-2'!Q14","v":0},null,"Absolutbetrag",null,{"$f":"ABS(G14)","v":0}]
[null,null,null,null,"I ","Nm",{"$f":"ABS(G8)","v":0}]
["Zusatzkraft Fx","N",{"$f":"'EM-LM-2'!K18","v":0},null,"I oder I+III oder II-III",null,{"$f":"MAX(G16,G15,G13)","v":0}]
["Kraftangriffspunkt von Fx in y-Richtung","mm",{"$f":"'EM-LM-2'!O18","v":0},null,"Mx Summe  I+V oder II+IV","Nm",{"$f":"IF(AND(J8=0,K8=0),MAX(G8,H8),IF(J11=TRUE,H8+J8,G8+K8))","v":0}]
["Kraftangriffspunkt von Fx in z-Richtung","mm",{"$f":"'EM-LM-2'!Q18","v":0},null,"Absolutbetrag",null,{"$f":"ABS(G18)","v":0}]
[null,null,null,null,"Mx ges","Nm",{"$f":"MAX(G17,G19)","v":0}]
["Zusatzkraft Fy","N",{"$f":"'EM-LM-2'!K20","v":0},null,"Mx zul","Nm",{"$f":"G34/2","v":2.4},null,"Maximal-Werte der Momente und Kräfte nicht aus Katalog, sondern exakt berechnete Werte !!"]
["Kraftangrp. von Fy in x-Richt. (Mitte Rolle)","mm",{"$f":"'EM-LM-2'!M20+9","v":9}]
["Kraftangrp. von Fy in z-Richt.","mm",{"$f":"'EM-LM-2'!Q20","v":0},null,"My Summe  I+V ( = II+IV )","Nm",{"$f":"G9+K9","v":0}]
[null,null,null,null,"Absolutbetrag",null,{"$f":"ABS(G23)","v":0}]
["Zusatzkraft Fz","N",{"$f":"'EM-LM-2'!K22","v":0},null,"My ges","Nm",{"$f":"G24","v":0}]
["Kraftangrp. von Fz in x-Richt. (Mitte Rolle)","mm",{"$f":"'EM-LM-2'!M22+9","v":9},null,"My zul","Nm",{"$f":"4.4+(0.85*C7)","v":4.4000000000000004}]
["Kraftangriffspunkt von Fz in y-Richtung","mm",{"$f":"'EM-LM-2'!O22","v":0}]
[]
[null,null,null,null,"Mz III","Nm",{"$f":"I10","v":0}]
["Länge L (Stirnplatte zu 1. Rolle - HubN/2)","mm",29,null,"Absolutbetrag",null,{"$f":"ABS(G29)","v":0}]
["Nennhub/2        HubN/2","mm",{"$f":"(25+(C7*17))/2","v":12.5},null,"Mz IV/V","Nm",{"$f":"IF(J11=TRUE,J10,K10)","v":0}]
["tatsächlicher gefahrener Hub/2","mm",{"$f":"C5/2","v":5},null,"Absolutbetrag",null,{"$f":"ABS(G31)","v":0}]
["Schwerpunktabstand in y-Richtung","mm",{"$f":"C14","v":0},null,"Mz ges","Nm",{"$f":"MAX(G30,G32)","v":0}]
["Wert K ( Abstand erste / letzte Rolle )","mm",{"$f":"40+(C7*8)","v":40},null,"Mz zul","Nm",{"$f":"C34/1000*120","v":4.8}]
[]
[null,null,null,null,null,null,null,null,"Belastungsgleichung stat.",{"$f":"G19/G21+G25/G26+G32/G34+G38/G39+G42/G43","v":0}]
["l1 bei eingefahrenem Hub","mm",{"$f":"C30+C31","v":41.5},null,"Fx ges","N",{"$f":"C17","v":0},null,"Belastungsgleichung dyn.",{"$f":"G17/G21+G30/G34+G40/G43","v":0}]
["l1 bei ausgefahrenem Hub","mm",{"$f":"C30+C31+C32","v":46.5},null,"Absolutwert",null,{"$f":"ABS(G37)","v":0},null,"Belastungsgleichung",{"$f":"MAX(J36:J37)","v":0}]
[null,null,null,null,"Fx zul","N",{"$f":"G43","v":660}]
["Stoßdämpferhub s ( Hub bis a=0 )","m",{"$f":"'Allgemeine Werte'!M34","v":4.0200000000000001E-3},null,"Gewichtskraft","N",{"$f":"C12*9.81","v":0}]
["Verzögerung a=vxv/2xs","m/s2",{"$f":"POWER(C48,2)/(2*C40)","v":1.4662795100633013},null,"Fz ges abs","N",{"$f":"ABS(-C25+C12*9.81)","v":0},null,"Verfahrzeitberechnung",null,{"$f":"0.000709343*POWER(C5,2)-0.095761246*C5+6.100692042","v":5.2140138820000006}]
["Kraft zur Verzögerung der Masse","N",{"$f":"C12*C41","v":0},null,"Max aus E40,E41",null,{"$f":"MAX(G40,G41)","v":0},null,"Verfahrzeit berechnet ( t=Wurzel aus (2xsxm/F)",null,{"$f":"(SQRT(2*(C5/1000)*(C12+C8/2)/C9))*K41","v":4.891178576814189E-2}]
["Kraft zur Verzög. d. Masse incl Modul/2","N",{"$f":"C47*C41","v":0.32258149221392629},null,"Fz zul","N",{"$f":"660+120*C7","v":660},null,"Mittlere Verfahrgeschwindigkeit berechnet",null,{"$f":"(C5/1000)/K42","v":0.20444970149737166}]
[null,null,null,null,null,null,null,null,"Endgeschwindigkeit berechnet",null,{"$f":"K43*'Allgemeine Werte'!E71","v":0.3577869776204004}]
["Stoßdämpferberechnung",null,null,null,"Max. Zyklenzahl / Min."]
["Anzahl Stoßdämpfer",null,1,null,"Zyklen aus Verfahrzeit",null,{"$f":"60/(2*L50)","v":186.13138686131384},null,"Endgeschwindigkeit (Eingabe)",null,{"$f":"C10","v":2.02}]
["Gesamtmasse","kg",{"$f":"C12+C8/2","v":0.22},null,null,null,null,null,"Mittlere Verfahrgeschwindigkeit (Eingabe)   m/s",null,{"$f":"C10/'Allgemeine Werte'!E71","v":1.1542857142857144}]
["Aufprallgeschwindigkeit","m/s",{"$f":"L54","v":0.10857664233576642},null,"Ezul / Stunde","Nm",{"$f":"'Allgemeine Werte'!H34*C46*0.95","v":13680},null,"Verfahrzeit (Eingabe)","s",{"$f":"(C5/1000)/K47","v":8.6633663366336624E-3},"Verfahrzeit für Berechnung"]
["W1","Nm",{"$f":"C47*POWER(C48,2)*0.5","v":1.2967775986999837E-3},null,"Ezul / Minute","Nm",{"$f":"G48/60","v":228},null,null,null,null,"( max )"]
["Hub Stoßdämpfer","m",{"$f":"'Allgemeine Werte'!L34","v":6.0000000000000001E-3},null,"Zyklen aus Ezul",null,{"$f":"G49/C53","v":565.34049529865354},null,"min. Verfahrzeit vor","gemessen",{"$f":"0.14+((C5-8)/17)*0.01","v":0.14117647058823532},{"$f":"MAX(K48,K53,K42)","v":0.16117647058823531}]
["Zylinderkraft","N",67,null,null,null,null,null,"Mittlere Verfahrgeschwindigkeit vor",null,{"$f":"(C5/1000)/K50","v":7.0833333333333318E-2}]
["W2 ( Antriebsenergie )","Nm",{"$f":"C51*C50","v":0.40200000000000002},null,"Max. Zyklen",null,{"$f":"MIN(G46,G50,G55)","v":120},null,"Endgeschwindigkeit vor",null,{"$f":"K51*'Allgemeine Werte'!E71","v":0.12395833333333331},"Endgeschwindigkeit f. Ber."]
["W1+W2 ( Energie / Hub )","Nm",{"$f":"C52+C49","v":0.40329677759870003},null,null,null,null,null,"min. Verfahrzeit zurück",null,{"$f":"0.16+((C5-8)/17)*0.01","v":0.16117647058823531},"( min )"]
["Ezul / Zyklus ( Hub )","Nm",{"$f":"'Allgemeine Werte'!G34*C50/'Allgemeine Werte'!K34*C46","v":3.0000000000000004},null,"Stoßd.-kolbenrückstellzeit",null,{"$f":"'Allgemeine Werte'!E34","v":0.5},null,"Mittlere Verfahrgeschwindigkeit zurück",null,{"$f":"(C5/1000)/K53","v":6.204379562043795E-2},{"$f":"MIN(K46,K55,K44)","v":0.10857664233576642}]
["Auslastung / Zyklus",null,{"$f":"C53/C54","v":0.13443225919956667},null,"Max. Zyklen aus Rückstellzeit",null,{"$f":"60/G54","v":120},null,"Endgeschwindigkeit zurück",null,{"$f":"K54*'Allgemeine Werte'!E71","v":0.10857664233576642}]

{"sheet":"EM-Ber-LM25-3","index":20,"n_rows":57,"n_cols":12,"rows_kept":57,"cut":false,"hidden":false,"merged":[]}
["Linearmodul Typ",null,"LM 25"]
[]
["Berechnung der Führungsbelastung"]
[null,null,null,null,null,null,"Statisch auf Grund","Statisch auf Grund"]
["Hub","mm",{"$f":"'EM-LM-3'!K8","v":10},null,null,null,"Zusatzmasse m","Zusatzmasse m","Dynamisch auf Grund","Statisch auf Grund","Statisch auf Grund"]
["Zylinderkraft","N",67,null,null,null,"Modul ausgef.","Modul eingef.","Zusatzmasse m","Zusatzkraft Modul eingef.","Zusatzkraft Modul ausgef."]
["Faktor",null,{"$f":"ROUNDDOWN(((C5-8)/17.1),0)","v":0},null,null,null,"I","II","III","IV","V"]
["Modulgewicht","kg",{"$f":"0.44+(C7*0.08)","v":0.44},null,"Moment Mx=M3","Nm",{"$f":"C12*9.81*((C15)/1000)","v":0},{"$f":"C12*9.81*((C15)/1000)","v":0},{"$f":"C42*(C15/1000)","v":0},{"$f":"IF(K11=TRUE,-(C21*C23/1000)+C25*((C27+C37+C34/2)/1000),(C21*C23/1000)-C25*((C27+C37+C34/2)/1000))","v":0},{"$f":"IF(K11=TRUE,-(C21*C23/1000)+C25*((C27+C38+C34/2)/1000),(C21*C23/1000)-C25*((C27+C38+C34/2)/1000))","v":0}]
["Zylinderkraft zurück","N",50,null,"Moment My=M1","Nm","-","-","-",{"$f":"C17*(C19/1000)-C25*C26/1000","v":0},{"$f":"C17*(C19/1000)-C25*C26/1000","v":0}]
["Verfahrgeschwindigkeit","m/s",{"$f":"'EM-LM-3-1'!I58","v":2.02},null,"Moment Mz=M2","Nm",{"$f":"C12*9.81*((C13)/1000)","v":0},{"$f":"C12*9.81*((C13)/1000)","v":0},{"$f":"C42*(C13/1000)","v":0},{"$f":"IF(K11=TRUE,-C21*C22/1000+C17*(C18+C37+C34/2)/1000,C21*C22/1000-C17*(C18+C37+C34/2)/1000)","v":0},{"$f":"IF(K11=TRUE,-C21*C22/1000+C17*(C18+C38+C34/2)/1000,C21*C22/1000-C17*(C18+C38+C34/2)/1000)","v":0}]
[null,null,null,null,null,null,null,null,null,{"$f":"'EM-LM-3'!G51","v":true},{"$f":"'EM-LM-3'!G52","v":true}]
["Zusatzmasse","kg",{"$f":"'EM-LM-3'!K14","v":0}]
["Schwerpunktabstand x-Richt.(Mitte Rolle)","mm",{"$f":"'EM-LM-3'!M14+9","v":9}]
["Schwerpunktabstand y-Richtung","mm",{"$f":"'EM-LM-3'!O14","v":0}]
["Schwerpunktabstand z-Richtung","mm",{"$f":"'EM-LM-3'!Q14","v":0}]
[null,null,null,null,"Mx Summe  I(II) + III","Nm",{"$f":"G8+I8","v":0}]
["Zusatzkraft Fx","N",{"$f":"'EM-LM-3'!K18","v":0},null,"Absolutbetrag",null,{"$f":"ABS(G16)","v":0}]
["Kraftangriffspunkt von Fx in y-Richtung","mm",{"$f":"'EM-LM-3'!O18","v":0},null,"Mx Summe  I+V oder II+IV","Nm",{"$f":"IF(J11=TRUE,H8+J8,G8+K8)","v":0}]
["Kraftangriffspunkt von Fx in z-Richtung","mm",{"$f":"'EM-LM-3'!Q18","v":0},null,"Absolutbetrag",null,{"$f":"ABS(G18)","v":0}]
[null,null,null,null,"Mx ges","Nm",{"$f":"MAX(G17,G19)","v":0}]
["Zusatzkraft Fy","N",{"$f":"'EM-LM-3'!K20","v":0},null,"Mx zul","Nm",{"$f":"G34/2","v":2.4},null,"Maximal-Werte der Momente und Kräfte nicht aus Katalog, sondern exakt berechnete Werte !!"]
["Kraftangrp. von Fy in x-Richt. (Mitte Rolle)","mm",{"$f":"'EM-LM-3'!M20+9","v":9}]
["Kraftangrp. von Fy in z-Richt.","mm",{"$f":"'EM-LM-3'!Q20","v":0},null,"My IV = V","Nm",{"$f":"J9","v":0}]
[null,null,null,null,"Absolutbetrag",null,{"$f":"ABS(G23)","v":0}]
["Zusatzkraft Fz","N",{"$f":"'EM-LM-3'!K22","v":0},null,"My ges","Nm",{"$f":"G24","v":0}]
["Kraftangrp. von Fz in x-Richt. (Mitte Rolle)","mm",{"$f":"'EM-LM-3'!M22+9","v":9},null,"My zul","Nm",{"$f":"4.4+(0.85*C7)","v":4.4000000000000004}]
["Kraftangriffspunkt von Fz in y-Richtung","mm",{"$f":"'EM-LM-3'!O22","v":0}]
[]
[null,null,null,null,"Mz Summe I(II)+III","Nm",{"$f":"G10+I10","v":0}]
["Länge L (Stirnplatte zu 1. Rolle - HubN/2)","mm",29,null,"Absolutbetrag",null,{"$f":"ABS(G29)","v":0}]
["Nennhub/2        HubN/2","mm",{"$f":"(25+(C7*17))/2","v":12.5},null,"Mz Summe  I+V oder II+IV","Nm",{"$f":"IF(J11=TRUE,H10+J10,G10+K10)","v":0}]
["tatsächlicher gefahrener Hub/2","mm",{"$f":"C5/2","v":5},null,"Absolutbetrag",null,{"$f":"ABS(G31)","v":0}]
["Schwerpunktabstand in y-Richtung","mm",{"$f":"C14","v":0},null,"Mz ges","Nm",{"$f":"MAX(G30,G32)","v":0}]
["Wert K ( Abstand erste / letzte Rolle )","mm",{"$f":"40+(C7*8)","v":40},null,"Mz zul","Nm",{"$f":"C34/1000*120","v":4.8}]
[]
[null,null,null,null,null,null,null,null,"Belastungsgleichung stat.",{"$f":"G19/G21+G25/G26+G32/G34+G38/G39+G42/G43","v":0}]
["l1 bei eingefahrenem Hub","mm",{"$f":"C30+C31","v":41.5},null,"Fx ges","N",{"$f":"C17","v":0},null,"Belastungsgleichung dyn.",{"$f":"G17/G21+G30/G34","v":0}]
["l1 bei ausgefahrenem Hub","mm",{"$f":"C30+C31+C32","v":46.5},null,"Absolutwert",null,{"$f":"ABS(G37)","v":0},null,"Belastungsgleichung",{"$f":"MAX(J36:J37)","v":0}]
[null,null,null,null,"Fx zul","N",{"$f":"G43","v":660}]
["Stoßdämpferhub s ( Hub bis a=0 )","m",{"$f":"'Allgemeine Werte'!M34","v":4.0200000000000001E-3}]
["Verzögerung a=vxv/2xs","m/s2",{"$f":"POWER(C48,2)/(2*C40)","v":1.6666777770672143},null,"Fz ges","N",{"$f":"-C25","v":0},null,"Verfahrzeitberechnung",null,{"$f":"0.000778547*POWER(C5,2)-0.099809689*C5+5.908650519","v":4.9884083290000003}]
["Kraft zur Verzögerung der Masse","N",{"$f":"C12*C41","v":0},null,"Absolutwert",null,{"$f":"ABS(G41)","v":0},null,"Verfahrzeit berechnet ( t=Wurzel aus (2xsxm/F)",null,{"$f":"(SQRT(2*(C5/1000)*(C12+C8/2)/(C6-(C12+C8/2)*9.81)))*K41","v":4.1092333371461308E-2}]
["Kraft zur Verzög. d. Masse incl Modul/2","N",{"$f":"C47*C41","v":0.36666911095478716},null,"Fz zul","N",{"$f":"660+120*C7","v":660},null,"Mittlere Verfahrgeschwindigkeit berechnet",null,{"$f":"(C5/1000)/K42","v":0.24335439678256424}]
[null,null,null,null,null,null,null,null,"Endgeschwindigkeit berechnet",null,{"$f":"K43*'Allgemeine Werte'!E71","v":0.42587019436948742}]
["Stoßdämpferberechnung",null,null,null,"Max. Zyklenzahl / Min."]
["Anzahl Stoßdämpfer",null,1,null,"Zyklen aus Verfahrzeit",null,{"$f":"60/(2*L50)","v":198.44357976653694},null,"Endgeschwindigkeit (Eingabe)",null,{"$f":"C10","v":2.02}]
["Gesamtmasse","kg",{"$f":"C12+C8/2","v":0.22},null,null,null,null,null,"Mittlere Verfahrgeschwindigkeit (Eingabe)   m/s",null,{"$f":"C10/'Allgemeine Werte'!E71","v":1.1542857142857144}]
["Aufprallgeschwindigkeit","m/s",{"$f":"L54","v":0.11575875486381323},null,"Ezul / Stunde","Nm",{"$f":"'Allgemeine Werte'!H34*C46*0.95","v":13680},null,"Verfahrzeit (Eingabe)","s",{"$f":"(C5/1000)/K47","v":8.6633663366336624E-3},"Verfahrzeit für Berechnung"]
["W1","Nm",{"$f":"C47*POWER(C48,2)*0.5","v":1.4740098260382444E-3},null,"Ezul / Minute","Nm",{"$f":"G48/60","v":228},null,null,null,null,"( max )"]
["Hub Stoßdämpfer","m",{"$f":"'Allgemeine Werte'!L34","v":6.0000000000000001E-3},null,"Zyklen aus Ezul",null,{"$f":"G49/C53","v":583.82974464942197},null,"min. Verfahrzeit ab","gemessen",{"$f":"0.13+((C5-8)/17)*0.01","v":0.13117647058823531},{"$f":"MAX(K48,K53,K42)","v":0.1511764705882353}]
["Zylinderkraft","N",67,null,null,null,null,null,"Mittlere Verfahrgeschwindigkeit ab",null,{"$f":"(C5/1000)/K50","v":7.623318385650224E-2}]
["W2 ( Antriebsenergie )","Nm",{"$f":"MAX(C56,C57)*C50","v":0.38905080000000003},null,"Max. Zyklen",null,{"$f":"MIN(G46,G50,G55)","v":120},null,"Endgeschwindigkeit ab",null,{"$f":"K51*'Allgemeine Werte'!E71","v":0.13340807174887892},"Endgeschwindigkeit f. Ber."]
["W1+W2 ( Energie / Hub )","Nm",{"$f":"C52+C49","v":0.39052480982603827},null,null,null,null,null,"min. Verfahrzeit auf",null,{"$f":"0.15+(((C5-8)/17)*0.01)","v":0.1511764705882353},"( min )"]
["Ezul / Zyklus ( Hub )","Nm",{"$f":"'Allgemeine Werte'!G34*C50/'Allgemeine Werte'!K34*C46","v":3.0000000000000004},null,"Stoßd.-kolbenrückstellzeit",null,{"$f":"'Allgemeine Werte'!E34","v":0.5},null,"Mittlere Verfahrgeschwindigkeit auf",null,{"$f":"(C5/1000)/K53","v":6.6147859922178989E-2},{"$f":"MIN(K46,K55,K44)","v":0.11575875486381323}]
["Auslastung / Zyklus",null,{"$f":"C53/C54","v":0.1301749366086794},null,"Max. Zyklen aus Rückstellzeit",null,{"$f":"60/G54","v":120},null,"Endgeschwindigkeit auf",null,{"$f":"K54*'Allgemeine Werte'!E71","v":0.11575875486381323}]
["Antriebskraft nach oben",null,{"$f":"C6-C47*9.81","v":64.841800000000006}]
["Antriebskraft nach unten",null,{"$f":"C9+C47*9.81","v":52.158200000000001}]

{"sheet":"EM-Ber-LM25-4","index":21,"n_rows":55,"n_cols":12,"rows_kept":55,"cut":false,"hidden":false,"merged":[]}
["Linearmodul Typ",null,"LM 25"]
[]
["Berechnung der Führungsbelastung"]
[null,null,null,null,null,null,"Statisch auf Grund","Statisch auf Grund"]
["Hub","mm",{"$f":"'EM-LM-4'!K8","v":10},null,null,null,"Zusatzmasse m","Zusatzmasse m","Dynamisch auf Grund","Statisch auf Grund","Statisch auf Grund"]
["Zylinderkraft","N",67,null,null,null,"Modul ausgef.","Modul eingef.","Zusatzmasse m","Zusatzkraft Modul eingef.","Zusatzkraft Modul ausgef."]
["Faktor",null,{"$f":"ROUNDDOWN(((C5-8)/17.1),0)","v":0},null,null,null,"I","II","III","IV","V"]
["Modulgewicht","kg",{"$f":"0.44+(C7*0.08)","v":0.44},null,"Moment Mx=M2","Nm",{"$f":"(C12*9.81)*((C37-C32+C34/2+C33)/1000)","v":0},{"$f":"C12*9.81*((C37+C34/2+C33)/1000)","v":0},{"$f":"C42*(C15/1000)","v":0},{"$f":"(C21*C23/1000)-C25*((C27+C37+C34/2)/1000)","v":0},{"$f":"(C21*C23/1000)-C25*((C27+C37-C32+C34/2)/1000)","v":0}]
["Zylinderkraft zurück","N",50,null,"Moment My=M1","Nm",{"$f":"C12*9.81*(C13/1000)","v":0},{"$f":"C12*9.81*(C13/1000)","v":0},"-",{"$f":"C17*C19/1000-C25*(C26/1000)","v":0},{"$f":"C17*C19/1000-C25*(C26/1000)","v":0}]
["Verfahrgeschwindigkeit","m/s",{"$f":"'EM-LM-4-1'!I58","v":2.02},null,"Moment Mz=M3","Nm","-","-",{"$f":"C42*(C13/1000)","v":0},{"$f":"C21*C22/1000-C17*(C18+C37+C34/2)/1000","v":0},{"$f":"C21*C22/1000-C17*(C18+C37-C32+C34/2)/1000","v":0}]
[null,null,null,null,null,null,null,null,null,{"$f":"'EM-LM-4'!G51","v":false}]
["Zusatzmasse","kg",{"$f":"'EM-LM-4'!K14","v":0},null,"Mx Summe  I + III","Nm",{"$f":"G8+I8","v":0}]
["Schwerpunktabstand x-Richtung","mm",{"$f":"'EM-LM-4'!M14","v":0},null,"Absolutbetrag",null,{"$f":"ABS(G12)","v":0}]
["Schwerpunktabstand y-Richtung","mm",{"$f":"'EM-LM-4'!O14","v":0},null,"Mx Summe  II-III",null,{"$f":"H8-I8","v":0}]
["Schwerpunktabstand z-Richt.(Mitte Rolle)","mm",{"$f":"'EM-LM-4'!Q14+23","v":23},null,"Absolutbetrag",null,{"$f":"ABS(G14)","v":0}]
[null,null,null,null,"I ","Nm",{"$f":"ABS(G8)","v":0}]
["Zusatzkraft Fx","N",{"$f":"'EM-LM-4'!K18","v":0},null,"I oder I+III oder II-III",null,{"$f":"MAX(G16,G15,G13)","v":0}]
["Kraftangriffspunkt von Fx in y-Richtung","mm",{"$f":"'EM-LM-4'!O18","v":0},null,"Mx Summe  I+V oder II+IV","Nm",{"$f":"IF(AND(J8=0,K8=0),MAX(G8,H8),IF(J11=TRUE,H8+J8,G8+K8))","v":0}]
["Kraftangrp. von Fx in z-Richt.(Mitte Rolle)","mm",{"$f":"'EM-LM-4'!Q18+23","v":23},null,"Absolutbetrag",null,{"$f":"ABS(G18)","v":0}]
[null,null,null,null,"Mx ges","Nm",{"$f":"MAX(G17,G19)","v":0}]
["Zusatzkraft Fy","N",{"$f":"'EM-LM-4'!K20","v":0},null,"Mx zul","Nm",{"$f":"C34/1000*120","v":4.8},null,"Maximal-Werte der Momente und Kräfte nicht aus Katalog, sondern exakt berechnete Werte !!"]
["Kraftangriffspunkt von Fy in x-Richtung","mm",{"$f":"'EM-LM-4'!M20","v":0}]
["Kraftangrp. von Fy in z-Richt.(Mitte Rolle)","mm",{"$f":"'EM-LM-4'!Q20+23","v":23},null,"My Summe  I+V ( = II+IV )","Nm",{"$f":"G9+K9","v":0}]
[null,null,null,null,"Absolutbetrag",null,{"$f":"ABS(G23)","v":0}]
["Zusatzkraft Fz","N",{"$f":"'EM-LM-4'!K22","v":0},null,"My ges","Nm",{"$f":"G24","v":0}]
["Kraftangriffspunkt von Fz in x-Richtung","mm",{"$f":"'EM-LM-4'!M22","v":0},null,"My zul","Nm",{"$f":"4.4+(0.85*C7)","v":4.4000000000000004}]
["Kraftangriffspunkt von Fz in y-Richtung","mm",{"$f":"'EM-LM-4'!O22","v":0}]
[]
[null,null,null,null,"Mz III","Nm",{"$f":"I10","v":0}]
["Länge L (Stirnplatte zu 1. Rolle - HubN/2)","mm",29,null,"Absolutbetrag",null,{"$f":"ABS(G29)","v":0}]
["Nennhub/2        HubN/2","mm",{"$f":"(25+(C7*17))/2","v":12.5},null,"Mz IV/V","Nm",{"$f":"IF(J11=TRUE,J10,K10)","v":0}]
["tatsächlicher gefahrener Hub/2","mm",{"$f":"C5/2","v":5},null,"Absolutbetrag",null,{"$f":"ABS(G31)","v":0}]
["Schwerpunktabstand in y-Richtung","mm",{"$f":"C14","v":0},null,"Mz ges","Nm",{"$f":"MAX(G30,G32)","v":0}]
["Wert K ( Abstand erste / letzte Rolle )","mm",{"$f":"40+(C7*8)","v":40},null,"Mz zul","Nm",{"$f":"G21/2","v":2.4}]
["Anfangswert (Abst. Stirnpl./Deckplatte)","mm",18]
[null,null,null,null,null,null,null,null,"Belastungsgleichung stat.",{"$f":"G19/G21+G25/G26+G32/G34+G38/G39+G42/G43","v":0}]
["l1 bei eingefahrenem Hub","mm",{"$f":"C30+C31-C35","v":23.5},null,"Fx ges","N",{"$f":"C17","v":0},null,"Belastungsgleichung dyn.",{"$f":"G17/G21+G30/G34+G40/G43","v":0}]
["l1 bei ausgefahrenem Hub","mm",{"$f":"C30+C31+C32-C35","v":28.5},null,"Absolutwert",null,{"$f":"ABS(G37)","v":0},null,"Belastungsgleichung",{"$f":"MAX(J36:J37)","v":0}]
[null,null,null,null,"Fx zul","N",{"$f":"G43","v":660}]
["Stoßdämpferhub s ( Hub bis a=0 )","m",{"$f":"'Allgemeine Werte'!M34","v":4.0200000000000001E-3},null,"Gewichtskraft","N",{"$f":"C12*9.81","v":0}]
["Verzögerung a=vxv/2xs","m/s2",{"$f":"POWER(C48,2)/(2*C40)","v":1.4662795100633013},null,"Fz ges abs","N",{"$f":"ABS(-C25+C12*9.81)","v":0},null,"Verfahrzeitberechnung",null,{"$f":"0.000709343*POWER(C5,2)-0.095761246*C5+6.100692042","v":5.2140138820000006}]
["Kraft zur Verzögerung der Masse","N",{"$f":"C12*C41","v":0},null,"Max aus E40,E41",null,{"$f":"MAX(G40,G41)","v":0},null,"Verfahrzeit berechnet ( t=Wurzel aus (2xsxm/F)",null,{"$f":"(SQRT(2*(C5/1000)*(C12+C8/2)/C9))*K41","v":4.891178576814189E-2}]
["Kraft zur Verzög. d. Masse incl Modul/2","N",{"$f":"C47*C41","v":0.32258149221392629},null,"Fz zul","N",{"$f":"660+120*C7","v":660},null,"Mittlere Verfahrgeschwindigkeit berechnet",null,{"$f":"(C5/1000)/K42","v":0.20444970149737166}]
[null,null,null,null,null,null,null,null,"Endgeschwindigkeit berechnet",null,{"$f":"K43*'Allgemeine Werte'!E71","v":0.3577869776204004}]
["Stoßdämpferberechnung",null,null,null,"Max. Zyklenzahl / Min."]
["Anzahl Stoßdämpfer",null,1,null,"Zyklen aus Verfahrzeit",null,{"$f":"60/(2*L50)","v":186.13138686131384},null,"Endgeschwindigkeit (Eingabe)",null,{"$f":"C10","v":2.02}]
["Gesamtmasse","kg",{"$f":"C12+C8/2","v":0.22},null,null,null,null,null,"Mittlere Verfahrgeschwindigkeit (Eingabe)   m/s",null,{"$f":"C10/'Allgemeine Werte'!E71","v":1.1542857142857144}]
["Aufprallgeschwindigkeit","m/s",{"$f":"L54","v":0.10857664233576642},null,"Ezul / Stunde","Nm",{"$f":"'Allgemeine Werte'!H34*C46*0.95","v":13680},null,"Verfahrzeit (Eingabe)","s",{"$f":"(C5/1000)/K47","v":8.6633663366336624E-3},"Verfahrzeit für Berechnung"]
["W1","Nm",{"$f":"C47*POWER(C48,2)*0.5","v":1.2967775986999837E-3},null,"Ezul / Minute","Nm",{"$f":"G48/60","v":228},null,null,null,null,"( max )"]
["Hub Stoßdämpfer","m",{"$f":"'Allgemeine Werte'!L34","v":6.0000000000000001E-3},null,"Zyklen aus Ezul",null,{"$f":"G49/C53","v":565.34049529865354},null,"min. Verfahrzeit vor","gemessen",{"$f":"0.14+((C5-8)/17)*0.01","v":0.14117647058823532},{"$f":"MAX(K48,K53,K42)","v":0.16117647058823531}]
["Zylinderkraft","N",67,null,null,null,null,null,"Mittlere Verfahrgeschwindigkeit vor",null,{"$f":"(C5/1000)/K50","v":7.0833333333333318E-2}]
["W2 ( Antriebsenergie )","Nm",{"$f":"C51*C50","v":0.40200000000000002},null,"Max. Zyklen",null,{"$f":"MIN(G46,G50,G55)","v":120},null,"Endgeschwindigkeit vor",null,{"$f":"K51*'Allgemeine Werte'!E71","v":0.12395833333333331},"Endgeschwindigkeit f. Ber."]
["W1+W2 ( Energie / Hub )","Nm",{"$f":"C52+C49","v":0.40329677759870003},null,null,null,null,null,"min. Verfahrzeit zurück",null,{"$f":"0.16+((C5-8)/17)*0.01","v":0.16117647058823531},"( min )"]
["Ezul / Zyklus ( Hub )","Nm",{"$f":"'Allgemeine Werte'!G34*C50/'Allgemeine Werte'!K34*C46","v":3.0000000000000004},null,"Stoßd.-kolbenrückstellzeit",null,{"$f":"'Allgemeine Werte'!E34","v":0.5},null,"Mittlere Verfahrgeschwindigkeit zurück",null,{"$f":"(C5/1000)/K53","v":6.204379562043795E-2},{"$f":"MIN(K46,K55,K44)","v":0.10857664233576642}]
["Auslastung / Zyklus",null,{"$f":"C53/C54","v":0.13443225919956667},null,"Max. Zyklen aus Rückstellzeit",null,{"$f":"60/G54","v":120},null,"Endgeschwindigkeit zurück",null,{"$f":"K54*'Allgemeine Werte'!E71","v":0.10857664233576642}]

{"sheet":"EM-Ber-LM25-5","index":22,"n_rows":55,"n_cols":12,"rows_kept":55,"cut":false,"hidden":false,"merged":[]}
["Linearmodul Typ",null,"LM 25"]
[]
["Berechnung der Führungsbelastung"]
[null,null,null,null,null,null,"Statisch auf Grund","Statisch auf Grund"]
["Hub","mm",{"$f":"'EM-LM-5'!K8","v":10},null,null,null,"Zusatzmasse m","Zusatzmasse m","Dynamisch auf Grund","Statisch auf Grund","Statisch auf Grund"]
["Zylinderkraft","N",67,null,null,null,"Modul ausgef.","Modul eingef.","Zusatzmasse m","Zusatzkraft Modul eingef.","Zusatzkraft Modul ausgef."]
["Faktor",null,{"$f":"ROUNDDOWN(((C5-8)/17.1),0)","v":0},null,null,null,"I","II","III","IV","V"]
["Modulgewicht","kg",{"$f":"0.44+(C7*0.08)","v":0.44},null,"Moment Mx=M3","Nm",{"$f":"(C12*9.81)*((C37-C32+C34/2+C33)/1000)","v":0},{"$f":"C12*9.81*((C37+C34/2+C33)/1000)","v":0},{"$f":"C42*(C15/1000)","v":0},{"$f":"(C21*C23/1000)-C25*((C27+C37+C34/2)/1000)","v":0},{"$f":"(C21*C23/1000)-C25*((C27+C37-C32+C34/2)/1000)","v":0}]
["Zylinderkraft zurück","N",50,null,"Moment My=M1","Nm",{"$f":"C12*9.81*((C13)/1000)","v":0},{"$f":"C12*9.81*((C13)/1000)","v":0},"-",{"$f":"C17*(C19/1000)-C25*C26/1000","v":0},{"$f":"C17*(C19/1000)-C25*C26/1000","v":0}]
["Verfahrgeschwindigkeit","m/s",{"$f":"'EM-LM-5-1'!I58","v":2.02},null,"Moment Mz=M2","Nm","-","-",{"$f":"C42*(C13/1000)","v":0},{"$f":"C21*C22/1000-C17*(C18+C37+C34/2)/1000","v":0},{"$f":"C21*C22/1000-C17*(C18+C37-C32+C34/2)/1000","v":0}]
[null,null,null,null,null,null,null,null,null,{"$f":"'EM-LM-5'!G51","v":false}]
["Zusatzmasse","kg",{"$f":"'EM-LM-5'!K14","v":0},null,"Mx Summe  I + III","Nm",{"$f":"G8+I8","v":0}]
["Schwerpunktabstand x-Richt.(Mitte Rolle)","mm",{"$f":"'EM-LM-5'!M14+23","v":23},null,"Absolutbetrag",null,{"$f":"ABS(G12)","v":0}]
["Schwerpunktabstand y-Richtung","mm",{"$f":"'EM-LM-5'!O14","v":0},null,"Mx Summe  II-III",null,{"$f":"H8-I8","v":0}]
["Schwerpunktabstand z-Richtung","mm",{"$f":"'EM-LM-5'!Q14","v":0},null,"Absolutbetrag",null,{"$f":"ABS(G14)","v":0}]
[null,null,null,null,"I ","Nm",{"$f":"ABS(G8)","v":0}]
["Zusatzkraft Fx","N",{"$f":"'EM-LM-5'!K18","v":0},null,"I oder I+III oder II-III",null,{"$f":"MAX(G16,G15,G13)","v":0}]
["Kraftangriffspunkt von Fx in y-Richtung","mm",{"$f":"'EM-LM-5'!O18","v":0},null,"Mx Summe  I+V oder II+IV","Nm",{"$f":"IF(AND(J8=0,K8=0),MAX(G8,H8),IF(J11=TRUE,H8+J8,G8+K8))","v":0}]
["Kraftangriffspunkt von Fx in z-Richtung","mm",{"$f":"'EM-LM-5'!Q18","v":0},null,"Absolutbetrag",null,{"$f":"ABS(G18)","v":0}]
[null,null,null,null,"Mx ges","Nm",{"$f":"MAX(G17,G19)","v":0}]
["Zusatzkraft Fy","N",{"$f":"'EM-LM-5'!K20","v":0},null,"Mx zul","Nm",{"$f":"G34/2","v":2.4},null,"Maximal-Werte der Momente und Kräfte nicht aus Katalog, sondern exakt berechnete Werte !!"]
["Kraftangrp. von Fy in x-Richt. (Mitte Rolle)","mm",{"$f":"'EM-LM-5'!M20+23","v":23}]
["Kraftangrp. von Fy in z-Richt.","mm",{"$f":"'EM-LM-5'!Q20","v":0},null,"My Summe  I+V ( = II+IV )","Nm",{"$f":"G9+K9","v":0}]
[null,null,null,null,"Absolutbetrag",null,{"$f":"ABS(G23)","v":0}]
["Zusatzkraft Fz","N",{"$f":"'EM-LM-5'!K22","v":0},null,"My ges","Nm",{"$f":"G24","v":0}]
["Kraftangrp. von Fz in x-Richt. (Mitte Rolle)","mm",{"$f":"'EM-LM-5'!M22+23","v":23},null,"My zul","Nm",{"$f":"4.4+(0.85*C7)","v":4.4000000000000004}]
["Kraftangriffspunkt von Fz in y-Richtung","mm",{"$f":"'EM-LM-5'!O22","v":0}]
[]
[null,null,null,null,"Mz III","Nm",{"$f":"I10","v":0}]
["Länge L (Stirnplatte zu 1. Rolle - HubN/2)","mm",29,null,"Absolutbetrag",null,{"$f":"ABS(G29)","v":0}]
["Nennhub/2        HubN/2","mm",{"$f":"(25+(C7*17))/2","v":12.5},null,"Mz IV/V","Nm",{"$f":"IF(J11=TRUE,J10,K10)","v":0}]
["tatsächlicher gefahrener Hub/2","mm",{"$f":"C5/2","v":5},null,"Absolutbetrag",null,{"$f":"ABS(G31)","v":0}]
["Schwerpunktabstand in y-Richtung","mm",{"$f":"C14","v":0},null,"Mz ges","Nm",{"$f":"MAX(G30,G32)","v":0}]
["Wert K ( Abstand erste / letzte Rolle )","mm",{"$f":"40+(C7*8)","v":40},null,"Mz zul","Nm",{"$f":"C34/1000*120","v":4.8}]
["Anfangswert (Abst. Stirnpl./Deckplatte)","mm",18]
[null,null,null,null,null,null,null,null,"Belastungsgleichung stat.",{"$f":"G19/G21+G25/G26+G32/G34+G38/G39+G42/G43","v":0}]
["l1 bei eingefahrenem Hub","mm",{"$f":"C30+C31-C35","v":23.5},null,"Fx ges","N",{"$f":"C17","v":0},null,"Belastungsgleichung dyn.",{"$f":"G17/G21+G30/G34+G40/G43","v":0}]
["l1 bei ausgefahrenem Hub","mm",{"$f":"C30+C31+C32-C35","v":28.5},null,"Absolutwert",null,{"$f":"ABS(G37)","v":0},null,"Belastungsgleichung",{"$f":"MAX(J36:J37)","v":0}]
[null,null,null,null,"Fx zul","N",{"$f":"G43","v":660}]
["Stoßdämpferhub s ( Hub bis a=0 )","m",{"$f":"'Allgemeine Werte'!M34","v":4.0200000000000001E-3},null,"Gewichtskraft","N",{"$f":"C12*9.81","v":0}]
["Verzögerung a=vxv/2xs","m/s2",{"$f":"POWER(C48,2)/(2*C40)","v":1.4662795100633013},null,"Fz ges abs","N",{"$f":"ABS(-C25+C12*9.81)","v":0},null,"Verfahrzeitberechnung",null,{"$f":"0.000709343*POWER(C5,2)-0.095761246*C5+6.100692042","v":5.2140138820000006}]
["Kraft zur Verzögerung der Masse","N",{"$f":"C12*C41","v":0},null,"Max aus E40,E41",null,{"$f":"MAX(G40,G41)","v":0},null,"Verfahrzeit berechnet ( t=Wurzel aus (2xsxm/F)",null,{"$f":"(SQRT(2*(C5/1000)*(C12+C8/2)/C9))*K41","v":4.891178576814189E-2}]
["Kraft zur Verzög. d. Masse incl Modul/2","N",{"$f":"C47*C41","v":0.32258149221392629},null,"Fz zul","N",{"$f":"660+120*C7","v":660},null,"Mittlere Verfahrgeschwindigkeit berechnet",null,{"$f":"(C5/1000)/K42","v":0.20444970149737166}]
[null,null,null,null,null,null,null,null,"Endgeschwindigkeit berechnet",null,{"$f":"K43*'Allgemeine Werte'!E71","v":0.3577869776204004}]
["Stoßdämpferberechnung",null,null,null,"Max. Zyklenzahl / Min."]
["Anzahl Stoßdämpfer",null,1,null,"Zyklen aus Verfahrzeit",null,{"$f":"60/(2*L50)","v":186.13138686131384},null,"Endgeschwindigkeit (Eingabe)",null,{"$f":"C10","v":2.02}]
["Gesamtmasse","kg",{"$f":"C12+C8/2","v":0.22},null,null,null,null,null,"Mittlere Verfahrgeschwindigkeit (Eingabe)   m/s",null,{"$f":"C10/'Allgemeine Werte'!E71","v":1.1542857142857144}]
["Aufprallgeschwindigkeit","m/s",{"$f":"L54","v":0.10857664233576642},null,"Ezul / Stunde","Nm",{"$f":"'Allgemeine Werte'!H34*C46*0.95","v":13680},null,"Verfahrzeit (Eingabe)","s",{"$f":"(C5/1000)/K47","v":8.6633663366336624E-3},"Verfahrzeit für Berechnung"]
["W1","Nm",{"$f":"C47*POWER(C48,2)*0.5","v":1.2967775986999837E-3},null,"Ezul / Minute","Nm",{"$f":"G48/60","v":228},null,null,null,null,"( max )"]
["Hub Stoßdämpfer","m",{"$f":"'Allgemeine Werte'!L34","v":6.0000000000000001E-3},null,"Zyklen aus Ezul",null,{"$f":"G49/C53","v":565.34049529865354},null,"min. Verfahrzeit vor","gemessen",{"$f":"0.14+((C5-8)/17)*0.01","v":0.14117647058823532},{"$f":"MAX(K48,K53,K42)","v":0.16117647058823531}]
["Zylinderkraft","N",67,null,null,null,null,null,"Mittlere Verfahrgeschwindigkeit vor",null,{"$f":"(C5/1000)/K50","v":7.0833333333333318E-2}]
["W2 ( Antriebsenergie )","Nm",{"$f":"C51*C50","v":0.40200000000000002},null,"Max. Zyklen",null,{"$f":"MIN(G46,G50,G55)","v":120},null,"Endgeschwindigkeit vor",null,{"$f":"K51*'Allgemeine Werte'!E71","v":0.12395833333333331},"Endgeschwindigkeit f. Ber."]
["W1+W2 ( Energie / Hub )","Nm",{"$f":"C52+C49","v":0.40329677759870003},null,null,null,null,null,"min. Verfahrzeit zurück",null,{"$f":"0.16+((C5-8)/17)*0.01","v":0.16117647058823531},"( min )"]
["Ezul / Zyklus ( Hub )","Nm",{"$f":"'Allgemeine Werte'!G34*C50/'Allgemeine Werte'!K34*C46","v":3.0000000000000004},null,"Stoßd.-kolbenrückstellzeit",null,{"$f":"'Allgemeine Werte'!E34","v":0.5},null,"Mittlere Verfahrgeschwindigkeit zurück",null,{"$f":"(C5/1000)/K53","v":6.204379562043795E-2},{"$f":"MIN(K46,K55,K44)","v":0.10857664233576642}]
["Auslastung / Zyklus",null,{"$f":"C53/C54","v":0.13443225919956667},null,"Max. Zyklen aus Rückstellzeit",null,{"$f":"60/G54","v":120},null,"Endgeschwindigkeit zurück",null,{"$f":"K54*'Allgemeine Werte'!E71","v":0.10857664233576642}]

{"sheet":"EM-Ber-LM25-6","index":23,"n_rows":57,"n_cols":12,"rows_kept":57,"cut":false,"hidden":false,"merged":[]}
["Linearmodul Typ",null,"LM 25"]
[]
["Berechnung der Führungsbelastung"]
[null,null,null,null,null,null,"Statisch auf Grund","Statisch auf Grund"]
["Hub","mm",{"$f":"'EM-LM-6'!K8","v":10},null,null,null,"Zusatzmasse m","Zusatzmasse m","Dynamisch auf Grund","Statisch auf Grund","Statisch auf Grund"]
["Zylinderkraft","N",67,null,null,null,"Modul ausgef.","Modul eingef.","Zusatzmasse m","Zusatzkraft Modul eingef.","Zusatzkraft Modul ausgef."]
["Faktor",null,{"$f":"ROUNDDOWN(((C5-8)/17.1),0)","v":0},null,null,null,"I","II","III","IV","V"]
["Modulgewicht","kg",{"$f":"0.44+(C7*0.08)","v":0.44},null,"Moment Mx=M3","Nm",{"$f":"C12*9.81*((C15)/1000)","v":0},{"$f":"C12*9.81*((C15)/1000)","v":0},{"$f":"C42*(C15/1000)","v":0},{"$f":"IF(K11=TRUE,-(C21*C23/1000)+C25*((C27+C37+C34/2)/1000),(C21*C23/1000)-C25*((C27+C37+C34/2)/1000))","v":0},{"$f":"IF(K11=TRUE,-(C21*C23/1000)+C25*((C27+C37-C32+C34/2)/1000),(C21*C23/1000)-C25*((C27+C37-C32+C34/2)/1000))","v":0}]
["Zylinderkraft zurück","N",50,null,"Moment My=M1","Nm","-","-","-",{"$f":"C17*(C19/1000)-C25*C26/1000","v":0},{"$f":"C17*(C19/1000)-C25*C26/1000","v":0}]
["Verfahrgeschwindigkeit","m/s",{"$f":"'EM-LM-6-1'!I58","v":2.02},null,"Moment Mz=M2","Nm",{"$f":"C12*9.81*((C13)/1000)","v":0},{"$f":"C12*9.81*((C13)/1000)","v":0},{"$f":"C42*(C13/1000)","v":0},{"$f":"IF(K11=TRUE,-C21*C22/1000+C17*(C18+C37+C34/2)/1000,C21*C22/1000-C17*(C18+C37+C34/2)/1000)","v":0},{"$f":"IF(K11=TRUE,-C21*C22/1000+C17*(C18+C37-C32+C34/2)/1000,C21*C22/1000-C17*(C18+C37-C32+C34/2)/1000)","v":0}]
[null,null,null,null,null,null,null,null,null,{"$f":"'EM-LM-6'!G51","v":false},{"$f":"'EM-LM-6'!G52","v":true}]
["Zusatzmasse","kg",{"$f":"'EM-LM-6'!K14","v":0}]
["Schwerpunktabstand x-Richt.(Mitte Rolle)","mm",{"$f":"'EM-LM-6'!M14+23","v":23}]
["Schwerpunktabstand y-Richtung","mm",{"$f":"'EM-LM-6'!O14","v":0}]
["Schwerpunktabstand z-Richtung","mm",{"$f":"'EM-LM-6'!Q14","v":0}]
[null,null,null,null,"Mx Summe  I(II) + III","Nm",{"$f":"G8+I8","v":0}]
["Zusatzkraft Fx","N",{"$f":"'EM-LM-6'!K18","v":0},null,"Absolutbetrag",null,{"$f":"ABS(G16)","v":0}]
["Kraftangriffspunkt von Fx in y-Richtung","mm",{"$f":"'EM-LM-6'!O18","v":0},null,"Mx Summe  I+V oder II+IV","Nm",{"$f":"IF(J11=TRUE,H8+J8,G8+K8)","v":0}]
["Kraftangriffspunkt von Fx in z-Richtung","mm",{"$f":"'EM-LM-6'!Q18","v":0},null,"Absolutbetrag",null,{"$f":"ABS(G18)","v":0}]
[null,null,null,null,"Mx ges","Nm",{"$f":"MAX(G17,G19)","v":0}]
["Zusatzkraft Fy","N",{"$f":"'EM-LM-6'!K20","v":0},null,"Mx zul","Nm",{"$f":"G34/2","v":2.4},null,"Maximal-Werte der Momente und Kräfte nicht aus Katalog, sondern exakt berechnete Werte !!"]
["Kraftangrp. von Fy in x-Richt. (Mitte Rolle)","mm",{"$f":"'EM-LM-6'!M20+23","v":23}]
["Kraftangrp. von Fy in z-Richt.","mm",{"$f":"'EM-LM-6'!Q20","v":0},null,"My IV = V","Nm",{"$f":"J9","v":0}]
[null,null,null,null,"Absolutbetrag",null,{"$f":"ABS(G23)","v":0}]
["Zusatzkraft Fz","N",{"$f":"'EM-LM-6'!K22","v":0},null,"My ges","Nm",{"$f":"G24","v":0}]
["Kraftangrp. von Fz in x-Richt. (Mitte Rolle)","mm",{"$f":"'EM-LM-6'!M22+23","v":23},null,"My zul","Nm",{"$f":"4.4+(0.85*C7)","v":4.4000000000000004}]
["Kraftangriffspunkt von Fz in y-Richtung","mm",{"$f":"'EM-LM-6'!O22","v":0}]
[]
[null,null,null,null,"Mz Summe I(II)+III","Nm",{"$f":"G10+I10","v":0}]
["Länge L (Stirnplatte zu 1. Rolle - HubN/2)","mm",29,null,"Absolutbetrag",null,{"$f":"ABS(G29)","v":0}]
["Nennhub/2        HubN/2","mm",{"$f":"(25+(C7*17))/2","v":12.5},null,"Mz Summe  I+V oder II+IV","Nm",{"$f":"IF(J11=TRUE,H10+J10,G10+K10)","v":0}]
["tatsächlicher gefahrener Hub/2","mm",{"$f":"C5/2","v":5},null,"Absolutbetrag",null,{"$f":"ABS(G31)","v":0}]
["Schwerpunktabstand in y-Richtung","mm",{"$f":"C14","v":0},null,"Mz ges","Nm",{"$f":"MAX(G30,G32)","v":0}]
["Wert K ( Abstand erste / letzte Rolle )","mm",{"$f":"40+(C7*8)","v":40},null,"Mz zul","Nm",{"$f":"C34/1000*120","v":4.8}]
["Anfangswert (Abst. Stirnpl./Deckplatte)","mm",18]
[null,null,null,null,null,null,null,null,"Belastungsgleichung stat.",{"$f":"G19/G21+G25/G26+G32/G34+G38/G39+G42/G43","v":0}]
["l1 bei eingefahrenem Hub","mm",{"$f":"C30+C31-C35","v":23.5},null,"Fx ges","N",{"$f":"C17","v":0},null,"Belastungsgleichung dyn.",{"$f":"G17/G21+G30/G34","v":0}]
["l1 bei ausgefahrenem Hub","mm",{"$f":"C30+C31+C32-C35","v":28.5},null,"Absolutwert",null,{"$f":"ABS(G37)","v":0},null,"Belastungsgleichung",{"$f":"MAX(J36:J37)","v":0}]
[null,null,null,null,"Fx zul","N",{"$f":"G43","v":660}]
["Stoßdämpferhub s ( Hub bis a=0 )","m",{"$f":"'Allgemeine Werte'!M34","v":4.0200000000000001E-3}]
["Verzögerung a=vxv/2xs","m/s2",{"$f":"POWER(C48,2)/(2*C40)","v":1.6666777770672143},null,"Fz ges","N",{"$f":"-C25","v":0},null,"Verfahrzeitberechnung",null,{"$f":"0.000778547*POWER(C5,2)-0.099809689*C5+5.908650519","v":4.9884083290000003}]
["Kraft zur Verzögerung der Masse","N",{"$f":"C12*C41","v":0},null,"Absolutwert",null,{"$f":"ABS(G41)","v":0},null,"Verfahrzeit berechnet ( t=Wurzel aus (2xsxm/F)",null,{"$f":"(SQRT(2*(C5/1000)*(C12+C8/2)/(C6-(C12+C8/2)*9.81)))*K41","v":4.1092333371461308E-2}]
["Kraft zur Verzög. d. Masse incl Modul/2","N",{"$f":"C47*C41","v":0.36666911095478716},null,"Fz zul","N",{"$f":"660+120*C7","v":660},null,"Mittlere Verfahrgeschwindigkeit berechnet",null,{"$f":"(C5/1000)/K42","v":0.24335439678256424}]
[null,null,null,null,null,null,null,null,"Endgeschwindigkeit berechnet",null,{"$f":"K43*'Allgemeine Werte'!E71","v":0.42587019436948742}]
["Stoßdämpferberechnung",null,null,null,"Max. Zyklenzahl / Min."]
["Anzahl Stoßdämpfer",null,1,null,"Zyklen aus Verfahrzeit",null,{"$f":"60/(2*L50)","v":198.44357976653694},null,"Endgeschwindigkeit (Eingabe)",null,{"$f":"C10","v":2.02}]
["Gesamtmasse","kg",{"$f":"C12+C8/2","v":0.22},null,null,null,null,null,"Mittlere Verfahrgeschwindigkeit (Eingabe)   m/s",null,{"$f":"C10/'Allgemeine Werte'!E71","v":1.1542857142857144}]
["Aufprallgeschwindigkeit","m/s",{"$f":"L54","v":0.11575875486381323},null,"Ezul / Stunde","Nm",{"$f":"'Allgemeine Werte'!H34*C46*0.95","v":13680},null,"Verfahrzeit (Eingabe)","s",{"$f":"(C5/1000)/K47","v":8.6633663366336624E-3},"Verfahrzeit für Berechnung"]
["W1","Nm",{"$f":"C47*POWER(C48,2)*0.5","v":1.4740098260382444E-3},null,"Ezul / Minute","Nm",{"$f":"G48/60","v":228},null,null,null,null,"( max )"]
["Hub Stoßdämpfer","m",{"$f":"'Allgemeine Werte'!L34","v":6.0000000000000001E-3},null,"Zyklen aus Ezul",null,{"$f":"G49/C53","v":583.82974464942197},null,"min. Verfahrzeit ab","gemessen",{"$f":"0.13+((C5-8)/17)*0.01","v":0.13117647058823531},{"$f":"MAX(K48,K53,K42)","v":0.1511764705882353}]
["Zylinderkraft","N",67,null,null,null,null,null,"Mittlere Verfahrgeschwindigkeit ab",null,{"$f":"(C5/1000)/K50","v":7.623318385650224E-2}]
["W2 ( Antriebsenergie )","Nm",{"$f":"MAX(C56,C57)*C50","v":0.38905080000000003},null,"Max. Zyklen",null,{"$f":"MIN(G46,G50,G55)","v":120},null,"Endgeschwindigkeit ab",null,{"$f":"K51*'Allgemeine Werte'!E71","v":0.13340807174887892},"Endgeschwindigkeit f. Ber."]
["W1+W2 ( Energie / Hub )","Nm",{"$f":"C52+C49","v":0.39052480982603827},null,null,null,null,null,"min. Verfahrzeit auf",null,{"$f":"0.15+(((C5-8)/17)*0.01)","v":0.1511764705882353},"( min )"]
["Ezul / Zyklus ( Hub )","Nm",{"$f":"'Allgemeine Werte'!G34*C50/'Allgemeine Werte'!K34*C46","v":3.0000000000000004},null,"Stoßd.-kolbenrückstellzeit",null,{"$f":"'Allgemeine Werte'!E34","v":0.5},null,"Mittlere Verfahrgeschwindigkeit auf",null,{"$f":"(C5/1000)/K53","v":6.6147859922178989E-2},{"$f":"MIN(K46,K55,K44)","v":0.11575875486381323}]
["Auslastung / Zyklus",null,{"$f":"C53/C54","v":0.1301749366086794},null,"Max. Zyklen aus Rückstellzeit",null,{"$f":"60/G54","v":120},null,"Endgeschwindigkeit auf",null,{"$f":"K54*'Allgemeine Werte'!E71","v":0.11575875486381323}]
["Antriebskraft nach oben",null,{"$f":"C6-C47*9.81","v":64.841800000000006}]
["Antriebskraft nach unten",null,{"$f":"C9+C47*9.81","v":52.158200000000001}]

{"sheet":"EM-Ber-LM50-1","index":24,"n_rows":55,"n_cols":12,"rows_kept":55,"cut":false,"hidden":false,"merged":[]}
["Linearmodul Typ",null,"LM 50"]
[]
["Berechnung der Führungsbelastung"]
[null,null,null,null,null,null,"Statisch auf Grund","Statisch auf Grund"]
["Hub","mm",{"$f":"'EM-LM-1'!K8","v":10},null,null,null,"Zusatzmasse m","Zusatzmasse m","Dynamisch auf Grund","Statisch auf Grund","Statisch auf Grund"]
["Zylinderkraft","N",120,null,null,null,"Modul ausgef.","Modul eingef.","Zusatzmasse m","Zusatzkraft Modul eingef.","Zusatzkraft Modul ausgef."]
["Faktor",null,{"$f":"ROUNDDOWN(((C5+12.5)/25.1)+0.5,0)","v":1},null,null,null,"I","II","III","IV","V"]
["Modulgewicht","kg",{"$f":"0.7+(C7*0.18)","v":0.87999999999999989},null,"Moment Mx=M2","Nm",{"$f":"(C12*9.81)*((C38+C34/2+C33)/1000)","v":0},{"$f":"C12*9.81*((C37+C34/2+C33)/1000)","v":0},{"$f":"C42*(C15/1000)","v":0},{"$f":"(C21*C23/1000)-C25*((C27+C37+C34/2)/1000)","v":0},{"$f":"(C21*C23/1000)-C25*((C27+C38+C34/2)/1000)","v":0}]
["Zylinderkraft zurück","N",103,null,"Moment My=M1","Nm",{"$f":"C12*9.81*(C13/1000)","v":0},{"$f":"C12*9.81*(C13/1000)","v":0},"-",{"$f":"C17*C19/1000-C25*(C26/1000)","v":0},{"$f":"C17*C19/1000-C25*(C26/1000)","v":0}]
["Verfahrgeschwindigkeit","m/s",{"$f":"'EM-LM-1-1'!I58","v":2.02},null,"Moment Mz=M3","Nm","-","-",{"$f":"C42*(C13/1000)","v":0},{"$f":"C21*C22/1000-C17*(C18+C37+C34/2)/1000","v":0},{"$f":"C21*C22/1000-C17*(C18+C38+C34/2)/1000","v":0}]
[null,null,null,null,null,null,null,null,null,{"$f":"'EM-LM-1'!G51","v":true}]
["Zusatzmasse","kg",{"$f":"'EM-LM-1'!K14","v":0},null,"Mx Summe  I + III","Nm",{"$f":"G8+I8","v":0}]
["Schwerpunktabstand x-Richtung","mm",{"$f":"'EM-LM-1'!M14","v":0},null,"Absolutbetrag",null,{"$f":"ABS(G12)","v":0}]
["Schwerpunktabstand y-Richtung","mm",{"$f":"'EM-LM-1'!O14","v":0},null,"Mx Summe  II-III",null,{"$f":"H8-I8","v":0}]
["Schwerpunktabstand z-Richt.(Mitte Rolle)","mm",{"$f":"'EM-LM-1'!Q14+10","v":10},null,"Absolutbetrag",null,{"$f":"ABS(G14)","v":0}]
[null,null,null,null,"I ","Nm",{"$f":"ABS(G8)","v":0}]
["Zusatzkraft Fx","N",{"$f":"'EM-LM-1'!K18","v":0},null,"I oder I+III oder II-III",null,{"$f":"MAX(G16,G15,G13)","v":0}]
["Kraftangriffspunkt von Fx in y-Richtung","mm",{"$f":"'EM-LM-1'!O18","v":0},null,"Mx Summe  I+V oder II+IV","Nm",{"$f":"IF(AND(J8=0,K8=0),MAX(G8,H8),IF(J11=TRUE,H8+J8,G8+K8))","v":0}]
["Kraftangrp. von Fx in z-Richt.(Mitte Rolle)","mm",{"$f":"'EM-LM-1'!Q18+10","v":10},null,"Absolutbetrag",null,{"$f":"ABS(G18)","v":0}]
[null,null,null,null,"Mx ges","Nm",{"$f":"MAX(G17,G19)","v":0}]
["Zusatzkraft Fy","N",{"$f":"'EM-LM-1'!K20","v":0},null,"Mx zul","Nm",{"$f":"C34/1000*260","v":11.7},null,"Maximal-Werte der Momente und Kräfte nicht aus Katalog, sondern exakt berechnete Werte !!"]
["Kraftangriffspunkt von Fy in x-Richtung","mm",{"$f":"'EM-LM-1'!M20","v":0}]
["Kraftangrp. von Fy in z-Richt.(Mitte Rolle)","mm",{"$f":"'EM-LM-1'!Q20+10","v":10},null,"My Summe  I+V ( = II+IV )","Nm",{"$f":"G9+K9","v":0}]
[null,null,null,null,"Absolutbetrag",null,{"$f":"ABS(G23)","v":0}]
["Zusatzkraft Fz","N",{"$f":"'EM-LM-1'!K22","v":0},null,"My ges","Nm",{"$f":"G24","v":0}]
["Kraftangriffspunkt von Fz in x-Richtung","mm",{"$f":"'EM-LM-1'!M22","v":0},null,"My zul","Nm",{"$f":"8+(2.5*C7)","v":10.5}]
["Kraftangriffspunkt von Fz in y-Richtung","mm",{"$f":"'EM-LM-1'!O22","v":0}]
[]
[null,null,null,null,"Mz III","Nm",{"$f":"I10","v":0}]
["Länge L (Stirnplatte zu 1. Rolle - HubN/2)","mm",33,null,"Absolutbetrag",null,{"$f":"ABS(G29)","v":0}]
["Nennhub/2        HubN/2","mm",{"$f":"(0+(C7*25))/2","v":12.5},null,"Mz IV/V","Nm",{"$f":"IF(J11=TRUE,J10,K10)","v":0}]
["tatsächlicher gefahrener Hub/2","mm",{"$f":"C5/2","v":5},null,"Absolutbetrag",null,{"$f":"ABS(G31)","v":0}]
["Schwerpunktabstand in y-Richtung","mm",{"$f":"C14","v":0},null,"Mz ges","Nm",{"$f":"MAX(G30,G32)","v":0}]
["Wert K ( Abstand erste / letzte Rolle )","mm",{"$f":"31.7+(13.3*C7)","v":45},null,"Mz zul","Nm",{"$f":"G21/2","v":5.85}]
[]
[null,null,null,null,null,null,null,null,"Belastungsgleichung stat.",{"$f":"G19/G21+G25/G26+G32/G34+G38/G39+G42/G43","v":0}]
["l1 bei eingefahrenem Hub","mm",{"$f":"C30+C31","v":45.5},null,"Fx ges","N",{"$f":"C17","v":0},null,"Belastungsgleichung dyn.",{"$f":"G17/G21+G30/G34+G40/G43","v":0}]
["l1 bei ausgefahrenem Hub","mm",{"$f":"C30+C31+C32","v":50.5},null,"Absolutwert",null,{"$f":"ABS(G37)","v":0},null,"Belastungsgleichung",{"$f":"MAX(J36:J37)","v":0}]
[null,null,null,null,"Fx zul","N",{"$f":"G43","v":1300}]
["Stoßdämpferhub s ( Hub bis a=0 )","m",{"$f":"'Allgemeine Werte'!M36","v":4.5560000000000002E-3},null,"Gewichtskraft","N",{"$f":"C12*9.81","v":0}]
["Verzögerung a=vxv/2xs","m/s2",{"$f":"POWER(C48,2)/(2*C40)","v":3.499534142015015},null,"Fz ges abs","N",{"$f":"ABS(-C25+C12*9.81)","v":0},null,"Verfahrzeitberechnung"]
["Kraft zur Verzögerung der Masse","N",{"$f":"C12*C41","v":0},null,"Max aus E40,E41",null,{"$f":"MAX(G40,G41)","v":0},null,"Verfahrzeit berechnet ( t=Wurzel aus (2xsxm/F)",null,{"$f":"(SQRT(2*(C5/1000)*(C12+C8/2)/C9))*(2.8-C7*0.2)","v":2.4032340669569666E-2}]
["Kraft zur Verzög. d. Masse incl Modul/2","N",{"$f":"C47*C41","v":1.5397950224866064},null,"Fz zul","N",{"$f":"975+325*C7","v":1300},null,"Mittlere Verfahrgeschwindigkeit berechnet",null,{"$f":"(C5/1000)/K42","v":0.4161059522871296}]
[null,null,null,null,null,null,null,null,"Endgeschwindigkeit berechnet",null,{"$f":"K43*'Allgemeine Werte'!E71","v":0.72818541650247681}]
["Stoßdämpferberechnung",null,null,null,"Max. Zyklenzahl / Min."]
["Anzahl Stoßdämpfer",null,1,null,"Zyklen aus Verfahrzeit",null,{"$f":"60/(2*L50)","v":306.12244897959181},null,"Endgeschwindigkeit (Eingabe)",null,{"$f":"C10","v":2.02}]
["Gesamtmasse","kg",{"$f":"C12+C8/2","v":0.43999999999999995},null,null,null,null,null,"Mittlere Verfahrgeschwindigkeit (Eingabe)   m/s",null,{"$f":"C10/'Allgemeine Werte'!E71","v":1.1542857142857144}]
["Aufprallgeschwindigkeit","m/s",{"$f":"L54","v":0.17857142857142858},null,"Ezul / Stunde","Nm",{"$f":"'Allgemeine Werte'!H36*C46*0.95","v":23940},null,"Verfahrzeit (Eingabe)","s",{"$f":"(C5/1000)/K47","v":8.6633663366336624E-3},"Verfahrzeit für Berechnung"]
["W1","Nm",{"$f":"C47*POWER(C48,2)*0.5","v":7.0153061224489787E-3},null,"Ezul / Minute","Nm",{"$f":"G48/60","v":399},null,null,null,null,"( max )"]
["Hub Stoßdämpfer","m",{"$f":"'Allgemeine Werte'!L36","v":6.7999999999999996E-3},null,"Zyklen aus Ezul",null,{"$f":"G49/C53","v":484.80264830048793},null,"min. Verfahrzeit vor","gemessen",{"$f":"0.07+((C5/12.5)*0.01)","v":7.8000000000000014E-2},{"$f":"MAX(K48,K53,K42)","v":9.8000000000000004E-2}]
["Zylinderkraft","N",120,null,null,null,null,null,"Mittlere Verfahrgeschwindigkeit vor",null,{"$f":"(C5/1000)/K50","v":0.12820512820512819}]
["W2 ( Antriebsenergie )","Nm",{"$f":"C51*C50","v":0.81599999999999995},null,"Max. Zyklen",null,{"$f":"MIN(G46,G50,G55)","v":120},null,"Endgeschwindigkeit vor",null,{"$f":"K51*'Allgemeine Werte'!E71","v":0.22435897435897434},"Endgeschwindigkeit f. Ber."]
["W1+W2 ( Energie / Hub )","Nm",{"$f":"C52+C49","v":0.82301530612244889},null,null,null,null,null,"min. Verfahrzeit zurück",null,{"$f":"0.09+((C5/12.5)*0.01)","v":9.8000000000000004E-2},"( min )"]
["Ezul / Zyklus ( Hub )","Nm",{"$f":"'Allgemeine Werte'!G36*C50/'Allgemeine Werte'!K36*C46","v":5.8285714285714283},null,"Stoßd.-kolbenrückstellzeit",null,{"$f":"'Allgemeine Werte'!E36","v":0.5},null,"Mittlere Verfahrgeschwindigkeit zurück",null,{"$f":"(C5/1000)/K53","v":0.10204081632653061},{"$f":"MIN(K46,K55,K44)","v":0.17857142857142858}]
["Auslastung / Zyklus",null,{"$f":"C53/C54","v":0.14120360644257701},null,"Max. Zyklen aus Rückstellzeit",null,{"$f":"60/G54","v":120},null,"Endgeschwindigkeit zurück",null,{"$f":"K54*'Allgemeine Werte'!E71","v":0.17857142857142858}]

{"sheet":"EM-Ber-LM50-2","index":25,"n_rows":55,"n_cols":12,"rows_kept":55,"cut":false,"hidden":false,"merged":[]}
["Linearmodul Typ",null,"LM 50"]
[]
["Berechnung der Führungsbelastung"]
[null,null,null,null,null,null,"Statisch auf Grund","Statisch auf Grund"]
["Hub","mm",{"$f":"'EM-LM-2'!K8","v":10},null,null,null,"Zusatzmasse m","Zusatzmasse m","Dynamisch auf Grund","Statisch auf Grund","Statisch auf Grund"]
["Zylinderkraft","N",120,null,null,null,"Modul ausgef.","Modul eingef.","Zusatzmasse m","Zusatzkraft Modul eingef.","Zusatzkraft Modul ausgef."]
["Faktor",null,{"$f":"ROUNDDOWN(((C5+12.5)/25.1)+0.5,0)","v":1},null,null,null,"I","II","III","IV","V"]
["Modulgewicht","kg",{"$f":"0.7+(C7*0.18)","v":0.87999999999999989},null,"Moment Mx=M3","Nm",{"$f":"(C12*9.81)*((C38+C34/2+C33)/1000)","v":0},{"$f":"C12*9.81*((C37+C34/2+C33)/1000)","v":0},{"$f":"C42*(C15/1000)","v":0},{"$f":"(C21*C23/1000)-C25*((C27+C37+C34/2)/1000)","v":0},{"$f":"(C21*C23/1000)-C25*((C27+C38+C34/2)/1000)","v":0}]
["Zylinderkraft zurück","N",103,null,"Moment My=M1","Nm",{"$f":"C12*9.81*((C13)/1000)","v":0},{"$f":"C12*9.81*((C13)/1000)","v":0},"-",{"$f":"C17*(C19/1000)-C25*C26/1000","v":0},{"$f":"C17*(C19/1000)-C25*C26/1000","v":0}]
["Verfahrgeschwindigkeit","m/s",{"$f":"'EM-LM-2-1'!I58","v":2.02},null,"Moment Mz=M2","Nm","-","-",{"$f":"C42*(C13/1000)","v":0},{"$f":"C21*C22/1000-C17*(C18+C37+C34/2)/1000","v":0},{"$f":"C21*C22/1000-C17*(C18+C38+C34/2)/1000","v":0}]
[null,null,null,null,null,null,null,null,null,{"$f":"'EM-LM-2'!G51","v":true}]
["Zusatzmasse","kg",{"$f":"'EM-LM-2'!K14","v":0},null,"Mx Summe  I + III","Nm",{"$f":"G8+I8","v":0}]
["Schwerpunktabstand x-Richt.(Mitte Rolle)","mm",{"$f":"'EM-LM-2'!M14+10","v":10},null,"Absolutbetrag",null,{"$f":"ABS(G12)","v":0}]
["Schwerpunktabstand y-Richtung","mm",{"$f":"'EM-LM-2'!O14","v":0},null,"Mx Summe  II-III",null,{"$f":"H8-I8","v":0}]
["Schwerpunktabstand z-Richtung","mm",{"$f":"'EM-LM-2'!Q14","v":0},null,"Absolutbetrag",null,{"$f":"ABS(G14)","v":0}]
[null,null,null,null,"I ","Nm",{"$f":"ABS(G8)","v":0}]
["Zusatzkraft Fx","N",{"$f":"'EM-LM-2'!K18","v":0},null,"I oder I+III oder II-III",null,{"$f":"MAX(G16,G15,G13)","v":0}]
["Kraftangriffspunkt von Fx in y-Richtung","mm",{"$f":"'EM-LM-2'!O18","v":0},null,"Mx Summe  I+V oder II+IV","Nm",{"$f":"IF(AND(J8=0,K8=0),MAX(G8,H8),IF(J11=TRUE,H8+J8,G8+K8))","v":0}]
["Kraftangriffspunkt von Fx in z-Richtung","mm",{"$f":"'EM-LM-2'!Q18","v":0},null,"Absolutbetrag",null,{"$f":"ABS(G18)","v":0}]
[null,null,null,null,"Mx ges","Nm",{"$f":"MAX(G17,G19)","v":0}]
["Zusatzkraft Fy","N",{"$f":"'EM-LM-2'!K20","v":0},null,"Mx zul","Nm",{"$f":"G34/2","v":5.85},null,"Maximal-Werte der Momente und Kräfte nicht aus Katalog, sondern exakt berechnete Werte !!"]
["Kraftangrp. von Fy in x-Richt. (Mitte Rolle)","mm",{"$f":"'EM-LM-2'!M20+10","v":10}]
["Kraftangrp. von Fy in z-Richt.","mm",{"$f":"'EM-LM-2'!Q20","v":0},null,"My Summe  I+V ( = II+IV )","Nm",{"$f":"G9+K9","v":0}]
[null,null,null,null,"Absolutbetrag",null,{"$f":"ABS(G23)","v":0}]
["Zusatzkraft Fz","N",{"$f":"'EM-LM-2'!K22","v":0},null,"My ges","Nm",{"$f":"G24","v":0}]
["Kraftangrp. von Fz in x-Richt. (Mitte Rolle)","mm",{"$f":"'EM-LM-2'!M22+10","v":10},null,"My zul","Nm",{"$f":"8+(2.5*C7)","v":10.5}]
["Kraftangriffspunkt von Fz in y-Richtung","mm",{"$f":"'EM-LM-2'!O22","v":0}]
[]
[null,null,null,null,"Mz III","Nm",{"$f":"I10","v":0}]
["Länge L (Stirnplatte zu 1. Rolle - HubN/2)","mm",33,null,"Absolutbetrag",null,{"$f":"ABS(G29)","v":0}]
["Nennhub/2        HubN/2","mm",{"$f":"(0+(C7*25))/2","v":12.5},null,"Mz IV/V","Nm",{"$f":"IF(J11=TRUE,J10,K10)","v":0}]
["tatsächlicher gefahrener Hub/2","mm",{"$f":"C5/2","v":5},null,"Absolutbetrag",null,{"$f":"ABS(G31)","v":0}]
["Schwerpunktabstand in y-Richtung","mm",{"$f":"C14","v":0},null,"Mz ges","Nm",{"$f":"MAX(G30,G32)","v":0}]
["Wert K ( Abstand erste / letzte Rolle )","mm",{"$f":"31.7+(13.3*C7)","v":45},null,"Mz zul","Nm",{"$f":"C34/1000*260","v":11.7}]
[]
[null,null,null,null,null,null,null,null,"Belastungsgleichung stat.",{"$f":"G19/G21+G25/G26+G32/G34+G38/G39+G42/G43","v":0}]
["l1 bei eingefahrenem Hub","mm",{"$f":"C30+C31","v":45.5},null,"Fx ges","N",{"$f":"C17","v":0},null,"Belastungsgleichung dyn.",{"$f":"G17/G21+G30/G34+G40/G43","v":0}]
["l1 bei ausgefahrenem Hub","mm",{"$f":"C30+C31+C32","v":50.5},null,"Absolutwert",null,{"$f":"ABS(G37)","v":0},null,"Belastungsgleichung",{"$f":"MAX(J36:J37)","v":0}]
[null,null,null,null,"Fx zul","N",{"$f":"G43","v":1300}]
["Stoßdämpferhub s ( Hub bis a=0 )","m",{"$f":"'Allgemeine Werte'!M36","v":4.5560000000000002E-3},null,"Gewichtskraft","N",{"$f":"C12*9.81","v":0}]
["Verzögerung a=vxv/2xs","m/s2",{"$f":"POWER(C48,2)/(2*C40)","v":3.499534142015015},null,"Fz ges abs","N",{"$f":"ABS(-C25+C12*9.81)","v":0},null,"Verfahrzeitberechnung"]
["Kraft zur Verzögerung der Masse","N",{"$f":"C12*C41","v":0},null,"Max aus E40,E41",null,{"$f":"MAX(G40,G41)","v":0},null,"Verfahrzeit berechnet ( t=Wurzel aus (2xsxm/F)",null,{"$f":"(SQRT(2*(C5/1000)*(C12+C8/2)/C9))*(2.8-C7*0.2)","v":2.4032340669569666E-2}]
["Kraft zur Verzög. d. Masse incl Modul/2","N",{"$f":"C47*C41","v":1.5397950224866064},null,"Fz zul","N",{"$f":"975+325*C7","v":1300},null,"Mittlere Verfahrgeschwindigkeit berechnet",null,{"$f":"(C5/1000)/K42","v":0.4161059522871296}]
[null,null,null,null,null,null,null,null,"Endgeschwindigkeit berechnet",null,{"$f":"K43*'Allgemeine Werte'!E71","v":0.72818541650247681}]
["Stoßdämpferberechnung",null,null,null,"Max. Zyklenzahl / Min."]
["Anzahl Stoßdämpfer",null,1,null,"Zyklen aus Verfahrzeit",null,{"$f":"60/(2*L50)","v":306.12244897959181},null,"Endgeschwindigkeit (Eingabe)",null,{"$f":"C10","v":2.02}]
["Gesamtmasse","kg",{"$f":"C12+C8/2","v":0.43999999999999995},null,null,null,null,null,"Mittlere Verfahrgeschwindigkeit (Eingabe)   m/s",null,{"$f":"C10/'Allgemeine Werte'!E71","v":1.1542857142857144}]
["Aufprallgeschwindigkeit","m/s",{"$f":"L54","v":0.17857142857142858},null,"Ezul / Stunde","Nm",{"$f":"'Allgemeine Werte'!H36*C46*0.95","v":23940},null,"Verfahrzeit (Eingabe)","s",{"$f":"(C5/1000)/K47","v":8.6633663366336624E-3},"Verfahrzeit für Berechnung"]
["W1","Nm",{"$f":"C47*POWER(C48,2)*0.5","v":7.0153061224489787E-3},null,"Ezul / Minute","Nm",{"$f":"G48/60","v":399},null,null,null,null,"( max )"]
["Hub Stoßdämpfer","m",{"$f":"'Allgemeine Werte'!L36","v":6.7999999999999996E-3},null,"Zyklen aus Ezul",null,{"$f":"G49/C53","v":484.80264830048793},null,"min. Verfahrzeit vor","gemessen",{"$f":"0.07+((C5/12.5)*0.01)","v":7.8000000000000014E-2},{"$f":"MAX(K48,K53,K42)","v":9.8000000000000004E-2}]
["Zylinderkraft","N",120,null,null,null,null,null,"Mittlere Verfahrgeschwindigkeit vor",null,{"$f":"(C5/1000)/K50","v":0.12820512820512819}]
["W2 ( Antriebsenergie )","Nm",{"$f":"C51*C50","v":0.81599999999999995},null,"Max. Zyklen",null,{"$f":"MIN(G46,G50,G55)","v":120},null,"Endgeschwindigkeit vor",null,{"$f":"K51*'Allgemeine Werte'!E71","v":0.22435897435897434},"Endgeschwindigkeit f. Ber."]
["W1+W2 ( Energie / Hub )","Nm",{"$f":"C52+C49","v":0.82301530612244889},null,null,null,null,null,"min. Verfahrzeit zurück",null,{"$f":"0.09+((C5/12.5)*0.01)","v":9.8000000000000004E-2},"( min )"]
["Ezul / Zyklus ( Hub )","Nm",{"$f":"'Allgemeine Werte'!G36*C50/'Allgemeine Werte'!K36*C46","v":5.8285714285714283},null,"Stoßd.-kolbenrückstellzeit",null,{"$f":"'Allgemeine Werte'!E36","v":0.5},null,"Mittlere Verfahrgeschwindigkeit zurück",null,{"$f":"(C5/1000)/K53","v":0.10204081632653061},{"$f":"MIN(K46,K55,K44)","v":0.17857142857142858}]
["Auslastung / Zyklus",null,{"$f":"C53/C54","v":0.14120360644257701},null,"Max. Zyklen aus Rückstellzeit",null,{"$f":"60/G54","v":120},null,"Endgeschwindigkeit zurück",null,{"$f":"K54*'Allgemeine Werte'!E71","v":0.17857142857142858}]

{"sheet":"EM-Ber-LM50-3","index":26,"n_rows":57,"n_cols":12,"rows_kept":57,"cut":false,"hidden":false,"merged":[]}
["Linearmodul Typ",null,"LM 50"]
[]
["Berechnung der Führungsbelastung"]
[null,null,null,null,null,null,"Statisch auf Grund","Statisch auf Grund"]
["Hub","mm",{"$f":"'EM-LM-3'!K8","v":10},null,null,null,"Zusatzmasse m","Zusatzmasse m","Dynamisch auf Grund","Statisch auf Grund","Statisch auf Grund"]
["Zylinderkraft","N",120,null,null,null,"Modul ausgef.","Modul eingef.","Zusatzmasse m","Zusatzkraft Modul eingef.","Zusatzkraft Modul ausgef."]
["Faktor",null,{"$f":"ROUNDDOWN(((C5+12.5)/25.1)+0.5,0)","v":1},null,null,null,"I","II","III","IV","V"]
["Modulgewicht","kg",{"$f":"0.7+(C7*0.18)","v":0.87999999999999989},null,"Moment Mx=M3","Nm",{"$f":"C12*9.81*((C15)/1000)","v":0},{"$f":"C12*9.81*((C15)/1000)","v":0},{"$f":"C42*(C15/1000)","v":0},{"$f":"IF(K11=TRUE,-(C21*C23/1000)+C25*((C27+C37+C34/2)/1000),(C21*C23/1000)-C25*((C27+C37+C34/2)/1000))","v":0},{"$f":"IF(K11=TRUE,-(C21*C23/1000)+C25*((C27+C38+C34/2)/1000),(C21*C23/1000)-C25*((C27+C38+C34/2)/1000))","v":0}]
["Zylinderkraft zurück","N",103,null,"Moment My=M1","Nm","-","-","-",{"$f":"C17*(C19/1000)-C25*C26/1000","v":0},{"$f":"C17*(C19/1000)-C25*C26/1000","v":0}]
["Verfahrgeschwindigkeit","m/s",{"$f":"'EM-LM-3-1'!I58","v":2.02},null,"Moment Mz=M2","Nm",{"$f":"C12*9.81*((C13)/1000)","v":0},{"$f":"C12*9.81*((C13)/1000)","v":0},{"$f":"C42*(C13/1000)","v":0},{"$f":"IF(K11=TRUE,-C21*C22/1000+C17*(C18+C37+C34/2)/1000,C21*C22/1000-C17*(C18+C37+C34/2)/1000)","v":0},{"$f":"IF(K11=TRUE,-C21*C22/1000+C17*(C18+C38+C34/2)/1000,C21*C22/1000-C17*(C18+C38+C34/2)/1000)","v":0}]
[null,null,null,null,null,null,null,null,null,{"$f":"'EM-LM-3'!G51","v":true},{"$f":"'EM-LM-3'!G52","v":true}]
["Zusatzmasse","kg",{"$f":"'EM-LM-3'!K14","v":0}]
["Schwerpunktabstand x-Richt.(Mitte Rolle)","mm",{"$f":"'EM-LM-3'!M14+10","v":10}]
["Schwerpunktabstand y-Richtung","mm",{"$f":"'EM-LM-3'!O14","v":0}]
["Schwerpunktabstand z-Richtung","mm",{"$f":"'EM-LM-3'!Q14","v":0}]
[null,null,null,null,"Mx Summe  I(II) + III","Nm",{"$f":"G8+I8","v":0}]
["Zusatzkraft Fx","N",{"$f":"'EM-LM-3'!K18","v":0},null,"Absolutbetrag",null,{"$f":"ABS(G16)","v":0}]
["Kraftangriffspunkt von Fx in y-Richtung","mm",{"$f":"'EM-LM-3'!O18","v":0},null,"Mx Summe  I+V oder II+IV","Nm",{"$f":"IF(J11=TRUE,H8+J8,G8+K8)","v":0}]
["Kraftangriffspunkt von Fx in z-Richtung","mm",{"$f":"'EM-LM-3'!Q18","v":0},null,"Absolutbetrag",null,{"$f":"ABS(G18)","v":0}]
[null,null,null,null,"Mx ges","Nm",{"$f":"MAX(G17,G19)","v":0}]
["Zusatzkraft Fy","N",{"$f":"'EM-LM-3'!K20","v":0},null,"Mx zul","Nm",{"$f":"G34/2","v":5.85},null,"Maximal-Werte der Momente und Kräfte nicht aus Katalog, sondern exakt berechnete Werte !!"]
["Kraftangrp. von Fy in x-Richt. (Mitte Rolle)","mm",{"$f":"'EM-LM-3'!M20+10","v":10}]
["Kraftangrp. von Fy in z-Richt.","mm",{"$f":"'EM-LM-3'!Q20","v":0},null,"My IV = V","Nm",{"$f":"J9","v":0}]
[null,null,null,null,"Absolutbetrag",null,{"$f":"ABS(G23)","v":0}]
["Zusatzkraft Fz","N",{"$f":"'EM-LM-3'!K22","v":0},null,"My ges","Nm",{"$f":"G24","v":0}]
["Kraftangrp. von Fz in x-Richt. (Mitte Rolle)","mm",{"$f":"'EM-LM-3'!M22+10","v":10},null,"My zul","Nm",{"$f":"8+(2.5*C7)","v":10.5}]
["Kraftangriffspunkt von Fz in y-Richtung","mm",{"$f":"'EM-LM-3'!O22","v":0}]
[]
[null,null,null,null,"Mz Summe I(II)+III","Nm",{"$f":"G10+I10","v":0}]
["Länge L (Stirnplatte zu 1. Rolle - HubN/2)","mm",33,null,"Absolutbetrag",null,{"$f":"ABS(G29)","v":0}]
["Nennhub/2        HubN/2","mm",{"$f":"(0+(C7*25))/2","v":12.5},null,"Mz Summe  I+V oder II+IV","Nm",{"$f":"IF(J11=TRUE,H10+J10,G10+K10)","v":0}]
["tatsächlicher gefahrener Hub/2","mm",{"$f":"C5/2","v":5},null,"Absolutbetrag",null,{"$f":"ABS(G31)","v":0}]
["Schwerpunktabstand in y-Richtung","mm",{"$f":"C14","v":0},null,"Mz ges","Nm",{"$f":"MAX(G30,G32)","v":0}]
["Wert K ( Abstand erste / letzte Rolle )","mm",{"$f":"31.7+(13.3*C7)","v":45},null,"Mz zul","Nm",{"$f":"C34/1000*260","v":11.7}]
[]
[null,null,null,null,null,null,null,null,"Belastungsgleichung stat.",{"$f":"G19/G21+G25/G26+G32/G34+G38/G39+G42/G43","v":0}]
["l1 bei eingefahrenem Hub","mm",{"$f":"C30+C31","v":45.5},null,"Fx ges","N",{"$f":"C17","v":0},null,"Belastungsgleichung dyn.",{"$f":"G17/G21+G30/G34","v":0}]
["l1 bei ausgefahrenem Hub","mm",{"$f":"C30+C31+C32","v":50.5},null,"Absolutwert",null,{"$f":"ABS(G37)","v":0},null,"Belastungsgleichung",{"$f":"MAX(J36:J37)","v":0}]
[null,null,null,null,"Fx zul","N",{"$f":"G43","v":1300}]
["Stoßdämpferhub s ( Hub bis a=0 )","m",{"$f":"'Allgemeine Werte'!M36","v":4.5560000000000002E-3}]
["Verzögerung a=vxv/2xs","m/s2",{"$f":"POWER(C48,2)/(2*C40)","v":3.2304427047205126},null,"Fz ges","N",{"$f":"-C25","v":0},null,"Verfahrzeitberechnung"]
["Kraft zur Verzögerung der Masse","N",{"$f":"C12*C41","v":0},null,"Absolutwert",null,{"$f":"ABS(G41)","v":0},null,"Verfahrzeit berechnet ( t=Wurzel aus (2xsxm/F)",null,{"$f":"(SQRT(2*(C5/1000)*(C12+C8/2)/(C6-(C12+C8/2)*9.81)))*(3.05-C7*0.2)","v":2.4857090787085995E-2}]
["Kraft zur Verzög. d. Masse incl Modul/2","N",{"$f":"C47*C41","v":1.4213947900770254},null,"Fz zul","N",{"$f":"975+325*C7","v":1300},null,"Mittlere Verfahrgeschwindigkeit berechnet",null,{"$f":"(C5/1000)/K42","v":0.40229969330100773}]
[null,null,null,null,null,null,null,null,"Endgeschwindigkeit berechnet",null,{"$f":"K43*'Allgemeine Werte'!E71","v":0.70402446327676349}]
["Stoßdämpferberechnung",null,null,null,"Max. Zyklenzahl / Min."]
["Anzahl Stoßdämpfer",null,1,null,"Zyklen aus Verfahrzeit",null,{"$f":"60/(2*L50)","v":294.11764705882354},null,"Endgeschwindigkeit (Eingabe)",null,{"$f":"C10","v":2.02}]
["Gesamtmasse","kg",{"$f":"C12+C8/2","v":0.43999999999999995},null,null,null,null,null,"Mittlere Verfahrgeschwindigkeit (Eingabe)   m/s",null,{"$f":"C10/'Allgemeine Werte'!E71","v":1.1542857142857144}]
["Aufprallgeschwindigkeit","m/s",{"$f":"L54","v":0.17156862745098042},null,"Ezul / Stunde","Nm",{"$f":"'Allgemeine Werte'!H36*C46*0.95","v":23940},null,"Verfahrzeit (Eingabe)","s",{"$f":"(C5/1000)/K47","v":8.6633663366336624E-3},"Verfahrzeit für Berechnung"]
["W1","Nm",{"$f":"C47*POWER(C48,2)*0.5","v":6.4758746635909283E-3},null,"Ezul / Minute","Nm",{"$f":"G48/60","v":399},null,null,null,null,"( max )"]
["Hub Stoßdämpfer","m",{"$f":"'Allgemeine Werte'!L36","v":6.7999999999999996E-3},null,"Zyklen aus Ezul",null,{"$f":"G49/C53","v":503.07369538442504},null,"min. Verfahrzeit ab","gemessen",{"$f":"0.05+((C5/12.5)*0.01)","v":5.8000000000000003E-2},{"$f":"MAX(K48,K53,K42)","v":0.10199999999999999}]
["Zylinderkraft","N",120,null,null,null,null,null,"Mittlere Verfahrgeschwindigkeit ab",null,{"$f":"(C5/1000)/K50","v":0.17241379310344826}]
["W2 ( Antriebsenergie )","Nm",{"$f":"MAX(C56,C57)*C50","v":0.78664847999999998},null,"Max. Zyklen",null,{"$f":"MIN(G46,G50,G55)","v":120},null,"Endgeschwindigkeit ab",null,{"$f":"K51*'Allgemeine Werte'!E71","v":0.30172413793103448},"Endgeschwindigkeit f. Ber."]
["W1+W2 ( Energie / Hub )","Nm",{"$f":"C52+C49","v":0.79312435466359088},null,null,null,null,null,"min. Verfahrzeit auf",null,{"$f":"0.09+((C5/12.5)*0.015)","v":0.10199999999999999},"( min )"]
["Ezul / Zyklus ( Hub )","Nm",{"$f":"'Allgemeine Werte'!G36*C50/'Allgemeine Werte'!K36*C46","v":5.8285714285714283},null,"Stoßd.-kolbenrückstellzeit",null,{"$f":"'Allgemeine Werte'!E36","v":0.5},null,"Mittlere Verfahrgeschwindigkeit auf",null,{"$f":"(C5/1000)/K53","v":9.8039215686274522E-2},{"$f":"MIN(K46,K55,K44)","v":0.17156862745098042}]
["Auslastung / Zyklus",null,{"$f":"C53/C54","v":0.13607525692757688},null,"Max. Zyklen aus Rückstellzeit",null,{"$f":"60/G54","v":120},null,"Endgeschwindigkeit auf",null,{"$f":"K54*'Allgemeine Werte'!E71","v":0.17156862745098042}]
["Antriebskraft nach oben",null,{"$f":"C6-C47*9.81","v":115.6836}]
["Antriebskraft nach unten",null,{"$f":"C9+C47*9.81","v":107.3164}]

{"sheet":"EM-Ber-LM50-4","index":27,"n_rows":55,"n_cols":12,"rows_kept":55,"cut":false,"hidden":false,"merged":[]}
["Linearmodul Typ",null,"LM 50"]
[]
["Berechnung der Führungsbelastung"]
[null,null,null,null,null,null,"Statisch auf Grund","Statisch auf Grund"]
["Hub","mm",{"$f":"'EM-LM-4'!K8","v":10},null,null,null,"Zusatzmasse m","Zusatzmasse m","Dynamisch auf Grund","Statisch auf Grund","Statisch auf Grund"]
["Zylinderkraft","N",120,null,null,null,"Modul ausgef.","Modul eingef.","Zusatzmasse m","Zusatzkraft Modul eingef.","Zusatzkraft Modul ausgef."]
["Faktor",null,{"$f":"ROUNDDOWN(((C5+12.5)/25.1)+0.5,0)","v":1},null,null,null,"I","II","III","IV","V"]
["Modulgewicht","kg",{"$f":"0.7+(C7*0.18)","v":0.87999999999999989},null,"Moment Mx=M2","Nm",{"$f":"(C12*9.81)*((C37-C32+C34/2+C33)/1000)","v":0},{"$f":"C12*9.81*((C37+C34/2+C33)/1000)","v":0},{"$f":"C42*(C15/1000)","v":0},{"$f":"(C21*C23/1000)-C25*((C27+C37+C34/2)/1000)","v":0},{"$f":"(C21*C23/1000)-C25*((C27+C37-C32+C34/2)/1000)","v":0}]
["Zylinderkraft zurück","N",103,null,"Moment My=M1","Nm",{"$f":"C12*9.81*(C13/1000)","v":0},{"$f":"C12*9.81*(C13/1000)","v":0},"-",{"$f":"C17*C19/1000-C25*(C26/1000)","v":0},{"$f":"C17*C19/1000-C25*(C26/1000)","v":0}]
["Verfahrgeschwindigkeit","m/s",{"$f":"'EM-LM-4-1'!I58","v":2.02},null,"Moment Mz=M3","Nm","-","-",{"$f":"C42*(C13/1000)","v":0},{"$f":"C21*C22/1000-C17*(C18+C37+C34/2)/1000","v":0},{"$f":"C21*C22/1000-C17*(C18+C37-C32+C34/2)/1000","v":0}]
[null,null,null,null,null,null,null,null,null,{"$f":"'EM-LM-4'!G51","v":false}]
["Zusatzmasse","kg",{"$f":"'EM-LM-4'!K14","v":0},null,"Mx Summe  I + III","Nm",{"$f":"G8+I8","v":0}]
["Schwerpunktabstand x-Richtung","mm",{"$f":"'EM-LM-4'!M14","v":0},null,"Absolutbetrag",null,{"$f":"ABS(G12)","v":0}]
["Schwerpunktabstand y-Richtung","mm",{"$f":"'EM-LM-4'!O14","v":0},null,"Mx Summe  II-III",null,{"$f":"H8-I8","v":0}]
["Schwerpunktabstand z-Richt.(Mitte Rolle)","mm",{"$f":"'EM-LM-4'!Q14+35","v":35},null,"Absolutbetrag",null,{"$f":"ABS(G14)","v":0}]
[null,null,null,null,"I ","Nm",{"$f":"ABS(G8)","v":0}]
["Zusatzkraft Fx","N",{"$f":"'EM-LM-4'!K18","v":0},null,"I oder I+III oder II-III",null,{"$f":"MAX(G16,G15,G13)","v":0}]
["Kraftangriffspunkt von Fx in y-Richtung","mm",{"$f":"'EM-LM-4'!O18","v":0},null,"Mx Summe  I+V oder II+IV","Nm",{"$f":"IF(AND(J8=0,K8=0),MAX(G8,H8),IF(J11=TRUE,H8+J8,G8+K8))","v":0}]
["Kraftangrp. von Fx in z-Richt.(Mitte Rolle)","mm",{"$f":"'EM-LM-4'!Q18+35","v":35},null,"Absolutbetrag",null,{"$f":"ABS(G18)","v":0}]
[null,null,null,null,"Mx ges","Nm",{"$f":"MAX(G17,G19)","v":0}]
["Zusatzkraft Fy","N",{"$f":"'EM-LM-4'!K20","v":0},null,"Mx zul","Nm",{"$f":"C34/1000*260","v":11.7},null,"Maximal-Werte der Momente und Kräfte nicht aus Katalog, sondern exakt berechnete Werte !!"]
["Kraftangriffspunkt von Fy in x-Richtung","mm",{"$f":"'EM-LM-4'!M20","v":0}]
["Kraftangrp. von Fy in z-Richt.(Mitte Rolle)","mm",{"$f":"'EM-LM-4'!Q20+35","v":35},null,"My Summe  I+V ( = II+IV )","Nm",{"$f":"G9+K9","v":0}]
[null,null,null,null,"Absolutbetrag",null,{"$f":"ABS(G23)","v":0}]
["Zusatzkraft Fz","N",{"$f":"'EM-LM-4'!K22","v":0},null,"My ges","Nm",{"$f":"G24","v":0}]
["Kraftangriffspunkt von Fz in x-Richtung","mm",{"$f":"'EM-LM-4'!M22","v":0},null,"My zul","Nm",{"$f":"8+(2.5*C7)","v":10.5}]
["Kraftangriffspunkt von Fz in y-Richtung","mm",{"$f":"'EM-LM-4'!O22","v":0}]
[]
[null,null,null,null,"Mz III","Nm",{"$f":"I10","v":0}]
["Länge L (Stirnplatte zu 1. Rolle - HubN/2)","mm",33,null,"Absolutbetrag",null,{"$f":"ABS(G29)","v":0}]
["Nennhub/2        HubN/2","mm",{"$f":"(0+(C7*25))/2","v":12.5},null,"Mz IV/V","Nm",{"$f":"IF(J11=TRUE,J10,K10)","v":0}]
["tatsächlicher gefahrener Hub/2","mm",{"$f":"C5/2","v":5},null,"Absolutbetrag",null,{"$f":"ABS(G31)","v":0}]
["Schwerpunktabstand in y-Richtung","mm",{"$f":"C14","v":0},null,"Mz ges","Nm",{"$f":"MAX(G30,G32)","v":0}]
["Wert K ( Abstand erste / letzte Rolle )","mm",{"$f":"31.7+(13.3*C7)","v":45},null,"Mz zul","Nm",{"$f":"G21/2","v":5.85}]
["Anfangswert (Abst. Stirnpl./Deckplatte)","mm",21]
[null,null,null,null,null,null,null,null,"Belastungsgleichung stat.",{"$f":"G19/G21+G25/G26+G32/G34+G38/G39+G42/G43","v":0}]
["l1 bei eingefahrenem Hub","mm",{"$f":"C30+C31-C35","v":24.5},null,"Fx ges","N",{"$f":"C17","v":0},null,"Belastungsgleichung dyn.",{"$f":"G17/G21+G30/G34+G40/G43","v":0}]
["l1 bei ausgefahrenem Hub","mm",{"$f":"C30+C31+C32-C35","v":29.5},null,"Absolutwert",null,{"$f":"ABS(G37)","v":0},null,"Belastungsgleichung",{"$f":"MAX(J36:J37)","v":0}]
[null,null,null,null,"Fx zul","N",{"$f":"G43","v":1300}]
["Stoßdämpferhub s ( Hub bis a=0 )","m",{"$f":"'Allgemeine Werte'!M36","v":4.5560000000000002E-3},null,"Gewichtskraft","N",{"$f":"C12*9.81","v":0}]
["Verzögerung a=vxv/2xs","m/s2",{"$f":"POWER(C48,2)/(2*C40)","v":3.499534142015015},null,"Fz ges abs","N",{"$f":"ABS(-C25+C12*9.81)","v":0},null,"Verfahrzeitberechnung"]
["Kraft zur Verzögerung der Masse","N",{"$f":"C12*C41","v":0},null,"Max aus E40,E41",null,{"$f":"MAX(G40,G41)","v":0},null,"Verfahrzeit berechnet ( t=Wurzel aus (2xsxm/F)",null,{"$f":"(SQRT(2*(C5/1000)*(C12+C8/2)/C9))*(2.8-C7*0.2)","v":2.4032340669569666E-2}]
["Kraft zur Verzög. d. Masse incl Modul/2","N",{"$f":"C47*C41","v":1.5397950224866064},null,"Fz zul","N",{"$f":"975+325*C7","v":1300},null,"Mittlere Verfahrgeschwindigkeit berechnet",null,{"$f":"(C5/1000)/K42","v":0.4161059522871296}]
[null,null,null,null,null,null,null,null,"Endgeschwindigkeit berechnet",null,{"$f":"K43*'Allgemeine Werte'!E71","v":0.72818541650247681}]
["Stoßdämpferberechnung",null,null,null,"Max. Zyklenzahl / Min."]
["Anzahl Stoßdämpfer",null,1,null,"Zyklen aus Verfahrzeit",null,{"$f":"60/(2*L50)","v":306.12244897959181},null,"Endgeschwindigkeit (Eingabe)",null,{"$f":"C10","v":2.02}]
["Gesamtmasse","kg",{"$f":"C12+C8/2","v":0.43999999999999995},null,null,null,null,null,"Mittlere Verfahrgeschwindigkeit (Eingabe)   m/s",null,{"$f":"C10/'Allgemeine Werte'!E71","v":1.1542857142857144}]
["Aufprallgeschwindigkeit","m/s",{"$f":"L54","v":0.17857142857142858},null,"Ezul / Stunde","Nm",{"$f":"'Allgemeine Werte'!H36*C46*0.95","v":23940},null,"Verfahrzeit (Eingabe)","s",{"$f":"(C5/1000)/K47","v":8.6633663366336624E-3},"Verfahrzeit für Berechnung"]
["W1","Nm",{"$f":"C47*POWER(C48,2)*0.5","v":7.0153061224489787E-3},null,"Ezul / Minute","Nm",{"$f":"G48/60","v":399},null,null,null,null,"( max )"]
["Hub Stoßdämpfer","m",{"$f":"'Allgemeine Werte'!L36","v":6.7999999999999996E-3},null,"Zyklen aus Ezul",null,{"$f":"G49/C53","v":484.80264830048793},null,"min. Verfahrzeit vor","gemessen",{"$f":"0.07+((C5/12.5)*0.01)","v":7.8000000000000014E-2},{"$f":"MAX(K48,K53,K42)","v":9.8000000000000004E-2}]
["Zylinderkraft","N",120,null,null,null,null,null,"Mittlere Verfahrgeschwindigkeit vor",null,{"$f":"(C5/1000)/K50","v":0.12820512820512819}]
["W2 ( Antriebsenergie )","Nm",{"$f":"C51*C50","v":0.81599999999999995},null,"Max. Zyklen",null,{"$f":"MIN(G46,G50,G55)","v":120},null,"Endgeschwindigkeit vor",null,{"$f":"K51*'Allgemeine Werte'!E71","v":0.22435897435897434},"Endgeschwindigkeit f. Ber."]
["W1+W2 ( Energie / Hub )","Nm",{"$f":"C52+C49","v":0.82301530612244889},null,null,null,null,null,"min. Verfahrzeit zurück",null,{"$f":"0.09+((C5/12.5)*0.01)","v":9.8000000000000004E-2},"( min )"]
["Ezul / Zyklus ( Hub )","Nm",{"$f":"'Allgemeine Werte'!G36*C50/'Allgemeine Werte'!K36*C46","v":5.8285714285714283},null,"Stoßd.-kolbenrückstellzeit",null,{"$f":"'Allgemeine Werte'!E36","v":0.5},null,"Mittlere Verfahrgeschwindigkeit zurück",null,{"$f":"(C5/1000)/K53","v":0.10204081632653061},{"$f":"MIN(K46,K55,K44)","v":0.17857142857142858}]
["Auslastung / Zyklus",null,{"$f":"C53/C54","v":0.14120360644257701},null,"Max. Zyklen aus Rückstellzeit",null,{"$f":"60/G54","v":120},null,"Endgeschwindigkeit zurück",null,{"$f":"K54*'Allgemeine Werte'!E71","v":0.17857142857142858}]

{"sheet":"EM-Ber-LM50-5","index":28,"n_rows":55,"n_cols":12,"rows_kept":55,"cut":false,"hidden":false,"merged":[]}
["Linearmodul Typ",null,"LM 50"]
[]
["Berechnung der Führungsbelastung"]
[null,null,null,null,null,null,"Statisch auf Grund","Statisch auf Grund"]
["Hub","mm",{"$f":"'EM-LM-5'!K8","v":10},null,null,null,"Zusatzmasse m","Zusatzmasse m","Dynamisch auf Grund","Statisch auf Grund","Statisch auf Grund"]
["Zylinderkraft","N",120,null,null,null,"Modul ausgef.","Modul eingef.","Zusatzmasse m","Zusatzkraft Modul eingef.","Zusatzkraft Modul ausgef."]
["Faktor",null,{"$f":"ROUNDDOWN(((C5+12.5)/25.1)+0.5,0)","v":1},null,null,null,"I","II","III","IV","V"]
["Modulgewicht","kg",{"$f":"0.7+(C7*0.18)","v":0.87999999999999989},null,"Moment Mx=M3","Nm",{"$f":"(C12*9.81)*((C37-C32+C34/2+C33)/1000)","v":0},{"$f":"C12*9.81*((C37+C34/2+C33)/1000)","v":0},{"$f":"C42*(C15/1000)","v":0},{"$f":"(C21*C23/1000)-C25*((C27+C37+C34/2)/1000)","v":0},{"$f":"(C21*C23/1000)-C25*((C27+C37-C32+C34/2)/1000)","v":0}]
["Zylinderkraft zurück","N",103,null,"Moment My=M1","Nm",{"$f":"C12*9.81*((C13)/1000)","v":0},{"$f":"C12*9.81*((C13)/1000)","v":0},"-",{"$f":"C17*(C19/1000)-C25*C26/1000","v":0},{"$f":"C17*(C19/1000)-C25*C26/1000","v":0}]
["Verfahrgeschwindigkeit","m/s",{"$f":"'EM-LM-5-1'!I58","v":2.02},null,"Moment Mz=M2","Nm","-","-",{"$f":"C42*(C13/1000)","v":0},{"$f":"C21*C22/1000-C17*(C18+C37+C34/2)/1000","v":0},{"$f":"C21*C22/1000-C17*(C18+C37-C32+C34/2)/1000","v":0}]
[null,null,null,null,null,null,null,null,null,{"$f":"'EM-LM-5'!G51","v":false}]
["Zusatzmasse","kg",{"$f":"'EM-LM-5'!K14","v":0},null,"Mx Summe  I + III","Nm",{"$f":"G8+I8","v":0}]
["Schwerpunktabstand x-Richt.(Mitte Rolle)","mm",{"$f":"'EM-LM-5'!M14+35","v":35},null,"Absolutbetrag",null,{"$f":"ABS(G12)","v":0}]
["Schwerpunktabstand y-Richtung","mm",{"$f":"'EM-LM-5'!O14","v":0},null,"Mx Summe  II-III",null,{"$f":"H8-I8","v":0}]
["Schwerpunktabstand z-Richtung","mm",{"$f":"'EM-LM-5'!Q14","v":0},null,"Absolutbetrag",null,{"$f":"ABS(G14)","v":0}]
[null,null,null,null,"I ","Nm",{"$f":"ABS(G8)","v":0}]
["Zusatzkraft Fx","N",{"$f":"'EM-LM-5'!K18","v":0},null,"I oder I+III oder II-III",null,{"$f":"MAX(G16,G15,G13)","v":0}]
["Kraftangriffspunkt von Fx in y-Richtung","mm",{"$f":"'EM-LM-5'!O18","v":0},null,"Mx Summe  I+V oder II+IV","Nm",{"$f":"IF(AND(J8=0,K8=0),MAX(G8,H8),IF(J11=TRUE,H8+J8,G8+K8))","v":0}]
["Kraftangriffspunkt von Fx in z-Richtung","mm",{"$f":"'EM-LM-5'!Q18","v":0},null,"Absolutbetrag",null,{"$f":"ABS(G18)","v":0}]
[null,null,null,null,"Mx ges","Nm",{"$f":"MAX(G17,G19)","v":0}]
["Zusatzkraft Fy","N",{"$f":"'EM-LM-5'!K20","v":0},null,"Mx zul","Nm",{"$f":"G34/2","v":5.85},null,"Maximal-Werte der Momente und Kräfte nicht aus Katalog, sondern exakt berechnete Werte !!"]
["Kraftangrp. von Fy in x-Richt. (Mitte Rolle)","mm",{"$f":"'EM-LM-5'!M20+35","v":35}]
["Kraftangrp. von Fy in z-Richt.","mm",{"$f":"'EM-LM-5'!Q20","v":0},null,"My Summe  I+V ( = II+IV )","Nm",{"$f":"G9+K9","v":0}]
[null,null,null,null,"Absolutbetrag",null,{"$f":"ABS(G23)","v":0}]
["Zusatzkraft Fz","N",{"$f":"'EM-LM-5'!K22","v":0},null,"My ges","Nm",{"$f":"G24","v":0}]
["Kraftangrp. von Fz in x-Richt. (Mitte Rolle)","mm",{"$f":"'EM-LM-5'!M22+35","v":35},null,"My zul","Nm",{"$f":"8+(2.5*C7)","v":10.5}]
["Kraftangriffspunkt von Fz in y-Richtung","mm",{"$f":"'EM-LM-5'!O22","v":0}]
[]
[null,null,null,null,"Mz III","Nm",{"$f":"I10","v":0}]
["Länge L (Stirnplatte zu 1. Rolle - HubN/2)","mm",33,null,"Absolutbetrag",null,{"$f":"ABS(G29)","v":0}]
["Nennhub/2        HubN/2","mm",{"$f":"(0+(C7*25))/2","v":12.5},null,"Mz IV/V","Nm",{"$f":"IF(J11=TRUE,J10,K10)","v":0}]
["tatsächlicher gefahrener Hub/2","mm",{"$f":"C5/2","v":5},null,"Absolutbetrag",null,{"$f":"ABS(G31)","v":0}]
["Schwerpunktabstand in y-Richtung","mm",{"$f":"C14","v":0},null,"Mz ges","Nm",{"$f":"MAX(G30,G32)","v":0}]
["Wert K ( Abstand erste / letzte Rolle )","mm",{"$f":"31.7+(13.3*C7)","v":45},null,"Mz zul","Nm",{"$f":"C34/1000*260","v":11.7}]
["Anfangswert (Abst. Stirnpl./Deckplatte)","mm",21]
[null,null,null,null,null,null,null,null,"Belastungsgleichung stat.",{"$f":"G19/G21+G25/G26+G32/G34+G38/G39+G42/G43","v":0}]
["l1 bei eingefahrenem Hub","mm",{"$f":"C30+C31-C35","v":24.5},null,"Fx ges","N",{"$f":"C17","v":0},null,"Belastungsgleichung dyn.",{"$f":"G17/G21+G30/G34+G40/G43","v":0}]
["l1 bei ausgefahrenem Hub","mm",{"$f":"C30+C31+C32-C35","v":29.5},null,"Absolutwert",null,{"$f":"ABS(G37)","v":0},null,"Belastungsgleichung",{"$f":"MAX(J36:J37)","v":0}]
[null,null,null,null,"Fx zul","N",{"$f":"G43","v":1300}]
["Stoßdämpferhub s ( Hub bis a=0 )","m",{"$f":"'Allgemeine Werte'!M36","v":4.5560000000000002E-3},null,"Gewichtskraft","N",{"$f":"C12*9.81","v":0}]
["Verzögerung a=vxv/2xs","m/s2",{"$f":"POWER(C48,2)/(2*C40)","v":3.499534142015015},null,"Fz ges abs","N",{"$f":"ABS(-C25+C12*9.81)","v":0},null,"Verfahrzeitberechnung"]
["Kraft zur Verzögerung der Masse","N",{"$f":"C12*C41","v":0},null,"Max aus E40,E41",null,{"$f":"MAX(G40,G41)","v":0},null,"Verfahrzeit berechnet ( t=Wurzel aus (2xsxm/F)",null,{"$f":"(SQRT(2*(C5/1000)*(C12+C8/2)/C9))*(2.8-C7*0.2)","v":2.4032340669569666E-2}]
["Kraft zur Verzög. d. Masse incl Modul/2","N",{"$f":"C47*C41","v":1.5397950224866064},null,"Fz zul","N",{"$f":"975+325*C7","v":1300},null,"Mittlere Verfahrgeschwindigkeit berechnet",null,{"$f":"(C5/1000)/K42","v":0.4161059522871296}]
[null,null,null,null,null,null,null,null,"Endgeschwindigkeit berechnet",null,{"$f":"K43*'Allgemeine Werte'!E71","v":0.72818541650247681}]
["Stoßdämpferberechnung",null,null,null,"Max. Zyklenzahl / Min."]
["Anzahl Stoßdämpfer",null,1,null,"Zyklen aus Verfahrzeit",null,{"$f":"60/(2*L50)","v":306.12244897959181},null,"Endgeschwindigkeit (Eingabe)",null,{"$f":"C10","v":2.02}]
["Gesamtmasse","kg",{"$f":"C12+C8/2","v":0.43999999999999995},null,null,null,null,null,"Mittlere Verfahrgeschwindigkeit (Eingabe)   m/s",null,{"$f":"C10/'Allgemeine Werte'!E71","v":1.1542857142857144}]
["Aufprallgeschwindigkeit","m/s",{"$f":"L54","v":0.17857142857142858},null,"Ezul / Stunde","Nm",{"$f":"'Allgemeine Werte'!H36*C46*0.95","v":23940},null,"Verfahrzeit (Eingabe)","s",{"$f":"(C5/1000)/K47","v":8.6633663366336624E-3},"Verfahrzeit für Berechnung"]
["W1","Nm",{"$f":"C47*POWER(C48,2)*0.5","v":7.0153061224489787E-3},null,"Ezul / Minute","Nm",{"$f":"G48/60","v":399},null,null,null,null,"( max )"]
["Hub Stoßdämpfer","m",{"$f":"'Allgemeine Werte'!L36","v":6.7999999999999996E-3},null,"Zyklen aus Ezul",null,{"$f":"G49/C53","v":484.80264830048793},null,"min. Verfahrzeit vor","gemessen",{"$f":"0.07+((C5/12.5)*0.01)","v":7.8000000000000014E-2},{"$f":"MAX(K48,K53,K42)","v":9.8000000000000004E-2}]
["Zylinderkraft","N",120,null,null,null,null,null,"Mittlere Verfahrgeschwindigkeit vor",null,{"$f":"(C5/1000)/K50","v":0.12820512820512819}]
["W2 ( Antriebsenergie )","Nm",{"$f":"C51*C50","v":0.81599999999999995},null,"Max. Zyklen",null,{"$f":"MIN(G46,G50,G55)","v":120},null,"Endgeschwindigkeit vor",null,{"$f":"K51*'Allgemeine Werte'!E71","v":0.22435897435897434},"Endgeschwindigkeit f. Ber."]
["W1+W2 ( Energie / Hub )","Nm",{"$f":"C52+C49","v":0.82301530612244889},null,null,null,null,null,"min. Verfahrzeit zurück",null,{"$f":"0.09+((C5/12.5)*0.01)","v":9.8000000000000004E-2},"( min )"]
["Ezul / Zyklus ( Hub )","Nm",{"$f":"'Allgemeine Werte'!G36*C50/'Allgemeine Werte'!K36*C46","v":5.8285714285714283},null,"Stoßd.-kolbenrückstellzeit",null,{"$f":"'Allgemeine Werte'!E36","v":0.5},null,"Mittlere Verfahrgeschwindigkeit zurück",null,{"$f":"(C5/1000)/K53","v":0.10204081632653061},{"$f":"MIN(K46,K55,K44)","v":0.17857142857142858}]
["Auslastung / Zyklus",null,{"$f":"C53/C54","v":0.14120360644257701},null,"Max. Zyklen aus Rückstellzeit",null,{"$f":"60/G54","v":120},null,"Endgeschwindigkeit zurück",null,{"$f":"K54*'Allgemeine Werte'!E71","v":0.17857142857142858}]

{"sheet":"EM-Ber-LM50-6","index":29,"n_rows":57,"n_cols":12,"rows_kept":57,"cut":false,"hidden":false,"merged":[]}
["Linearmodul Typ",null,"LM 50"]
[]
["Berechnung der Führungsbelastung"]
[null,null,null,null,null,null,"Statisch auf Grund","Statisch auf Grund"]
["Hub","mm",{"$f":"'EM-LM-6'!K8","v":10},null,null,null,"Zusatzmasse m","Zusatzmasse m","Dynamisch auf Grund","Statisch auf Grund","Statisch auf Grund"]
["Zylinderkraft","N",120,null,null,null,"Modul ausgef.","Modul eingef.","Zusatzmasse m","Zusatzkraft Modul eingef.","Zusatzkraft Modul ausgef."]
["Faktor",null,{"$f":"ROUNDDOWN(((C5+12.5)/25.1)+0.5,0)","v":1},null,null,null,"I","II","III","IV","V"]
["Modulgewicht","kg",{"$f":"0.7+(C7*0.18)","v":0.87999999999999989},null,"Moment Mx=M3","Nm",{"$f":"C12*9.81*((C15)/1000)","v":0},{"$f":"C12*9.81*((C15)/1000)","v":0},{"$f":"C42*(C15/1000)","v":0},{"$f":"IF(K11=TRUE,-(C21*C23/1000)+C25*((C27+C37+C34/2)/1000),(C21*C23/1000)-C25*((C27+C37+C34/2)/1000))","v":0},{"$f":"IF(K11=TRUE,-(C21*C23/1000)+C25*((C27+C37-C32+C34/2)/1000),(C21*C23/1000)-C25*((C27+C37-C32+C34/2)/1000))","v":0}]
["Zylinderkraft zurück","N",103,null,"Moment My=M1","Nm","-","-","-",{"$f":"C17*(C19/1000)-C25*C26/1000","v":0},{"$f":"C17*(C19/1000)-C25*C26/1000","v":0}]
["Verfahrgeschwindigkeit","m/s",{"$f":"'EM-LM-6-1'!I58","v":2.02},null,"Moment Mz=M2","Nm",{"$f":"C12*9.81*((C13)/1000)","v":0},{"$f":"C12*9.81*((C13)/1000)","v":0},{"$f":"C42*(C13/1000)","v":0},{"$f":"IF(K11=TRUE,-C21*C22/1000+C17*(C18+C37+C34/2)/1000,C21*C22/1000-C17*(C18+C37+C34/2)/1000)","v":0},{"$f":"IF(K11=TRUE,-C21*C22/1000+C17*(C18+C37-C32+C34/2)/1000,C21*C22/1000-C17*(C18+C37-C32+C34/2)/1000)","v":0}]
[null,null,null,null,null,null,null,null,null,{"$f":"'EM-LM-6'!G51","v":false},{"$f":"'EM-LM-6'!G52","v":true}]
["Zusatzmasse","kg",{"$f":"'EM-LM-6'!K14","v":0}]
["Schwerpunktabstand x-Richt.(Mitte Rolle)","mm",{"$f":"'EM-LM-6'!M14+35","v":35}]
["Schwerpunktabstand y-Richtung","mm",{"$f":"'EM-LM-6'!O14","v":0}]
["Schwerpunktabstand z-Richtung","mm",{"$f":"'EM-LM-6'!Q14","v":0}]
[null,null,null,null,"Mx Summe  I(II) + III","Nm",{"$f":"G8+I8","v":0}]
["Zusatzkraft Fx","N",{"$f":"'EM-LM-6'!K18","v":0},null,"Absolutbetrag",null,{"$f":"ABS(G16)","v":0}]
["Kraftangriffspunkt von Fx in y-Richtung","mm",{"$f":"'EM-LM-6'!O18","v":0},null,"Mx Summe  I+V oder II+IV","Nm",{"$f":"IF(J11=TRUE,H8+J8,G8+K8)","v":0}]
["Kraftangriffspunkt von Fx in z-Richtung","mm",{"$f":"'EM-LM-6'!Q18","v":0},null,"Absolutbetrag",null,{"$f":"ABS(G18)","v":0}]
[null,null,null,null,"Mx ges","Nm",{"$f":"MAX(G17,G19)","v":0}]
["Zusatzkraft Fy","N",{"$f":"'EM-LM-6'!K20","v":0},null,"Mx zul","Nm",{"$f":"G34/2","v":5.85},null,"Maximal-Werte der Momente und Kräfte nicht aus Katalog, sondern exakt berechnete Werte !!"]
["Kraftangrp. von Fy in x-Richt. (Mitte Rolle)","mm",{"$f":"'EM-LM-6'!M20+35","v":35}]
["Kraftangrp. von Fy in z-Richt.","mm",{"$f":"'EM-LM-6'!Q20","v":0},null,"My IV = V","Nm",{"$f":"J9","v":0}]
[null,null,null,null,"Absolutbetrag",null,{"$f":"ABS(G23)","v":0}]
["Zusatzkraft Fz","N",{"$f":"'EM-LM-6'!K22","v":0},null,"My ges","Nm",{"$f":"G24","v":0}]
["Kraftangrp. von Fz in x-Richt. (Mitte Rolle)","mm",{"$f":"'EM-LM-6'!M22+35","v":35},null,"My zul","Nm",{"$f":"8+(2.5*C7)","v":10.5}]
["Kraftangriffspunkt von Fz in y-Richtung","mm",{"$f":"'EM-LM-6'!O22","v":0}]
[]
[null,null,null,null,"Mz Summe I(II)+III","Nm",{"$f":"G10+I10","v":0}]
["Länge L (Stirnplatte zu 1. Rolle - HubN/2)","mm",33,null,"Absolutbetrag",null,{"$f":"ABS(G29)","v":0}]
["Nennhub/2        HubN/2","mm",{"$f":"(0+(C7*25))/2","v":12.5},null,"Mz Summe  I+V oder II+IV","Nm",{"$f":"IF(J11=TRUE,H10+J10,G10+K10)","v":0}]
["tatsächlicher gefahrener Hub/2","mm",{"$f":"C5/2","v":5},null,"Absolutbetrag",null,{"$f":"ABS(G31)","v":0}]
["Schwerpunktabstand in y-Richtung","mm",{"$f":"C14","v":0},null,"Mz ges","Nm",{"$f":"MAX(G30,G32)","v":0}]
["Wert K ( Abstand erste / letzte Rolle )","mm",{"$f":"31.7+(13.3*C7)","v":45},null,"Mz zul","Nm",{"$f":"C34/1000*260","v":11.7}]
["Anfangswert (Abst. Stirnpl./Deckplatte)","mm",21]
[null,null,null,null,null,null,null,null,"Belastungsgleichung stat.",{"$f":"G19/G21+G25/G26+G32/G34+G38/G39+G42/G43","v":0}]
["l1 bei eingefahrenem Hub","mm",{"$f":"C30+C31-C35","v":24.5},null,"Fx ges","N",{"$f":"C17","v":0},null,"Belastungsgleichung dyn.",{"$f":"G17/G21+G30/G34","v":0}]
["l1 bei ausgefahrenem Hub","mm",{"$f":"C30+C31+C32-C35","v":29.5},null,"Absolutwert",null,{"$f":"ABS(G37)","v":0},null,"Belastungsgleichung",{"$f":"MAX(J36:J37)","v":0}]
[null,null,null,null,"Fx zul","N",{"$f":"G43","v":1300}]
["Stoßdämpferhub s ( Hub bis a=0 )","m",{"$f":"'Allgemeine Werte'!M36","v":4.5560000000000002E-3}]
["Verzögerung a=vxv/2xs","m/s2",{"$f":"POWER(C48,2)/(2*C40)","v":3.2304427047205126},null,"Fz ges","N",{"$f":"-C25","v":0},null,"Verfahrzeitberechnung"]
["Kraft zur Verzögerung der Masse","N",{"$f":"C12*C41","v":0},null,"Absolutwert",null,{"$f":"ABS(G41)","v":0},null,"Verfahrzeit berechnet ( t=Wurzel aus (2xsxm/F)",null,{"$f":"(SQRT(2*(C5/1000)*(C12+C8/2)/(C6-(C12+C8/2)*9.81)))*(3.05-C7*0.2)","v":2.4857090787085995E-2}]
["Kraft zur Verzög. d. Masse incl Modul/2","N",{"$f":"C47*C41","v":1.4213947900770254},null,"Fz zul","N",{"$f":"975+325*C7","v":1300},null,"Mittlere Verfahrgeschwindigkeit berechnet",null,{"$f":"(C5/1000)/K42","v":0.40229969330100773}]
[null,null,null,null,null,null,null,null,"Endgeschwindigkeit berechnet",null,{"$f":"K43*'Allgemeine Werte'!E71","v":0.70402446327676349}]
["Stoßdämpferberechnung",null,null,null,"Max. Zyklenzahl / Min."]
["Anzahl Stoßdämpfer",null,1,null,"Zyklen aus Verfahrzeit",null,{"$f":"60/(2*L50)","v":294.11764705882354},null,"Endgeschwindigkeit (Eingabe)",null,{"$f":"C10","v":2.02}]
["Gesamtmasse","kg",{"$f":"C12+C8/2","v":0.43999999999999995},null,null,null,null,null,"Mittlere Verfahrgeschwindigkeit (Eingabe)   m/s",null,{"$f":"C10/'Allgemeine Werte'!E71","v":1.1542857142857144}]
["Aufprallgeschwindigkeit","m/s",{"$f":"L54","v":0.17156862745098042},null,"Ezul / Stunde","Nm",{"$f":"'Allgemeine Werte'!H36*C46*0.95","v":23940},null,"Verfahrzeit (Eingabe)","s",{"$f":"(C5/1000)/K47","v":8.6633663366336624E-3},"Verfahrzeit für Berechnung"]
["W1","Nm",{"$f":"C47*POWER(C48,2)*0.5","v":6.4758746635909283E-3},null,"Ezul / Minute","Nm",{"$f":"G48/60","v":399},null,null,null,null,"( max )"]
["Hub Stoßdämpfer","m",{"$f":"'Allgemeine Werte'!L36","v":6.7999999999999996E-3},null,"Zyklen aus Ezul",null,{"$f":"G49/C53","v":503.07369538442504},null,"min. Verfahrzeit ab","gemessen",{"$f":"0.05+((C5/12.5)*0.01)","v":5.8000000000000003E-2},{"$f":"MAX(K48,K53,K42)","v":0.10199999999999999}]
["Zylinderkraft","N",120,null,null,null,null,null,"Mittlere Verfahrgeschwindigkeit ab",null,{"$f":"(C5/1000)/K50","v":0.17241379310344826}]
["W2 ( Antriebsenergie )","Nm",{"$f":"MAX(C56,C57)*C50","v":0.78664847999999998},null,"Max. Zyklen",null,{"$f":"MIN(G46,G50,G55)","v":120},null,"Endgeschwindigkeit ab",null,{"$f":"K51*'Allgemeine Werte'!E71","v":0.30172413793103448},"Endgeschwindigkeit f. Ber."]
["W1+W2 ( Energie / Hub )","Nm",{"$f":"C52+C49","v":0.79312435466359088},null,null,null,null,null,"min. Verfahrzeit auf",null,{"$f":"0.09+((C5/12.5)*0.015)","v":0.10199999999999999},"( min )"]
["Ezul / Zyklus ( Hub )","Nm",{"$f":"'Allgemeine Werte'!G36*C50/'Allgemeine Werte'!K36*C46","v":5.8285714285714283},null,"Stoßd.-kolbenrückstellzeit",null,{"$f":"'Allgemeine Werte'!E36","v":0.5},null,"Mittlere Verfahrgeschwindigkeit auf",null,{"$f":"(C5/1000)/K53","v":9.8039215686274522E-2},{"$f":"MIN(K46,K55,K44)","v":0.17156862745098042}]
["Auslastung / Zyklus",null,{"$f":"C53/C54","v":0.13607525692757688},null,"Max. Zyklen aus Rückstellzeit",null,{"$f":"60/G54","v":120},null,"Endgeschwindigkeit auf",null,{"$f":"K54*'Allgemeine Werte'!E71","v":0.17156862745098042}]
["Antriebskraft nach oben",null,{"$f":"C6-C47*9.81","v":115.6836}]
["Antriebskraft nach unten",null,{"$f":"C9+C47*9.81","v":107.3164}]

{"sheet":"EM-Ber-LM100-1","index":30,"n_rows":55,"n_cols":12,"rows_kept":55,"cut":false,"hidden":false,"merged":[]}
["Linearmodul Typ",null,"LM 100"]
[]
["Berechnung der Führungsbelastung"]
[null,null,null,null,null,null,"Statisch auf Grund","Statisch auf Grund"]
["Hub","mm",{"$f":"'EM-LM-1'!K8","v":10},null,null,null,"Zusatzmasse m","Zusatzmasse m","Dynamisch auf Grund","Statisch auf Grund","Statisch auf Grund"]
["Zylinderkraft vor","N",294,null,null,null,"Modul ausgef.","Modul eingef.","Zusatzmasse m","Zusatzkraft Modul eingef.","Zusatzkraft Modul ausgef."]
["Faktor",null,{"$f":"ROUNDDOWN((C5/50.1)+0.5,0)","v":0},null,null,null,"I","II","III","IV","V"]
["Modulgewicht","kg",{"$f":"1.9+(C7*0.7)","v":1.9},null,"Moment Mx=M2","Nm",{"$f":"(C12*9.81)*((C38+C34/2+C33)/1000)","v":0},{"$f":"C12*9.81*((C37+C34/2+C33)/1000)","v":0},{"$f":"C42*(C15/1000)","v":0},{"$f":"(C21*C23/1000)-C25*((C27+C37+C34/2)/1000)","v":0},{"$f":"(C21*C23/1000)-C25*((C27+C38+C34/2)/1000)","v":0}]
["Zylinderkraft zurück","N",226,null,"Moment My=M1","Nm",{"$f":"C12*9.81*(C13/1000)","v":0},{"$f":"C12*9.81*(C13/1000)","v":0},"-",{"$f":"C17*C19/1000-C25*(C26/1000)","v":0},{"$f":"C17*C19/1000-C25*(C26/1000)","v":0}]
["Verfahrgeschwindigkeit","m/s",{"$f":"'EM-LM-1-1'!I58","v":2.02},null,"Moment Mz=M3","Nm","-","-",{"$f":"C42*(C13/1000)","v":0},{"$f":"C21*C22/1000-C17*(C18+C37+C34/2)/1000","v":0},{"$f":"C21*C22/1000-C17*(C18+C38+C34/2)/1000","v":0}]
[null,null,null,null,null,null,null,null,null,{"$f":"'EM-LM-1'!G51","v":true}]
["Zusatzmasse","kg",{"$f":"'EM-LM-1'!K14","v":0},null,"Mx Summe  I + III","Nm",{"$f":"G8+I8","v":0}]
["Schwerpunktabstand x-Richtung","mm",{"$f":"'EM-LM-1'!M14","v":0},null,"Absolutbetrag",null,{"$f":"ABS(G12)","v":0}]
["Schwerpunktabstand y-Richtung","mm",{"$f":"'EM-LM-1'!O14","v":0},null,"Mx Summe  II-III",null,{"$f":"H8-I8","v":0}]
["Schwerpunktabstand z-Richt.(Mitte Rolle)","mm",{"$f":"'EM-LM-1'!Q14+16","v":16},null,"Absolutbetrag",null,{"$f":"ABS(G14)","v":0}]
[null,null,null,null,"I ","Nm",{"$f":"ABS(G8)","v":0}]
["Zusatzkraft Fx","N",{"$f":"'EM-LM-1'!K18","v":0},null,"I oder I+III oder II-III",null,{"$f":"MAX(G16,G15,G13)","v":0}]
["Kraftangriffspunkt von Fx in y-Richtung","mm",{"$f":"'EM-LM-1'!O18","v":0},null,"Mx Summe  I+V oder II+IV","Nm",{"$f":"IF(AND(J8=0,K8=0),MAX(G8,H8),IF(J11=TRUE,H8+J8,G8+K8))","v":0}]
["Kraftangrp. von Fx in z-Richt.(Mitte Rolle)","mm",{"$f":"'EM-LM-1'!Q18+16","v":16},null,"Absolutbetrag",null,{"$f":"ABS(G18)","v":0}]
[null,null,null,null,"Mx ges","Nm",{"$f":"MAX(G17,G19)","v":0}]
["Zusatzkraft Fy","N",{"$f":"'EM-LM-1'!K20","v":0},null,"Mx zul","Nm",{"$f":"C34/1000*530","v":29.8125},null,"Maximal-Werte der Momente und Kräfte nicht aus Katalog, sondern exakt berechnete Werte !!"]
["Kraftangriffspunkt von Fy in x-Richtung","mm",{"$f":"'EM-LM-1'!M20","v":0}]
["Kraftangrp. von Fy in z-Richt.(Mitte Rolle)","mm",{"$f":"'EM-LM-1'!Q20+16","v":16},null,"My Summe  I+V ( = II+IV )","Nm",{"$f":"G9+K9","v":0}]
[null,null,null,null,"Absolutbetrag",null,{"$f":"ABS(G23)","v":0}]
["Zusatzkraft Fz","N",{"$f":"'EM-LM-1'!K22","v":0},null,"My ges","Nm",{"$f":"G24","v":0}]
["Kraftangriffspunkt von Fz in x-Richtung","mm",{"$f":"'EM-LM-1'!M22","v":0},null,"My zul","Nm",{"$f":"36+(14*C7)","v":36}]
["Kraftangriffspunkt von Fz in y-Richtung","mm",{"$f":"'EM-LM-1'!O22","v":0}]
[]
[null,null,null,null,"Mz III","Nm",{"$f":"I10","v":0}]
["Länge L (Stirnplatte zu 1. Rolle - HubN/2)","mm",39.6,null,"Absolutbetrag",null,{"$f":"ABS(G29)","v":0}]
["Nennhub/2        HubN/2","mm",{"$f":"(25+(C7*50))/2","v":12.5},null,"Mz IV/V","Nm",{"$f":"IF(J11=TRUE,J10,K10)","v":0}]
["tatsächlicher gefahrener Hub/2","mm",{"$f":"C5/2","v":5},null,"Absolutbetrag",null,{"$f":"ABS(G31)","v":0}]
["Schwerpunktabstand in y-Richtung","mm",{"$f":"C14","v":0},null,"Mz ges","Nm",{"$f":"MAX(G30,G32)","v":0}]
["Wert K ( Abstand erste / letzte Rolle )","mm",{"$f":"56.25+(C7*25)","v":56.25},null,"Mz zul","Nm",{"$f":"G21/2","v":14.90625}]
[]
[null,null,null,null,null,null,null,null,"Belastungsgleichung stat.",{"$f":"G19/G21+G25/G26+G32/G34+G38/G39+G42/G43","v":0},null,"me ="]
["l1 bei eingefahrenem Hub","mm",{"$f":"C30+C31","v":52.1},null,"Fx ges","N",{"$f":"C17","v":0},null,"Belastungsgleichung dyn.",{"$f":"G17/G21+G30/G34+G40/G43","v":0},null,{"$f":"2*C53/POWER(L54,2)","v":186.21003199999998}]
["l1 bei ausgefahrenem Hub","mm",{"$f":"C30+C31+C32","v":57.1},null,"Absolutwert",null,{"$f":"ABS(G37)","v":0},null,"Belastungsgleichung",{"$f":"MAX(J36:J37)","v":0},null,"me max ="]
[null,null,null,null,"Fx zul","N",{"$f":"G43","v":2650},null,null,null,null,{"$f":"40*C46","v":40}]
["Stoßdämpferhub s ( Hub bis a=0 )","m",{"$f":"'Allgemeine Werte'!M38","v":7.6380000000000007E-3},null,"Gewichtskraft","N",{"$f":"C12*9.81","v":0},null,null,null,null,"me/me max ="]
["Verzögerung a=vxv/2xs","m/s2",{"$f":"POWER(C48,2)/(2*C40)","v":2.368594917166233},null,"Fz ges abs","N",{"$f":"ABS(-C25+C12*9.81)","v":0},null,"Verfahrzeitberechnung",null,null,{"$f":"L37/L39","v":4.6552507999999992}]
["Kraft zur Verzögerung der Masse","N",{"$f":"C12*C41","v":0},null,"Max aus E40,E41",null,{"$f":"MAX(G40,G41)","v":0},null,"Verfahrzeit berechnet ( t=Wurzel aus (2xsxm/F)",null,{"$f":"(SQRT(2*(C5/1000)*(C12+C8/2)/C9))*(2.7+C7*0.05)","v":2.4756334668013562E-2}]
["Kraft zur Verzög. d. Masse incl Modul/2","N",{"$f":"C47*C41","v":2.2501651713079212},null,"Fz zul","N",{"$f":"2650+1060*C7","v":2650},null,"Mittlere Verfahrgeschwindigkeit berechnet",null,{"$f":"(C5/1000)/K42","v":0.40393701790275549}]
[null,null,null,null,null,null,null,null,"Endgeschwindigkeit berechnet",null,{"$f":"K43*'Allgemeine Werte'!E71","v":0.70688978132982205}]
["Stoßdämpferberechnung",null,null,null,"Max. Zyklenzahl / Min."]
["Anzahl Stoßdämpfer",null,{"$f":"'EM-LM-1-1'!O22","v":1},null,"Zyklen aus Verfahrzeit",null,{"$f":"60/(2*L50)","v":326.08695652173913},null,"Endgeschwindigkeit (Eingabe)",null,{"$f":"C10","v":2.02}]
["Gesamtmasse","kg",{"$f":"C12+C8/2","v":0.95},null,null,null,null,null,"Mittlere Verfahrgeschwindigkeit (Eingabe)   m/s",null,{"$f":"C10/'Allgemeine Werte'!E71","v":1.1542857142857144}]
["Aufprallgeschwindigkeit","m/s",{"$f":"L54","v":0.19021739130434784},null,"Ezul / Stunde","Nm",{"$f":"'Allgemeine Werte'!H38*C46*0.95","v":26790},null,"Verfahrzeit (Eingabe)","s",{"$f":"(C5/1000)/K47","v":8.6633663366336624E-3},"Verfahrzeit für Berechnung"]
["W1","Nm",{"$f":"C47*POWER(C48,2)*0.5","v":1.7186761578449904E-2},null,"Ezul / Minute","Nm",{"$f":"G48/60","v":446.5},null,null,null,null,"( max )"]
["Hub Stoßdämpfer","m",{"$f":"'Allgemeine Werte'!L38","v":1.14E-2},null,"Zyklen aus Ezul",null,{"$f":"G49/C53","v":132.54029762061634},null,"min. Verfahrzeit vor","gemessen",{"$f":"0.05+(C5/25)*0.03","v":6.2E-2},{"$f":"MAX(K48,K53,K42)","v":9.1999999999999998E-2}]
["Zylinderkraft","N",294,null,null,null,null,null,"Mittlere Verfahrgeschwindigkeit vor",null,{"$f":"(C5/1000)/K50","v":0.16129032258064516}]
["W2 ( Antriebsenergie )","Nm",{"$f":"C51*C50","v":3.3515999999999999},null,"Max. Zyklen",null,{"$f":"MIN(G46,G50,G55)","v":120},null,"Endgeschwindigkeit vor",null,{"$f":"K51*'Allgemeine Werte'!E71","v":0.282258064516129},"Endgeschwindigkeit f. Ber."]
["W1+W2 ( Energie / Hub )","Nm",{"$f":"C52+C49","v":3.3687867615784497},null,null,null,null,null,"min. Verfahrzeit zurück",null,{"$f":"0.08+((C5/25)*0.03)","v":9.1999999999999998E-2},"( min )"]
["Ezul / Zyklus ( Hub )","Nm",{"$f":"'Allgemeine Werte'!G38*C50/'Allgemeine Werte'!K38*C46","v":10.111304347826087},null,"Stoßd.-kolbenrückstellzeit",null,{"$f":"'Allgemeine Werte'!E38","v":0.5},null,"Mittlere Verfahrgeschwindigkeit zurück",null,{"$f":"(C5/1000)/K53","v":0.10869565217391305},{"$f":"MIN(K46,K55,K44)","v":0.19021739130434784}]
["Auslastung / Zyklus",null,{"$f":"C53/C54","v":0.3331703453573458},null,"Max. Zyklen aus Rückstellzeit",null,{"$f":"60/G54","v":120},null,"Endgeschwindigkeit zurück",null,{"$f":"K54*'Allgemeine Werte'!E71","v":0.19021739130434784}]

{"sheet":"EM-Ber-LM100-2","index":31,"n_rows":55,"n_cols":12,"rows_kept":55,"cut":false,"hidden":false,"merged":[]}
["Linearmodul Typ",null,"LM 100"]
[]
["Berechnung der Führungsbelastung"]
[null,null,null,null,null,null,"Statisch auf Grund","Statisch auf Grund"]
["Hub","mm",{"$f":"'EM-LM-2'!K8","v":10},null,null,null,"Zusatzmasse m","Zusatzmasse m","Dynamisch auf Grund","Statisch auf Grund","Statisch auf Grund"]
["Zylinderkraft vor","N",294,null,null,null,"Modul ausgef.","Modul eingef.","Zusatzmasse m","Zusatzkraft Modul eingef.","Zusatzkraft Modul ausgef."]
["Faktor",null,{"$f":"ROUNDDOWN((C5/50.1)+0.5,0)","v":0},null,null,null,"I","II","III","IV","V"]
["Modulgewicht","kg",{"$f":"1.9+(C7*0.7)","v":1.9},null,"Moment Mx=M3","Nm",{"$f":"(C12*9.81)*((C38+C34/2+C33)/1000)","v":0},{"$f":"C12*9.81*((C37+C34/2+C33)/1000)","v":0},{"$f":"C42*(C15/1000)","v":0},{"$f":"(C21*C23/1000)-C25*((C27+C37+C34/2)/1000)","v":0},{"$f":"(C21*C23/1000)-C25*((C27+C38+C34/2)/1000)","v":0}]
["Zylinderkraft zurück","N",226,null,"Moment My=M1","Nm",{"$f":"C12*9.81*((C13)/1000)","v":0},{"$f":"C12*9.81*((C13)/1000)","v":0},"-",{"$f":"C17*(C19/1000)-C25*C26/1000","v":0},{"$f":"C17*(C19/1000)-C25*C26/1000","v":0}]
["Verfahrgeschwindigkeit","m/s",{"$f":"'EM-LM-2-1'!I58","v":2.02},null,"Moment Mz=M2","Nm","-","-",{"$f":"C42*(C13/1000)","v":0},{"$f":"C21*C22/1000-C17*(C18+C37+C34/2)/1000","v":0},{"$f":"C21*C22/1000-C17*(C18+C38+C34/2)/1000","v":0}]
[null,null,null,null,null,null,null,null,null,{"$f":"'EM-LM-2'!G51","v":true}]
["Zusatzmasse","kg",{"$f":"'EM-LM-2'!K14","v":0},null,"Mx Summe  I + III","Nm",{"$f":"G8+I8","v":0}]
["Schwerpunktabstand x-Richt.(Mitte Rolle)","mm",{"$f":"'EM-LM-2'!M14+16","v":16},null,"Absolutbetrag",null,{"$f":"ABS(G12)","v":0}]
["Schwerpunktabstand y-Richtung","mm",{"$f":"'EM-LM-2'!O14","v":0},null,"Mx Summe  II-III",null,{"$f":"H8-I8","v":0}]
["Schwerpunktabstand z-Richtung","mm",{"$f":"'EM-LM-2'!Q14","v":0},null,"Absolutbetrag",null,{"$f":"ABS(G14)","v":0}]
[null,null,null,null,"I ","Nm",{"$f":"ABS(G8)","v":0}]
["Zusatzkraft Fx","N",{"$f":"'EM-LM-2'!K18","v":0},null,"I oder I+III oder II-III",null,{"$f":"MAX(G16,G15,G13)","v":0}]
["Kraftangriffspunkt von Fx in y-Richtung","mm",{"$f":"'EM-LM-2'!O18","v":0},null,"Mx Summe  I+V oder II+IV","Nm",{"$f":"IF(AND(J8=0,K8=0),MAX(G8,H8),IF(J11=TRUE,H8+J8,G8+K8))","v":0}]
["Kraftangriffspunkt von Fx in z-Richtung","mm",{"$f":"'EM-LM-2'!Q18","v":0},null,"Absolutbetrag",null,{"$f":"ABS(G18)","v":0}]
[null,null,null,null,"Mx ges","Nm",{"$f":"MAX(G17,G19)","v":0}]
["Zusatzkraft Fy","N",{"$f":"'EM-LM-2'!K20","v":0},null,"Mx zul","Nm",{"$f":"G34/2","v":14.90625},null,"Maximal-Werte der Momente und Kräfte nicht aus Katalog, sondern exakt berechnete Werte !!"]
["Kraftangrp. von Fy in x-Richt. (Mitte Rolle)","mm",{"$f":"'EM-LM-2'!M20+16","v":16}]
["Kraftangrp. von Fy in z-Richt.","mm",{"$f":"'EM-LM-2'!Q20","v":0},null,"My Summe  I+V ( = II+IV )","Nm",{"$f":"G9+K9","v":0}]
[null,null,null,null,"Absolutbetrag",null,{"$f":"ABS(G23)","v":0}]
["Zusatzkraft Fz","N",{"$f":"'EM-LM-2'!K22","v":0},null,"My ges","Nm",{"$f":"G24","v":0}]
["Kraftangrp. von Fz in x-Richt. (Mitte Rolle)","mm",{"$f":"'EM-LM-2'!M22+16","v":16},null,"My zul","Nm",{"$f":"36+(14*C7)","v":36}]
["Kraftangriffspunkt von Fz in y-Richtung","mm",{"$f":"'EM-LM-2'!O22","v":0}]
[]
[null,null,null,null,"Mz III","Nm",{"$f":"I10","v":0}]
["Länge L (Stirnplatte zu 1. Rolle - HubN/2)","mm",39.6,null,"Absolutbetrag",null,{"$f":"ABS(G29)","v":0}]
["Nennhub/2        HubN/2","mm",{"$f":"(25+(C7*50))/2","v":12.5},null,"Mz IV/V","Nm",{"$f":"IF(J11=TRUE,J10,K10)","v":0}]
["tatsächlicher gefahrener Hub/2","mm",{"$f":"C5/2","v":5},null,"Absolutbetrag",null,{"$f":"ABS(G31)","v":0}]
["Schwerpunktabstand in y-Richtung","mm",{"$f":"C14","v":0},null,"Mz ges","Nm",{"$f":"MAX(G30,G32)","v":0}]
["Wert K ( Abstand erste / letzte Rolle )","mm",{"$f":"56.25+(C7*25)","v":56.25},null,"Mz zul","Nm",{"$f":"C34/1000*530","v":29.8125}]
[]
[null,null,null,null,null,null,null,null,"Belastungsgleichung stat.",{"$f":"G19/G21+G25/G26+G32/G34+G38/G39+G42/G43","v":0}]
["l1 bei eingefahrenem Hub","mm",{"$f":"C30+C31","v":52.1},null,"Fx ges","N",{"$f":"C17","v":0},null,"Belastungsgleichung dyn.",{"$f":"G17/G21+G30/G34+G40/G43","v":0}]
["l1 bei ausgefahrenem Hub","mm",{"$f":"C30+C31+C32","v":57.1},null,"Absolutwert",null,{"$f":"ABS(G37)","v":0},null,"Belastungsgleichung",{"$f":"MAX(J36:J37)","v":0}]
[null,null,null,null,"Fx zul","N",{"$f":"G43","v":2650}]
["Stoßdämpferhub s ( Hub bis a=0 )","m",{"$f":"'Allgemeine Werte'!M38","v":7.6380000000000007E-3},null,"Gewichtskraft","N",{"$f":"C12*9.81","v":0}]
["Verzögerung a=vxv/2xs","m/s2",{"$f":"POWER(C48,2)/(2*C40)","v":2.368594917166233},null,"Fz ges abs","N",{"$f":"ABS(-C25+C12*9.81)","v":0},null,"Verfahrzeitberechnung"]
["Kraft zur Verzögerung der Masse","N",{"$f":"C12*C41","v":0},null,"Max aus E40,E41",null,{"$f":"MAX(G40,G41)","v":0},null,"Verfahrzeit berechnet ( t=Wurzel aus (2xsxm/F)",null,{"$f":"(SQRT(2*(C5/1000)*(C12+C8/2)/C9))*(2.7+C7*0.05)","v":2.4756334668013562E-2}]
["Kraft zur Verzög. d. Masse incl Modul/2","N",{"$f":"C47*C41","v":2.2501651713079212},null,"Fz zul","N",{"$f":"2650+1060*C7","v":2650},null,"Mittlere Verfahrgeschwindigkeit berechnet",null,{"$f":"(C5/1000)/K42","v":0.40393701790275549}]
[null,null,null,null,null,null,null,null,"Endgeschwindigkeit berechnet",null,{"$f":"K43*'Allgemeine Werte'!E71","v":0.70688978132982205}]
["Stoßdämpferberechnung",null,null,null,"Max. Zyklenzahl / Min."]
["Anzahl Stoßdämpfer",null,{"$f":"'EM-LM-2-1'!O22","v":1},null,"Zyklen aus Verfahrzeit",null,{"$f":"60/(2*L50)","v":326.08695652173913},null,"Endgeschwindigkeit (Eingabe)",null,{"$f":"C10","v":2.02}]
["Gesamtmasse","kg",{"$f":"C12+C8/2","v":0.95},null,null,null,null,null,"Mittlere Verfahrgeschwindigkeit (Eingabe)   m/s",null,{"$f":"C10/'Allgemeine Werte'!E71","v":1.1542857142857144}]
["Aufprallgeschwindigkeit","m/s",{"$f":"L54","v":0.19021739130434784},null,"Ezul / Stunde","Nm",{"$f":"'Allgemeine Werte'!H38*C46*0.95","v":26790},null,"Verfahrzeit (Eingabe)","s",{"$f":"(C5/1000)/K47","v":8.6633663366336624E-3},"Verfahrzeit für Berechnung"]
["W1","Nm",{"$f":"C47*POWER(C48,2)*0.5","v":1.7186761578449904E-2},null,"Ezul / Minute","Nm",{"$f":"G48/60","v":446.5},null,null,null,null,"( max )"]
["Hub Stoßdämpfer","m",{"$f":"'Allgemeine Werte'!L38","v":1.14E-2},null,"Zyklen aus Ezul",null,{"$f":"G49/C53","v":132.54029762061634},null,"min. Verfahrzeit vor","gemessen",{"$f":"0.05+(C5/25)*0.03","v":6.2E-2},{"$f":"MAX(K48,K53,K42)","v":9.1999999999999998E-2}]
["Zylinderkraft","N",294,null,null,null,null,null,"Mittlere Verfahrgeschwindigkeit vor",null,{"$f":"(C5/1000)/K50","v":0.16129032258064516}]
["W2 ( Antriebsenergie )","Nm",{"$f":"C51*C50","v":3.3515999999999999},null,"Max. Zyklen",null,{"$f":"MIN(G46,G50,G55)","v":120},null,"Endgeschwindigkeit vor",null,{"$f":"K51*'Allgemeine Werte'!E71","v":0.282258064516129},"Endgeschwindigkeit f. Ber."]
["W1+W2 ( Energie / Hub )","Nm",{"$f":"C52+C49","v":3.3687867615784497},null,null,null,null,null,"min. Verfahrzeit zurück",null,{"$f":"0.08+((C5/25)*0.03)","v":9.1999999999999998E-2},"( min )"]
["Ezul / Zyklus ( Hub )","Nm",{"$f":"'Allgemeine Werte'!G38*C50/'Allgemeine Werte'!K38*C46","v":10.111304347826087},null,"Stoßd.-kolbenrückstellzeit",null,{"$f":"'Allgemeine Werte'!E38","v":0.5},null,"Mittlere Verfahrgeschwindigkeit zurück",null,{"$f":"(C5/1000)/K53","v":0.10869565217391305},{"$f":"MIN(K46,K55,K44)","v":0.19021739130434784}]
["Auslastung / Zyklus",null,{"$f":"C53/C54","v":0.3331703453573458},null,"Max. Zyklen aus Rückstellzeit",null,{"$f":"60/G54","v":120},null,"Endgeschwindigkeit zurück",null,{"$f":"K54*'Allgemeine Werte'!E71","v":0.19021739130434784}]

{"sheet":"EM-Ber-LM100-3","index":32,"n_rows":57,"n_cols":12,"rows_kept":57,"cut":false,"hidden":false,"merged":[]}
["Linearmodul Typ",null,"LM 100"]
[]
["Berechnung der Führungsbelastung"]
[null,null,null,null,null,null,"Statisch auf Grund","Statisch auf Grund"]
["Hub","mm",{"$f":"'EM-LM-3'!K8","v":10},null,null,null,"Zusatzmasse m","Zusatzmasse m","Dynamisch auf Grund","Statisch auf Grund","Statisch auf Grund"]
["Zylinderkraft vor","N",294,null,null,null,"Modul ausgef.","Modul eingef.","Zusatzmasse m","Zusatzkraft Modul eingef.","Zusatzkraft Modul ausgef."]
["Faktor",null,{"$f":"ROUNDDOWN((C5/50.1)+0.5,0)","v":0},null,null,null,"I","II","III","IV","V"]
["Modulgewicht","kg",{"$f":"1.9+(C7*0.7)","v":1.9},null,"Moment Mx=M3","Nm",{"$f":"C12*9.81*((C15)/1000)","v":0},{"$f":"C12*9.81*((C15)/1000)","v":0},{"$f":"C42*(C15/1000)","v":0},{"$f":"IF(K11=TRUE,-(C21*C23/1000)+C25*((C27+C37+C34/2)/1000),(C21*C23/1000)-C25*((C27+C37+C34/2)/1000))","v":0},{"$f":"IF(K11=TRUE,-(C21*C23/1000)+C25*((C27+C38+C34/2)/1000),(C21*C23/1000)-C25*((C27+C38+C34/2)/1000))","v":0}]
["Zylinderkraft zurück","N",226,null,"Moment My=M1","Nm","-","-","-",{"$f":"C17*(C19/1000)-C25*C26/1000","v":0},{"$f":"C17*(C19/1000)-C25*C26/1000","v":0}]
["Verfahrgeschwindigkeit","m/s",{"$f":"'EM-LM-3-1'!I58","v":2.02},null,"Moment Mz=M2","Nm",{"$f":"C12*9.81*((C13)/1000)","v":0},{"$f":"C12*9.81*((C13)/1000)","v":0},{"$f":"C42*(C13/1000)","v":0},{"$f":"IF(K11=TRUE,-C21*C22/1000+C17*(C18+C37+C34/2)/1000,C21*C22/1000-C17*(C18+C37+C34/2)/1000)","v":0},{"$f":"IF(K11=TRUE,-C21*C22/1000+C17*(C18+C38+C34/2)/1000,C21*C22/1000-C17*(C18+C38+C34/2)/1000)","v":0}]
[null,null,null,null,null,null,null,null,null,{"$f":"'EM-LM-3'!G51","v":true},{"$f":"'EM-LM-3'!G52","v":true}]
["Zusatzmasse","kg",{"$f":"'EM-LM-3'!K14","v":0}]
["Schwerpunktabstand x-Richt.(Mitte Rolle)","mm",{"$f":"'EM-LM-3'!M14+16","v":16}]
["Schwerpunktabstand y-Richtung","mm",{"$f":"'EM-LM-3'!O14","v":0}]
["Schwerpunktabstand z-Richtung","mm",{"$f":"'EM-LM-3'!Q14","v":0}]
[null,null,null,null,"Mx Summe  I(II) + III","Nm",{"$f":"G8+I8","v":0}]
["Zusatzkraft Fx","N",{"$f":"'EM-LM-3'!K18","v":0},null,"Absolutbetrag",null,{"$f":"ABS(G16)","v":0}]
["Kraftangriffspunkt von Fx in y-Richtung","mm",{"$f":"'EM-LM-3'!O18","v":0},null,"Mx Summe  I+V oder II+IV","Nm",{"$f":"IF(J11=TRUE,H8+J8,G8+K8)","v":0}]
["Kraftangriffspunkt von Fx in z-Richtung","mm",{"$f":"'EM-LM-3'!Q18","v":0},null,"Absolutbetrag",null,{"$f":"ABS(G18)","v":0}]
[null,null,null,null,"Mx ges","Nm",{"$f":"MAX(G17,G19)","v":0}]
["Zusatzkraft Fy","N",{"$f":"'EM-LM-3'!K20","v":0},null,"Mx zul","Nm",{"$f":"G34/2","v":14.90625},null,"Maximal-Werte der Momente und Kräfte nicht aus Katalog, sondern exakt berechnete Werte !!"]
["Kraftangrp. von Fy in x-Richt. (Mitte Rolle)","mm",{"$f":"'EM-LM-3'!M20+16","v":16}]
["Kraftangrp. von Fy in z-Richt.","mm",{"$f":"'EM-LM-3'!Q20","v":0},null,"My IV = V","Nm",{"$f":"J9","v":0}]
[null,null,null,null,"Absolutbetrag",null,{"$f":"ABS(G23)","v":0}]
["Zusatzkraft Fz","N",{"$f":"'EM-LM-3'!K22","v":0},null,"My ges","Nm",{"$f":"G24","v":0}]
["Kraftangrp. von Fz in x-Richt. (Mitte Rolle)","mm",{"$f":"'EM-LM-3'!M22+16","v":16},null,"My zul","Nm",{"$f":"36+(14*C7)","v":36}]
["Kraftangriffspunkt von Fz in y-Richtung","mm",{"$f":"'EM-LM-3'!O22","v":0}]
[]
[null,null,null,null,"Mz Summe I(II)+III","Nm",{"$f":"G10+I10","v":0}]
["Länge L (Stirnplatte zu 1. Rolle - HubN/2)","mm",39.6,null,"Absolutbetrag",null,{"$f":"ABS(G29)","v":0}]
["Nennhub/2        HubN/2","mm",{"$f":"(25+(C7*50))/2","v":12.5},null,"Mz Summe  I+V oder II+IV","Nm",{"$f":"IF(J11=TRUE,H10+J10,G10+K10)","v":0}]
["tatsächlicher gefahrener Hub/2","mm",{"$f":"C5/2","v":5},null,"Absolutbetrag",null,{"$f":"ABS(G31)","v":0}]
["Schwerpunktabstand in y-Richtung","mm",{"$f":"C14","v":0},null,"Mz ges","Nm",{"$f":"MAX(G30,G32)","v":0}]
["Wert K ( Abstand erste / letzte Rolle )","mm",{"$f":"56.25+(C7*25)","v":56.25},null,"Mz zul","Nm",{"$f":"C34/1000*530","v":29.8125}]
[]
[null,null,null,null,null,null,null,null,"Belastungsgleichung stat.",{"$f":"G19/G21+G25/G26+G32/G34+G38/G39+G42/G43","v":0}]
["l1 bei eingefahrenem Hub","mm",{"$f":"C30+C31","v":52.1},null,"Fx ges","N",{"$f":"C17","v":0},null,"Belastungsgleichung dyn.",{"$f":"G17/G21+G30/G34","v":0}]
["l1 bei ausgefahrenem Hub","mm",{"$f":"C30+C31+C32","v":57.1},null,"Absolutwert",null,{"$f":"ABS(G37)","v":0},null,"Belastungsgleichung",{"$f":"MAX(J36:J37)","v":0}]
[null,null,null,null,"Fx zul","N",{"$f":"G43","v":2650}]
["Stoßdämpferhub s ( Hub bis a=0 )","m",{"$f":"'Allgemeine Werte'!M38","v":7.6380000000000007E-3}]
["Verzögerung a=vxv/2xs","m/s2",{"$f":"POWER(C48,2)/(2*C40)","v":3.8672429357436342},null,"Fz ges","N",{"$f":"-C25","v":0},null,"Verfahrzeitberechnung"]
["Kraft zur Verzögerung der Masse","N",{"$f":"C12*C41","v":0},null,"Absolutwert",null,{"$f":"ABS(G41)","v":0},null,"Verfahrzeit berechnet ( t=Wurzel aus (2xsxm/F)",null,{"$f":"(SQRT(2*(C5/1000)*(C12+C8/2)/(C6-(C12+C8/2)*9.81)))*(2.45+C7*0.05)","v":2.0015388530800229E-2}]
["Kraft zur Verzög. d. Masse incl Modul/2","N",{"$f":"C47*C41","v":3.6738807889564522},null,"Fz zul","N",{"$f":"2650+1060*C7","v":2650},null,"Mittlere Verfahrgeschwindigkeit berechnet",null,{"$f":"(C5/1000)/K42","v":0.49961558251101279}]
[null,null,null,null,null,null,null,null,"Endgeschwindigkeit berechnet",null,{"$f":"K43*'Allgemeine Werte'!E71","v":0.87432726939427241}]
["Stoßdämpferberechnung",null,null,null,"Max. Zyklenzahl / Min."]
["Anzahl Stoßdämpfer",null,{"$f":"'EM-LM-3-1'!O22","v":1},null,"Zyklen aus Verfahrzeit",null,{"$f":"60/(2*L50)","v":416.66666666666669},null,"Endgeschwindigkeit (Eingabe)",null,{"$f":"C10","v":2.02}]
["Gesamtmasse","kg",{"$f":"C12+C8/2","v":0.95},null,null,null,null,null,"Mittlere Verfahrgeschwindigkeit (Eingabe)   m/s",null,{"$f":"C10/'Allgemeine Werte'!E71","v":1.1542857142857144}]
["Aufprallgeschwindigkeit","m/s",{"$f":"L54","v":0.24305555555555558},null,"Ezul / Stunde","Nm",{"$f":"'Allgemeine Werte'!H38*C46*0.95","v":26790},null,"Verfahrzeit (Eingabe)","s",{"$f":"(C5/1000)/K47","v":8.6633663366336624E-3},"Verfahrzeit für Berechnung"]
["W1","Nm",{"$f":"C47*POWER(C48,2)*0.5","v":2.8061101466049385E-2},null,"Ezul / Minute","Nm",{"$f":"G48/60","v":446.5},null,null,null,null,"( max )"]
["Hub Stoßdämpfer","m",{"$f":"'Allgemeine Werte'!L38","v":1.14E-2},null,"Zyklen aus Ezul",null,{"$f":"G49/C53","v":136.40173380809944},null,"min. Verfahrzeit ab","gemessen",{"$f":"0.045+(C5/25)*0.025","v":5.5E-2},{"$f":"MAX(K48,K53,K42)","v":7.1999999999999995E-2}]
["Zylinderkraft","N",294,null,null,null,null,null,"Mittlere Verfahrgeschwindigkeit ab",null,{"$f":"(C5/1000)/K50","v":0.18181818181818182}]
["W2 ( Antriebsenergie )","Nm",{"$f":"MAX(C56,C57)*C50","v":3.2453577},null,"Max. Zyklen",null,{"$f":"MIN(G46,G50,G55)","v":120},null,"Endgeschwindigkeit ab",null,{"$f":"K51*'Allgemeine Werte'!E71","v":0.31818181818181818},"Endgeschwindigkeit f. Ber."]
["W1+W2 ( Energie / Hub )","Nm",{"$f":"C52+C49","v":3.2734188014660495},null,null,null,null,null,"min. Verfahrzeit auf",null,{"$f":"0.06+((C5/25)*0.03)","v":7.1999999999999995E-2},"( min )"]
["Ezul / Zyklus ( Hub )","Nm",{"$f":"'Allgemeine Werte'!G38*C50/'Allgemeine Werte'!K38*C46","v":10.111304347826087},null,"Stoßd.-kolbenrückstellzeit",null,{"$f":"'Allgemeine Werte'!E38","v":0.5},null,"Mittlere Verfahrgeschwindigkeit auf",null,{"$f":"(C5/1000)/K53","v":0.1388888888888889},{"$f":"MIN(K46,K55,K44)","v":0.24305555555555558}]
["Auslastung / Zyklus",null,{"$f":"C53/C54","v":0.32373852955675586},null,"Max. Zyklen aus Rückstellzeit",null,{"$f":"60/G54","v":120},null,"Endgeschwindigkeit auf",null,{"$f":"K54*'Allgemeine Werte'!E71","v":0.24305555555555558}]
["Antriebskraft nach oben",null,{"$f":"C6-C47*9.81","v":284.68049999999999}]
["Antriebskraft nach unten",null,{"$f":"C9+C47*9.81","v":235.31950000000001}]

{"sheet":"EM-Ber-LM100-4","index":33,"n_rows":55,"n_cols":12,"rows_kept":55,"cut":false,"hidden":false,"merged":[]}
["Linearmodul Typ",null,"LM 100"]
[]
["Berechnung der Führungsbelastung"]
[null,null,null,null,null,null,"Statisch auf Grund","Statisch auf Grund"]
["Hub","mm",{"$f":"'EM-LM-4'!K8","v":10},null,null,null,"Zusatzmasse m","Zusatzmasse m","Dynamisch auf Grund","Statisch auf Grund","Statisch auf Grund"]
["Zylinderkraft vor","N",294,null,null,null,"Modul ausgef.","Modul eingef.","Zusatzmasse m","Zusatzkraft Modul eingef.","Zusatzkraft Modul ausgef."]
["Faktor",null,{"$f":"ROUNDDOWN((C5/50.1)+0.5,0)","v":0},null,null,null,"I","II","III","IV","V"]
["Modulgewicht","kg",{"$f":"1.9+(C7*0.7)","v":1.9},null,"Moment Mx=M2","Nm",{"$f":"(C12*9.81)*((C37-C32+C34/2+C33)/1000)","v":0},{"$f":"C12*9.81*((C37+C34/2+C33)/1000)","v":0},{"$f":"C42*(C15/1000)","v":0},{"$f":"(C21*C23/1000)-C25*((C27+C37+C34/2)/1000)","v":0},{"$f":"(C21*C23/1000)-C25*((C27+C37-C32+C34/2)/1000)","v":0}]
["Zylinderkraft zurück","N",226,null,"Moment My=M1","Nm",{"$f":"C12*9.81*(C13/1000)","v":0},{"$f":"C12*9.81*(C13/1000)","v":0},"-",{"$f":"C17*C19/1000-C25*(C26/1000)","v":0},{"$f":"C17*C19/1000-C25*(C26/1000)","v":0}]
["Verfahrgeschwindigkeit","m/s",{"$f":"'EM-LM-4-1'!I58","v":2.02},null,"Moment Mz=M3","Nm","-","-",{"$f":"C42*(C13/1000)","v":0},{"$f":"C21*C22/1000-C17*(C18+C37+C34/2)/1000","v":0},{"$f":"C21*C22/1000-C17*(C18+C37-C32+C34/2)/1000","v":0}]
[null,null,null,null,null,null,null,null,null,{"$f":"'EM-LM-4'!G51","v":false}]
["Zusatzmasse","kg",{"$f":"'EM-LM-4'!K14","v":0},null,"Mx Summe  I + III","Nm",{"$f":"G8+I8","v":0}]
["Schwerpunktabstand x-Richtung","mm",{"$f":"'EM-LM-4'!M14","v":0},null,"Absolutbetrag",null,{"$f":"ABS(G12)","v":0}]
["Schwerpunktabstand y-Richtung","mm",{"$f":"'EM-LM-4'!O14","v":0},null,"Mx Summe  II-III",null,{"$f":"H8-I8","v":0}]
["Schwerpunktabstand z-Richt.(Mitte Rolle)","mm",{"$f":"'EM-LM-4'!Q14+44","v":44},null,"Absolutbetrag",null,{"$f":"ABS(G14)","v":0}]
[null,null,null,null,"I ","Nm",{"$f":"ABS(G8)","v":0}]
["Zusatzkraft Fx","N",{"$f":"'EM-LM-4'!K18","v":0},null,"I oder I+III oder II-III",null,{"$f":"MAX(G16,G15,G13)","v":0}]
["Kraftangriffspunkt von Fx in y-Richtung","mm",{"$f":"'EM-LM-4'!O18","v":0},null,"Mx Summe  I+V oder II+IV","Nm",{"$f":"IF(AND(J8=0,K8=0),MAX(G8,H8),IF(J11=TRUE,H8+J8,G8+K8))","v":0}]
["Kraftangrp. von Fx in z-Richt.(Mitte Rolle)","mm",{"$f":"'EM-LM-4'!Q18+44","v":44},null,"Absolutbetrag",null,{"$f":"ABS(G18)","v":0}]
[null,null,null,null,"Mx ges","Nm",{"$f":"MAX(G17,G19)","v":0}]
["Zusatzkraft Fy","N",{"$f":"'EM-LM-4'!K20","v":0},null,"Mx zul","Nm",{"$f":"C34/1000*530","v":29.8125},null,"Maximal-Werte der Momente und Kräfte nicht aus Katalog, sondern exakt berechnete Werte !!"]
["Kraftangriffspunkt von Fy in x-Richtung","mm",{"$f":"'EM-LM-4'!M20","v":0}]
["Kraftangrp. von Fy in z-Richt.(Mitte Rolle)","mm",{"$f":"'EM-LM-4'!Q20+44","v":44},null,"My Summe  I+V ( = II+IV )","Nm",{"$f":"G9+K9","v":0}]
[null,null,null,null,"Absolutbetrag",null,{"$f":"ABS(G23)","v":0}]
["Zusatzkraft Fz","N",{"$f":"'EM-LM-4'!K22","v":0},null,"My ges","Nm",{"$f":"G24","v":0}]
["Kraftangriffspunkt von Fz in x-Richtung","mm",{"$f":"'EM-LM-4'!M22","v":0},null,"My zul","Nm",{"$f":"36+(14*C7)","v":36}]
["Kraftangriffspunkt von Fz in y-Richtung","mm",{"$f":"'EM-LM-4'!O22","v":0}]
[]
[null,null,null,null,"Mz III","Nm",{"$f":"I10","v":0}]
["Länge L (Stirnplatte zu 1. Rolle - HubN/2)","mm",39.6,null,"Absolutbetrag",null,{"$f":"ABS(G29)","v":0}]
["Nennhub/2        HubN/2","mm",{"$f":"(25+(C7*50))/2","v":12.5},null,"Mz IV/V","Nm",{"$f":"IF(J11=TRUE,J10,K10)","v":0}]
["tatsächlicher gefahrener Hub/2","mm",{"$f":"C5/2","v":5},null,"Absolutbetrag",null,{"$f":"ABS(G31)","v":0}]
["Schwerpunktabstand in y-Richtung","mm",{"$f":"C14","v":0},null,"Mz ges","Nm",{"$f":"MAX(G30,G32)","v":0}]
["Wert K ( Abstand erste / letzte Rolle )","mm",{"$f":"56.25+(C7*25)","v":56.25},null,"Mz zul","Nm",{"$f":"G21/2","v":14.90625}]
["Anfangswert (Abst. Stirnpl./Deckplatte)","mm",25]
[null,null,null,null,null,null,null,null,"Belastungsgleichung stat.",{"$f":"G19/G21+G25/G26+G32/G34+G38/G39+G42/G43","v":0}]
["l1 bei eingefahrenem Hub","mm",{"$f":"C30+C31-C35","v":27.1},null,"Fx ges","N",{"$f":"C17","v":0},null,"Belastungsgleichung dyn.",{"$f":"G17/G21+G30/G34+G40/G43","v":0}]
["l1 bei ausgefahrenem Hub","mm",{"$f":"C30+C31+C32-C35","v":32.1},null,"Absolutwert",null,{"$f":"ABS(G37)","v":0},null,"Belastungsgleichung",{"$f":"MAX(J36:J37)","v":0}]
[null,null,null,null,"Fx zul","N",{"$f":"G43","v":2650}]
["Stoßdämpferhub s ( Hub bis a=0 )","m",{"$f":"'Allgemeine Werte'!M38","v":7.6380000000000007E-3},null,"Gewichtskraft","N",{"$f":"C12*9.81","v":0}]
["Verzögerung a=vxv/2xs","m/s2",{"$f":"POWER(C48,2)/(2*C40)","v":2.368594917166233},null,"Fz ges abs","N",{"$f":"ABS(-C25+C12*9.81)","v":0},null,"Verfahrzeitberechnung"]
["Kraft zur Verzögerung der Masse","N",{"$f":"C12*C41","v":0},null,"Max aus E40,E41",null,{"$f":"MAX(G40,G41)","v":0},null,"Verfahrzeit berechnet ( t=Wurzel aus (2xsxm/F)",null,{"$f":"(SQRT(2*(C5/1000)*(C12+C8/2)/C9))*(2.7+C7*0.05)","v":2.4756334668013562E-2}]
["Kraft zur Verzög. d. Masse incl Modul/2","N",{"$f":"C47*C41","v":2.2501651713079212},null,"Fz zul","N",{"$f":"2650+1060*C7","v":2650},null,"Mittlere Verfahrgeschwindigkeit berechnet",null,{"$f":"(C5/1000)/K42","v":0.40393701790275549}]
[null,null,null,null,null,null,null,null,"Endgeschwindigkeit berechnet",null,{"$f":"K43*'Allgemeine Werte'!E71","v":0.70688978132982205}]
["Stoßdämpferberechnung",null,null,null,"Max. Zyklenzahl / Min."]
["Anzahl Stoßdämpfer",null,{"$f":"'EM-LM-4-1'!O22","v":1},null,"Zyklen aus Verfahrzeit",null,{"$f":"60/(2*L50)","v":326.08695652173913},null,"Endgeschwindigkeit (Eingabe)",null,{"$f":"C10","v":2.02}]
["Gesamtmasse","kg",{"$f":"C12+C8/2","v":0.95},null,null,null,null,null,"Mittlere Verfahrgeschwindigkeit (Eingabe)   m/s",null,{"$f":"C10/'Allgemeine Werte'!E71","v":1.1542857142857144}]
["Aufprallgeschwindigkeit","m/s",{"$f":"L54","v":0.19021739130434784},null,"Ezul / Stunde","Nm",{"$f":"'Allgemeine Werte'!H38*C46*0.95","v":26790},null,"Verfahrzeit (Eingabe)","s",{"$f":"(C5/1000)/K47","v":8.6633663366336624E-3},"Verfahrzeit für Berechnung"]
["W1","Nm",{"$f":"C47*POWER(C48,2)*0.5","v":1.7186761578449904E-2},null,"Ezul / Minute","Nm",{"$f":"G48/60","v":446.5},null,null,null,null,"( max )"]
["Hub Stoßdämpfer","m",{"$f":"'Allgemeine Werte'!L38","v":1.14E-2},null,"Zyklen aus Ezul",null,{"$f":"G49/C53","v":132.54029762061634},null,"min. Verfahrzeit vor","gemessen",{"$f":"0.05+(C5/25)*0.03","v":6.2E-2},{"$f":"MAX(K48,K53,K42)","v":9.1999999999999998E-2}]
["Zylinderkraft","N",294,null,null,null,null,null,"Mittlere Verfahrgeschwindigkeit vor",null,{"$f":"(C5/1000)/K50","v":0.16129032258064516}]
["W2 ( Antriebsenergie )","Nm",{"$f":"C51*C50","v":3.3515999999999999},null,"Max. Zyklen",null,{"$f":"MIN(G46,G50,G55)","v":120},null,"Endgeschwindigkeit vor",null,{"$f":"K51*'Allgemeine Werte'!E71","v":0.282258064516129},"Endgeschwindigkeit f. Ber."]
["W1+W2 ( Energie / Hub )","Nm",{"$f":"C52+C49","v":3.3687867615784497},null,null,null,null,null,"min. Verfahrzeit zurück",null,{"$f":"0.08+((C5/25)*0.03)","v":9.1999999999999998E-2},"( min )"]
["Ezul / Zyklus ( Hub )","Nm",{"$f":"'Allgemeine Werte'!G38*C50/'Allgemeine Werte'!K38*C46","v":10.111304347826087},null,"Stoßd.-kolbenrückstellzeit",null,{"$f":"'Allgemeine Werte'!E38","v":0.5},null,"Mittlere Verfahrgeschwindigkeit zurück",null,{"$f":"(C5/1000)/K53","v":0.10869565217391305},{"$f":"MIN(K46,K55,K44)","v":0.19021739130434784}]
["Auslastung / Zyklus",null,{"$f":"C53/C54","v":0.3331703453573458},null,"Max. Zyklen aus Rückstellzeit",null,{"$f":"60/G54","v":120},null,"Endgeschwindigkeit zurück",null,{"$f":"K54*'Allgemeine Werte'!E71","v":0.19021739130434784}]

{"sheet":"EM-Ber-LM100-5","index":34,"n_rows":55,"n_cols":12,"rows_kept":55,"cut":false,"hidden":false,"merged":[]}
["Linearmodul Typ",null,"LM 100"]
[]
["Berechnung der Führungsbelastung"]
[null,null,null,null,null,null,"Statisch auf Grund","Statisch auf Grund"]
["Hub","mm",{"$f":"'EM-LM-5'!K8","v":10},null,null,null,"Zusatzmasse m","Zusatzmasse m","Dynamisch auf Grund","Statisch auf Grund","Statisch auf Grund"]
["Zylinderkraft vor","N",294,null,null,null,"Modul ausgef.","Modul eingef.","Zusatzmasse m","Zusatzkraft Modul eingef.","Zusatzkraft Modul ausgef."]
["Faktor",null,{"$f":"ROUNDDOWN((C5/50.1)+0.5,0)","v":0},null,null,null,"I","II","III","IV","V"]
["Modulgewicht","kg",{"$f":"1.9+(C7*0.7)","v":1.9},null,"Moment Mx=M3","Nm",{"$f":"(C12*9.81)*((C37-C32+C34/2+C33)/1000)","v":0},{"$f":"C12*9.81*((C37+C34/2+C33)/1000)","v":0},{"$f":"C42*(C15/1000)","v":0},{"$f":"(C21*C23/1000)-C25*((C27+C37+C34/2)/1000)","v":0},{"$f":"(C21*C23/1000)-C25*((C27+C37-C32+C34/2)/1000)","v":0}]
["Zylinderkraft zurück","N",226,null,"Moment My=M1","Nm",{"$f":"C12*9.81*((C13)/1000)","v":0},{"$f":"C12*9.81*((C13)/1000)","v":0},"-",{"$f":"C17*(C19/1000)-C25*C26/1000","v":0},{"$f":"C17*(C19/1000)-C25*C26/1000","v":0}]
["Verfahrgeschwindigkeit","m/s",{"$f":"'EM-LM-5-1'!I58","v":2.02},null,"Moment Mz=M2","Nm","-","-",{"$f":"C42*(C13/1000)","v":0},{"$f":"C21*C22/1000-C17*(C18+C37+C34/2)/1000","v":0},{"$f":"C21*C22/1000-C17*(C18+C37-C32+C34/2)/1000","v":0}]
[null,null,null,null,null,null,null,null,null,{"$f":"'EM-LM-5'!G51","v":false}]
["Zusatzmasse","kg",{"$f":"'EM-LM-5'!K14","v":0},null,"Mx Summe  I + III","Nm",{"$f":"G8+I8","v":0}]
["Schwerpunktabstand x-Richt.(Mitte Rolle)","mm",{"$f":"'EM-LM-5'!M14+44","v":44},null,"Absolutbetrag",null,{"$f":"ABS(G12)","v":0}]
["Schwerpunktabstand y-Richtung","mm",{"$f":"'EM-LM-5'!O14","v":0},null,"Mx Summe  II-III",null,{"$f":"H8-I8","v":0}]
["Schwerpunktabstand z-Richtung","mm",{"$f":"'EM-LM-5'!Q14","v":0},null,"Absolutbetrag",null,{"$f":"ABS(G14)","v":0}]
[null,null,null,null,"I ","Nm",{"$f":"ABS(G8)","v":0}]
["Zusatzkraft Fx","N",{"$f":"'EM-LM-5'!K18","v":0},null,"I oder I+III oder II-III",null,{"$f":"MAX(G16,G15,G13)","v":0}]
["Kraftangriffspunkt von Fx in y-Richtung","mm",{"$f":"'EM-LM-5'!O18","v":0},null,"Mx Summe  I+V oder II+IV","Nm",{"$f":"IF(AND(J8=0,K8=0),MAX(G8,H8),IF(J11=TRUE,H8+J8,G8+K8))","v":0}]
["Kraftangriffspunkt von Fx in z-Richtung","mm",{"$f":"'EM-LM-5'!Q18","v":0},null,"Absolutbetrag",null,{"$f":"ABS(G18)","v":0}]
[null,null,null,null,"Mx ges","Nm",{"$f":"MAX(G17,G19)","v":0}]
["Zusatzkraft Fy","N",{"$f":"'EM-LM-5'!K20","v":0},null,"Mx zul","Nm",{"$f":"G34/2","v":14.90625},null,"Maximal-Werte der Momente und Kräfte nicht aus Katalog, sondern exakt berechnete Werte !!"]
["Kraftangrp. von Fy in x-Richt. (Mitte Rolle)","mm",{"$f":"'EM-LM-5'!M20+44","v":44}]
["Kraftangrp. von Fy in z-Richt.","mm",{"$f":"'EM-LM-5'!Q20","v":0},null,"My Summe  I+V ( = II+IV )","Nm",{"$f":"G9+K9","v":0}]
[null,null,null,null,"Absolutbetrag",null,{"$f":"ABS(G23)","v":0}]
["Zusatzkraft Fz","N",{"$f":"'EM-LM-5'!K22","v":0},null,"My ges","Nm",{"$f":"G24","v":0}]
["Kraftangrp. von Fz in x-Richt. (Mitte Rolle)","mm",{"$f":"'EM-LM-5'!M22+44","v":44},null,"My zul","Nm",{"$f":"36+(14*C7)","v":36}]
["Kraftangriffspunkt von Fz in y-Richtung","mm",{"$f":"'EM-LM-5'!O22","v":0}]
[]
[null,null,null,null,"Mz III","Nm",{"$f":"I10","v":0}]
["Länge L (Stirnplatte zu 1. Rolle - HubN/2)","mm",39.6,null,"Absolutbetrag",null,{"$f":"ABS(G29)","v":0}]
["Nennhub/2        HubN/2","mm",{"$f":"(25+(C7*50))/2","v":12.5},null,"Mz IV/V","Nm",{"$f":"IF(J11=TRUE,J10,K10)","v":0}]
["tatsächlicher gefahrener Hub/2","mm",{"$f":"C5/2","v":5},null,"Absolutbetrag",null,{"$f":"ABS(G31)","v":0}]
["Schwerpunktabstand in y-Richtung","mm",{"$f":"C14","v":0},null,"Mz ges","Nm",{"$f":"MAX(G30,G32)","v":0}]
["Wert K ( Abstand erste / letzte Rolle )","mm",{"$f":"56.25+(C7*25)","v":56.25},null,"Mz zul","Nm",{"$f":"C34/1000*530","v":29.8125}]
["Anfangswert (Abst. Stirnpl./Deckplatte)","mm",25]
[null,null,null,null,null,null,null,null,"Belastungsgleichung stat.",{"$f":"G19/G21+G25/G26+G32/G34+G38/G39+G42/G43","v":0}]
["l1 bei eingefahrenem Hub","mm",{"$f":"C30+C31-C35","v":27.1},null,"Fx ges","N",{"$f":"C17","v":0},null,"Belastungsgleichung dyn.",{"$f":"G17/G21+G30/G34+G40/G43","v":0}]
["l1 bei ausgefahrenem Hub","mm",{"$f":"C30+C31+C32-C35","v":32.1},null,"Absolutwert",null,{"$f":"ABS(G37)","v":0},null,"Belastungsgleichung",{"$f":"MAX(J36:J37)","v":0}]
[null,null,null,null,"Fx zul","N",{"$f":"G43","v":2650}]
["Stoßdämpferhub s ( Hub bis a=0 )","m",{"$f":"'Allgemeine Werte'!M38","v":7.6380000000000007E-3},null,"Gewichtskraft","N",{"$f":"C12*9.81","v":0}]
["Verzögerung a=vxv/2xs","m/s2",{"$f":"POWER(C48,2)/(2*C40)","v":2.368594917166233},null,"Fz ges abs","N",{"$f":"ABS(-C25+C12*9.81)","v":0},null,"Verfahrzeitberechnung"]
["Kraft zur Verzögerung der Masse","N",{"$f":"C12*C41","v":0},null,"Max aus E40,E41",null,{"$f":"MAX(G40,G41)","v":0},null,"Verfahrzeit berechnet ( t=Wurzel aus (2xsxm/F)",null,{"$f":"(SQRT(2*(C5/1000)*(C12+C8/2)/C9))*(2.7+C7*0.05)","v":2.4756334668013562E-2}]
["Kraft zur Verzög. d. Masse incl Modul/2","N",{"$f":"C47*C41","v":2.2501651713079212},null,"Fz zul","N",{"$f":"2650+1060*C7","v":2650},null,"Mittlere Verfahrgeschwindigkeit berechnet",null,{"$f":"(C5/1000)/K42","v":0.40393701790275549}]
[null,null,null,null,null,null,null,null,"Endgeschwindigkeit berechnet",null,{"$f":"K43*'Allgemeine Werte'!E71","v":0.70688978132982205}]
["Stoßdämpferberechnung",null,null,null,"Max. Zyklenzahl / Min."]
["Anzahl Stoßdämpfer",null,{"$f":"'EM-LM-5-1'!O22","v":1},null,"Zyklen aus Verfahrzeit",null,{"$f":"60/(2*L50)","v":326.08695652173913},null,"Endgeschwindigkeit (Eingabe)",null,{"$f":"C10","v":2.02}]
["Gesamtmasse","kg",{"$f":"C12+C8/2","v":0.95},null,null,null,null,null,"Mittlere Verfahrgeschwindigkeit (Eingabe)   m/s",null,{"$f":"C10/'Allgemeine Werte'!E71","v":1.1542857142857144}]
["Aufprallgeschwindigkeit","m/s",{"$f":"L54","v":0.19021739130434784},null,"Ezul / Stunde","Nm",{"$f":"'Allgemeine Werte'!H38*C46*0.95","v":26790},null,"Verfahrzeit (Eingabe)","s",{"$f":"(C5/1000)/K47","v":8.6633663366336624E-3},"Verfahrzeit für Berechnung"]
["W1","Nm",{"$f":"C47*POWER(C48,2)*0.5","v":1.7186761578449904E-2},null,"Ezul / Minute","Nm",{"$f":"G48/60","v":446.5},null,null,null,null,"( max )"]
["Hub Stoßdämpfer","m",{"$f":"'Allgemeine Werte'!L38","v":1.14E-2},null,"Zyklen aus Ezul",null,{"$f":"G49/C53","v":132.54029762061634},null,"min. Verfahrzeit vor","gemessen",{"$f":"0.05+(C5/25)*0.03","v":6.2E-2},{"$f":"MAX(K48,K53,K42)","v":9.1999999999999998E-2}]
["Zylinderkraft","N",294,null,null,null,null,null,"Mittlere Verfahrgeschwindigkeit vor",null,{"$f":"(C5/1000)/K50","v":0.16129032258064516}]
["W2 ( Antriebsenergie )","Nm",{"$f":"C51*C50","v":3.3515999999999999},null,"Max. Zyklen",null,{"$f":"MIN(G46,G50,G55)","v":120},null,"Endgeschwindigkeit vor",null,{"$f":"K51*'Allgemeine Werte'!E71","v":0.282258064516129},"Endgeschwindigkeit f. Ber."]
["W1+W2 ( Energie / Hub )","Nm",{"$f":"C52+C49","v":3.3687867615784497},null,null,null,null,null,"min. Verfahrzeit zurück",null,{"$f":"0.08+((C5/25)*0.03)","v":9.1999999999999998E-2},"( min )"]
["Ezul / Zyklus ( Hub )","Nm",{"$f":"'Allgemeine Werte'!G38*C50/'Allgemeine Werte'!K38*C46","v":10.111304347826087},null,"Stoßd.-kolbenrückstellzeit",null,{"$f":"'Allgemeine Werte'!E38","v":0.5},null,"Mittlere Verfahrgeschwindigkeit zurück",null,{"$f":"(C5/1000)/K53","v":0.10869565217391305},{"$f":"MIN(K46,K55,K44)","v":0.19021739130434784}]
["Auslastung / Zyklus",null,{"$f":"C53/C54","v":0.3331703453573458},null,"Max. Zyklen aus Rückstellzeit",null,{"$f":"60/G54","v":120},null,"Endgeschwindigkeit zurück",null,{"$f":"K54*'Allgemeine Werte'!E71","v":0.19021739130434784}]

{"sheet":"EM-Ber-LM100-6","index":35,"n_rows":57,"n_cols":12,"rows_kept":57,"cut":false,"hidden":false,"merged":[]}
["Linearmodul Typ",null,"LM 100"]
[]
["Berechnung der Führungsbelastung"]
[null,null,null,null,null,null,"Statisch auf Grund","Statisch auf Grund"]
["Hub","mm",{"$f":"'EM-LM-6'!K8","v":10},null,null,null,"Zusatzmasse m","Zusatzmasse m","Dynamisch auf Grund","Statisch auf Grund","Statisch auf Grund"]
["Zylinderkraft vor","N",294,null,null,null,"Modul ausgef.","Modul eingef.","Zusatzmasse m","Zusatzkraft Modul eingef.","Zusatzkraft Modul ausgef."]
["Faktor",null,{"$f":"ROUNDDOWN((C5/50.1)+0.5,0)","v":0},null,null,null,"I","II","III","IV","V"]
["Modulgewicht","kg",{"$f":"1.9+(C7*0.7)","v":1.9},null,"Moment Mx=M3","Nm",{"$f":"C12*9.81*((C15)/1000)","v":0},{"$f":"C12*9.81*((C15)/1000)","v":0},{"$f":"C42*(C15/1000)","v":0},{"$f":"IF(K11=TRUE,-(C21*C23/1000)+C25*((C27+C37+C34/2)/1000),(C21*C23/1000)-C25*((C27+C37+C34/2)/1000))","v":0},{"$f":"IF(K11=TRUE,-(C21*C23/1000)+C25*((C27+C37-C32+C34/2)/1000),(C21*C23/1000)-C25*((C27+C37-C32+C34/2)/1000))","v":0}]
["Zylinderkraft zurück","N",226,null,"Moment My=M1","Nm","-","-","-",{"$f":"C17*(C19/1000)-C25*C26/1000","v":0},{"$f":"C17*(C19/1000)-C25*C26/1000","v":0}]
["Verfahrgeschwindigkeit","m/s",{"$f":"'EM-LM-6-1'!I58","v":2.02},null,"Moment Mz=M2","Nm",{"$f":"C12*9.81*((C13)/1000)","v":0},{"$f":"C12*9.81*((C13)/1000)","v":0},{"$f":"C42*(C13/1000)","v":0},{"$f":"IF(K11=TRUE,-C21*C22/1000+C17*(C18+C37+C34/2)/1000,C21*C22/1000-C17*(C18+C37+C34/2)/1000)","v":0},{"$f":"IF(K11=TRUE,-C21*C22/1000+C17*(C18+C37-C32+C34/2)/1000,C21*C22/1000-C17*(C18+C37-C32+C34/2)/1000)","v":0}]
[null,null,null,null,null,null,null,null,null,{"$f":"'EM-LM-6'!G51","v":false},{"$f":"'EM-LM-6'!G52","v":true}]
["Zusatzmasse","kg",{"$f":"'EM-LM-6'!K14","v":0}]
["Schwerpunktabstand x-Richt.(Mitte Rolle)","mm",{"$f":"'EM-LM-6'!M14+44","v":44}]
["Schwerpunktabstand y-Richtung","mm",{"$f":"'EM-LM-6'!O14","v":0}]
["Schwerpunktabstand z-Richtung","mm",{"$f":"'EM-LM-6'!Q14","v":0}]
[null,null,null,null,"Mx Summe  I(II) + III","Nm",{"$f":"G8+I8","v":0}]
["Zusatzkraft Fx","N",{"$f":"'EM-LM-6'!K18","v":0},null,"Absolutbetrag",null,{"$f":"ABS(G16)","v":0}]
["Kraftangriffspunkt von Fx in y-Richtung","mm",{"$f":"'EM-LM-6'!O18","v":0},null,"Mx Summe  I+V oder II+IV","Nm",{"$f":"IF(J11=TRUE,H8+J8,G8+K8)","v":0}]
["Kraftangriffspunkt von Fx in z-Richtung","mm",{"$f":"'EM-LM-6'!Q18","v":0},null,"Absolutbetrag",null,{"$f":"ABS(G18)","v":0}]
[null,null,null,null,"Mx ges","Nm",{"$f":"MAX(G17,G19)","v":0}]
["Zusatzkraft Fy","N",{"$f":"'EM-LM-6'!K20","v":0},null,"Mx zul","Nm",{"$f":"G34/2","v":14.90625},null,"Maximal-Werte der Momente und Kräfte nicht aus Katalog, sondern exakt berechnete Werte !!"]
["Kraftangrp. von Fy in x-Richt. (Mitte Rolle)","mm",{"$f":"'EM-LM-6'!M20+44","v":44}]
["Kraftangrp. von Fy in z-Richt.","mm",{"$f":"'EM-LM-6'!Q20","v":0},null,"My IV = V","Nm",{"$f":"J9","v":0}]
[null,null,null,null,"Absolutbetrag",null,{"$f":"ABS(G23)","v":0}]
["Zusatzkraft Fz","N",{"$f":"'EM-LM-6'!K22","v":0},null,"My ges","Nm",{"$f":"G24","v":0}]
["Kraftangrp. von Fz in x-Richt. (Mitte Rolle)","mm",{"$f":"'EM-LM-6'!M22+44","v":44},null,"My zul","Nm",{"$f":"36+(14*C7)","v":36}]
["Kraftangriffspunkt von Fz in y-Richtung","mm",{"$f":"'EM-LM-6'!O22","v":0}]
[]
[null,null,null,null,"Mz Summe I(II)+III","Nm",{"$f":"G10+I10","v":0}]
["Länge L (Stirnplatte zu 1. Rolle - HubN/2)","mm",39.6,null,"Absolutbetrag",null,{"$f":"ABS(G29)","v":0}]
["Nennhub/2        HubN/2","mm",{"$f":"(25+(C7*50))/2","v":12.5},null,"Mz Summe  I+V oder II+IV","Nm",{"$f":"IF(J11=TRUE,H10+J10,G10+K10)","v":0}]
["tatsächlicher gefahrener Hub/2","mm",{"$f":"C5/2","v":5},null,"Absolutbetrag",null,{"$f":"ABS(G31)","v":0}]
["Schwerpunktabstand in y-Richtung","mm",{"$f":"C14","v":0},null,"Mz ges","Nm",{"$f":"MAX(G30,G32)","v":0}]
["Wert K ( Abstand erste / letzte Rolle )","mm",{"$f":"56.25+(C7*25)","v":56.25},null,"Mz zul","Nm",{"$f":"C34/1000*530","v":29.8125}]
["Anfangswert (Abst. Stirnpl./Deckplatte)","mm",25]
[null,null,null,null,null,null,null,null,"Belastungsgleichung stat.",{"$f":"G19/G21+G25/G26+G32/G34+G38/G39+G42/G43","v":0}]
["l1 bei eingefahrenem Hub","mm",{"$f":"C30+C31-C35","v":27.1},null,"Fx ges","N",{"$f":"C17","v":0},null,"Belastungsgleichung dyn.",{"$f":"G17/G21+G30/G34","v":0}]
["l1 bei ausgefahrenem Hub","mm",{"$f":"C30+C31+C32-C35","v":32.1},null,"Absolutwert",null,{"$f":"ABS(G37)","v":0},null,"Belastungsgleichung",{"$f":"MAX(J36:J37)","v":0}]
[null,null,null,null,"Fx zul","N",{"$f":"G43","v":2650}]
["Stoßdämpferhub s ( Hub bis a=0 )","m",{"$f":"'Allgemeine Werte'!M38","v":7.6380000000000007E-3}]
["Verzögerung a=vxv/2xs","m/s2",{"$f":"POWER(C48,2)/(2*C40)","v":3.8672429357436342},null,"Fz ges","N",{"$f":"-C25","v":0},null,"Verfahrzeitberechnung"]
["Kraft zur Verzögerung der Masse","N",{"$f":"C12*C41","v":0},null,"Absolutwert",null,{"$f":"ABS(G41)","v":0},null,"Verfahrzeit berechnet ( t=Wurzel aus (2xsxm/F)",null,{"$f":"(SQRT(2*(C5/1000)*(C12+C8/2)/(C6-(C12+C8/2)*9.81)))*(2.45+C7*0.05)","v":2.0015388530800229E-2}]
["Kraft zur Verzög. d. Masse incl Modul/2","N",{"$f":"C47*C41","v":3.6738807889564522},null,"Fz zul","N",{"$f":"2650+1060*C7","v":2650},null,"Mittlere Verfahrgeschwindigkeit berechnet",null,{"$f":"(C5/1000)/K42","v":0.49961558251101279}]
[null,null,null,null,null,null,null,null,"Endgeschwindigkeit berechnet",null,{"$f":"K43*'Allgemeine Werte'!E71","v":0.87432726939427241}]
["Stoßdämpferberechnung",null,null,null,"Max. Zyklenzahl / Min."]
["Anzahl Stoßdämpfer",null,{"$f":"'EM-LM-6-1'!O22","v":1},null,"Zyklen aus Verfahrzeit",null,{"$f":"60/(2*L50)","v":416.66666666666669},null,"Endgeschwindigkeit (Eingabe)",null,{"$f":"C10","v":2.02}]
["Gesamtmasse","kg",{"$f":"C12+C8/2","v":0.95},null,null,null,null,null,"Mittlere Verfahrgeschwindigkeit (Eingabe)   m/s",null,{"$f":"C10/'Allgemeine Werte'!E71","v":1.1542857142857144}]
["Aufprallgeschwindigkeit","m/s",{"$f":"L54","v":0.24305555555555558},null,"Ezul / Stunde","Nm",{"$f":"'Allgemeine Werte'!H38*C46*0.95","v":26790},null,"Verfahrzeit (Eingabe)","s",{"$f":"(C5/1000)/K47","v":8.6633663366336624E-3},"Verfahrzeit für Berechnung"]
["W1","Nm",{"$f":"C47*POWER(C48,2)*0.5","v":2.8061101466049385E-2},null,"Ezul / Minute","Nm",{"$f":"G48/60","v":446.5},null,null,null,null,"( max )"]
["Hub Stoßdämpfer","m",{"$f":"'Allgemeine Werte'!L38","v":1.14E-2},null,"Zyklen aus Ezul",null,{"$f":"G49/C53","v":136.40173380809944},null,"min. Verfahrzeit ab","gemessen",{"$f":"0.045+(C5/25)*0.025","v":5.5E-2},{"$f":"MAX(K48,K53,K42)","v":7.1999999999999995E-2}]
["Zylinderkraft","N",294,null,null,null,null,null,"Mittlere Verfahrgeschwindigkeit ab",null,{"$f":"(C5/1000)/K50","v":0.18181818181818182}]
["W2 ( Antriebsenergie )","Nm",{"$f":"MAX(C56,C57)*C50","v":3.2453577},null,"Max. Zyklen",null,{"$f":"MIN(G46,G50,G55)","v":120},null,"Endgeschwindigkeit ab",null,{"$f":"K51*'Allgemeine Werte'!E71","v":0.31818181818181818},"Endgeschwindigkeit f. Ber."]
["W1+W2 ( Energie / Hub )","Nm",{"$f":"C52+C49","v":3.2734188014660495},null,null,null,null,null,"min. Verfahrzeit auf",null,{"$f":"0.06+((C5/25)*0.03)","v":7.1999999999999995E-2},"( min )"]
["Ezul / Zyklus ( Hub )","Nm",{"$f":"'Allgemeine Werte'!G38*C50/'Allgemeine Werte'!K38*C46","v":10.111304347826087},null,"Stoßd.-kolbenrückstellzeit",null,{"$f":"'Allgemeine Werte'!E38","v":0.5},null,"Mittlere Verfahrgeschwindigkeit auf",null,{"$f":"(C5/1000)/K53","v":0.1388888888888889},{"$f":"MIN(K46,K55,K44)","v":0.24305555555555558}]
["Auslastung / Zyklus",null,{"$f":"C53/C54","v":0.32373852955675586},null,"Max. Zyklen aus Rückstellzeit",null,{"$f":"60/G54","v":120},null,"Endgeschwindigkeit auf",null,{"$f":"K54*'Allgemeine Werte'!E71","v":0.24305555555555558}]
["Antriebskraft nach oben",null,{"$f":"C6-C47*9.81","v":284.68049999999999}]
["Antriebskraft nach unten",null,{"$f":"C9+C47*9.81","v":235.31950000000001}]

{"sheet":"EM-Ber-LM200-1","index":36,"n_rows":55,"n_cols":12,"rows_kept":55,"cut":false,"hidden":false,"merged":[]}
["Linearmodul Typ",null,"LM 200"]
[]
["Berechnung der Führungsbelastung"]
[null,null,null,null,null,null,"Statisch auf Grund","Statisch auf Grund"]
["Hub","mm",{"$f":"'EM-LM-1'!K8","v":10},null,null,null,"Zusatzmasse m","Zusatzmasse m","Dynamisch auf Grund","Statisch auf Grund","Statisch auf Grund"]
["Zylinderkraft","N",482,null,null,null,"Modul ausgef.","Modul eingef.","Zusatzmasse m","Zusatzkraft Modul eingef.","Zusatzkraft Modul ausgef."]
["Faktor",null,{"$f":"ROUNDDOWN(((C5+25)/50.1)+0.5,0)","v":1},null,null,null,"I","II","III","IV","V"]
["Modulgewicht","kg",{"$f":"2.8+(C7*1.1)","v":3.9},null,"Moment Mx=M2","Nm",{"$f":"(C12*9.81)*((C38+C34/2+C33)/1000)","v":0},{"$f":"C12*9.81*((C37+C34/2+C33)/1000)","v":0},{"$f":"C42*(C15/1000)","v":0},{"$f":"(C21*C23/1000)-C25*((C27+C37+C34/2)/1000)","v":0},{"$f":"(C21*C23/1000)-C25*((C27+C38+C34/2)/1000)","v":0}]
["Zylinderkraft zurück","N",415,null,"Moment My=M1","Nm",{"$f":"C12*9.81*(C13/1000)","v":0},{"$f":"C12*9.81*(C13/1000)","v":0},"-",{"$f":"C17*C19/1000-C25*(C26/1000)","v":0},{"$f":"C17*C19/1000-C25*(C26/1000)","v":0}]
["Verfahrgeschwindigkeit","m/s",{"$f":"'EM-LM-1-1'!I58","v":2.02},null,"Moment Mz=M3","Nm","-","-",{"$f":"C42*(C13/1000)","v":0},{"$f":"C21*C22/1000-C17*(C18+C37+C34/2)/1000","v":0},{"$f":"C21*C22/1000-C17*(C18+C38+C34/2)/1000","v":0}]
[null,null,null,null,null,null,null,null,null,{"$f":"'EM-LM-1'!G51","v":true}]
["Zusatzmasse","kg",{"$f":"'EM-LM-1'!K14","v":0},null,"Mx Summe  I + III","Nm",{"$f":"G8+I8","v":0}]
["Schwerpunktabstand x-Richtung","mm",{"$f":"'EM-LM-1'!M14","v":0},null,"Absolutbetrag",null,{"$f":"ABS(G12)","v":0}]
["Schwerpunktabstand y-Richtung","mm",{"$f":"'EM-LM-1'!O14","v":0},null,"Mx Summe  II-III",null,{"$f":"H8-I8","v":0}]
["Schwerpunktabstand z-Richt.(Mitte Rolle)","mm",{"$f":"'EM-LM-1'!Q14+18.5","v":18.5},null,"Absolutbetrag",null,{"$f":"ABS(G14)","v":0}]
[null,null,null,null,"I ","Nm",{"$f":"ABS(G8)","v":0}]
["Zusatzkraft Fx","N",{"$f":"'EM-LM-1'!K18","v":0},null,"I oder I+III oder II-III",null,{"$f":"MAX(G16,G15,G13)","v":0}]
["Kraftangriffspunkt von Fx in y-Richtung","mm",{"$f":"'EM-LM-1'!O18","v":0},null,"Mx Summe  I+V oder II+IV","Nm",{"$f":"IF(AND(J8=0,K8=0),MAX(G8,H8),IF(J11=TRUE,H8+J8,G8+K8))","v":0}]
["Kraftangrp. von Fx in z-Richt.(Mitte Rolle)","mm",{"$f":"'EM-LM-1'!Q18+18.5","v":18.5},null,"Absolutbetrag",null,{"$f":"ABS(G18)","v":0}]
[null,null,null,null,"Mx ges","Nm",{"$f":"MAX(G17,G19)","v":0}]
["Zusatzkraft Fy","N",{"$f":"'EM-LM-1'!K20","v":0},null,"Mx zul","Nm",{"$f":"C34/1000*1060","v":63.07},null,"Maximal-Werte der Momente und Kräfte nicht aus Katalog, sondern exakt berechnete Werte !!"]
["Kraftangriffspunkt von Fy in x-Richtung","mm",{"$f":"'EM-LM-1'!M20","v":0}]
["Kraftangrp. von Fy in z-Richt.(Mitte Rolle)","mm",{"$f":"'EM-LM-1'!Q20+18.5","v":18.5},null,"My Summe  I+V ( = II+IV )","Nm",{"$f":"G9+K9","v":0}]
[null,null,null,null,"Absolutbetrag",null,{"$f":"ABS(G23)","v":0}]
["Zusatzkraft Fz","N",{"$f":"'EM-LM-1'!K22","v":0},null,"My ges","Nm",{"$f":"G24","v":0}]
["Kraftangriffspunkt von Fz in x-Richtung","mm",{"$f":"'EM-LM-1'!M22","v":0},null,"My zul","Nm",{"$f":"28+(22*C7)","v":50}]
["Kraftangriffspunkt von Fz in y-Richtung","mm",{"$f":"'EM-LM-1'!O22","v":0}]
[]
[null,null,null,null,"Mz III","Nm",{"$f":"I10","v":0}]
["Länge L (Stirnplatte zu 1. Rolle - HubN/2)","mm",44,null,"Absolutbetrag",null,{"$f":"ABS(G29)","v":0}]
["Nennhub/2        HubN/2","mm",{"$f":"(0+(C7*50))/2","v":25},null,"Mz IV/V","Nm",{"$f":"IF(J11=TRUE,J10,K10)","v":0}]
["tatsächlicher gefahrener Hub/2","mm",{"$f":"C5/2","v":5},null,"Absolutbetrag",null,{"$f":"ABS(G31)","v":0}]
["Schwerpunktabstand in y-Richtung","mm",{"$f":"C14","v":0},null,"Mz ges","Nm",{"$f":"MAX(G30,G32)","v":0}]
["Wert K ( Abstand erste / letzte Rolle )","mm",{"$f":"34+(C7*25.5)","v":59.5},null,"Mz zul","Nm",{"$f":"G21/2","v":31.535}]
[]
[null,null,null,null,null,null,null,null,"Belastungsgleichung stat.",{"$f":"G19/G21+G25/G26+G32/G34+G38/G39+G42/G43","v":0}]
["l1 bei eingefahrenem Hub","mm",{"$f":"C30+C31","v":69},null,"Fx ges","N",{"$f":"C17","v":0},null,"Belastungsgleichung dyn.",{"$f":"G17/G21+G30/G34+G40/G43","v":0}]
["l1 bei ausgefahrenem Hub","mm",{"$f":"C30+C31+C32","v":74},null,"Absolutwert",null,{"$f":"ABS(G37)","v":0},null,"Belastungsgleichung",{"$f":"MAX(J36:J37)","v":0}]
[null,null,null,null,"Fx zul","N",{"$f":"G43","v":3710}]
["Stoßdämpferhub s ( Hub bis a=0 )","m",{"$f":"'Allgemeine Werte'!M41","v":1.0586000000000002E-2},null,"Gewichtskraft","N",{"$f":"C12*9.81","v":0}]
["Verzögerung a=vxv/2xs","m/s2",{"$f":"POWER(C48,2)/(2*C40)","v":2.5715305329890614},null,"Fz ges abs","N",{"$f":"ABS(-C25+C12*9.81)","v":0},null,"Verfahrzeitberechnung"]
["Kraft zur Verzögerung der Masse","N",{"$f":"C12*C41","v":0},null,"Max aus E40,E41",null,{"$f":"MAX(G40,G41)","v":0},null,"Verfahrzeit berechnet ( t=Wurzel aus (2xsxm/F)",null,{"$f":"(SQRT(2*(C5/1000)*(C12+C8/2)/C9))*(2.25+C7*0.05)","v":2.2296469005662796E-2}]
["Kraft zur Verzög. d. Masse incl Modul/2","N",{"$f":"C47*C41","v":5.0144845393286692},null,"Fz zul","N",{"$f":"2120+1590*C7","v":3710},null,"Mittlere Verfahrgeschwindigkeit berechnet",null,{"$f":"(C5/1000)/K42","v":0.44850150925064536}]
[null,null,null,null,null,null,null,null,"Endgeschwindigkeit berechnet",null,{"$f":"K43*'Allgemeine Werte'!E71","v":0.78487764118862935}]
["Stoßdämpferberechnung",null,null,null,"Max. Zyklenzahl / Min."]
["Anzahl Stoßdämpfer",null,{"$f":"'EM-LM-1-1'!Q22","v":1},null,"Zyklen aus Verfahrzeit",null,{"$f":"60/(2*L50)","v":399.99999999999994},null,"Endgeschwindigkeit (Eingabe)",null,{"$f":"C10","v":2.02}]
["Gesamtmasse","kg",{"$f":"C12+C8/2","v":1.95},null,null,null,null,null,"Mittlere Verfahrgeschwindigkeit (Eingabe)   m/s",null,{"$f":"C10/'Allgemeine Werte'!E71","v":1.1542857142857144}]
["Aufprallgeschwindigkeit","m/s",{"$f":"L54","v":0.23333333333333328},null,"Ezul / Stunde","Nm",{"$f":"'Allgemeine Werte'!H41*C46*0.95","v":32300},null,"Verfahrzeit (Eingabe)","s",{"$f":"(C5/1000)/K47","v":8.6633663366336624E-3},"Verfahrzeit für Berechnung"]
["W1","Nm",{"$f":"C47*POWER(C48,2)*0.5","v":5.3083333333333309E-2},null,"Ezul / Minute","Nm",{"$f":"G48/60","v":538.33333333333337},null,null,null,null,"( max )"]
["Hub Stoßdämpfer","m",{"$f":"'Allgemeine Werte'!L41","v":1.5800000000000002E-2},null,"Zyklen aus Ezul",null,{"$f":"G49/C53","v":70.198925934699787},null,"min. Verfahrzeit vor","gemessen",{"$f":"0.06+(C5/25)*0.02","v":6.8000000000000005E-2},{"$f":"MAX(K48,K53,K42)","v":7.5000000000000011E-2}]
["Zylinderkraft","N",482,null,null,null,null,null,"Mittlere Verfahrgeschwindigkeit vor",null,{"$f":"(C5/1000)/K50","v":0.14705882352941177}]
["W2 ( Antriebsenergie )","Nm",{"$f":"C51*C50","v":7.6156000000000006},null,"Max. Zyklen",null,{"$f":"MIN(G46,G50,G55)","v":70.198925934699787},null,"Endgeschwindigkeit vor",null,{"$f":"K51*'Allgemeine Werte'!E71","v":0.25735294117647062},"Endgeschwindigkeit f. Ber."]
["W1+W2 ( Energie / Hub )","Nm",{"$f":"C52+C49","v":7.668683333333334},null,null,null,null,null,"min. Verfahrzeit zurück",null,{"$f":"0.065+((C5/25)*0.025)","v":7.5000000000000011E-2},"( min )"]
["Ezul / Zyklus ( Hub )","Nm",{"$f":"'Allgemeine Werte'!G41*C50/'Allgemeine Werte'!K41*C46","v":25.675000000000004},null,"Stoßd.-kolbenrückstellzeit",null,{"$f":"'Allgemeine Werte'!E41","v":0.75},null,"Mittlere Verfahrgeschwindigkeit zurück",null,{"$f":"(C5/1000)/K53","v":0.1333333333333333},{"$f":"MIN(K46,K55,K44)","v":0.23333333333333328}]
["Auslastung / Zyklus",null,{"$f":"C53/C54","v":0.29868289516390778},null,"Max. Zyklen aus Rückstellzeit",null,{"$f":"60/G54","v":80},null,"Endgeschwindigkeit zurück",null,{"$f":"K54*'Allgemeine Werte'!E71","v":0.23333333333333328}]

{"sheet":"EM-Ber-LM200-2","index":37,"n_rows":55,"n_cols":12,"rows_kept":55,"cut":false,"hidden":false,"merged":[]}
["Linearmodul Typ",null,"LM 200"]
[]
["Berechnung der Führungsbelastung"]
[null,null,null,null,null,null,"Statisch auf Grund","Statisch auf Grund"]
["Hub","mm",{"$f":"'EM-LM-2'!K8","v":10},null,null,null,"Zusatzmasse m","Zusatzmasse m","Dynamisch auf Grund","Statisch auf Grund","Statisch auf Grund"]
["Zylinderkraft","N",482,null,null,null,"Modul ausgef.","Modul eingef.","Zusatzmasse m","Zusatzkraft Modul eingef.","Zusatzkraft Modul ausgef."]
["Faktor",null,{"$f":"ROUNDDOWN(((C5+25)/50.1)+0.5,0)","v":1},null,null,null,"I","II","III","IV","V"]
["Modulgewicht","kg",{"$f":"2.8+(C7*1.1)","v":3.9},null,"Moment Mx=M3","Nm",{"$f":"(C12*9.81)*((C38+C34/2+C33)/1000)","v":0},{"$f":"C12*9.81*((C37+C34/2+C33)/1000)","v":0},{"$f":"C42*(C15/1000)","v":0},{"$f":"(C21*C23/1000)-C25*((C27+C37+C34/2)/1000)","v":0},{"$f":"(C21*C23/1000)-C25*((C27+C38+C34/2)/1000)","v":0}]
["Zylinderkraft zurück","N",415,null,"Moment My=M1","Nm",{"$f":"C12*9.81*((C13)/1000)","v":0},{"$f":"C12*9.81*((C13)/1000)","v":0},"-",{"$f":"C17*(C19/1000)-C25*C26/1000","v":0},{"$f":"C17*(C19/1000)-C25*C26/1000","v":0}]
["Verfahrgeschwindigkeit","m/s",{"$f":"'EM-LM-2-1'!I58","v":2.02},null,"Moment Mz=M2","Nm","-","-",{"$f":"C42*(C13/1000)","v":0},{"$f":"C21*C22/1000-C17*(C18+C37+C34/2)/1000","v":0},{"$f":"C21*C22/1000-C17*(C18+C38+C34/2)/1000","v":0}]
[null,null,null,null,null,null,null,null,null,{"$f":"'EM-LM-2'!G51","v":true}]
["Zusatzmasse","kg",{"$f":"'EM-LM-2'!K14","v":0},null,"Mx Summe  I + III","Nm",{"$f":"G8+I8","v":0}]
["Schwerpunktabstand x-Richt.(Mitte Rolle)","mm",{"$f":"'EM-LM-2'!M14+18.5","v":18.5},null,"Absolutbetrag",null,{"$f":"ABS(G12)","v":0}]
["Schwerpunktabstand y-Richtung","mm",{"$f":"'EM-LM-2'!O14","v":0},null,"Mx Summe  II-III",null,{"$f":"H8-I8","v":0}]
["Schwerpunktabstand z-Richtung","mm",{"$f":"'EM-LM-2'!Q14","v":0},null,"Absolutbetrag",null,{"$f":"ABS(G14)","v":0}]
[null,null,null,null,"I ","Nm",{"$f":"ABS(G8)","v":0}]
["Zusatzkraft Fx","N",{"$f":"'EM-LM-2'!K18","v":0},null,"I oder I+III oder II-III",null,{"$f":"MAX(G16,G15,G13)","v":0}]
["Kraftangriffspunkt von Fx in y-Richtung","mm",{"$f":"'EM-LM-2'!O18","v":0},null,"Mx Summe  I+V oder II+IV","Nm",{"$f":"IF(AND(J8=0,K8=0),MAX(G8,H8),IF(J11=TRUE,H8+J8,G8+K8))","v":0}]
["Kraftangriffspunkt von Fx in z-Richtung","mm",{"$f":"'EM-LM-2'!Q18","v":0},null,"Absolutbetrag",null,{"$f":"ABS(G18)","v":0}]
[null,null,null,null,"Mx ges","Nm",{"$f":"MAX(G17,G19)","v":0}]
["Zusatzkraft Fy","N",{"$f":"'EM-LM-2'!K20","v":0},null,"Mx zul","Nm",{"$f":"G34/2","v":31.535},null,"Maximal-Werte der Momente und Kräfte nicht aus Katalog, sondern exakt berechnete Werte !!"]
["Kraftangrp. von Fy in x-Richt. (Mitte Rolle)","mm",{"$f":"'EM-LM-2'!M20+18.5","v":18.5}]
["Kraftangrp. von Fy in z-Richt.","mm",{"$f":"'EM-LM-2'!Q20","v":0},null,"My Summe  I+V ( = II+IV )","Nm",{"$f":"G9+K9","v":0}]
[null,null,null,null,"Absolutbetrag",null,{"$f":"ABS(G23)","v":0}]
["Zusatzkraft Fz","N",{"$f":"'EM-LM-2'!K22","v":0},null,"My ges","Nm",{"$f":"G24","v":0}]
["Kraftangrp. von Fz in x-Richt. (Mitte Rolle)","mm",{"$f":"'EM-LM-2'!M22+18.5","v":18.5},null,"My zul","Nm",{"$f":"28+(22*C7)","v":50}]
["Kraftangriffspunkt von Fz in y-Richtung","mm",{"$f":"'EM-LM-2'!O22","v":0}]
[]
[null,null,null,null,"Mz III","Nm",{"$f":"I10","v":0}]
["Länge L (Stirnplatte zu 1. Rolle - HubN/2)","mm",44,null,"Absolutbetrag",null,{"$f":"ABS(G29)","v":0}]
["Nennhub/2        HubN/2","mm",{"$f":"(0+(C7*50))/2","v":25},null,"Mz IV/V","Nm",{"$f":"IF(J11=TRUE,J10,K10)","v":0}]
["tatsächlicher gefahrener Hub/2","mm",{"$f":"C5/2","v":5},null,"Absolutbetrag",null,{"$f":"ABS(G31)","v":0}]
["Schwerpunktabstand in y-Richtung","mm",{"$f":"C14","v":0},null,"Mz ges","Nm",{"$f":"MAX(G30,G32)","v":0}]
["Wert K ( Abstand erste / letzte Rolle )","mm",{"$f":"34+(C7*25.5)","v":59.5},null,"Mz zul","Nm",{"$f":"C34/1000*1060","v":63.07}]
[]
[null,null,null,null,null,null,null,null,"Belastungsgleichung stat.",{"$f":"G19/G21+G25/G26+G32/G34+G38/G39+G42/G43","v":0}]
["l1 bei eingefahrenem Hub","mm",{"$f":"C30+C31","v":69},null,"Fx ges","N",{"$f":"C17","v":0},null,"Belastungsgleichung dyn.",{"$f":"G17/G21+G30/G34+G40/G43","v":0}]
["l1 bei ausgefahrenem Hub","mm",{"$f":"C30+C31+C32","v":74},null,"Absolutwert",null,{"$f":"ABS(G37)","v":0},null,"Belastungsgleichung",{"$f":"MAX(J36:J37)","v":0}]
[null,null,null,null,"Fx zul","N",{"$f":"G43","v":3710}]
["Stoßdämpferhub s ( Hub bis a=0 )","m",{"$f":"'Allgemeine Werte'!M41","v":1.0586000000000002E-2},null,"Gewichtskraft","N",{"$f":"C12*9.81","v":0}]
["Verzögerung a=vxv/2xs","m/s2",{"$f":"POWER(C48,2)/(2*C40)","v":2.5715305329890614},null,"Fz ges abs","N",{"$f":"ABS(-C25+C12*9.81)","v":0},null,"Verfahrzeitberechnung"]
["Kraft zur Verzögerung der Masse","N",{"$f":"C12*C41","v":0},null,"Max aus E40,E41",null,{"$f":"MAX(G40,G41)","v":0},null,"Verfahrzeit berechnet ( t=Wurzel aus (2xsxm/F)",null,{"$f":"(SQRT(2*(C5/1000)*(C12+C8/2)/C9))*(2.25+C7*0.05)","v":2.2296469005662796E-2}]
["Kraft zur Verzög. d. Masse incl Modul/2","N",{"$f":"C47*C41","v":5.0144845393286692},null,"Fz zul","N",{"$f":"2120+1590*C7","v":3710},null,"Mittlere Verfahrgeschwindigkeit berechnet",null,{"$f":"(C5/1000)/K42","v":0.44850150925064536}]
[null,null,null,null,null,null,null,null,"Endgeschwindigkeit berechnet",null,{"$f":"K43*'Allgemeine Werte'!E71","v":0.78487764118862935}]
["Stoßdämpferberechnung",null,null,null,"Max. Zyklenzahl / Min."]
["Anzahl Stoßdämpfer",null,{"$f":"'EM-LM-2-1'!Q22","v":1},null,"Zyklen aus Verfahrzeit",null,{"$f":"60/(2*L50)","v":399.99999999999994},null,"Endgeschwindigkeit (Eingabe)",null,{"$f":"C10","v":2.02}]
["Gesamtmasse","kg",{"$f":"C12+C8/2","v":1.95},null,null,null,null,null,"Mittlere Verfahrgeschwindigkeit (Eingabe)   m/s",null,{"$f":"C10/'Allgemeine Werte'!E71","v":1.1542857142857144}]
["Aufprallgeschwindigkeit","m/s",{"$f":"L54","v":0.23333333333333328},null,"Ezul / Stunde","Nm",{"$f":"'Allgemeine Werte'!H41*C46*0.95","v":32300},null,"Verfahrzeit (Eingabe)","s",{"$f":"(C5/1000)/K47","v":8.6633663366336624E-3},"Verfahrzeit für Berechnung"]
["W1","Nm",{"$f":"C47*POWER(C48,2)*0.5","v":5.3083333333333309E-2},null,"Ezul / Minute","Nm",{"$f":"G48/60","v":538.33333333333337},null,null,null,null,"( max )"]
["Hub Stoßdämpfer","m",{"$f":"'Allgemeine Werte'!L41","v":1.5800000000000002E-2},null,"Zyklen aus Ezul",null,{"$f":"G49/C53","v":70.198925934699787},null,"min. Verfahrzeit vor","gemessen",{"$f":"0.06+(C5/25)*0.02","v":6.8000000000000005E-2},{"$f":"MAX(K48,K53,K42)","v":7.5000000000000011E-2}]
["Zylinderkraft","N",482,null,null,null,null,null,"Mittlere Verfahrgeschwindigkeit vor",null,{"$f":"(C5/1000)/K50","v":0.14705882352941177}]
["W2 ( Antriebsenergie )","Nm",{"$f":"C51*C50","v":7.6156000000000006},null,"Max. Zyklen",null,{"$f":"MIN(G46,G50,G55)","v":70.198925934699787},null,"Endgeschwindigkeit vor",null,{"$f":"K51*'Allgemeine Werte'!E71","v":0.25735294117647062},"Endgeschwindigkeit f. Ber."]
["W1+W2 ( Energie / Hub )","Nm",{"$f":"C52+C49","v":7.668683333333334},null,null,null,null,null,"min. Verfahrzeit zurück",null,{"$f":"0.065+((C5/25)*0.025)","v":7.5000000000000011E-2},"( min )"]
["Ezul / Zyklus ( Hub )","Nm",{"$f":"'Allgemeine Werte'!G41*C50/'Allgemeine Werte'!K41*C46","v":25.675000000000004},null,"Stoßd.-kolbenrückstellzeit",null,{"$f":"'Allgemeine Werte'!E41","v":0.75},null,"Mittlere Verfahrgeschwindigkeit zurück",null,{"$f":"(C5/1000)/K53","v":0.1333333333333333},{"$f":"MIN(K46,K55,K44)","v":0.23333333333333328}]
["Auslastung / Zyklus",null,{"$f":"C53/C54","v":0.29868289516390778},null,"Max. Zyklen aus Rückstellzeit",null,{"$f":"60/G54","v":80},null,"Endgeschwindigkeit zurück",null,{"$f":"K54*'Allgemeine Werte'!E71","v":0.23333333333333328}]

{"sheet":"EM-Ber-LM200-3","index":38,"n_rows":57,"n_cols":12,"rows_kept":57,"cut":false,"hidden":false,"merged":[]}
["Linearmodul Typ",null,"LM 200"]
[]
["Berechnung der Führungsbelastung"]
[null,null,null,null,null,null,"Statisch auf Grund","Statisch auf Grund"]
["Hub","mm",{"$f":"'EM-LM-3'!K8","v":10},null,null,null,"Zusatzmasse m","Zusatzmasse m","Dynamisch auf Grund","Statisch auf Grund","Statisch auf Grund"]
["Zylinderkraft","N",482,null,null,null,"Modul ausgef.","Modul eingef.","Zusatzmasse m","Zusatzkraft Modul eingef.","Zusatzkraft Modul ausgef."]
["Faktor",null,{"$f":"ROUNDDOWN(((C5+25)/50.1)+0.5,0)","v":1},null,null,null,"I","II","III","IV","V"]
["Modulgewicht","kg",{"$f":"2.8+(C7*1.1)","v":3.9},null,"Moment Mx=M3","Nm",{"$f":"C12*9.81*((C15)/1000)","v":0},{"$f":"C12*9.81*((C15)/1000)","v":0},{"$f":"C42*(C15/1000)","v":0},{"$f":"IF(K11=TRUE,-(C21*C23/1000)+C25*((C27+C37+C34/2)/1000),(C21*C23/1000)-C25*((C27+C37+C34/2)/1000))","v":0},{"$f":"IF(K11=TRUE,-(C21*C23/1000)+C25*((C27+C38+C34/2)/1000),(C21*C23/1000)-C25*((C27+C38+C34/2)/1000))","v":0}]
["Zylinderkraft zurück","N",415,null,"Moment My=M1","Nm","-","-","-",{"$f":"C17*(C19/1000)-C25*C26/1000","v":0},{"$f":"C17*(C19/1000)-C25*C26/1000","v":0}]
["Verfahrgeschwindigkeit","m/s",{"$f":"'EM-LM-3-1'!I58","v":2.02},null,"Moment Mz=M2","Nm",{"$f":"C12*9.81*((C13)/1000)","v":0},{"$f":"C12*9.81*((C13)/1000)","v":0},{"$f":"C42*(C13/1000)","v":0},{"$f":"IF(K11=TRUE,-C21*C22/1000+C17*(C18+C37+C34/2)/1000,C21*C22/1000-C17*(C18+C37+C34/2)/1000)","v":0},{"$f":"IF(K11=TRUE,-C21*C22/1000+C17*(C18+C38+C34/2)/1000,C21*C22/1000-C17*(C18+C38+C34/2)/1000)","v":0}]
[null,null,null,null,null,null,null,null,null,{"$f":"'EM-LM-3'!G51","v":true},{"$f":"'EM-LM-3'!G52","v":true}]
["Zusatzmasse","kg",{"$f":"'EM-LM-3'!K14","v":0}]
["Schwerpunktabstand x-Richt.(Mitte Rolle)","mm",{"$f":"'EM-LM-3'!M14+18.5","v":18.5}]
["Schwerpunktabstand y-Richtung","mm",{"$f":"'EM-LM-3'!O14","v":0}]
["Schwerpunktabstand z-Richtung","mm",{"$f":"'EM-LM-3'!Q14","v":0}]
[null,null,null,null,"Mx Summe  I(II) + III","Nm",{"$f":"G8+I8","v":0}]
["Zusatzkraft Fx","N",{"$f":"'EM-LM-3'!K18","v":0},null,"Absolutbetrag",null,{"$f":"ABS(G16)","v":0}]
["Kraftangriffspunkt von Fx in y-Richtung","mm",{"$f":"'EM-LM-3'!O18","v":0},null,"Mx Summe  I+V oder II+IV","Nm",{"$f":"IF(J11=TRUE,H8+J8,G8+K8)","v":0}]
["Kraftangriffspunkt von Fx in z-Richtung","mm",{"$f":"'EM-LM-3'!Q18","v":0},null,"Absolutbetrag",null,{"$f":"ABS(G18)","v":0}]
[null,null,null,null,"Mx ges","Nm",{"$f":"MAX(G17,G19)","v":0}]
["Zusatzkraft Fy","N",{"$f":"'EM-LM-3'!K20","v":0},null,"Mx zul","Nm",{"$f":"G34/2","v":31.535},null,"Maximal-Werte der Momente und Kräfte nicht aus Katalog, sondern exakt berechnete Werte !!"]
["Kraftangrp. von Fy in x-Richt. (Mitte Rolle)","mm",{"$f":"'EM-LM-3'!M20+18.5","v":18.5}]
["Kraftangrp. von Fy in z-Richt.","mm",{"$f":"'EM-LM-3'!Q20","v":0},null,"My IV = V","Nm",{"$f":"J9","v":0}]
[null,null,null,null,"Absolutbetrag",null,{"$f":"ABS(G23)","v":0}]
["Zusatzkraft Fz","N",{"$f":"'EM-LM-3'!K22","v":0},null,"My ges","Nm",{"$f":"G24","v":0}]
["Kraftangrp. von Fz in x-Richt. (Mitte Rolle)","mm",{"$f":"'EM-LM-3'!M22+18.5","v":18.5},null,"My zul","Nm",{"$f":"28+(22*C7)","v":50}]
["Kraftangriffspunkt von Fz in y-Richtung","mm",{"$f":"'EM-LM-3'!O22","v":0}]
[]
[null,null,null,null,"Mz Summe I(II)+III","Nm",{"$f":"G10+I10","v":0}]
["Länge L (Stirnplatte zu 1. Rolle - HubN/2)","mm",44,null,"Absolutbetrag",null,{"$f":"ABS(G29)","v":0}]
["Nennhub/2        HubN/2","mm",{"$f":"(0+(C7*50))/2","v":25},null,"Mz Summe  I+V oder II+IV","Nm",{"$f":"IF(J11=TRUE,H10+J10,G10+K10)","v":0}]
["tatsächlicher gefahrener Hub/2","mm",{"$f":"C5/2","v":5},null,"Absolutbetrag",null,{"$f":"ABS(G31)","v":0}]
["Schwerpunktabstand in y-Richtung","mm",{"$f":"C14","v":0},null,"Mz ges","Nm",{"$f":"MAX(G30,G32)","v":0}]
["Wert K ( Abstand erste / letzte Rolle )","mm",{"$f":"34+(C7*25.5)","v":59.5},null,"Mz zul","Nm",{"$f":"C34/1000*1060","v":63.07}]
[]
[null,null,null,null,null,null,null,null,"Belastungsgleichung stat.",{"$f":"G19/G21+G25/G26+G32/G34+G38/G39+G42/G43","v":0}]
["l1 bei eingefahrenem Hub","mm",{"$f":"C30+C31","v":69},null,"Fx ges","N",{"$f":"C17","v":0},null,"Belastungsgleichung dyn.",{"$f":"G17/G21+G30/G34","v":0}]
["l1 bei ausgefahrenem Hub","mm",{"$f":"C30+C31+C32","v":74},null,"Absolutwert",null,{"$f":"ABS(G37)","v":0},null,"Belastungsgleichung",{"$f":"MAX(J36:J37)","v":0}]
[null,null,null,null,"Fx zul","N",{"$f":"G43","v":3710}]
["Stoßdämpferhub s ( Hub bis a=0 )","m",{"$f":"'Allgemeine Werte'!M41","v":1.0586000000000002E-2}]
["Verzögerung a=vxv/2xs","m/s2",{"$f":"POWER(C48,2)/(2*C40)","v":2.790289206802369},null,"Fz ges","N",{"$f":"-C25","v":0},null,"Verfahrzeitberechnung"]
["Kraft zur Verzögerung der Masse","N",{"$f":"C12*C41","v":0},null,"Absolutwert",null,{"$f":"ABS(G41)","v":0},null,"Verfahrzeit berechnet ( t=Wurzel aus (2xsxm/F)",null,{"$f":"(SQRT(2*(C5/1000)*(C12+C8/2)/(C6-(C12+C8/2)*9.81)))*(2+C7*0.1)","v":1.9276218780709183E-2}]
["Kraft zur Verzög. d. Masse incl Modul/2","N",{"$f":"C47*C41","v":5.4410639532646199},null,"Fz zul","N",{"$f":"2120+1590*C7","v":3710},null,"Mittlere Verfahrgeschwindigkeit berechnet",null,{"$f":"(C5/1000)/K42","v":0.51877394180686376}]
[null,null,null,null,null,null,null,null,"Endgeschwindigkeit berechnet",null,{"$f":"K43*'Allgemeine Werte'!E71","v":0.90785439816201152}]
["Stoßdämpferberechnung",null,null,null,"Max. Zyklenzahl / Min."]
["Anzahl Stoßdämpfer",null,{"$f":"'EM-LM-3-1'!Q22","v":1},null,"Zyklen aus Verfahrzeit",null,{"$f":"60/(2*L50)","v":416.66666666666669},null,"Endgeschwindigkeit (Eingabe)",null,{"$f":"C10","v":2.02}]
["Gesamtmasse","kg",{"$f":"C12+C8/2","v":1.95},null,null,null,null,null,"Mittlere Verfahrgeschwindigkeit (Eingabe)   m/s",null,{"$f":"C10/'Allgemeine Werte'!E71","v":1.1542857142857144}]
["Aufprallgeschwindigkeit","m/s",{"$f":"L54","v":0.24305555555555558},null,"Ezul / Stunde","Nm",{"$f":"'Allgemeine Werte'!H41*C46*0.95","v":32300},null,"Verfahrzeit (Eingabe)","s",{"$f":"(C5/1000)/K47","v":8.6633663366336624E-3},"Verfahrzeit für Berechnung"]
["W1","Nm",{"$f":"C47*POWER(C48,2)*0.5","v":5.7599103009259266E-2},null,"Ezul / Minute","Nm",{"$f":"G48/60","v":538.33333333333337},null,null,null,null,"( max )"]
["Hub Stoßdämpfer","m",{"$f":"'Allgemeine Werte'!L41","v":1.5800000000000002E-2},null,"Zyklen aus Ezul",null,{"$f":"G49/C53","v":73.034427585354806},null,"min. Verfahrzeit ab","gemessen",{"$f":"0.05+(C5/25)*0.02","v":5.8000000000000003E-2},{"$f":"MAX(K48,K53,K42)","v":7.1999999999999995E-2}]
["Zylinderkraft","N",482,null,null,null,null,null,"Mittlere Verfahrgeschwindigkeit ab",null,{"$f":"(C5/1000)/K50","v":0.17241379310344826}]
["W2 ( Antriebsenergie )","Nm",{"$f":"MAX(C56,C57)*C50","v":7.313353900000001},null,"Max. Zyklen",null,{"$f":"MIN(G46,G50,G55)","v":73.034427585354806},null,"Endgeschwindigkeit ab",null,{"$f":"K51*'Allgemeine Werte'!E71","v":0.30172413793103448},"Endgeschwindigkeit f. Ber."]
["W1+W2 ( Energie / Hub )","Nm",{"$f":"C52+C49","v":7.3709530030092605},null,null,null,null,null,"min. Verfahrzeit auf",null,{"$f":"0.06+((C5/25)*0.03)","v":7.1999999999999995E-2},"( min )"]
["Ezul / Zyklus ( Hub )","Nm",{"$f":"'Allgemeine Werte'!G41*C50/'Allgemeine Werte'!K41*C46","v":25.675000000000004},null,"Stoßd.-kolbenrückstellzeit",null,{"$f":"'Allgemeine Werte'!E41","v":0.75},null,"Mittlere Verfahrgeschwindigkeit auf",null,{"$f":"(C5/1000)/K53","v":0.1388888888888889},{"$f":"MIN(K46,K55,K44)","v":0.24305555555555558}]
["Auslastung / Zyklus",null,{"$f":"C53/C54","v":0.28708677713765374},null,"Max. Zyklen aus Rückstellzeit",null,{"$f":"60/G54","v":80},null,"Endgeschwindigkeit auf",null,{"$f":"K54*'Allgemeine Werte'!E71","v":0.24305555555555558}]
["Antriebskraft nach oben",null,{"$f":"C6-C47*9.81","v":462.87049999999999}]
["Antriebskraft nach unten",null,{"$f":"C9+C47*9.81","v":434.12950000000001}]

{"sheet":"EM-Ber-LM200-4","index":39,"n_rows":55,"n_cols":12,"rows_kept":55,"cut":false,"hidden":false,"merged":[]}
["Linearmodul Typ",null,"LM 200"]
[]
["Berechnung der Führungsbelastung"]
[null,null,null,null,null,null,"Statisch auf Grund","Statisch auf Grund"]
["Hub","mm",{"$f":"'EM-LM-4'!K8","v":10},null,null,null,"Zusatzmasse m","Zusatzmasse m","Dynamisch auf Grund","Statisch auf Grund","Statisch auf Grund"]
["Zylinderkraft","N",482,null,null,null,"Modul ausgef.","Modul eingef.","Zusatzmasse m","Zusatzkraft Modul eingef.","Zusatzkraft Modul ausgef."]
["Faktor",null,{"$f":"ROUNDDOWN(((C5+25)/50.1)+0.5,0)","v":1},null,null,null,"I","II","III","IV","V"]
["Modulgewicht","kg",{"$f":"2.8+(C7*1.1)","v":3.9},null,"Moment Mx=M2","Nm",{"$f":"(C12*9.81)*((C37-C32+C34/2+C33)/1000)","v":0},{"$f":"C12*9.81*((C37+C34/2+C33)/1000)","v":0},{"$f":"C42*(C15/1000)","v":0},{"$f":"(C21*C23/1000)-C25*((C27+C37+C34/2)/1000)","v":0},{"$f":"(C21*C23/1000)-C25*((C27+C37-C32+C34/2)/1000)","v":0}]
["Zylinderkraft zurück","N",415,null,"Moment My=M1","Nm",{"$f":"C12*9.81*(C13/1000)","v":0},{"$f":"C12*9.81*(C13/1000)","v":0},"-",{"$f":"C17*C19/1000-C25*(C26/1000)","v":0},{"$f":"C17*C19/1000-C25*(C26/1000)","v":0}]
["Verfahrgeschwindigkeit","m/s",{"$f":"'EM-LM-4-1'!I58","v":2.02},null,"Moment Mz=M3","Nm","-","-",{"$f":"C42*(C13/1000)","v":0},{"$f":"C21*C22/1000-C17*(C18+C37+C34/2)/1000","v":0},{"$f":"C21*C22/1000-C17*(C18+C37-C32+C34/2)/1000","v":0}]
[null,null,null,null,null,null,null,null,null,{"$f":"'EM-LM-4'!G51","v":false}]
["Zusatzmasse","kg",{"$f":"'EM-LM-4'!K14","v":0},null,"Mx Summe  I + III","Nm",{"$f":"G8+I8","v":0}]
["Schwerpunktabstand x-Richtung","mm",{"$f":"'EM-LM-4'!M14","v":0},null,"Absolutbetrag",null,{"$f":"ABS(G12)","v":0}]
["Schwerpunktabstand y-Richtung","mm",{"$f":"'EM-LM-4'!O14","v":0},null,"Mx Summe  II-III",null,{"$f":"H8-I8","v":0}]
["Schwerpunktabstand z-Richt.(Mitte Rolle)","mm",{"$f":"'EM-LM-4'!Q14+56.5","v":56.5},null,"Absolutbetrag",null,{"$f":"ABS(G14)","v":0}]
[null,null,null,null,"I ","Nm",{"$f":"ABS(G8)","v":0}]
["Zusatzkraft Fx","N",{"$f":"'EM-LM-4'!K18","v":0},null,"I oder I+III oder II-III",null,{"$f":"MAX(G16,G15,G13)","v":0}]
["Kraftangriffspunkt von Fx in y-Richtung","mm",{"$f":"'EM-LM-4'!O18","v":0},null,"Mx Summe  I+V oder II+IV","Nm",{"$f":"IF(AND(J8=0,K8=0),MAX(G8,H8),IF(J11=TRUE,H8+J8,G8+K8))","v":0}]
["Kraftangrp. von Fx in z-Richt.(Mitte Rolle)","mm",{"$f":"'EM-LM-4'!Q18+56.5","v":56.5},null,"Absolutbetrag",null,{"$f":"ABS(G18)","v":0}]
[null,null,null,null,"Mx ges","Nm",{"$f":"MAX(G17,G19)","v":0}]
["Zusatzkraft Fy","N",{"$f":"'EM-LM-4'!K20","v":0},null,"Mx zul","Nm",{"$f":"C34/1000*1060","v":63.07},null,"Maximal-Werte der Momente und Kräfte nicht aus Katalog, sondern exakt berechnete Werte !!"]
["Kraftangriffspunkt von Fy in x-Richtung","mm",{"$f":"'EM-LM-4'!M20","v":0}]
["Kraftangrp. von Fy in z-Richt.(Mitte Rolle)","mm",{"$f":"'EM-LM-4'!Q20+56.5","v":56.5},null,"My Summe  I+V ( = II+IV )","Nm",{"$f":"G9+K9","v":0}]
[null,null,null,null,"Absolutbetrag",null,{"$f":"ABS(G23)","v":0}]
["Zusatzkraft Fz","N",{"$f":"'EM-LM-4'!K22","v":0},null,"My ges","Nm",{"$f":"G24","v":0}]
["Kraftangriffspunkt von Fz in x-Richtung","mm",{"$f":"'EM-LM-4'!M22","v":0},null,"My zul","Nm",{"$f":"28+(22*C7)","v":50}]
["Kraftangriffspunkt von Fz in y-Richtung","mm",{"$f":"'EM-LM-4'!O22","v":0}]
[]
[null,null,null,null,"Mz III","Nm",{"$f":"I10","v":0}]
["Länge L (Stirnplatte zu 1. Rolle - HubN/2)","mm",44,null,"Absolutbetrag",null,{"$f":"ABS(G29)","v":0}]
["Nennhub/2        HubN/2","mm",{"$f":"(0+(C7*50))/2","v":25},null,"Mz IV/V","Nm",{"$f":"IF(J11=TRUE,J10,K10)","v":0}]
["tatsächlicher gefahrener Hub/2","mm",{"$f":"C5/2","v":5},null,"Absolutbetrag",null,{"$f":"ABS(G31)","v":0}]
["Schwerpunktabstand in y-Richtung","mm",{"$f":"C14","v":0},null,"Mz ges","Nm",{"$f":"MAX(G30,G32)","v":0}]
["Wert K ( Abstand erste / letzte Rolle )","mm",{"$f":"34+(C7*25.5)","v":59.5},null,"Mz zul","Nm",{"$f":"G21/2","v":31.535}]
["Anfangswert (Abst. Stirnpl./Deckplatte)","mm",27]
[null,null,null,null,null,null,null,null,"Belastungsgleichung stat.",{"$f":"G19/G21+G25/G26+G32/G34+G38/G39+G42/G43","v":0}]
["l1 bei eingefahrenem Hub","mm",{"$f":"C30+C31-C35","v":42},null,"Fx ges","N",{"$f":"C17","v":0},null,"Belastungsgleichung dyn.",{"$f":"G17/G21+G30/G34+G40/G43","v":0}]
["l1 bei ausgefahrenem Hub","mm",{"$f":"C30+C31+C32-C35","v":47},null,"Absolutwert",null,{"$f":"ABS(G37)","v":0},null,"Belastungsgleichung",{"$f":"MAX(J36:J37)","v":0}]
[null,null,null,null,"Fx zul","N",{"$f":"G43","v":3710}]
["Stoßdämpferhub s ( Hub bis a=0 )","m",{"$f":"'Allgemeine Werte'!M41","v":1.0586000000000002E-2},null,"Gewichtskraft","N",{"$f":"C12*9.81","v":0}]
["Verzögerung a=vxv/2xs","m/s2",{"$f":"POWER(C48,2)/(2*C40)","v":2.5715305329890614},null,"Fz ges abs","N",{"$f":"ABS(-C25+C12*9.81)","v":0},null,"Verfahrzeitberechnung"]
["Kraft zur Verzögerung der Masse","N",{"$f":"C12*C41","v":0},null,"Max aus E40,E41",null,{"$f":"MAX(G40,G41)","v":0},null,"Verfahrzeit berechnet ( t=Wurzel aus (2xsxm/F)",null,{"$f":"(SQRT(2*(C5/1000)*(C12+C8/2)/C9))*(2.25+C7*0.05)","v":2.2296469005662796E-2}]
["Kraft zur Verzög. d. Masse incl Modul/2","N",{"$f":"C47*C41","v":5.0144845393286692},null,"Fz zul","N",{"$f":"2120+1590*C7","v":3710},null,"Mittlere Verfahrgeschwindigkeit berechnet",null,{"$f":"(C5/1000)/K42","v":0.44850150925064536}]
[null,null,null,null,null,null,null,null,"Endgeschwindigkeit berechnet",null,{"$f":"K43*'Allgemeine Werte'!E71","v":0.78487764118862935}]
["Stoßdämpferberechnung",null,null,null,"Max. Zyklenzahl / Min."]
["Anzahl Stoßdämpfer",null,{"$f":"'EM-LM-4-1'!Q22","v":1},null,"Zyklen aus Verfahrzeit",null,{"$f":"60/(2*L50)","v":399.99999999999994},null,"Endgeschwindigkeit (Eingabe)",null,{"$f":"C10","v":2.02}]
["Gesamtmasse","kg",{"$f":"C12+C8/2","v":1.95},null,null,null,null,null,"Mittlere Verfahrgeschwindigkeit (Eingabe)   m/s",null,{"$f":"C10/'Allgemeine Werte'!E71","v":1.1542857142857144}]
["Aufprallgeschwindigkeit","m/s",{"$f":"L54","v":0.23333333333333328},null,"Ezul / Stunde","Nm",{"$f":"'Allgemeine Werte'!H41*C46*0.95","v":32300},null,"Verfahrzeit (Eingabe)","s",{"$f":"(C5/1000)/K47","v":8.6633663366336624E-3},"Verfahrzeit für Berechnung"]
["W1","Nm",{"$f":"C47*POWER(C48,2)*0.5","v":5.3083333333333309E-2},null,"Ezul / Minute","Nm",{"$f":"G48/60","v":538.33333333333337},null,null,null,null,"( max )"]
["Hub Stoßdämpfer","m",{"$f":"'Allgemeine Werte'!L41","v":1.5800000000000002E-2},null,"Zyklen aus Ezul",null,{"$f":"G49/C53","v":70.198925934699787},null,"min. Verfahrzeit vor","gemessen",{"$f":"0.06+(C5/25)*0.02","v":6.8000000000000005E-2},{"$f":"MAX(K48,K53,K42)","v":7.5000000000000011E-2}]
["Zylinderkraft","N",482,null,null,null,null,null,"Mittlere Verfahrgeschwindigkeit vor",null,{"$f":"(C5/1000)/K50","v":0.14705882352941177}]
["W2 ( Antriebsenergie )","Nm",{"$f":"C51*C50","v":7.6156000000000006},null,"Max. Zyklen",null,{"$f":"MIN(G46,G50,G55)","v":70.198925934699787},null,"Endgeschwindigkeit vor",null,{"$f":"K51*'Allgemeine Werte'!E71","v":0.25735294117647062},"Endgeschwindigkeit f. Ber."]
["W1+W2 ( Energie / Hub )","Nm",{"$f":"C52+C49","v":7.668683333333334},null,null,null,null,null,"min. Verfahrzeit zurück",null,{"$f":"0.065+((C5/25)*0.025)","v":7.5000000000000011E-2},"( min )"]
["Ezul / Zyklus ( Hub )","Nm",{"$f":"'Allgemeine Werte'!G41*C50/'Allgemeine Werte'!K41*C46","v":25.675000000000004},null,"Stoßd.-kolbenrückstellzeit",null,{"$f":"'Allgemeine Werte'!E41","v":0.75},null,"Mittlere Verfahrgeschwindigkeit zurück",null,{"$f":"(C5/1000)/K53","v":0.1333333333333333},{"$f":"MIN(K46,K55,K44)","v":0.23333333333333328}]
["Auslastung / Zyklus",null,{"$f":"C53/C54","v":0.29868289516390778},null,"Max. Zyklen aus Rückstellzeit",null,{"$f":"60/G54","v":80},null,"Endgeschwindigkeit zurück",null,{"$f":"K54*'Allgemeine Werte'!E71","v":0.23333333333333328}]

{"sheet":"EM-Ber-LM200-5","index":40,"n_rows":55,"n_cols":12,"rows_kept":55,"cut":false,"hidden":false,"merged":[]}
["Linearmodul Typ",null,"LM 200"]
[]
["Berechnung der Führungsbelastung"]
[null,null,null,null,null,null,"Statisch auf Grund","Statisch auf Grund"]
["Hub","mm",{"$f":"'EM-LM-5'!K8","v":10},null,null,null,"Zusatzmasse m","Zusatzmasse m","Dynamisch auf Grund","Statisch auf Grund","Statisch auf Grund"]
["Zylinderkraft","N",482,null,null,null,"Modul ausgef.","Modul eingef.","Zusatzmasse m","Zusatzkraft Modul eingef.","Zusatzkraft Modul ausgef."]
["Faktor",null,{"$f":"ROUNDDOWN(((C5+25)/50.1)+0.5,0)","v":1},null,null,null,"I","II","III","IV","V"]
["Modulgewicht","kg",{"$f":"2.8+(C7*1.1)","v":3.9},null,"Moment Mx=M3","Nm",{"$f":"(C12*9.81)*((C37-C32+C34/2+C33)/1000)","v":0},{"$f":"C12*9.81*((C37+C34/2+C33)/1000)","v":0},{"$f":"C42*(C15/1000)","v":0},{"$f":"(C21*C23/1000)-C25*((C27+C37+C34/2)/1000)","v":0},{"$f":"(C21*C23/1000)-C25*((C27+C37-C32+C34/2)/1000)","v":0}]
["Zylinderkraft zurück","N",415,null,"Moment My=M1","Nm",{"$f":"C12*9.81*((C13)/1000)","v":0},{"$f":"C12*9.81*((C13)/1000)","v":0},"-",{"$f":"C17*(C19/1000)-C25*C26/1000","v":0},{"$f":"C17*(C19/1000)-C25*C26/1000","v":0}]
["Verfahrgeschwindigkeit","m/s",{"$f":"'EM-LM-5-1'!I58","v":2.02},null,"Moment Mz=M2","Nm","-","-",{"$f":"C42*(C13/1000)","v":0},{"$f":"C21*C22/1000-C17*(C18+C37+C34/2)/1000","v":0},{"$f":"C21*C22/1000-C17*(C18+C37-C32+C34/2)/1000","v":0}]
[null,null,null,null,null,null,null,null,null,{"$f":"'EM-LM-5'!G51","v":false}]
["Zusatzmasse","kg",{"$f":"'EM-LM-5'!K14","v":0},null,"Mx Summe  I + III","Nm",{"$f":"G8+I8","v":0}]
["Schwerpunktabstand x-Richt.(Mitte Rolle)","mm",{"$f":"'EM-LM-5'!M14+56.5","v":56.5},null,"Absolutbetrag",null,{"$f":"ABS(G12)","v":0}]
["Schwerpunktabstand y-Richtung","mm",{"$f":"'EM-LM-5'!O14","v":0},null,"Mx Summe  II-III",null,{"$f":"H8-I8","v":0}]
["Schwerpunktabstand z-Richtung","mm",{"$f":"'EM-LM-5'!Q14","v":0},null,"Absolutbetrag",null,{"$f":"ABS(G14)","v":0}]
[null,null,null,null,"I ","Nm",{"$f":"ABS(G8)","v":0}]
["Zusatzkraft Fx","N",{"$f":"'EM-LM-5'!K18","v":0},null,"I oder I+III oder II-III",null,{"$f":"MAX(G16,G15,G13)","v":0}]
["Kraftangriffspunkt von Fx in y-Richtung","mm",{"$f":"'EM-LM-5'!O18","v":0},null,"Mx Summe  I+V oder II+IV","Nm",{"$f":"IF(AND(J8=0,K8=0),MAX(G8,H8),IF(J11=TRUE,H8+J8,G8+K8))","v":0}]
["Kraftangriffspunkt von Fx in z-Richtung","mm",{"$f":"'EM-LM-5'!Q18","v":0},null,"Absolutbetrag",null,{"$f":"ABS(G18)","v":0}]
[null,null,null,null,"Mx ges","Nm",{"$f":"MAX(G17,G19)","v":0}]
["Zusatzkraft Fy","N",{"$f":"'EM-LM-5'!K20","v":0},null,"Mx zul","Nm",{"$f":"G34/2","v":31.535},null,"Maximal-Werte der Momente und Kräfte nicht aus Katalog, sondern exakt berechnete Werte !!"]
["Kraftangrp. von Fy in x-Richt. (Mitte Rolle)","mm",{"$f":"'EM-LM-5'!M20+56.5","v":56.5}]
["Kraftangrp. von Fy in z-Richt.","mm",{"$f":"'EM-LM-5'!Q20","v":0},null,"My Summe  I+V ( = II+IV )","Nm",{"$f":"G9+K9","v":0}]
[null,null,null,null,"Absolutbetrag",null,{"$f":"ABS(G23)","v":0}]
["Zusatzkraft Fz","N",{"$f":"'EM-LM-5'!K22","v":0},null,"My ges","Nm",{"$f":"G24","v":0}]
["Kraftangrp. von Fz in x-Richt. (Mitte Rolle)","mm",{"$f":"'EM-LM-5'!M22+56.5","v":56.5},null,"My zul","Nm",{"$f":"28+(22*C7)","v":50}]
["Kraftangriffspunkt von Fz in y-Richtung","mm",{"$f":"'EM-LM-5'!O22","v":0}]
[]
[null,null,null,null,"Mz III","Nm",{"$f":"I10","v":0}]
["Länge L (Stirnplatte zu 1. Rolle - HubN/2)","mm",44,null,"Absolutbetrag",null,{"$f":"ABS(G29)","v":0}]
["Nennhub/2        HubN/2","mm",{"$f":"(0+(C7*50))/2","v":25},null,"Mz IV/V","Nm",{"$f":"IF(J11=TRUE,J10,K10)","v":0}]
["tatsächlicher gefahrener Hub/2","mm",{"$f":"C5/2","v":5},null,"Absolutbetrag",null,{"$f":"ABS(G31)","v":0}]
["Schwerpunktabstand in y-Richtung","mm",{"$f":"C14","v":0},null,"Mz ges","Nm",{"$f":"MAX(G30,G32)","v":0}]
["Wert K ( Abstand erste / letzte Rolle )","mm",{"$f":"34+(C7*25.5)","v":59.5},null,"Mz zul","Nm",{"$f":"C34/1000*1060","v":63.07}]
["Anfangswert (Abst. Stirnpl./Deckplatte)","mm",27]
[null,null,null,null,null,null,null,null,"Belastungsgleichung stat.",{"$f":"G19/G21+G25/G26+G32/G34+G38/G39+G42/G43","v":0}]
["l1 bei eingefahrenem Hub","mm",{"$f":"C30+C31-C35","v":42},null,"Fx ges","N",{"$f":"C17","v":0},null,"Belastungsgleichung dyn.",{"$f":"G17/G21+G30/G34+G40/G43","v":0}]
["l1 bei ausgefahrenem Hub","mm",{"$f":"C30+C31+C32-C35","v":47},null,"Absolutwert",null,{"$f":"ABS(G37)","v":0},null,"Belastungsgleichung",{"$f":"MAX(J36:J37)","v":0}]
[null,null,null,null,"Fx zul","N",{"$f":"G43","v":3710}]
["Stoßdämpferhub s ( Hub bis a=0 )","m",{"$f":"'Allgemeine Werte'!M41","v":1.0586000000000002E-2},null,"Gewichtskraft","N",{"$f":"C12*9.81","v":0}]
["Verzögerung a=vxv/2xs","m/s2",{"$f":"POWER(C48,2)/(2*C40)","v":2.5715305329890614},null,"Fz ges abs","N",{"$f":"ABS(-C25+C12*9.81)","v":0},null,"Verfahrzeitberechnung"]
["Kraft zur Verzögerung der Masse","N",{"$f":"C12*C41","v":0},null,"Max aus E40,E41",null,{"$f":"MAX(G40,G41)","v":0},null,"Verfahrzeit berechnet ( t=Wurzel aus (2xsxm/F)",null,{"$f":"(SQRT(2*(C5/1000)*(C12+C8/2)/C9))*(2.25+C7*0.05)","v":2.2296469005662796E-2}]
["Kraft zur Verzög. d. Masse incl Modul/2","N",{"$f":"C47*C41","v":5.0144845393286692},null,"Fz zul","N",{"$f":"2120+1590*C7","v":3710},null,"Mittlere Verfahrgeschwindigkeit berechnet",null,{"$f":"(C5/1000)/K42","v":0.44850150925064536}]
[null,null,null,null,null,null,null,null,"Endgeschwindigkeit berechnet",null,{"$f":"K43*'Allgemeine Werte'!E71","v":0.78487764118862935}]
["Stoßdämpferberechnung",null,null,null,"Max. Zyklenzahl / Min."]
["Anzahl Stoßdämpfer",null,{"$f":"'EM-LM-5-1'!Q22","v":1},null,"Zyklen aus Verfahrzeit",null,{"$f":"60/(2*L50)","v":399.99999999999994},null,"Endgeschwindigkeit (Eingabe)",null,{"$f":"C10","v":2.02}]
["Gesamtmasse","kg",{"$f":"C12+C8/2","v":1.95},null,null,null,null,null,"Mittlere Verfahrgeschwindigkeit (Eingabe)   m/s",null,{"$f":"C10/'Allgemeine Werte'!E71","v":1.1542857142857144}]
["Aufprallgeschwindigkeit","m/s",{"$f":"L54","v":0.23333333333333328},null,"Ezul / Stunde","Nm",{"$f":"'Allgemeine Werte'!H41*C46*0.95","v":32300},null,"Verfahrzeit (Eingabe)","s",{"$f":"(C5/1000)/K47","v":8.6633663366336624E-3},"Verfahrzeit für Berechnung"]
["W1","Nm",{"$f":"C47*POWER(C48,2)*0.5","v":5.3083333333333309E-2},null,"Ezul / Minute","Nm",{"$f":"G48/60","v":538.33333333333337},null,null,null,null,"( max )"]
["Hub Stoßdämpfer","m",{"$f":"'Allgemeine Werte'!L41","v":1.5800000000000002E-2},null,"Zyklen aus Ezul",null,{"$f":"G49/C53","v":70.198925934699787},null,"min. Verfahrzeit vor","gemessen",{"$f":"0.06+(C5/25)*0.02","v":6.8000000000000005E-2},{"$f":"MAX(K48,K53,K42)","v":7.5000000000000011E-2}]
["Zylinderkraft","N",482,null,null,null,null,null,"Mittlere Verfahrgeschwindigkeit vor",null,{"$f":"(C5/1000)/K50","v":0.14705882352941177}]
["W2 ( Antriebsenergie )","Nm",{"$f":"C51*C50","v":7.6156000000000006},null,"Max. Zyklen",null,{"$f":"MIN(G46,G50,G55)","v":70.198925934699787},null,"Endgeschwindigkeit vor",null,{"$f":"K51*'Allgemeine Werte'!E71","v":0.25735294117647062},"Endgeschwindigkeit f. Ber."]
["W1+W2 ( Energie / Hub )","Nm",{"$f":"C52+C49","v":7.668683333333334},null,null,null,null,null,"min. Verfahrzeit zurück",null,{"$f":"0.065+((C5/25)*0.025)","v":7.5000000000000011E-2},"( min )"]
["Ezul / Zyklus ( Hub )","Nm",{"$f":"'Allgemeine Werte'!G41*C50/'Allgemeine Werte'!K41*C46","v":25.675000000000004},null,"Stoßd.-kolbenrückstellzeit",null,{"$f":"'Allgemeine Werte'!E41","v":0.75},null,"Mittlere Verfahrgeschwindigkeit zurück",null,{"$f":"(C5/1000)/K53","v":0.1333333333333333},{"$f":"MIN(K46,K55,K44)","v":0.23333333333333328}]
["Auslastung / Zyklus",null,{"$f":"C53/C54","v":0.29868289516390778},null,"Max. Zyklen aus Rückstellzeit",null,{"$f":"60/G54","v":80},null,"Endgeschwindigkeit zurück",null,{"$f":"K54*'Allgemeine Werte'!E71","v":0.23333333333333328}]

{"sheet":"EM-Ber-LM200-6","index":41,"n_rows":57,"n_cols":12,"rows_kept":57,"cut":false,"hidden":false,"merged":[]}
["Linearmodul Typ",null,"LM 200"]
[]
["Berechnung der Führungsbelastung"]
[null,null,null,null,null,null,"Statisch auf Grund","Statisch auf Grund"]
["Hub","mm",{"$f":"'EM-LM-6'!K8","v":10},null,null,null,"Zusatzmasse m","Zusatzmasse m","Dynamisch auf Grund","Statisch auf Grund","Statisch auf Grund"]
["Zylinderkraft","N",482,null,null,null,"Modul ausgef.","Modul eingef.","Zusatzmasse m","Zusatzkraft Modul eingef.","Zusatzkraft Modul ausgef."]
["Faktor",null,{"$f":"ROUNDDOWN(((C5+25)/50.1)+0.5,0)","v":1},null,null,null,"I","II","III","IV","V"]
["Modulgewicht","kg",{"$f":"2.8+(C7*1.1)","v":3.9},null,"Moment Mx=M3","Nm",{"$f":"C12*9.81*((C15)/1000)","v":0},{"$f":"C12*9.81*((C15)/1000)","v":0},{"$f":"C42*(C15/1000)","v":0},{"$f":"IF(K11=TRUE,-(C21*C23/1000)+C25*((C27+C37+C34/2)/1000),(C21*C23/1000)-C25*((C27+C37+C34/2)/1000))","v":0},{"$f":"IF(K11=TRUE,-(C21*C23/1000)+C25*((C27+C37-C32+C34/2)/1000),(C21*C23/1000)-C25*((C27+C37-C32+C34/2)/1000))","v":0}]
["Zylinderkraft zurück","N",415,null,"Moment My=M1","Nm","-","-","-",{"$f":"C17*(C19/1000)-C25*C26/1000","v":0},{"$f":"C17*(C19/1000)-C25*C26/1000","v":0}]
["Verfahrgeschwindigkeit","m/s",{"$f":"'EM-LM-6-1'!I58","v":2.02},null,"Moment Mz=M2","Nm",{"$f":"C12*9.81*((C13)/1000)","v":0},{"$f":"C12*9.81*((C13)/1000)","v":0},{"$f":"C42*(C13/1000)","v":0},{"$f":"IF(K11=TRUE,-C21*C22/1000+C17*(C18+C37+C34/2)/1000,C21*C22/1000-C17*(C18+C37+C34/2)/1000)","v":0},{"$f":"IF(K11=TRUE,-C21*C22/1000+C17*(C18+C37-C32+C34/2)/1000,C21*C22/1000-C17*(C18+C37-C32+C34/2)/1000)","v":0}]
[null,null,null,null,null,null,null,null,null,{"$f":"'EM-LM-6'!G51","v":false},{"$f":"'EM-LM-6'!G52","v":true}]
["Zusatzmasse","kg",{"$f":"'EM-LM-6'!K14","v":0}]
["Schwerpunktabstand x-Richt.(Mitte Rolle)","mm",{"$f":"'EM-LM-6'!M14+56.5","v":56.5}]
["Schwerpunktabstand y-Richtung","mm",{"$f":"'EM-LM-6'!O14","v":0}]
["Schwerpunktabstand z-Richtung","mm",{"$f":"'EM-LM-6'!Q14","v":0}]
[null,null,null,null,"Mx Summe  I(II) + III","Nm",{"$f":"G8+I8","v":0}]
["Zusatzkraft Fx","N",{"$f":"'EM-LM-6'!K18","v":0},null,"Absolutbetrag",null,{"$f":"ABS(G16)","v":0}]
["Kraftangriffspunkt von Fx in y-Richtung","mm",{"$f":"'EM-LM-6'!O18","v":0},null,"Mx Summe  I+V oder II+IV","Nm",{"$f":"IF(J11=TRUE,H8+J8,G8+K8)","v":0}]
["Kraftangriffspunkt von Fx in z-Richtung","mm",{"$f":"'EM-LM-6'!Q18","v":0},null,"Absolutbetrag",null,{"$f":"ABS(G18)","v":0}]
[null,null,null,null,"Mx ges","Nm",{"$f":"MAX(G17,G19)","v":0}]
["Zusatzkraft Fy","N",{"$f":"'EM-LM-6'!K20","v":0},null,"Mx zul","Nm",{"$f":"G34/2","v":31.535},null,"Maximal-Werte der Momente und Kräfte nicht aus Katalog, sondern exakt berechnete Werte !!"]
["Kraftangrp. von Fy in x-Richt. (Mitte Rolle)","mm",{"$f":"'EM-LM-6'!M20+56.5","v":56.5}]
["Kraftangrp. von Fy in z-Richt.","mm",{"$f":"'EM-LM-6'!Q20","v":0},null,"My IV = V","Nm",{"$f":"J9","v":0}]
[null,null,null,null,"Absolutbetrag",null,{"$f":"ABS(G23)","v":0}]
["Zusatzkraft Fz","N",{"$f":"'EM-LM-6'!K22","v":0},null,"My ges","Nm",{"$f":"G24","v":0}]
["Kraftangrp. von Fz in x-Richt. (Mitte Rolle)","mm",{"$f":"'EM-LM-6'!M22+56.5","v":56.5},null,"My zul","Nm",{"$f":"28+(22*C7)","v":50}]
["Kraftangriffspunkt von Fz in y-Richtung","mm",{"$f":"'EM-LM-6'!O22","v":0}]
[]
[null,null,null,null,"Mz Summe I(II)+III","Nm",{"$f":"G10+I10","v":0}]
["Länge L (Stirnplatte zu 1. Rolle - HubN/2)","mm",44,null,"Absolutbetrag",null,{"$f":"ABS(G29)","v":0}]
["Nennhub/2        HubN/2","mm",{"$f":"(0+(C7*50))/2","v":25},null,"Mz Summe  I+V oder II+IV","Nm",{"$f":"IF(J11=TRUE,H10+J10,G10+K10)","v":0}]
["tatsächlicher gefahrener Hub/2","mm",{"$f":"C5/2","v":5},null,"Absolutbetrag",null,{"$f":"ABS(G31)","v":0}]
["Schwerpunktabstand in y-Richtung","mm",{"$f":"C14","v":0},null,"Mz ges","Nm",{"$f":"MAX(G30,G32)","v":0}]
["Wert K ( Abstand erste / letzte Rolle )","mm",{"$f":"34+(C7*25.5)","v":59.5},null,"Mz zul","Nm",{"$f":"C34/1000*1060","v":63.07}]
["Anfangswert (Abst. Stirnpl./Deckplatte)","mm",27]
[null,null,null,null,null,null,null,null,"Belastungsgleichung stat.",{"$f":"G19/G21+G25/G26+G32/G34+G38/G39+G42/G43","v":0}]
["l1 bei eingefahrenem Hub","mm",{"$f":"C30+C31-C35","v":42},null,"Fx ges","N",{"$f":"C17","v":0},null,"Belastungsgleichung dyn.",{"$f":"G17/G21+G30/G34","v":0}]
["l1 bei ausgefahrenem Hub","mm",{"$f":"C30+C31+C32-C35","v":47},null,"Absolutwert",null,{"$f":"ABS(G37)","v":0},null,"Belastungsgleichung",{"$f":"MAX(J36:J37)","v":0}]
[null,null,null,null,"Fx zul","N",{"$f":"G43","v":3710}]
["Stoßdämpferhub s ( Hub bis a=0 )","m",{"$f":"'Allgemeine Werte'!M41","v":1.0586000000000002E-2}]
["Verzögerung a=vxv/2xs","m/s2",{"$f":"POWER(C48,2)/(2*C40)","v":2.790289206802369},null,"Fz ges","N",{"$f":"-C25","v":0},null,"Verfahrzeitberechnung"]
["Kraft zur Verzögerung der Masse","N",{"$f":"C12*C41","v":0},null,"Absolutwert",null,{"$f":"ABS(G41)","v":0},null,"Verfahrzeit berechnet ( t=Wurzel aus (2xsxm/F)",null,{"$f":"(SQRT(2*(C5/1000)*(C12+C8/2)/(C6-(C12+C8/2)*9.81)))*(2+C7*0.1)","v":1.9276218780709183E-2}]
["Kraft zur Verzög. d. Masse incl Modul/2","N",{"$f":"C47*C41","v":5.4410639532646199},null,"Fz zul","N",{"$f":"2120+1590*C7","v":3710},null,"Mittlere Verfahrgeschwindigkeit berechnet",null,{"$f":"(C5/1000)/K42","v":0.51877394180686376}]
[null,null,null,null,null,null,null,null,"Endgeschwindigkeit berechnet",null,{"$f":"K43*'Allgemeine Werte'!E71","v":0.90785439816201152}]
["Stoßdämpferberechnung",null,null,null,"Max. Zyklenzahl / Min."]
["Anzahl Stoßdämpfer",null,{"$f":"'EM-LM-6-1'!Q22","v":1},null,"Zyklen aus Verfahrzeit",null,{"$f":"60/(2*L50)","v":416.66666666666669},null,"Endgeschwindigkeit (Eingabe)",null,{"$f":"C10","v":2.02}]
["Gesamtmasse","kg",{"$f":"C12+C8/2","v":1.95},null,null,null,null,null,"Mittlere Verfahrgeschwindigkeit (Eingabe)   m/s",null,{"$f":"C10/'Allgemeine Werte'!E71","v":1.1542857142857144}]
["Aufprallgeschwindigkeit","m/s",{"$f":"L54","v":0.24305555555555558},null,"Ezul / Stunde","Nm",{"$f":"'Allgemeine Werte'!H41*C46*0.95","v":32300},null,"Verfahrzeit (Eingabe)","s",{"$f":"(C5/1000)/K47","v":8.6633663366336624E-3},"Verfahrzeit für Berechnung"]
["W1","Nm",{"$f":"C47*POWER(C48,2)*0.5","v":5.7599103009259266E-2},null,"Ezul / Minute","Nm",{"$f":"G48/60","v":538.33333333333337},null,null,null,null,"( max )"]
["Hub Stoßdämpfer","m",{"$f":"'Allgemeine Werte'!L41","v":1.5800000000000002E-2},null,"Zyklen aus Ezul",null,{"$f":"G49/C53","v":73.034427585354806},null,"min. Verfahrzeit ab","gemessen",{"$f":"0.05+(C5/25)*0.02","v":5.8000000000000003E-2},{"$f":"MAX(K48,K53,K42)","v":7.1999999999999995E-2}]
["Zylinderkraft","N",482,null,null,null,null,null,"Mittlere Verfahrgeschwindigkeit ab",null,{"$f":"(C5/1000)/K50","v":0.17241379310344826}]
["W2 ( Antriebsenergie )","Nm",{"$f":"MAX(C56,C57)*C50","v":7.313353900000001},null,"Max. Zyklen",null,{"$f":"MIN(G46,G50,G55)","v":73.034427585354806},null,"Endgeschwindigkeit ab",null,{"$f":"K51*'Allgemeine Werte'!E71","v":0.30172413793103448},"Endgeschwindigkeit f. Ber."]
["W1+W2 ( Energie / Hub )","Nm",{"$f":"C52+C49","v":7.3709530030092605},null,null,null,null,null,"min. Verfahrzeit auf",null,{"$f":"0.06+((C5/25)*0.03)","v":7.1999999999999995E-2},"( min )"]
["Ezul / Zyklus ( Hub )","Nm",{"$f":"'Allgemeine Werte'!G41*C50/'Allgemeine Werte'!K41*C46","v":25.675000000000004},null,"Stoßd.-kolbenrückstellzeit",null,{"$f":"'Allgemeine Werte'!E41","v":0.75},null,"Mittlere Verfahrgeschwindigkeit auf",null,{"$f":"(C5/1000)/K53","v":0.1388888888888889},{"$f":"MIN(K46,K55,K44)","v":0.24305555555555558}]
["Auslastung / Zyklus",null,{"$f":"C53/C54","v":0.28708677713765374},null,"Max. Zyklen aus Rückstellzeit",null,{"$f":"60/G54","v":80},null,"Endgeschwindigkeit auf",null,{"$f":"K54*'Allgemeine Werte'!E71","v":0.24305555555555558}]
["Antriebskraft nach oben",null,{"$f":"C6-C47*9.81","v":462.87049999999999}]
["Antriebskraft nach unten",null,{"$f":"C9+C47*9.81","v":434.12950000000001}]

{"sheet":"EM-Ber-LM300-1","index":42,"n_rows":55,"n_cols":12,"rows_kept":55,"cut":false,"hidden":false,"merged":[]}
["Linearmodul Typ",null,"LM 300"]
[]
["Berechnung der Führungsbelastung"]
[null,null,null,null,null,null,"Statisch auf Grund","Statisch auf Grund"]
["Hub","mm",{"$f":"'EM-LM-1'!K8","v":10},null,null,null,"Zusatzmasse m","Zusatzmasse m","Dynamisch auf Grund","Statisch auf Grund","Statisch auf Grund"]
["Zylinderkraft","N",753,null,null,null,"Modul ausgef.","Modul eingef.","Zusatzmasse m","Zusatzkraft Modul eingef.","Zusatzkraft Modul ausgef."]
["Faktor",null,{"$f":"ROUNDDOWN(((C5+25)/50.1)+0.5,0)","v":1},null,null,null,"I","II","III","IV","V"]
["Modulgewicht","kg",{"$f":"3.5+(C7*1.35)","v":4.8499999999999996},null,"Moment Mx=M2","Nm",{"$f":"(C12*9.81)*((C38+C34/2+C33)/1000)","v":0},{"$f":"C12*9.81*((C37+C34/2+C33)/1000)","v":0},{"$f":"C42*(C15/1000)","v":0},{"$f":"(C21*C23/1000)-C25*((C27+C37+C34/2)/1000)","v":0},{"$f":"(C21*C23/1000)-C25*((C27+C38+C34/2)/1000)","v":0}]
["Zylinderkraft zurück","N",633,null,"Moment My=M1","Nm",{"$f":"C12*9.81*(C13/1000)","v":0},{"$f":"C12*9.81*(C13/1000)","v":0},"-",{"$f":"C17*C19/1000-C25*(C26/1000)","v":0},{"$f":"C17*C19/1000-C25*(C26/1000)","v":0}]
["Verfahrgeschwindigkeit","m/s",{"$f":"'EM-LM-1-1'!I58","v":2.02},null,"Moment Mz=M3","Nm","-","-",{"$f":"C42*(C13/1000)","v":0},{"$f":"C21*C22/1000-C17*(C18+C37+C34/2)/1000","v":0},{"$f":"C21*C22/1000-C17*(C18+C38+C34/2)/1000","v":0}]
[null,null,null,null,null,null,null,null,null,{"$f":"'EM-LM-1'!G51","v":true}]
["Zusatzmasse","kg",{"$f":"'EM-LM-1'!K14","v":0},null,"Mx Summe  I + III","Nm",{"$f":"G8+I8","v":0}]
["Schwerpunktabstand x-Richtung","mm",{"$f":"'EM-LM-1'!M14","v":0},null,"Absolutbetrag",null,{"$f":"ABS(G12)","v":0}]
["Schwerpunktabstand y-Richtung","mm",{"$f":"'EM-LM-1'!O14","v":0},null,"Mx Summe  II-III",null,{"$f":"H8-I8","v":0}]
["Schwerpunktabstand z-Richt.(Mitte Rolle)","mm",{"$f":"'EM-LM-1'!Q14+20.5","v":20.5},null,"Absolutbetrag",null,{"$f":"ABS(G14)","v":0}]
[null,null,null,null,"I ","Nm",{"$f":"ABS(G8)","v":0}]
["Zusatzkraft Fx","N",{"$f":"'EM-LM-1'!K18","v":0},null,"I oder I+III oder II-III",null,{"$f":"MAX(G16,G15,G13)","v":0}]
["Kraftangriffspunkt von Fx in y-Richtung","mm",{"$f":"'EM-LM-1'!O18","v":0},null,"Mx Summe  I+V oder II+IV","Nm",{"$f":"IF(AND(J8=0,K8=0),MAX(G8,H8),IF(J11=TRUE,H8+J8,G8+K8))","v":0}]
["Kraftangrp. von Fx in z-Richt.(Mitte Rolle)","mm",{"$f":"'EM-LM-1'!Q18+20.5","v":20.5},null,"Absolutbetrag",null,{"$f":"ABS(G18)","v":0}]
[null,null,null,null,"Mx ges","Nm",{"$f":"MAX(G17,G19)","v":0}]
["Zusatzkraft Fy","N",{"$f":"'EM-LM-1'!K20","v":0},null,"Mx zul","Nm",{"$f":"C34/1000*1060","v":63.07},null,"Maximal-Werte der Momente und Kräfte nicht aus Katalog, sondern exakt berechnete Werte !!"]
["Kraftangriffspunkt von Fy in x-Richtung","mm",{"$f":"'EM-LM-1'!M20","v":0}]
["Kraftangrp. von Fy in z-Richt.(Mitte Rolle)","mm",{"$f":"'EM-LM-1'!Q20+20.5","v":20.5},null,"My Summe  I+V ( = II+IV )","Nm",{"$f":"G9+K9","v":0}]
[null,null,null,null,"Absolutbetrag",null,{"$f":"ABS(G23)","v":0}]
["Zusatzkraft Fz","N",{"$f":"'EM-LM-1'!K22","v":0},null,"My ges","Nm",{"$f":"G24","v":0}]
["Kraftangriffspunkt von Fz in x-Richtung","mm",{"$f":"'EM-LM-1'!M22","v":0},null,"My zul","Nm",{"$f":"48+(22*C7)","v":70}]
["Kraftangriffspunkt von Fz in y-Richtung","mm",{"$f":"'EM-LM-1'!O22","v":0}]
[]
[null,null,null,null,"Mz III","Nm",{"$f":"I10","v":0}]
["Länge L (Stirnplatte zu 1. Rolle - HubN/2)","mm",44,null,"Absolutbetrag",null,{"$f":"ABS(G29)","v":0}]
["Nennhub/2        HubN/2","mm",{"$f":"(0+(C7*50))/2","v":25},null,"Mz IV/V","Nm",{"$f":"IF(J11=TRUE,J10,K10)","v":0}]
["tatsächlicher gefahrener Hub/2","mm",{"$f":"C5/2","v":5},null,"Absolutbetrag",null,{"$f":"ABS(G31)","v":0}]
["Schwerpunktabstand in y-Richtung","mm",{"$f":"C14","v":0},null,"Mz ges","Nm",{"$f":"MAX(G30,G32)","v":0}]
["Wert K ( Abstand erste / letzte Rolle )","mm",{"$f":"34+(C7*25.5)","v":59.5},null,"Mz zul","Nm",{"$f":"G21/2","v":31.535}]
[]
[null,null,null,null,null,null,null,null,"Belastungsgleichung stat.",{"$f":"G19/G21+G25/G26+G32/G34+G38/G39+G42/G43","v":0}]
["l1 bei eingefahrenem Hub","mm",{"$f":"C30+C31","v":69},null,"Fx ges","N",{"$f":"C17","v":0},null,"Belastungsgleichung dyn.",{"$f":"G17/G21+G30/G34+G40/G43","v":0}]
["l1 bei ausgefahrenem Hub","mm",{"$f":"C30+C31+C32","v":74},null,"Absolutwert",null,{"$f":"ABS(G37)","v":0},null,"Belastungsgleichung",{"$f":"MAX(J36:J37)","v":0}]
[null,null,null,null,"Fx zul","N",{"$f":"G43","v":3710}]
["Stoßdämpferhub s ( Hub bis a=0 )","m",{"$f":"'Allgemeine Werte'!M41","v":1.0586000000000002E-2},null,"Gewichtskraft","N",{"$f":"C12*9.81","v":0}]
["Verzögerung a=vxv/2xs","m/s2",{"$f":"POWER(C48,2)/(2*C40)","v":3.5314597773592475},null,"Fz ges abs","N",{"$f":"ABS(-C25+C12*9.81)","v":0},null,"Verfahrzeitberechnung"]
["Kraft zur Verzögerung der Masse","N",{"$f":"C12*C41","v":0},null,"Max aus E40,E41",null,{"$f":"MAX(G40,G41)","v":0},null,"Verfahrzeit berechnet ( t=Wurzel aus (2xsxm/F)",null,{"$f":"(SQRT(2*(C5/1000)*(C12+C8/2)/C9))*(2.6+C7*0.2)","v":2.4509082044940483E-2}]
["Kraft zur Verzög. d. Masse incl Modul/2","N",{"$f":"C47*C41","v":8.5637899600961749},null,"Fz zul","N",{"$f":"2120+1590*C7","v":3710},null,"Mittlere Verfahrgeschwindigkeit berechnet",null,{"$f":"(C5/1000)/K42","v":0.40801201700103429}]
[null,null,null,null,null,null,null,null,"Endgeschwindigkeit berechnet",null,{"$f":"K43*'Allgemeine Werte'!E71","v":0.71402102975181003}]
["Stoßdämpferberechnung",null,null,null,"Max. Zyklenzahl / Min."]
["Anzahl Stoßdämpfer",null,{"$f":"'EM-LM-1-1'!S22","v":1},null,"Zyklen aus Verfahrzeit",null,{"$f":"60/(2*L50)","v":468.75},null,"Endgeschwindigkeit (Eingabe)",null,{"$f":"C10","v":2.02}]
["Gesamtmasse","kg",{"$f":"C12+C8/2","v":2.4249999999999998},null,null,null,null,null,"Mittlere Verfahrgeschwindigkeit (Eingabe)   m/s",null,{"$f":"C10/'Allgemeine Werte'!E71","v":1.1542857142857144}]
["Aufprallgeschwindigkeit","m/s",{"$f":"L54","v":0.2734375},null,"Ezul / Stunde","Nm",{"$f":"'Allgemeine Werte'!H41*C46*0.95","v":32300},null,"Verfahrzeit (Eingabe)","s",{"$f":"(C5/1000)/K47","v":8.6633663366336624E-3},"Verfahrzeit für Berechnung"]
["W1","Nm",{"$f":"C47*POWER(C48,2)*0.5","v":9.0656280517578125E-2},null,"Ezul / Minute","Nm",{"$f":"G48/60","v":538.33333333333337},null,null,null,null,"( max )"]
["Hub Stoßdämpfer","m",{"$f":"'Allgemeine Werte'!L41","v":1.5800000000000002E-2},null,"Zyklen aus Ezul",null,{"$f":"G49/C53","v":44.905806307249925},null,"min. Verfahrzeit vor","gemessen",{"$f":"0.05+(C5/25)*0.03","v":6.2E-2},{"$f":"MAX(K48,K53,K42)","v":6.4000000000000001E-2}]
["Zylinderkraft","N",753,null,null,null,null,null,"Mittlere Verfahrgeschwindigkeit vor",null,{"$f":"(C5/1000)/K50","v":0.16129032258064516}]
["W2 ( Antriebsenergie )","Nm",{"$f":"C51*C50","v":11.897400000000001},null,"Max. Zyklen",null,{"$f":"MIN(G46,G50,G55)","v":44.905806307249925},null,"Endgeschwindigkeit vor",null,{"$f":"K51*'Allgemeine Werte'!E71","v":0.282258064516129},"Endgeschwindigkeit f. Ber."]
["W1+W2 ( Energie / Hub )","Nm",{"$f":"C52+C49","v":11.988056280517579},null,null,null,null,null,"min. Verfahrzeit zurück",null,{"$f":"0.05+((C5/25)*0.035)","v":6.4000000000000001E-2},"( min )"]
["Ezul / Zyklus ( Hub )","Nm",{"$f":"'Allgemeine Werte'!G41*C50/'Allgemeine Werte'!K41*C46","v":25.675000000000004},null,"Stoßd.-kolbenrückstellzeit",null,{"$f":"'Allgemeine Werte'!E41","v":0.75},null,"Mittlere Verfahrgeschwindigkeit zurück",null,{"$f":"(C5/1000)/K53","v":0.15625},{"$f":"MIN(K46,K55,K44)","v":0.2734375}]
["Auslastung / Zyklus",null,{"$f":"C53/C54","v":0.46691553186047041},null,"Max. Zyklen aus Rückstellzeit",null,{"$f":"60/G54","v":80},null,"Endgeschwindigkeit zurück",null,{"$f":"K54*'Allgemeine Werte'!E71","v":0.2734375}]

{"sheet":"EM-Ber-LM300-2","index":43,"n_rows":55,"n_cols":12,"rows_kept":55,"cut":false,"hidden":false,"merged":[]}
["Linearmodul Typ",null,"LM 300"]
[]
["Berechnung der Führungsbelastung"]
[null,null,null,null,null,null,"Statisch auf Grund","Statisch auf Grund"]
["Hub","mm",{"$f":"'EM-LM-2'!K8","v":10},null,null,null,"Zusatzmasse m","Zusatzmasse m","Dynamisch auf Grund","Statisch auf Grund","Statisch auf Grund"]
["Zylinderkraft","N",753,null,null,null,"Modul ausgef.","Modul eingef.","Zusatzmasse m","Zusatzkraft Modul eingef.","Zusatzkraft Modul ausgef."]
["Faktor",null,{"$f":"ROUNDDOWN(((C5+25)/50.1)+0.5,0)","v":1},null,null,null,"I","II","III","IV","V"]
["Modulgewicht","kg",{"$f":"3.5+(C7*1.35)","v":4.8499999999999996},null,"Moment Mx=M3","Nm",{"$f":"(C12*9.81)*((C38+C34/2+C33)/1000)","v":0},{"$f":"C12*9.81*((C37+C34/2+C33)/1000)","v":0},{"$f":"C42*(C15/1000)","v":0},{"$f":"(C21*C23/1000)-C25*((C27+C37+C34/2)/1000)","v":0},{"$f":"(C21*C23/1000)-C25*((C27+C38+C34/2)/1000)","v":0}]
["Zylinderkraft zurück","N",633,null,"Moment My=M1","Nm",{"$f":"C12*9.81*((C13)/1000)","v":0},{"$f":"C12*9.81*((C13)/1000)","v":0},"-",{"$f":"C17*(C19/1000)-C25*C26/1000","v":0},{"$f":"C17*(C19/1000)-C25*C26/1000","v":0}]
["Verfahrgeschwindigkeit","m/s",{"$f":"'EM-LM-2-1'!I58","v":2.02},null,"Moment Mz=M2","Nm","-","-",{"$f":"C42*(C13/1000)","v":0},{"$f":"C21*C22/1000-C17*(C18+C37+C34/2)/1000","v":0},{"$f":"C21*C22/1000-C17*(C18+C38+C34/2)/1000","v":0}]
[null,null,null,null,null,null,null,null,null,{"$f":"'EM-LM-2'!G51","v":true}]
["Zusatzmasse","kg",{"$f":"'EM-LM-2'!K14","v":0},null,"Mx Summe  I + III","Nm",{"$f":"G8+I8","v":0}]
["Schwerpunktabstand x-Richt.(Mitte Rolle)","mm",{"$f":"'EM-LM-2'!M14+20.5","v":20.5},null,"Absolutbetrag",null,{"$f":"ABS(G12)","v":0}]
["Schwerpunktabstand y-Richtung","mm",{"$f":"'EM-LM-2'!O14","v":0},null,"Mx Summe  II-III",null,{"$f":"H8-I8","v":0}]
["Schwerpunktabstand z-Richtung","mm",{"$f":"'EM-LM-2'!Q14","v":0},null,"Absolutbetrag",null,{"$f":"ABS(G14)","v":0}]
[null,null,null,null,"I ","Nm",{"$f":"ABS(G8)","v":0}]
["Zusatzkraft Fx","N",{"$f":"'EM-LM-2'!K18","v":0},null,"I oder I+III oder II-III",null,{"$f":"MAX(G16,G15,G13)","v":0}]
["Kraftangriffspunkt von Fx in y-Richtung","mm",{"$f":"'EM-LM-2'!O18","v":0},null,"Mx Summe  I+V oder II+IV","Nm",{"$f":"IF(AND(J8=0,K8=0),MAX(G8,H8),IF(J11=TRUE,H8+J8,G8+K8))","v":0}]
["Kraftangriffspunkt von Fx in z-Richtung","mm",{"$f":"'EM-LM-2'!Q18","v":0},null,"Absolutbetrag",null,{"$f":"ABS(G18)","v":0}]
[null,null,null,null,"Mx ges","Nm",{"$f":"MAX(G17,G19)","v":0}]
["Zusatzkraft Fy","N",{"$f":"'EM-LM-2'!K20","v":0},null,"Mx zul","Nm",{"$f":"G34/2","v":31.535},null,"Maximal-Werte der Momente und Kräfte nicht aus Katalog, sondern exakt berechnete Werte !!"]
["Kraftangrp. von Fy in x-Richt. (Mitte Rolle)","mm",{"$f":"'EM-LM-2'!M20+20.5","v":20.5}]
["Kraftangrp. von Fy in z-Richt.","mm",{"$f":"'EM-LM-2'!Q20","v":0},null,"My Summe  I+V ( = II+IV )","Nm",{"$f":"G9+K9","v":0}]
[null,null,null,null,"Absolutbetrag",null,{"$f":"ABS(G23)","v":0}]
["Zusatzkraft Fz","N",{"$f":"'EM-LM-2'!K22","v":0},null,"My ges","Nm",{"$f":"G24","v":0}]
["Kraftangrp. von Fz in x-Richt. (Mitte Rolle)","mm",{"$f":"'EM-LM-2'!M22+20.5","v":20.5},null,"My zul","Nm",{"$f":"48+(22*C7)","v":70}]
["Kraftangriffspunkt von Fz in y-Richtung","mm",{"$f":"'EM-LM-2'!O22","v":0}]
[]
[null,null,null,null,"Mz III","Nm",{"$f":"I10","v":0}]
["Länge L (Stirnplatte zu 1. Rolle - HubN/2)","mm",44,null,"Absolutbetrag",null,{"$f":"ABS(G29)","v":0}]
["Nennhub/2        HubN/2","mm",{"$f":"(0+(C7*50))/2","v":25},null,"Mz IV/V","Nm",{"$f":"IF(J11=TRUE,J10,K10)","v":0}]
["tatsächlicher gefahrener Hub/2","mm",{"$f":"C5/2","v":5},null,"Absolutbetrag",null,{"$f":"ABS(G31)","v":0}]
["Schwerpunktabstand in y-Richtung","mm",{"$f":"C14","v":0},null,"Mz ges","Nm",{"$f":"MAX(G30,G32)","v":0}]
["Wert K ( Abstand erste / letzte Rolle )","mm",{"$f":"34+(C7*25.5)","v":59.5},null,"Mz zul","Nm",{"$f":"C34/1000*1060","v":63.07}]
[]
[null,null,null,null,null,null,null,null,"Belastungsgleichung stat.",{"$f":"G19/G21+G25/G26+G32/G34+G38/G39+G42/G43","v":0}]
["l1 bei eingefahrenem Hub","mm",{"$f":"C30+C31","v":69},null,"Fx ges","N",{"$f":"C17","v":0},null,"Belastungsgleichung dyn.",{"$f":"G17/G21+G30/G34+G40/G43","v":0}]
["l1 bei ausgefahrenem Hub","mm",{"$f":"C30+C31+C32","v":74},null,"Absolutwert",null,{"$f":"ABS(G37)","v":0},null,"Belastungsgleichung",{"$f":"MAX(J36:J37)","v":0}]
[null,null,null,null,"Fx zul","N",{"$f":"G43","v":3710}]
["Stoßdämpferhub s ( Hub bis a=0 )","m",{"$f":"'Allgemeine Werte'!M41","v":1.0586000000000002E-2},null,"Gewichtskraft","N",{"$f":"C12*9.81","v":0}]
["Verzögerung a=vxv/2xs","m/s2",{"$f":"POWER(C48,2)/(2*C40)","v":3.5314597773592475},null,"Fz ges abs","N",{"$f":"ABS(-C25+C12*9.81)","v":0},null,"Verfahrzeitberechnung"]
["Kraft zur Verzögerung der Masse","N",{"$f":"C12*C41","v":0},null,"Max aus E40,E41",null,{"$f":"MAX(G40,G41)","v":0},null,"Verfahrzeit berechnet ( t=Wurzel aus (2xsxm/F)",null,{"$f":"(SQRT(2*(C5/1000)*(C12+C8/2)/C9))*(2.6+C7*0.2)","v":2.4509082044940483E-2}]
["Kraft zur Verzög. d. Masse incl Modul/2","N",{"$f":"C47*C41","v":8.5637899600961749},null,"Fz zul","N",{"$f":"2120+1590*C7","v":3710},null,"Mittlere Verfahrgeschwindigkeit berechnet",null,{"$f":"(C5/1000)/K42","v":0.40801201700103429}]
[null,null,null,null,null,null,null,null,"Endgeschwindigkeit berechnet",null,{"$f":"K43*'Allgemeine Werte'!E71","v":0.71402102975181003}]
["Stoßdämpferberechnung",null,null,null,"Max. Zyklenzahl / Min."]
["Anzahl Stoßdämpfer",null,{"$f":"'EM-LM-2-1'!S22","v":1},null,"Zyklen aus Verfahrzeit",null,{"$f":"60/(2*L50)","v":468.75},null,"Endgeschwindigkeit (Eingabe)",null,{"$f":"C10","v":2.02}]
["Gesamtmasse","kg",{"$f":"C12+C8/2","v":2.4249999999999998},null,null,null,null,null,"Mittlere Verfahrgeschwindigkeit (Eingabe)   m/s",null,{"$f":"C10/'Allgemeine Werte'!E71","v":1.1542857142857144}]
["Aufprallgeschwindigkeit","m/s",{"$f":"L54","v":0.2734375},null,"Ezul / Stunde","Nm",{"$f":"'Allgemeine Werte'!H41*C46*0.95","v":32300},null,"Verfahrzeit (Eingabe)","s",{"$f":"(C5/1000)/K47","v":8.6633663366336624E-3},"Verfahrzeit für Berechnung"]
["W1","Nm",{"$f":"C47*POWER(C48,2)*0.5","v":9.0656280517578125E-2},null,"Ezul / Minute","Nm",{"$f":"G48/60","v":538.33333333333337},null,null,null,null,"( max )"]
["Hub Stoßdämpfer","m",{"$f":"'Allgemeine Werte'!L41","v":1.5800000000000002E-2},null,"Zyklen aus Ezul",null,{"$f":"G49/C53","v":44.905806307249925},null,"min. Verfahrzeit vor","gemessen",{"$f":"0.05+(C5/25)*0.03","v":6.2E-2},{"$f":"MAX(K48,K53,K42)","v":6.4000000000000001E-2}]
["Zylinderkraft","N",753,null,null,null,null,null,"Mittlere Verfahrgeschwindigkeit vor",null,{"$f":"(C5/1000)/K50","v":0.16129032258064516}]
["W2 ( Antriebsenergie )","Nm",{"$f":"C51*C50","v":11.897400000000001},null,"Max. Zyklen",null,{"$f":"MIN(G46,G50,G55)","v":44.905806307249925},null,"Endgeschwindigkeit vor",null,{"$f":"K51*'Allgemeine Werte'!E71","v":0.282258064516129},"Endgeschwindigkeit f. Ber."]
["W1+W2 ( Energie / Hub )","Nm",{"$f":"C52+C49","v":11.988056280517579},null,null,null,null,null,"min. Verfahrzeit zurück",null,{"$f":"0.05+((C5/25)*0.035)","v":6.4000000000000001E-2},"( min )"]
["Ezul / Zyklus ( Hub )","Nm",{"$f":"'Allgemeine Werte'!G41*C50/'Allgemeine Werte'!K41*C46","v":25.675000000000004},null,"Stoßd.-kolbenrückstellzeit",null,{"$f":"'Allgemeine Werte'!E41","v":0.75},null,"Mittlere Verfahrgeschwindigkeit zurück",null,{"$f":"(C5/1000)/K53","v":0.15625},{"$f":"MIN(K46,K55,K44)","v":0.2734375}]
["Auslastung / Zyklus",null,{"$f":"C53/C54","v":0.46691553186047041},null,"Max. Zyklen aus Rückstellzeit",null,{"$f":"60/G54","v":80},null,"Endgeschwindigkeit zurück",null,{"$f":"K54*'Allgemeine Werte'!E71","v":0.2734375}]

{"sheet":"EM-Ber-LM300-3","index":44,"n_rows":57,"n_cols":12,"rows_kept":57,"cut":false,"hidden":false,"merged":[]}
["Linearmodul Typ",null,"LM 300"]
[]
["Berechnung der Führungsbelastung"]
[null,null,null,null,null,null,"Statisch auf Grund","Statisch auf Grund"]
["Hub","mm",{"$f":"'EM-LM-3'!K8","v":10},null,null,null,"Zusatzmasse m","Zusatzmasse m","Dynamisch auf Grund","Statisch auf Grund","Statisch auf Grund"]
["Zylinderkraft","N",753,null,null,null,"Modul ausgef.","Modul eingef.","Zusatzmasse m","Zusatzkraft Modul eingef.","Zusatzkraft Modul ausgef."]
["Faktor",null,{"$f":"ROUNDDOWN(((C5+25)/50.1)+0.5,0)","v":1},null,null,null,"I","II","III","IV","V"]
["Modulgewicht","kg",{"$f":"3.5+(C7*1.35)","v":4.8499999999999996},null,"Moment Mx=M3","Nm",{"$f":"C12*9.81*((C15)/1000)","v":0},{"$f":"C12*9.81*((C15)/1000)","v":0},{"$f":"C42*(C15/1000)","v":0},{"$f":"IF(K11=TRUE,-(C21*C23/1000)+C25*((C27+C37+C34/2)/1000),(C21*C23/1000)-C25*((C27+C37+C34/2)/1000))","v":0},{"$f":"IF(K11=TRUE,-(C21*C23/1000)+C25*((C27+C38+C34/2)/1000),(C21*C23/1000)-C25*((C27+C38+C34/2)/1000))","v":0}]
["Zylinderkraft zurück","N",633,null,"Moment My=M1","Nm","-","-","-",{"$f":"C17*(C19/1000)-C25*C26/1000","v":0},{"$f":"C17*(C19/1000)-C25*C26/1000","v":0}]
["Verfahrgeschwindigkeit","m/s",{"$f":"'EM-LM-3-1'!I58","v":2.02},null,"Moment Mz=M2","Nm",{"$f":"C12*9.81*((C13)/1000)","v":0},{"$f":"C12*9.81*((C13)/1000)","v":0},{"$f":"C42*(C13/1000)","v":0},{"$f":"IF(K11=TRUE,-C21*C22/1000+C17*(C18+C37+C34/2)/1000,C21*C22/1000-C17*(C18+C37+C34/2)/1000)","v":0},{"$f":"IF(K11=TRUE,-C21*C22/1000+C17*(C18+C38+C34/2)/1000,C21*C22/1000-C17*(C18+C38+C34/2)/1000)","v":0}]
[null,null,null,null,null,null,null,null,null,{"$f":"'EM-LM-3'!G51","v":true},{"$f":"'EM-LM-3'!G52","v":true}]
["Zusatzmasse","kg",{"$f":"'EM-LM-3'!K14","v":0}]
["Schwerpunktabstand x-Richt.(Mitte Rolle)","mm",{"$f":"'EM-LM-3'!M14+20.5","v":20.5}]
["Schwerpunktabstand y-Richtung","mm",{"$f":"'EM-LM-3'!O14","v":0}]
["Schwerpunktabstand z-Richtung","mm",{"$f":"'EM-LM-3'!Q14","v":0}]
[null,null,null,null,"Mx Summe  I(II) + III","Nm",{"$f":"G8+I8","v":0}]
["Zusatzkraft Fx","N",{"$f":"'EM-LM-3'!K18","v":0},null,"Absolutbetrag",null,{"$f":"ABS(G16)","v":0}]
["Kraftangriffspunkt von Fx in y-Richtung","mm",{"$f":"'EM-LM-3'!O18","v":0},null,"Mx Summe  I+V oder II+IV","Nm",{"$f":"IF(J11=TRUE,H8+J8,G8+K8)","v":0}]
["Kraftangriffspunkt von Fx in z-Richtung","mm",{"$f":"'EM-LM-3'!Q18","v":0},null,"Absolutbetrag",null,{"$f":"ABS(G18)","v":0}]
[null,null,null,null,"Mx ges","Nm",{"$f":"MAX(G17,G19)","v":0}]
["Zusatzkraft Fy","N",{"$f":"'EM-LM-3'!K20","v":0},null,"Mx zul","Nm",{"$f":"G34/2","v":31.535},null,"Maximal-Werte der Momente und Kräfte nicht aus Katalog, sondern exakt berechnete Werte !!"]
["Kraftangrp. von Fy in x-Richt. (Mitte Rolle)","mm",{"$f":"'EM-LM-3'!M20+20.5","v":20.5}]
["Kraftangrp. von Fy in z-Richt.","mm",{"$f":"'EM-LM-3'!Q20","v":0},null,"My IV = V","Nm",{"$f":"J9","v":0}]
[null,null,null,null,"Absolutbetrag",null,{"$f":"ABS(G23)","v":0}]
["Zusatzkraft Fz","N",{"$f":"'EM-LM-3'!K22","v":0},null,"My ges","Nm",{"$f":"G24","v":0}]
["Kraftangrp. von Fz in x-Richt. (Mitte Rolle)","mm",{"$f":"'EM-LM-3'!M22+20.5","v":20.5},null,"My zul","Nm",{"$f":"48+(22*C7)","v":70}]
["Kraftangriffspunkt von Fz in y-Richtung","mm",{"$f":"'EM-LM-3'!O22","v":0}]
[]
[null,null,null,null,"Mz Summe I(II)+III","Nm",{"$f":"G10+I10","v":0}]
["Länge L (Stirnplatte zu 1. Rolle - HubN/2)","mm",44,null,"Absolutbetrag",null,{"$f":"ABS(G29)","v":0}]
["Nennhub/2        HubN/2","mm",{"$f":"(0+(C7*50))/2","v":25},null,"Mz Summe  I+V oder II+IV","Nm",{"$f":"IF(J11=TRUE,H10+J10,G10+K10)","v":0}]
["tatsächlicher gefahrener Hub/2","mm",{"$f":"C5/2","v":5},null,"Absolutbetrag",null,{"$f":"ABS(G31)","v":0}]
["Schwerpunktabstand in y-Richtung","mm",{"$f":"C14","v":0},null,"Mz ges","Nm",{"$f":"MAX(G30,G32)","v":0}]
["Wert K ( Abstand erste / letzte Rolle )","mm",{"$f":"34+(C7*25.5)","v":59.5},null,"Mz zul","Nm",{"$f":"C34/1000*1060","v":63.07}]
[]
[null,null,null,null,null,null,null,null,"Belastungsgleichung stat.",{"$f":"G19/G21+G25/G26+G32/G34+G38/G39+G42/G43","v":0}]
["l1 bei eingefahrenem Hub","mm",{"$f":"C30+C31","v":69},null,"Fx ges","N",{"$f":"C17","v":0},null,"Belastungsgleichung dyn.",{"$f":"G17/G21+G30/G34","v":0}]
["l1 bei ausgefahrenem Hub","mm",{"$f":"C30+C31+C32","v":74},null,"Absolutwert",null,{"$f":"ABS(G37)","v":0},null,"Belastungsgleichung",{"$f":"MAX(J36:J37)","v":0}]
[null,null,null,null,"Fx zul","N",{"$f":"G43","v":3710}]
["Stoßdämpferhub s ( Hub bis a=0 )","m",{"$f":"'Allgemeine Werte'!M41","v":1.0586000000000002E-2}]
["Verzögerung a=vxv/2xs","m/s2",{"$f":"POWER(C48,2)/(2*C40)","v":3.3206747585086034},null,"Fz ges","N",{"$f":"-C25","v":0},null,"Verfahrzeitberechnung"]
["Kraft zur Verzögerung der Masse","N",{"$f":"C12*C41","v":0},null,"Absolutwert",null,{"$f":"ABS(G41)","v":0},null,"Verfahrzeit berechnet ( t=Wurzel aus (2xsxm/F)",null,{"$f":"(SQRT(2*(C5/1000)*(C12+C8/2)/(C6-(C12+C8/2)*9.81)))*(2.7+C7*0.25)","v":2.4058378550871333E-2}]
["Kraft zur Verzög. d. Masse incl Modul/2","N",{"$f":"C47*C41","v":8.0526362893833632},null,"Fz zul","N",{"$f":"2120+1590*C7","v":3710},null,"Mittlere Verfahrgeschwindigkeit berechnet",null,{"$f":"(C5/1000)/K42","v":0.41565560949400832}]
[null,null,null,null,null,null,null,null,"Endgeschwindigkeit berechnet",null,{"$f":"K43*'Allgemeine Werte'!E71","v":0.72739731661451457}]
["Stoßdämpferberechnung",null,null,null,"Max. Zyklenzahl / Min."]
["Anzahl Stoßdämpfer",null,{"$f":"'EM-LM-3-1'!S22","v":1},null,"Zyklen aus Verfahrzeit",null,{"$f":"60/(2*L50)","v":454.5454545454545},null,"Endgeschwindigkeit (Eingabe)",null,{"$f":"C10","v":2.02}]
["Gesamtmasse","kg",{"$f":"C12+C8/2","v":2.4249999999999998},null,null,null,null,null,"Mittlere Verfahrgeschwindigkeit (Eingabe)   m/s",null,{"$f":"C10/'Allgemeine Werte'!E71","v":1.1542857142857144}]
["Aufprallgeschwindigkeit","m/s",{"$f":"L54","v":0.26515151515151514},null,"Ezul / Stunde","Nm",{"$f":"'Allgemeine Werte'!H41*C46*0.95","v":32300},null,"Verfahrzeit (Eingabe)","s",{"$f":"(C5/1000)/K47","v":8.6633663366336624E-3},"Verfahrzeit für Berechnung"]
["W1","Nm",{"$f":"C47*POWER(C48,2)*0.5","v":8.5245207759412286E-2},null,"Ezul / Minute","Nm",{"$f":"G48/60","v":538.33333333333337},null,null,null,null,"( max )"]
["Hub Stoßdämpfer","m",{"$f":"'Allgemeine Werte'!L41","v":1.5800000000000002E-2},null,"Zyklen aus Ezul",null,{"$f":"G49/C53","v":46.380956868242606},null,"min. Verfahrzeit ab","gemessen",{"$f":"0.04+(C5/25)*0.03","v":5.2000000000000005E-2},{"$f":"MAX(K48,K53,K42)","v":6.6000000000000003E-2}]
["Zylinderkraft","N",753,null,null,null,null,null,"Mittlere Verfahrgeschwindigkeit ab",null,{"$f":"(C5/1000)/K50","v":0.19230769230769229}]
["W2 ( Antriebsenergie )","Nm",{"$f":"MAX(C56,C57)*C50","v":11.52152985},null,"Max. Zyklen",null,{"$f":"MIN(G46,G50,G55)","v":46.380956868242606},null,"Endgeschwindigkeit ab",null,{"$f":"K51*'Allgemeine Werte'!E71","v":0.33653846153846151},"Endgeschwindigkeit f. Ber."]
["W1+W2 ( Energie / Hub )","Nm",{"$f":"C52+C49","v":11.606775057759412},null,null,null,null,null,"min. Verfahrzeit auf",null,{"$f":"0.05+((C5/25)*0.04)","v":6.6000000000000003E-2},"( min )"]
["Ezul / Zyklus ( Hub )","Nm",{"$f":"'Allgemeine Werte'!G41*C50/'Allgemeine Werte'!K41*C46","v":25.675000000000004},null,"Stoßd.-kolbenrückstellzeit",null,{"$f":"'Allgemeine Werte'!E41","v":0.75},null,"Mittlere Verfahrgeschwindigkeit auf",null,{"$f":"(C5/1000)/K53","v":0.15151515151515152},{"$f":"MIN(K46,K55,K44)","v":0.26515151515151514}]
["Auslastung / Zyklus",null,{"$f":"C53/C54","v":0.45206524080854565},null,"Max. Zyklen aus Rückstellzeit",null,{"$f":"60/G54","v":80},null,"Endgeschwindigkeit auf",null,{"$f":"K54*'Allgemeine Werte'!E71","v":0.26515151515151514}]
["Antriebskraft nach oben",null,{"$f":"C6-C47*9.81","v":729.21074999999996}]
["Antriebskraft nach unten",null,{"$f":"C9+C47*9.81","v":656.78925000000004}]

{"sheet":"EM-Ber-LM300-4","index":45,"n_rows":55,"n_cols":12,"rows_kept":55,"cut":false,"hidden":false,"merged":[]}
["Linearmodul Typ",null,"LM 300"]
[]
["Berechnung der Führungsbelastung"]
[null,null,null,null,null,null,"Statisch auf Grund","Statisch auf Grund"]
["Hub","mm",{"$f":"'EM-LM-4'!K8","v":10},null,null,null,"Zusatzmasse m","Zusatzmasse m","Dynamisch auf Grund","Statisch auf Grund","Statisch auf Grund"]
["Zylinderkraft","N",753,null,null,null,"Modul ausgef.","Modul eingef.","Zusatzmasse m","Zusatzkraft Modul eingef.","Zusatzkraft Modul ausgef."]
["Faktor",null,{"$f":"ROUNDDOWN(((C5+25)/50.1)+0.5,0)","v":1},null,null,null,"I","II","III","IV","V"]
["Modulgewicht","kg",{"$f":"3.5+(C7*1.35)","v":4.8499999999999996},null,"Moment Mx=M2","Nm",{"$f":"(C12*9.81)*((C37-C32+C34/2+C33)/1000)","v":0},{"$f":"C12*9.81*((C37+C34/2+C33)/1000)","v":0},{"$f":"C42*(C15/1000)","v":0},{"$f":"(C21*C23/1000)-C25*((C27+C37+C34/2)/1000)","v":0},{"$f":"(C21*C23/1000)-C25*((C27+C37-C32+C34/2)/1000)","v":0}]
["Zylinderkraft zurück","N",633,null,"Moment My=M1","Nm",{"$f":"C12*9.81*(C13/1000)","v":0},{"$f":"C12*9.81*(C13/1000)","v":0},"-",{"$f":"C17*C19/1000-C25*(C26/1000)","v":0},{"$f":"C17*C19/1000-C25*(C26/1000)","v":0}]
["Verfahrgeschwindigkeit","m/s",{"$f":"'EM-LM-4-1'!I58","v":2.02},null,"Moment Mz=M3","Nm","-","-",{"$f":"C42*(C13/1000)","v":0},{"$f":"C21*C22/1000-C17*(C18+C37+C34/2)/1000","v":0},{"$f":"C21*C22/1000-C17*(C18+C37-C32+C34/2)/1000","v":0}]
[null,null,null,null,null,null,null,null,null,{"$f":"'EM-LM-4'!G51","v":false}]
["Zusatzmasse","kg",{"$f":"'EM-LM-4'!K14","v":0},null,"Mx Summe  I + III","Nm",{"$f":"G8+I8","v":0}]
["Schwerpunktabstand x-Richtung","mm",{"$f":"'EM-LM-4'!M14","v":0},null,"Absolutbetrag",null,{"$f":"ABS(G12)","v":0}]
["Schwerpunktabstand y-Richtung","mm",{"$f":"'EM-LM-4'!O14","v":0},null,"Mx Summe  II-III",null,{"$f":"H8-I8","v":0}]
["Schwerpunktabstand z-Richt.(Mitte Rolle)","mm",{"$f":"'EM-LM-4'!Q14+64.5","v":64.5},null,"Absolutbetrag",null,{"$f":"ABS(G14)","v":0}]
[null,null,null,null,"I ","Nm",{"$f":"ABS(G8)","v":0}]
["Zusatzkraft Fx","N",{"$f":"'EM-LM-4'!K18","v":0},null,"I oder I+III oder II-III",null,{"$f":"MAX(G16,G15,G13)","v":0}]
["Kraftangriffspunkt von Fx in y-Richtung","mm",{"$f":"'EM-LM-4'!O18","v":0},null,"Mx Summe  I+V oder II+IV","Nm",{"$f":"IF(AND(J8=0,K8=0),MAX(G8,H8),IF(J11=TRUE,H8+J8,G8+K8))","v":0}]
["Kraftangrp. von Fx in z-Richt.(Mitte Rolle)","mm",{"$f":"'EM-LM-4'!Q18+64.5","v":64.5},null,"Absolutbetrag",null,{"$f":"ABS(G18)","v":0}]
[null,null,null,null,"Mx ges","Nm",{"$f":"MAX(G17,G19)","v":0}]
["Zusatzkraft Fy","N",{"$f":"'EM-LM-4'!K20","v":0},null,"Mx zul","Nm",{"$f":"C34/1000*1060","v":63.07},null,"Maximal-Werte der Momente und Kräfte nicht aus Katalog, sondern exakt berechnete Werte !!"]
["Kraftangriffspunkt von Fy in x-Richtung","mm",{"$f":"'EM-LM-4'!M20","v":0}]
["Kraftangrp. von Fy in z-Richt.(Mitte Rolle)","mm",{"$f":"'EM-LM-4'!Q20+64.5","v":64.5},null,"My Summe  I+V ( = II+IV )","Nm",{"$f":"G9+K9","v":0}]
[null,null,null,null,"Absolutbetrag",null,{"$f":"ABS(G23)","v":0}]
["Zusatzkraft Fz","N",{"$f":"'EM-LM-4'!K22","v":0},null,"My ges","Nm",{"$f":"G24","v":0}]
["Kraftangriffspunkt von Fz in x-Richtung","mm",{"$f":"'EM-LM-4'!M22","v":0},null,"My zul","Nm",{"$f":"48+(22*C7)","v":70}]
["Kraftangriffspunkt von Fz in y-Richtung","mm",{"$f":"'EM-LM-4'!O22","v":0}]
[]
[null,null,null,null,"Mz III","Nm",{"$f":"I10","v":0}]
["Länge L (Stirnplatte zu 1. Rolle - HubN/2)","mm",44,null,"Absolutbetrag",null,{"$f":"ABS(G29)","v":0}]
["Nennhub/2        HubN/2","mm",{"$f":"(0+(C7*50))/2","v":25},null,"Mz IV/V","Nm",{"$f":"IF(J11=TRUE,J10,K10)","v":0}]
["tatsächlicher gefahrener Hub/2","mm",{"$f":"C5/2","v":5},null,"Absolutbetrag",null,{"$f":"ABS(G31)","v":0}]
["Schwerpunktabstand in y-Richtung","mm",{"$f":"C14","v":0},null,"Mz ges","Nm",{"$f":"MAX(G30,G32)","v":0}]
["Wert K ( Abstand erste / letzte Rolle )","mm",{"$f":"34+(C7*25.5)","v":59.5},null,"Mz zul","Nm",{"$f":"G21/2","v":31.535}]
["Anfangswert (Abst. Stirnpl./Deckplatte)","mm",27]
[null,null,null,null,null,null,null,null,"Belastungsgleichung stat.",{"$f":"G19/G21+G25/G26+G32/G34+G38/G39+G42/G43","v":0}]
["l1 bei eingefahrenem Hub","mm",{"$f":"C30+C31-C35","v":42},null,"Fx ges","N",{"$f":"C17","v":0},null,"Belastungsgleichung dyn.",{"$f":"G17/G21+G30/G34+G40/G43","v":0}]
["l1 bei ausgefahrenem Hub","mm",{"$f":"C30+C31+C32-C35","v":47},null,"Absolutwert",null,{"$f":"ABS(G37)","v":0},null,"Belastungsgleichung",{"$f":"MAX(J36:J37)","v":0}]
[null,null,null,null,"Fx zul","N",{"$f":"G43","v":3710}]
["Stoßdämpferhub s ( Hub bis a=0 )","m",{"$f":"'Allgemeine Werte'!M41","v":1.0586000000000002E-2},null,"Gewichtskraft","N",{"$f":"C12*9.81","v":0}]
["Verzögerung a=vxv/2xs","m/s2",{"$f":"POWER(C48,2)/(2*C40)","v":3.5314597773592475},null,"Fz ges abs","N",{"$f":"ABS(-C25+C12*9.81)","v":0},null,"Verfahrzeitberechnung"]
["Kraft zur Verzögerung der Masse","N",{"$f":"C12*C41","v":0},null,"Max aus E40,E41",null,{"$f":"MAX(G40,G41)","v":0},null,"Verfahrzeit berechnet ( t=Wurzel aus (2xsxm/F)",null,{"$f":"(SQRT(2*(C5/1000)*(C12+C8/2)/C9))*(2.6+C7*0.2)","v":2.4509082044940483E-2}]
["Kraft zur Verzög. d. Masse incl Modul/2","N",{"$f":"C47*C41","v":8.5637899600961749},null,"Fz zul","N",{"$f":"2120+1590*C7","v":3710},null,"Mittlere Verfahrgeschwindigkeit berechnet",null,{"$f":"(C5/1000)/K42","v":0.40801201700103429}]
[null,null,null,null,null,null,null,null,"Endgeschwindigkeit berechnet",null,{"$f":"K43*'Allgemeine Werte'!E71","v":0.71402102975181003}]
["Stoßdämpferberechnung",null,null,null,"Max. Zyklenzahl / Min."]
["Anzahl Stoßdämpfer",null,{"$f":"'EM-LM-4-1'!S22","v":1},null,"Zyklen aus Verfahrzeit",null,{"$f":"60/(2*L50)","v":468.75},null,"Endgeschwindigkeit (Eingabe)",null,{"$f":"C10","v":2.02}]
["Gesamtmasse","kg",{"$f":"C12+C8/2","v":2.4249999999999998},null,null,null,null,null,"Mittlere Verfahrgeschwindigkeit (Eingabe)   m/s",null,{"$f":"C10/'Allgemeine Werte'!E71","v":1.1542857142857144}]
["Aufprallgeschwindigkeit","m/s",{"$f":"L54","v":0.2734375},null,"Ezul / Stunde","Nm",{"$f":"'Allgemeine Werte'!H41*C46*0.95","v":32300},null,"Verfahrzeit (Eingabe)","s",{"$f":"(C5/1000)/K47","v":8.6633663366336624E-3},"Verfahrzeit für Berechnung"]
["W1","Nm",{"$f":"C47*POWER(C48,2)*0.5","v":9.0656280517578125E-2},null,"Ezul / Minute","Nm",{"$f":"G48/60","v":538.33333333333337},null,null,null,null,"( max )"]
["Hub Stoßdämpfer","m",{"$f":"'Allgemeine Werte'!L41","v":1.5800000000000002E-2},null,"Zyklen aus Ezul",null,{"$f":"G49/C53","v":44.905806307249925},null,"min. Verfahrzeit vor","gemessen",{"$f":"0.05+(C5/25)*0.03","v":6.2E-2},{"$f":"MAX(K48,K53,K42)","v":6.4000000000000001E-2}]
["Zylinderkraft","N",753,null,null,null,null,null,"Mittlere Verfahrgeschwindigkeit vor",null,{"$f":"(C5/1000)/K50","v":0.16129032258064516}]
["W2 ( Antriebsenergie )","Nm",{"$f":"C51*C50","v":11.897400000000001},null,"Max. Zyklen",null,{"$f":"MIN(G46,G50,G55)","v":44.905806307249925},null,"Endgeschwindigkeit vor",null,{"$f":"K51*'Allgemeine Werte'!E71","v":0.282258064516129},"Endgeschwindigkeit f. Ber."]
["W1+W2 ( Energie / Hub )","Nm",{"$f":"C52+C49","v":11.988056280517579},null,null,null,null,null,"min. Verfahrzeit zurück",null,{"$f":"0.05+((C5/25)*0.035)","v":6.4000000000000001E-2},"( min )"]
["Ezul / Zyklus ( Hub )","Nm",{"$f":"'Allgemeine Werte'!G41*C50/'Allgemeine Werte'!K41*C46","v":25.675000000000004},null,"Stoßd.-kolbenrückstellzeit",null,{"$f":"'Allgemeine Werte'!E41","v":0.75},null,"Mittlere Verfahrgeschwindigkeit zurück",null,{"$f":"(C5/1000)/K53","v":0.15625},{"$f":"MIN(K46,K55,K44)","v":0.2734375}]
["Auslastung / Zyklus",null,{"$f":"C53/C54","v":0.46691553186047041},null,"Max. Zyklen aus Rückstellzeit",null,{"$f":"60/G54","v":80},null,"Endgeschwindigkeit zurück",null,{"$f":"K54*'Allgemeine Werte'!E71","v":0.2734375}]

{"sheet":"EM-Ber-LM300-5","index":46,"n_rows":55,"n_cols":12,"rows_kept":55,"cut":false,"hidden":false,"merged":[]}
["Linearmodul Typ",null,"LM 300"]
[]
["Berechnung der Führungsbelastung"]
[null,null,null,null,null,null,"Statisch auf Grund","Statisch auf Grund"]
["Hub","mm",{"$f":"'EM-LM-5'!K8","v":10},null,null,null,"Zusatzmasse m","Zusatzmasse m","Dynamisch auf Grund","Statisch auf Grund","Statisch auf Grund"]
["Zylinderkraft","N",753,null,null,null,"Modul ausgef.","Modul eingef.","Zusatzmasse m","Zusatzkraft Modul eingef.","Zusatzkraft Modul ausgef."]
["Faktor",null,{"$f":"ROUNDDOWN(((C5+25)/50.1)+0.5,0)","v":1},null,null,null,"I","II","III","IV","V"]
["Modulgewicht","kg",{"$f":"3.5+(C7*1.35)","v":4.8499999999999996},null,"Moment Mx=M3","Nm",{"$f":"(C12*9.81)*((C37-C32+C34/2+C33)/1000)","v":0},{"$f":"C12*9.81*((C37+C34/2+C33)/1000)","v":0},{"$f":"C42*(C15/1000)","v":0},{"$f":"(C21*C23/1000)-C25*((C27+C37+C34/2)/1000)","v":0},{"$f":"(C21*C23/1000)-C25*((C27+C37-C32+C34/2)/1000)","v":0}]
["Zylinderkraft zurück","N",633,null,"Moment My=M1","Nm",{"$f":"C12*9.81*((C13)/1000)","v":0},{"$f":"C12*9.81*((C13)/1000)","v":0},"-",{"$f":"C17*(C19/1000)-C25*C26/1000","v":0},{"$f":"C17*(C19/1000)-C25*C26/1000","v":0}]
["Verfahrgeschwindigkeit","m/s",{"$f":"'EM-LM-5-1'!I58","v":2.02},null,"Moment Mz=M2","Nm","-","-",{"$f":"C42*(C13/1000)","v":0},{"$f":"C21*C22/1000-C17*(C18+C37+C34/2)/1000","v":0},{"$f":"C21*C22/1000-C17*(C18+C37-C32+C34/2)/1000","v":0}]
[null,null,null,null,null,null,null,null,null,{"$f":"'EM-LM-5'!G51","v":false}]
["Zusatzmasse","kg",{"$f":"'EM-LM-5'!K14","v":0},null,"Mx Summe  I + III","Nm",{"$f":"G8+I8","v":0}]
["Schwerpunktabstand x-Richt.(Mitte Rolle)","mm",{"$f":"'EM-LM-5'!M14+64.5","v":64.5},null,"Absolutbetrag",null,{"$f":"ABS(G12)","v":0}]
["Schwerpunktabstand y-Richtung","mm",{"$f":"'EM-LM-5'!O14","v":0},null,"Mx Summe  II-III",null,{"$f":"H8-I8","v":0}]
["Schwerpunktabstand z-Richtung","mm",{"$f":"'EM-LM-5'!Q14","v":0},null,"Absolutbetrag",null,{"$f":"ABS(G14)","v":0}]
[null,null,null,null,"I ","Nm",{"$f":"ABS(G8)","v":0}]
["Zusatzkraft Fx","N",{"$f":"'EM-LM-5'!K18","v":0},null,"I oder I+III oder II-III",null,{"$f":"MAX(G16,G15,G13)","v":0}]
["Kraftangriffspunkt von Fx in y-Richtung","mm",{"$f":"'EM-LM-5'!O18","v":0},null,"Mx Summe  I+V oder II+IV","Nm",{"$f":"IF(AND(J8=0,K8=0),MAX(G8,H8),IF(J11=TRUE,H8+J8,G8+K8))","v":0}]
["Kraftangriffspunkt von Fx in z-Richtung","mm",{"$f":"'EM-LM-5'!Q18","v":0},null,"Absolutbetrag",null,{"$f":"ABS(G18)","v":0}]
[null,null,null,null,"Mx ges","Nm",{"$f":"MAX(G17,G19)","v":0}]
["Zusatzkraft Fy","N",{"$f":"'EM-LM-5'!K20","v":0},null,"Mx zul","Nm",{"$f":"G34/2","v":31.535},null,"Maximal-Werte der Momente und Kräfte nicht aus Katalog, sondern exakt berechnete Werte !!"]
["Kraftangrp. von Fy in x-Richt. (Mitte Rolle)","mm",{"$f":"'EM-LM-5'!M20+64.5","v":64.5}]
["Kraftangrp. von Fy in z-Richt.","mm",{"$f":"'EM-LM-5'!Q20","v":0},null,"My Summe  I+V ( = II+IV )","Nm",{"$f":"G9+K9","v":0}]
[null,null,null,null,"Absolutbetrag",null,{"$f":"ABS(G23)","v":0}]
["Zusatzkraft Fz","N",{"$f":"'EM-LM-5'!K22","v":0},null,"My ges","Nm",{"$f":"G24","v":0}]
["Kraftangrp. von Fz in x-Richt. (Mitte Rolle)","mm",{"$f":"'EM-LM-5'!M22+64.5","v":64.5},null,"My zul","Nm",{"$f":"48+(22*C7)","v":70}]
["Kraftangriffspunkt von Fz in y-Richtung","mm",{"$f":"'EM-LM-5'!O22","v":0}]
[]
[null,null,null,null,"Mz III","Nm",{"$f":"I10","v":0}]
["Länge L (Stirnplatte zu 1. Rolle - HubN/2)","mm",44,null,"Absolutbetrag",null,{"$f":"ABS(G29)","v":0}]
["Nennhub/2        HubN/2","mm",{"$f":"(0+(C7*50))/2","v":25},null,"Mz IV/V","Nm",{"$f":"IF(J11=TRUE,J10,K10)","v":0}]
["tatsächlicher gefahrener Hub/2","mm",{"$f":"C5/2","v":5},null,"Absolutbetrag",null,{"$f":"ABS(G31)","v":0}]
["Schwerpunktabstand in y-Richtung","mm",{"$f":"C14","v":0},null,"Mz ges","Nm",{"$f":"MAX(G30,G32)","v":0}]
["Wert K ( Abstand erste / letzte Rolle )","mm",{"$f":"34+(C7*25.5)","v":59.5},null,"Mz zul","Nm",{"$f":"C34/1000*1060","v":63.07}]
["Anfangswert (Abst. Stirnpl./Deckplatte)","mm",27]
[null,null,null,null,null,null,null,null,"Belastungsgleichung stat.",{"$f":"G19/G21+G25/G26+G32/G34+G38/G39+G42/G43","v":0}]
["l1 bei eingefahrenem Hub","mm",{"$f":"C30+C31-C35","v":42},null,"Fx ges","N",{"$f":"C17","v":0},null,"Belastungsgleichung dyn.",{"$f":"G17/G21+G30/G34+G40/G43","v":0}]
["l1 bei ausgefahrenem Hub","mm",{"$f":"C30+C31+C32-C35","v":47},null,"Absolutwert",null,{"$f":"ABS(G37)","v":0},null,"Belastungsgleichung",{"$f":"MAX(J36:J37)","v":0}]
[null,null,null,null,"Fx zul","N",{"$f":"G43","v":3710}]
["Stoßdämpferhub s ( Hub bis a=0 )","m",{"$f":"'Allgemeine Werte'!M41","v":1.0586000000000002E-2},null,"Gewichtskraft","N",{"$f":"C12*9.81","v":0}]
["Verzögerung a=vxv/2xs","m/s2",{"$f":"POWER(C48,2)/(2*C40)","v":3.5314597773592475},null,"Fz ges abs","N",{"$f":"ABS(-C25+C12*9.81)","v":0},null,"Verfahrzeitberechnung"]
["Kraft zur Verzögerung der Masse","N",{"$f":"C12*C41","v":0},null,"Max aus E40,E41",null,{"$f":"MAX(G40,G41)","v":0},null,"Verfahrzeit berechnet ( t=Wurzel aus (2xsxm/F)",null,{"$f":"(SQRT(2*(C5/1000)*(C12+C8/2)/C9))*(2.6+C7*0.2)","v":2.4509082044940483E-2}]
["Kraft zur Verzög. d. Masse incl Modul/2","N",{"$f":"C47*C41","v":8.5637899600961749},null,"Fz zul","N",{"$f":"2120+1590*C7","v":3710},null,"Mittlere Verfahrgeschwindigkeit berechnet",null,{"$f":"(C5/1000)/K42","v":0.40801201700103429}]
[null,null,null,null,null,null,null,null,"Endgeschwindigkeit berechnet",null,{"$f":"K43*'Allgemeine Werte'!E71","v":0.71402102975181003}]
["Stoßdämpferberechnung",null,null,null,"Max. Zyklenzahl / Min."]
["Anzahl Stoßdämpfer",null,{"$f":"'EM-LM-5-1'!S22","v":1},null,"Zyklen aus Verfahrzeit",null,{"$f":"60/(2*L50)","v":468.75},null,"Endgeschwindigkeit (Eingabe)",null,{"$f":"C10","v":2.02}]
["Gesamtmasse","kg",{"$f":"C12+C8/2","v":2.4249999999999998},null,null,null,null,null,"Mittlere Verfahrgeschwindigkeit (Eingabe)   m/s",null,{"$f":"C10/'Allgemeine Werte'!E71","v":1.1542857142857144}]
["Aufprallgeschwindigkeit","m/s",{"$f":"L54","v":0.2734375},null,"Ezul / Stunde","Nm",{"$f":"'Allgemeine Werte'!H41*C46*0.95","v":32300},null,"Verfahrzeit (Eingabe)","s",{"$f":"(C5/1000)/K47","v":8.6633663366336624E-3},"Verfahrzeit für Berechnung"]
["W1","Nm",{"$f":"C47*POWER(C48,2)*0.5","v":9.0656280517578125E-2},null,"Ezul / Minute","Nm",{"$f":"G48/60","v":538.33333333333337},null,null,null,null,"( max )"]
["Hub Stoßdämpfer","m",{"$f":"'Allgemeine Werte'!L41","v":1.5800000000000002E-2},null,"Zyklen aus Ezul",null,{"$f":"G49/C53","v":44.905806307249925},null,"min. Verfahrzeit vor","gemessen",{"$f":"0.05+(C5/25)*0.03","v":6.2E-2},{"$f":"MAX(K48,K53,K42)","v":6.4000000000000001E-2}]
["Zylinderkraft","N",753,null,null,null,null,null,"Mittlere Verfahrgeschwindigkeit vor",null,{"$f":"(C5/1000)/K50","v":0.16129032258064516}]
["W2 ( Antriebsenergie )","Nm",{"$f":"C51*C50","v":11.897400000000001},null,"Max. Zyklen",null,{"$f":"MIN(G46,G50,G55)","v":44.905806307249925},null,"Endgeschwindigkeit vor",null,{"$f":"K51*'Allgemeine Werte'!E71","v":0.282258064516129},"Endgeschwindigkeit f. Ber."]
["W1+W2 ( Energie / Hub )","Nm",{"$f":"C52+C49","v":11.988056280517579},null,null,null,null,null,"min. Verfahrzeit zurück",null,{"$f":"0.05+((C5/25)*0.035)","v":6.4000000000000001E-2},"( min )"]
["Ezul / Zyklus ( Hub )","Nm",{"$f":"'Allgemeine Werte'!G41*C50/'Allgemeine Werte'!K41*C46","v":25.675000000000004},null,"Stoßd.-kolbenrückstellzeit",null,{"$f":"'Allgemeine Werte'!E41","v":0.75},null,"Mittlere Verfahrgeschwindigkeit zurück",null,{"$f":"(C5/1000)/K53","v":0.15625},{"$f":"MIN(K46,K55,K44)","v":0.2734375}]
["Auslastung / Zyklus",null,{"$f":"C53/C54","v":0.46691553186047041},null,"Max. Zyklen aus Rückstellzeit",null,{"$f":"60/G54","v":80},null,"Endgeschwindigkeit zurück",null,{"$f":"K54*'Allgemeine Werte'!E71","v":0.2734375}]

{"sheet":"EM-Ber-LM300-6","index":47,"n_rows":57,"n_cols":12,"rows_kept":57,"cut":false,"hidden":false,"merged":[]}
["Linearmodul Typ",null,"LM 300"]
[]
["Berechnung der Führungsbelastung"]
[null,null,null,null,null,null,"Statisch auf Grund","Statisch auf Grund"]
["Hub","mm",{"$f":"'EM-LM-6'!K8","v":10},null,null,null,"Zusatzmasse m","Zusatzmasse m","Dynamisch auf Grund","Statisch auf Grund","Statisch auf Grund"]
["Zylinderkraft","N",753,null,null,null,"Modul ausgef.","Modul eingef.","Zusatzmasse m","Zusatzkraft Modul eingef.","Zusatzkraft Modul ausgef."]
["Faktor",null,{"$f":"ROUNDDOWN(((C5+25)/50.1)+0.5,0)","v":1},null,null,null,"I","II","III","IV","V"]
["Modulgewicht","kg",{"$f":"3.5+(C7*1.35)","v":4.8499999999999996},null,"Moment Mx=M3","Nm",{"$f":"C12*9.81*((C15)/1000)","v":0},{"$f":"C12*9.81*((C15)/1000)","v":0},{"$f":"C42*(C15/1000)","v":0},{"$f":"IF(K11=TRUE,-(C21*C23/1000)+C25*((C27+C37+C34/2)/1000),(C21*C23/1000)-C25*((C27+C37+C34/2)/1000))","v":0},{"$f":"IF(K11=TRUE,-(C21*C23/1000)+C25*((C27+C37-C32+C34/2)/1000),(C21*C23/1000)-C25*((C27+C37-C32+C34/2)/1000))","v":0}]
["Zylinderkraft zurück","N",633,null,"Moment My=M1","Nm","-","-","-",{"$f":"C17*(C19/1000)-C25*C26/1000","v":0},{"$f":"C17*(C19/1000)-C25*C26/1000","v":0}]
["Verfahrgeschwindigkeit","m/s",{"$f":"'EM-LM-6-1'!I58","v":2.02},null,"Moment Mz=M2","Nm",{"$f":"C12*9.81*((C13)/1000)","v":0},{"$f":"C12*9.81*((C13)/1000)","v":0},{"$f":"C42*(C13/1000)","v":0},{"$f":"IF(K11=TRUE,-C21*C22/1000+C17*(C18+C37+C34/2)/1000,C21*C22/1000-C17*(C18+C37+C34/2)/1000)","v":0},{"$f":"IF(K11=TRUE,-C21*C22/1000+C17*(C18+C37-C32+C34/2)/1000,C21*C22/1000-C17*(C18+C37-C32+C34/2)/1000)","v":0}]
[null,null,null,null,null,null,null,null,null,{"$f":"'EM-LM-6'!G51","v":false},{"$f":"'EM-LM-6'!G52","v":true}]
["Zusatzmasse","kg",{"$f":"'EM-LM-6'!K14","v":0}]
["Schwerpunktabstand x-Richt.(Mitte Rolle)","mm",{"$f":"'EM-LM-6'!M14+64.5","v":64.5}]
["Schwerpunktabstand y-Richtung","mm",{"$f":"'EM-LM-6'!O14","v":0}]
["Schwerpunktabstand z-Richtung","mm",{"$f":"'EM-LM-6'!Q14","v":0}]
[null,null,null,null,"Mx Summe  I(II) + III","Nm",{"$f":"G8+I8","v":0}]
["Zusatzkraft Fx","N",{"$f":"'EM-LM-6'!K18","v":0},null,"Absolutbetrag",null,{"$f":"ABS(G16)","v":0}]
["Kraftangriffspunkt von Fx in y-Richtung","mm",{"$f":"'EM-LM-6'!O18","v":0},null,"Mx Summe  I+V oder II+IV","Nm",{"$f":"IF(J11=TRUE,H8+J8,G8+K8)","v":0}]
["Kraftangriffspunkt von Fx in z-Richtung","mm",{"$f":"'EM-LM-6'!Q18","v":0},null,"Absolutbetrag",null,{"$f":"ABS(G18)","v":0}]
[null,null,null,null,"Mx ges","Nm",{"$f":"MAX(G17,G19)","v":0}]
["Zusatzkraft Fy","N",{"$f":"'EM-LM-6'!K20","v":0},null,"Mx zul","Nm",{"$f":"G34/2","v":31.535},null,"Maximal-Werte der Momente und Kräfte nicht aus Katalog, sondern exakt berechnete Werte !!"]
["Kraftangrp. von Fy in x-Richt. (Mitte Rolle)","mm",{"$f":"'EM-LM-6'!M20+64.5","v":64.5}]
["Kraftangrp. von Fy in z-Richt.","mm",{"$f":"'EM-LM-6'!Q20","v":0},null,"My IV = V","Nm",{"$f":"J9","v":0}]
[null,null,null,null,"Absolutbetrag",null,{"$f":"ABS(G23)","v":0}]
["Zusatzkraft Fz","N",{"$f":"'EM-LM-6'!K22","v":0},null,"My ges","Nm",{"$f":"G24","v":0}]
["Kraftangrp. von Fz in x-Richt. (Mitte Rolle)","mm",{"$f":"'EM-LM-6'!M22+64.5","v":64.5},null,"My zul","Nm",{"$f":"48+(22*C7)","v":70}]
["Kraftangriffspunkt von Fz in y-Richtung","mm",{"$f":"'EM-LM-6'!O22","v":0}]
[]
[null,null,null,null,"Mz Summe I(II)+III","Nm",{"$f":"G10+I10","v":0}]
["Länge L (Stirnplatte zu 1. Rolle - HubN/2)","mm",44,null,"Absolutbetrag",null,{"$f":"ABS(G29)","v":0}]
["Nennhub/2        HubN/2","mm",{"$f":"(0+(C7*50))/2","v":25},null,"Mz Summe  I+V oder II+IV","Nm",{"$f":"IF(J11=TRUE,H10+J10,G10+K10)","v":0}]
["tatsächlicher gefahrener Hub/2","mm",{"$f":"C5/2","v":5},null,"Absolutbetrag",null,{"$f":"ABS(G31)","v":0}]
["Schwerpunktabstand in y-Richtung","mm",{"$f":"C14","v":0},null,"Mz ges","Nm",{"$f":"MAX(G30,G32)","v":0}]
["Wert K ( Abstand erste / letzte Rolle )","mm",{"$f":"34+(C7*25.5)","v":59.5},null,"Mz zul","Nm",{"$f":"C34/1000*1060","v":63.07}]
["Anfangswert (Abst. Stirnpl./Deckplatte)","mm",27]
[null,null,null,null,null,null,null,null,"Belastungsgleichung stat.",{"$f":"G19/G21+G25/G26+G32/G34+G38/G39+G42/G43","v":0}]
["l1 bei eingefahrenem Hub","mm",{"$f":"C30+C31-C35","v":42},null,"Fx ges","N",{"$f":"C17","v":0},null,"Belastungsgleichung dyn.",{"$f":"G17/G21+G30/G34","v":0}]
["l1 bei ausgefahrenem Hub","mm",{"$f":"C30+C31+C32-C35","v":47},null,"Absolutwert",null,{"$f":"ABS(G37)","v":0},null,"Belastungsgleichung",{"$f":"MAX(J36:J37)","v":0}]
[null,null,null,null,"Fx zul","N",{"$f":"G43","v":3710}]
["Stoßdämpferhub s ( Hub bis a=0 )","m",{"$f":"'Allgemeine Werte'!M41","v":1.0586000000000002E-2}]
["Verzögerung a=vxv/2xs","m/s2",{"$f":"POWER(C48,2)/(2*C40)","v":3.3206747585086034},null,"Fz ges","N",{"$f":"-C25","v":0},null,"Verfahrzeitberechnung"]
["Kraft zur Verzögerung der Masse","N",{"$f":"C12*C41","v":0},null,"Absolutwert",null,{"$f":"ABS(G41)","v":0},null,"Verfahrzeit berechnet ( t=Wurzel aus (2xsxm/F)",null,{"$f":"(SQRT(2*(C5/1000)*(C12+C8/2)/(C6-(C12+C8/2)*9.81)))*(2.7+C7*0.25)","v":2.4058378550871333E-2}]
["Kraft zur Verzög. d. Masse incl Modul/2","N",{"$f":"C47*C41","v":8.0526362893833632},null,"Fz zul","N",{"$f":"2120+1590*C7","v":3710},null,"Mittlere Verfahrgeschwindigkeit berechnet",null,{"$f":"(C5/1000)/K42","v":0.41565560949400832}]
[null,null,null,null,null,null,null,null,"Endgeschwindigkeit berechnet",null,{"$f":"K43*'Allgemeine Werte'!E71","v":0.72739731661451457}]
["Stoßdämpferberechnung",null,null,null,"Max. Zyklenzahl / Min."]
["Anzahl Stoßdämpfer",null,{"$f":"'EM-LM-6-1'!S22","v":1},null,"Zyklen aus Verfahrzeit",null,{"$f":"60/(2*L50)","v":454.5454545454545},null,"Endgeschwindigkeit (Eingabe)",null,{"$f":"C10","v":2.02}]
["Gesamtmasse","kg",{"$f":"C12+C8/2","v":2.4249999999999998},null,null,null,null,null,"Mittlere Verfahrgeschwindigkeit (Eingabe)   m/s",null,{"$f":"C10/'Allgemeine Werte'!E71","v":1.1542857142857144}]
["Aufprallgeschwindigkeit","m/s",{"$f":"L54","v":0.26515151515151514},null,"Ezul / Stunde","Nm",{"$f":"'Allgemeine Werte'!H41*C46*0.95","v":32300},null,"Verfahrzeit (Eingabe)","s",{"$f":"(C5/1000)/K47","v":8.6633663366336624E-3},"Verfahrzeit für Berechnung"]
["W1","Nm",{"$f":"C47*POWER(C48,2)*0.5","v":8.5245207759412286E-2},null,"Ezul / Minute","Nm",{"$f":"G48/60","v":538.33333333333337},null,null,null,null,"( max )"]
["Hub Stoßdämpfer","m",{"$f":"'Allgemeine Werte'!L41","v":1.5800000000000002E-2},null,"Zyklen aus Ezul",null,{"$f":"G49/C53","v":46.380956868242606},null,"min. Verfahrzeit ab","gemessen",{"$f":"0.04+(C5/25)*0.03","v":5.2000000000000005E-2},{"$f":"MAX(K48,K53,K42)","v":6.6000000000000003E-2}]
["Zylinderkraft","N",753,null,null,null,null,null,"Mittlere Verfahrgeschwindigkeit ab",null,{"$f":"(C5/1000)/K50","v":0.19230769230769229}]
["W2 ( Antriebsenergie )","Nm",{"$f":"MAX(C56,C57)*C50","v":11.52152985},null,"Max. Zyklen",null,{"$f":"MIN(G46,G50,G55)","v":46.380956868242606},null,"Endgeschwindigkeit ab",null,{"$f":"K51*'Allgemeine Werte'!E71","v":0.33653846153846151},"Endgeschwindigkeit f. Ber."]
["W1+W2 ( Energie / Hub )","Nm",{"$f":"C52+C49","v":11.606775057759412},null,null,null,null,null,"min. Verfahrzeit auf",null,{"$f":"0.05+((C5/25)*0.04)","v":6.6000000000000003E-2},"( min )"]
["Ezul / Zyklus ( Hub )","Nm",{"$f":"'Allgemeine Werte'!G41*C50/'Allgemeine Werte'!K41*C46","v":25.675000000000004},null,"Stoßd.-kolbenrückstellzeit",null,{"$f":"'Allgemeine Werte'!E41","v":0.75},null,"Mittlere Verfahrgeschwindigkeit auf",null,{"$f":"(C5/1000)/K53","v":0.15151515151515152},{"$f":"MIN(K46,K55,K44)","v":0.26515151515151514}]
["Auslastung / Zyklus",null,{"$f":"C53/C54","v":0.45206524080854565},null,"Max. Zyklen aus Rückstellzeit",null,{"$f":"60/G54","v":80},null,"Endgeschwindigkeit auf",null,{"$f":"K54*'Allgemeine Werte'!E71","v":0.26515151515151514}]
["Antriebskraft nach oben",null,{"$f":"C6-C47*9.81","v":729.21074999999996}]
["Antriebskraft nach unten",null,{"$f":"C9+C47*9.81","v":656.78925000000004}]

{"sheet":"EM-Ber-KLM25-1","index":48,"n_rows":55,"n_cols":12,"rows_kept":55,"cut":false,"hidden":false,"merged":[]}
["Linearmodul Typ",null,"KLM 25"]
[]
["Berechnung der Führungsbelastung"]
[null,null,null,null,null,null,"Statisch auf Grund","Statisch auf Grund"]
["Hub","mm",{"$f":"'EM-LM-1'!K8","v":10},null,null,null,"Zusatzmasse m","Zusatzmasse m","Dynamisch auf Grund","Statisch auf Grund","Statisch auf Grund"]
["Zylinderkraft","N",67,null,null,null,"Modul ausgef.","Modul eingef.","Zusatzmasse m","Zusatzkraft Modul eingef.","Zusatzkraft Modul ausgef."]
["Faktor",null,{"$f":"ROUNDDOWN(((C5-8)/17.1),0)","v":0},null,null,null,"I","II","III","IV","V"]
["Modulgewicht","kg",{"$f":"0.5+(C7*0.08)","v":0.5},null,"Moment Mx=M2","Nm",{"$f":"(C12*9.81)*(C34+C5+C14+C30/2)/1000","v":0},{"$f":"(C12*9.81)*(C34+C14+C30/2)/1000","v":0},{"$f":"C42*(C15/1000)","v":0},{"$f":"(C21*C23/1000)-C25*(C27+C34+C30/2)/1000","v":0},{"$f":"(C21*C23/1000)-C25*((C27+C34+C5+C30/2)/1000)","v":0}]
["Zylinderkraft zurück","N",50,null,"Moment My=M1","Nm",{"$f":"C12*9.81*(C13/1000)","v":0},{"$f":"C12*9.81*(C13/1000)","v":0},"-",{"$f":"C17*C19/1000-C25*(C26/1000)","v":0},{"$f":"C17*C19/1000-C25*(C26/1000)","v":0}]
["Verfahrgeschwindigkeit","m/s",{"$f":"'EM-LM-1-1'!I58","v":2.02},null,"Moment Mz=M3","Nm","-","-",{"$f":"C42*(C13/1000)","v":0},{"$f":"C21*C22/1000-C17*(C18+C34+C30/2)/1000","v":0},{"$f":"C21*C22/1000-C17*(C18+C34+C5+C30/2)/1000","v":0}]
[null,null,null,null,null,null,null,null,null,{"$f":"'EM-LM-1'!G51","v":true}]
["Zusatzmasse","kg",{"$f":"'EM-LM-1'!K14","v":0},null,"Mx Summe  I + III","Nm",{"$f":"G8+I8","v":0}]
["Schwerpunktabstand x-Richtung","mm",{"$f":"'EM-LM-1'!M14","v":0},null,"Absolutbetrag",null,{"$f":"ABS(G12)","v":0}]
["Schwerpunktabstand y-Richtung","mm",{"$f":"'EM-LM-1'!O14","v":0},null,"Mx Summe  II-III",null,{"$f":"H8-I8","v":0}]
["Schwerpunktabstand z-Richt.(Mitte Welle)","mm",{"$f":"'EM-LM-1'!Q14+12","v":12},null,"Absolutbetrag",null,{"$f":"ABS(G14)","v":0}]
[null,null,null,null,"I ","Nm",{"$f":"G8","v":0}]
["Zusatzkraft Fx","N",{"$f":"'EM-LM-1'!K18","v":0},null,"I oder I+III oder II-III",null,{"$f":"MAX(G16,G15,G13)","v":0}]
["Kraftangriffspunkt von Fx in y-Richtung","mm",{"$f":"'EM-LM-1'!O18","v":0},null,"Mx Summe  I+V oder II+IV","Nm",{"$f":"IF(AND(J8=0,K8=0),MAX(G8,H8),IF(J11=TRUE,H8+J8,G8+K8))","v":0}]
["Kraftangrp. von Fx in z-Richt.(Mitte Welle)","mm",{"$f":"'EM-LM-1'!Q18+12","v":12},null,"Absolutbetrag",null,{"$f":"ABS(G18)","v":0}]
[null,null,null,null,"Mx ges","Nm",{"$f":"MAX(G17,G19)","v":0}]
["Zusatzkraft Fy","N",{"$f":"'EM-LM-1'!K20","v":0},null,"Mx zul","Nm",{"$f":"IF(C7=0,'Allgemeine Werte'!B79,IF(C7=1,'Allgemeine Werte'!B80,IF(C7=2,'Allgemeine Werte'!B81,0)))","v":10.5},null,"Maximal-Werte Mxzul  berechnet über Extrablatt !!"]
["Kraftangriffspunkt von Fy in x-Richtung","mm",{"$f":"'EM-LM-1'!M20","v":0},null,null,null,null,null,"Länge L, tan alpha und E werden zur Berechnung von Mx nicht mehr benötigt"]
["Kraftangrp. von Fy in z-Richt.(Mitte Welle)","mm",{"$f":"'EM-LM-1'!Q20+12","v":12},null,"My Summe  I+V ( = II+IV )","Nm",{"$f":"G9+K9","v":0}]
[null,null,null,null,"Absolutbetrag",null,{"$f":"ABS(G23)","v":0}]
["Zusatzkraft Fz","N",{"$f":"'EM-LM-1'!K22","v":0},null,"My ges","Nm",{"$f":"G24","v":0}]
["Kraftangriffspunkt von Fz in x-Richtung","mm",{"$f":"'EM-LM-1'!M22","v":0},null,"My zul","Nm",{"$f":"G43*0.0135","v":3.024},null,"Maximal-Werte Myzul berechnet aus Fzzul und Abstand Führungssäulen !!"]
["Kraftangriffspunkt von Fz in y-Richtung","mm",{"$f":"'EM-LM-1'!O22","v":0}]
[]
[null,null,null,null,"Mz III","Nm",{"$f":"I10","v":0}]
["Länge L (Mittenabstand Buchsen)","mm",{"$f":"50+(C7*17)","v":50},null,"Absolutbetrag",null,{"$f":"ABS(G29)","v":0}]
["tan alpha",null,{"$f":"0.00065+(C7*0.00011)","v":6.4999999999999997E-4},null,"Mz IV/V","Nm",{"$f":"IF(J11=TRUE,J10,K10)","v":0},null,"Maximal-Werte Fzzul neu berechnet"]
["E",null,126630000,null,"Absolutbetrag",null,{"$f":"ABS(G31)","v":0}]
["Schwerpunktabstand in y-Richtung","mm",{"$f":"C14","v":0},null,"Mz ges","Nm",{"$f":"MAX(G30,G32)","v":0}]
["Wert K (Abstand Stirnplatte/1.Buchse)","mm",30,null,"Mz zul","Nm",{"$f":"G21","v":10.5}]
[]
[null,null,null,null,null,null,null,null,"Belastungsgleichung stat.",{"$f":"G19/G21+G25/G26+G32/G34+G38/G39+G42/G43","v":0}]
[null,null,null,null,"Fx ges","N",{"$f":"C17","v":0},null,"Belastungsgleichung dyn.",{"$f":"G17/G21+G30/G34+G40/G43","v":0}]
[null,null,null,null,"Absolutwert",null,{"$f":"ABS(G37)","v":0},null,"Belastungsgleichung",{"$f":"MAX(J36:J37)","v":0}]
[null,null,null,null,"Fx zul","N",{"$f":"G43","v":224}]
["Stoßdämpferhub s ( Hub bis a=0 )","m",{"$f":"'Allgemeine Werte'!M34","v":4.0200000000000001E-3},null,"Gewichtskraft","N",{"$f":"C12*9.81","v":0}]
["Verzögerung a=vxv/2xs","m/s2",{"$f":"POWER(C48,2)/(2*C40)","v":1.4662795100633013},null,"Fz ges abs","N",{"$f":"ABS(-C25+C12*9.81)","v":0},null,"Verfahrzeitberechnung",null,{"$f":"0.00067474*POWER(C5,2)-0.091089965*C5+5.905536332","v":5.0621106820000001}]
["Kraft zur Verzögerung der Masse","N",{"$f":"C12*C41","v":0},null,"Max aus E40,E41",null,{"$f":"MAX(G40,G41)","v":0},null,"Verfahrzeit berechnet ( t=Wurzel aus (2xsxm/F)",null,{"$f":"(SQRT(2*(C5/1000)*(C12+C8/2)/C9))*K41","v":5.0621106820000004E-2}]
["Kraft zur Verzög. d. Masse incl Modul/2","N",{"$f":"C47*C41","v":0.36656987751582532},null,"Fz zul","N",{"$f":"IF(C7=0,'Allgemeine Werte'!C79,IF(C7=1,'Allgemeine Werte'!C80,IF(C7=2,'Allgemeine Werte'!C81,0)))","v":224},null,"Mittlere Verfahrgeschwindigkeit berechnet",null,{"$f":"(C5/1000)/K42","v":0.19754605594773519}]
[null,null,null,null,null,null,null,null,"Endgeschwindigkeit berechnet",null,{"$f":"K43*'Allgemeine Werte'!E71","v":0.34570559790853661}]
["Stoßdämpferberechnung",null,null,null,"Max. Zyklenzahl / Min."]
["Anzahl Stoßdämpfer",null,1,null,"Zyklen aus Verfahrzeit",null,{"$f":"60/(2*L50)","v":186.13138686131384},null,"Endgeschwindigkeit (Eingabe)",null,{"$f":"C10","v":2.02}]
["Gesamtmasse","kg",{"$f":"C12+C8/2","v":0.25},null,null,null,null,null,"Mittlere Verfahrgeschwindigkeit (Eingabe)   m/s",null,{"$f":"C10/'Allgemeine Werte'!E71","v":1.1542857142857144}]
["Aufprallgeschwindigkeit","m/s",{"$f":"L54","v":0.10857664233576642},null,"Ezul / Stunde","Nm",{"$f":"'Allgemeine Werte'!H34*C46*0.95","v":13680},null,"Verfahrzeit (Eingabe)","s",{"$f":"(C5/1000)/K47","v":8.6633663366336624E-3},"Verfahrzeit für Berechnung"]
["W1","Nm",{"$f":"C47*POWER(C48,2)*0.5","v":1.4736109076136179E-3},null,"Ezul / Minute","Nm",{"$f":"G48/60","v":228},null,null,null,null,"( max )"]
["Hub Stoßdämpfer","m",{"$f":"'Allgemeine Werte'!L34","v":6.0000000000000001E-3},null,"Zyklen aus Ezul",null,{"$f":"G49/C53","v":565.09271941506688},null,"min. Verfahrzeit vor","gemessen",{"$f":"0.14+((C5-8)/17)*0.01","v":0.14117647058823532},{"$f":"MAX(K48,K53,K42)","v":0.16117647058823531}]
["Zylinderkraft","N",67,null,null,null,null,null,"Mittlere Verfahrgeschwindigkeit vor",null,{"$f":"(C5/1000)/K50","v":7.0833333333333318E-2}]
["W2 ( Antriebsenergie )","Nm",{"$f":"C51*C50","v":0.40200000000000002},null,"Max. Zyklen",null,{"$f":"MIN(G46,G50,G55)","v":120},null,"Endgeschwindigkeit vor",null,{"$f":"K51*'Allgemeine Werte'!E71","v":0.12395833333333331},"Endgeschwindigkeit f. Ber."]
["W1+W2 ( Energie / Hub )","Nm",{"$f":"C52+C49","v":0.40347361090761363},null,null,null,null,null,"min. Verfahrzeit zurück",null,{"$f":"0.16+(((C5-8)/17)*0.01)","v":0.16117647058823531},"( min )"]
["Ezul / Zyklus ( Hub )","Nm",{"$f":"'Allgemeine Werte'!G34*C50/'Allgemeine Werte'!K34*C46","v":3.0000000000000004},null,"Stoßd.-kolbenrückstellzeit",null,{"$f":"'Allgemeine Werte'!E34","v":0.5},null,"Mittlere Verfahrgeschwindigkeit zurück",null,{"$f":"(C5/1000)/K53","v":6.204379562043795E-2},{"$f":"MIN(K46,K55,K44)","v":0.10857664233576642}]
["Auslastung / Zyklus",null,{"$f":"C53/C54","v":0.13449120363587119},null,"Max. Zyklen aus Rückstellzeit",null,{"$f":"60/G54","v":120},null,"Endgeschwindigkeit zurück",null,{"$f":"K54*'Allgemeine Werte'!E71","v":0.10857664233576642}]

{"sheet":"EM-Ber-KLM25-2","index":49,"n_rows":55,"n_cols":12,"rows_kept":55,"cut":false,"hidden":false,"merged":[]}
["Linearmodul Typ",null,"KLM 25"]
[]
["Berechnung der Führungsbelastung"]
[null,null,null,null,null,null,"Statisch auf Grund","Statisch auf Grund"]
["Hub","mm",{"$f":"'EM-LM-2'!K8","v":10},null,null,null,"Zusatzmasse m","Zusatzmasse m","Dynamisch auf Grund","Statisch auf Grund","Statisch auf Grund"]
["Zylinderkraft","N",67,null,null,null,"Modul ausgef.","Modul eingef.","Zusatzmasse m","Zusatzkraft Modul eingef.","Zusatzkraft Modul ausgef."]
["Faktor",null,{"$f":"ROUNDDOWN(((C5-8)/17.1),0)","v":0},null,null,null,"I","II","III","IV","V"]
["Modulgewicht","kg",{"$f":"0.5+(C7*0.08)","v":0.5},null,"Moment Mx=M3","Nm",{"$f":"(C12*9.81)*(C34+C5+C14+C30/2)/1000","v":0},{"$f":"(C12*9.81)*(C34+C14+C30/2)/1000","v":0},{"$f":"C42*(C15/1000)","v":0},{"$f":"(C21*C23/1000)-C25*(C27+C34+C30/2)/1000","v":0},{"$f":"(C21*C23/1000)-C25*(C27+C34+C5+C30/2)/1000","v":0}]
["Zylinderkraft zurück","N",50,null,"Moment My=M1","Nm",{"$f":"C12*9.81*((C13)/1000)","v":0},{"$f":"C12*9.81*((C13)/1000)","v":0},"-",{"$f":"C17*(C19/1000)-C25*C26/1000","v":0},{"$f":"C17*(C19/1000)-C25*C26/1000","v":0}]
["Verfahrgeschwindigkeit","m/s",{"$f":"'EM-LM-2-1'!I58","v":2.02},null,"Moment Mz=M2","Nm","-","-",{"$f":"C42*(C13/1000)","v":0},{"$f":"C21*C22/1000-C17*(C18+C34+C30/2)/1000","v":0},{"$f":"C21*C22/1000-C17*(C18+C34+C5+C30/2)/1000","v":0}]
[null,null,null,null,null,null,null,null,null,{"$f":"'EM-LM-2'!G51","v":true}]
["Zusatzmasse","kg",{"$f":"'EM-LM-2'!K14","v":0},null,"Mx Summe  I + III","Nm",{"$f":"G8+I8","v":0}]
["Schwerpunktabstand x-Richt.(Mitte Welle)","mm",{"$f":"'EM-LM-2'!M14+12","v":12},null,"Absolutbetrag",null,{"$f":"ABS(G12)","v":0}]
["Schwerpunktabstand y-Richtung","mm",{"$f":"'EM-LM-2'!O14","v":0},null,"Mx Summe  II-III",null,{"$f":"H8-I8","v":0}]
["Schwerpunktabstand z-Richtung","mm",{"$f":"'EM-LM-2'!Q14","v":0},null,"Absolutbetrag",null,{"$f":"ABS(G14)","v":0}]
[null,null,null,null,"I ","Nm",{"$f":"G8","v":0}]
["Zusatzkraft Fx","N",{"$f":"'EM-LM-2'!K18","v":0},null,"I oder I+III oder II-III",null,{"$f":"MAX(G16,G15,G13)","v":0}]
["Kraftangriffspunkt von Fx in y-Richtung","mm",{"$f":"'EM-LM-2'!O18","v":0},null,"Mx Summe  I+V oder II+IV","Nm",{"$f":"IF(AND(J8=0,K8=0),MAX(G8,H8),IF(J11=TRUE,H8+J8,G8+K8))","v":0}]
["Kraftangriffspunkt von Fx in z-Richtung","mm",{"$f":"'EM-LM-2'!Q18","v":0},null,"Absolutbetrag",null,{"$f":"ABS(G18)","v":0}]
[null,null,null,null,"Mx ges","Nm",{"$f":"MAX(G17,G19)","v":0}]
["Zusatzkraft Fy","N",{"$f":"'EM-LM-2'!K20","v":0},null,"Mx zul","Nm",{"$f":"IF(C7=0,'Allgemeine Werte'!B79,IF(C7=1,'Allgemeine Werte'!B80,IF(C7=2,'Allgemeine Werte'!B81,0)))","v":10.5},null,"Maximal-Werte Mxzul  berechnet über Extrablatt !!"]
["Kraftangrp. von Fy in x-Richt. (Mitte Welle)","mm",{"$f":"'EM-LM-2'!M20+12","v":12},null,null,null,null,null,"Länge L, tan alpha und E werden zur Berechnung von Mx nicht mehr benötigt"]
["Kraftangrp. von Fy in z-Richt.","mm",{"$f":"'EM-LM-2'!Q20","v":0},null,"My Summe  I+V ( = II+IV )","Nm",{"$f":"G9+K9","v":0}]
[null,null,null,null,"Absolutbetrag",null,{"$f":"ABS(G23)","v":0}]
["Zusatzkraft Fz","N",{"$f":"'EM-LM-2'!K22","v":0},null,"My ges","Nm",{"$f":"G24","v":0}]
["Kraftangrp. von Fz in x-Richt. (Mitte Welle)","mm",{"$f":"'EM-LM-2'!M22+12","v":12},null,"My zul","Nm",{"$f":"G43*0.0135","v":3.024},null,"Maximal-Werte Myzul berechnet aus Fzzul und Abstand Führungssäulen !!"]
["Kraftangriffspunkt von Fz in y-Richtung","mm",{"$f":"'EM-LM-2'!O22","v":0}]
[]
[null,null,null,null,"Mz III","Nm",{"$f":"I10","v":0}]
["Länge L (Mittenabstand Buchsen)","mm",{"$f":"50+(C7*17)","v":50},null,"Absolutbetrag",null,{"$f":"ABS(G29)","v":0}]
["tan alpha",null,{"$f":"0.00065+(C7*0.00011)","v":6.4999999999999997E-4},null,"Mz IV/V","Nm",{"$f":"IF(J11=TRUE,J10,K10)","v":0},null,"Maximal-Werte Fzzul neu berechnet"]
["E",null,126630000,null,"Absolutbetrag",null,{"$f":"ABS(G31)","v":0}]
["Schwerpunktabstand in y-Richtung","mm",{"$f":"C14","v":0},null,"Mz ges","Nm",{"$f":"MAX(G30,G32)","v":0}]
["Wert K (Abstand Stirnplatte/1.Buchse)","mm",30,null,"Mz zul","Nm",{"$f":"G21","v":10.5}]
[]
[null,null,null,null,null,null,null,null,"Belastungsgleichung stat.",{"$f":"G19/G21+G25/G26+G32/G34+G38/G39+G42/G43","v":0}]
[null,null,null,null,"Fx ges","N",{"$f":"C17","v":0},null,"Belastungsgleichung dyn.",{"$f":"G17/G21+G30/G34+G40/G43","v":0}]
[null,null,null,null,"Absolutwert",null,{"$f":"ABS(G37)","v":0},null,"Belastungsgleichung",{"$f":"MAX(J36:J37)","v":0}]
[null,null,null,null,"Fx zul","N",{"$f":"G43","v":224}]
["Stoßdämpferhub s ( Hub bis a=0 )","m",{"$f":"'Allgemeine Werte'!M34","v":4.0200000000000001E-3},null,"Gewichtskraft","N",{"$f":"C12*9.81","v":0}]
["Verzögerung a=vxv/2xs","m/s2",{"$f":"POWER(C48,2)/(2*C40)","v":1.4662795100633013},null,"Fz ges abs","N",{"$f":"ABS(-C25+C12*9.81)","v":0},null,"Verfahrzeitberechnung",null,{"$f":"0.00067474*POWER(C5,2)-0.091089965*C5+5.905536332","v":5.0621106820000001}]
["Kraft zur Verzögerung der Masse","N",{"$f":"C12*C41","v":0},null,"Max aus E40,E41",null,{"$f":"MAX(G40,G41)","v":0},null,"Verfahrzeit berechnet ( t=Wurzel aus (2xsxm/F)",null,{"$f":"(SQRT(2*(C5/1000)*(C12+C8/2)/C9))*K41","v":5.0621106820000004E-2}]
["Kraft zur Verzög. d. Masse incl Modul/2","N",{"$f":"C47*C41","v":0.36656987751582532},null,"Fz zul","N",{"$f":"IF(C7=0,'Allgemeine Werte'!C79,IF(C7=1,'Allgemeine Werte'!C80,IF(C7=2,'Allgemeine Werte'!C81,0)))","v":224},null,"Mittlere Verfahrgeschwindigkeit berechnet",null,{"$f":"(C5/1000)/K42","v":0.19754605594773519}]
[null,null,null,null,null,null,null,null,"Endgeschwindigkeit berechnet",null,{"$f":"K43*'Allgemeine Werte'!E71","v":0.34570559790853661}]
["Stoßdämpferberechnung",null,null,null,"Max. Zyklenzahl / Min."]
["Anzahl Stoßdämpfer",null,1,null,"Zyklen aus Verfahrzeit",null,{"$f":"60/(2*L50)","v":186.13138686131384},null,"Endgeschwindigkeit (Eingabe)",null,{"$f":"C10","v":2.02}]
["Gesamtmasse","kg",{"$f":"C12+C8/2","v":0.25},null,null,null,null,null,"Mittlere Verfahrgeschwindigkeit (Eingabe)   m/s",null,{"$f":"C10/'Allgemeine Werte'!E71","v":1.1542857142857144}]
["Aufprallgeschwindigkeit","m/s",{"$f":"L54","v":0.10857664233576642},null,"Ezul / Stunde","Nm",{"$f":"'Allgemeine Werte'!H34*C46*0.95","v":13680},null,"Verfahrzeit (Eingabe)","s",{"$f":"(C5/1000)/K47","v":8.6633663366336624E-3},"Verfahrzeit für Berechnung"]
["W1","Nm",{"$f":"C47*POWER(C48,2)*0.5","v":1.4736109076136179E-3},null,"Ezul / Minute","Nm",{"$f":"G48/60","v":228},null,null,null,null,"( max )"]
["Hub Stoßdämpfer","m",{"$f":"'Allgemeine Werte'!L34","v":6.0000000000000001E-3},null,"Zyklen aus Ezul",null,{"$f":"G49/C53","v":565.09271941506688},null,"min. Verfahrzeit vor","gemessen",{"$f":"0.14+((C5-8)/17)*0.01","v":0.14117647058823532},{"$f":"MAX(K48,K53,K42)","v":0.16117647058823531}]
["Zylinderkraft","N",67,null,null,null,null,null,"Mittlere Verfahrgeschwindigkeit vor",null,{"$f":"(C5/1000)/K50","v":7.0833333333333318E-2}]
["W2 ( Antriebsenergie )","Nm",{"$f":"C51*C50","v":0.40200000000000002},null,"Max. Zyklen",null,{"$f":"MIN(G46,G50,G55)","v":120},null,"Endgeschwindigkeit vor",null,{"$f":"K51*'Allgemeine Werte'!E71","v":0.12395833333333331},"Endgeschwindigkeit f. Ber."]
["W1+W2 ( Energie / Hub )","Nm",{"$f":"C52+C49","v":0.40347361090761363},null,null,null,null,null,"min. Verfahrzeit zurück",null,{"$f":"0.16+(((C5-8)/17)*0.01)","v":0.16117647058823531},"( min )"]
["Ezul / Zyklus ( Hub )","Nm",{"$f":"'Allgemeine Werte'!G34*C50/'Allgemeine Werte'!K34*C46","v":3.0000000000000004},null,"Stoßd.-kolbenrückstellzeit",null,{"$f":"'Allgemeine Werte'!E34","v":0.5},null,"Mittlere Verfahrgeschwindigkeit zurück",null,{"$f":"(C5/1000)/K53","v":6.204379562043795E-2},{"$f":"MIN(K46,K55,K44)","v":0.10857664233576642}]
["Auslastung / Zyklus",null,{"$f":"C53/C54","v":0.13449120363587119},null,"Max. Zyklen aus Rückstellzeit",null,{"$f":"60/G54","v":120},null,"Endgeschwindigkeit zurück",null,{"$f":"K54*'Allgemeine Werte'!E71","v":0.10857664233576642}]

{"sheet":"EM-Ber-KLM25-3","index":50,"n_rows":57,"n_cols":12,"rows_kept":57,"cut":false,"hidden":false,"merged":[]}
["Linearmodul Typ",null,"KLM 25"]
[]
["Berechnung der Führungsbelastung"]
[null,null,null,null,null,null,"Statisch auf Grund","Statisch auf Grund"]
["Hub","mm",{"$f":"'EM-LM-3'!K8","v":10},null,null,null,"Zusatzmasse m","Zusatzmasse m","Dynamisch auf Grund","Statisch auf Grund","Statisch auf Grund"]
["Zylinderkraft","N",67,null,null,null,"Modul ausgef.","Modul eingef.","Zusatzmasse m","Zusatzkraft Modul eingef.","Zusatzkraft Modul ausgef."]
["Faktor",null,{"$f":"ROUNDDOWN(((C5-8)/17.1),0)","v":0},null,null,null,"I","II","III","IV","V"]
["Modulgewicht","kg",{"$f":"0.5+(C7*0.08)","v":0.5},null,"Moment Mx=M3","Nm",{"$f":"C12*9.81*((C15)/1000)","v":0},{"$f":"C12*9.81*((C15)/1000)","v":0},{"$f":"C42*(C15/1000)","v":0},{"$f":"IF(K11=TRUE,-(C21*C23/1000)+C25*((C27+C34+C30/2)/1000),(C21*C23/1000)-C25*((C27+C34+C30/2)/1000))","v":0},{"$f":"IF(K11=TRUE,-(C21*C23/1000)+C25*((C27+C5+C34+C30/2)/1000),(C21*C23/1000)-C25*((C27+C5+C34+C30/2)/1000))","v":0}]
["Zylinderkraft zurück","N",50,null,"Moment My=M1","Nm","-","-","-",{"$f":"C17*(C19/1000)-C25*C26/1000","v":0},{"$f":"C17*(C19/1000)-C25*C26/1000","v":0}]
["Verfahrgeschwindigkeit","m/s",{"$f":"'EM-LM-3-1'!I58","v":2.02},null,"Moment Mz=M2","Nm",{"$f":"C12*9.81*((C13)/1000)","v":0},{"$f":"C12*9.81*((C13)/1000)","v":0},{"$f":"C42*(C13/1000)","v":0},{"$f":"IF(K11=TRUE,-C21*C22/1000+C17*(C18+C34+C30/2)/1000,C21*C22/1000-C17*(C18+C34+C30/2)/1000)","v":0},{"$f":"IF(K11=TRUE,-C21*C22/1000+C17*(C18+C5+C34+C30/2)/1000,C21*C22/1000-C17*(C18+C5+C34+C30/2)/1000)","v":0}]
[null,null,null,null,null,null,null,null,null,{"$f":"'EM-LM-3'!G51","v":true},{"$f":"'EM-LM-3'!G52","v":true}]
["Zusatzmasse","kg",{"$f":"'EM-LM-3'!K14","v":0}]
["Schwerpunktabstand x-Richt.(Mitte Welle)","mm",{"$f":"'EM-LM-3'!M14+12","v":12}]
["Schwerpunktabstand y-Richtung","mm",{"$f":"'EM-LM-3'!O14","v":0}]
["Schwerpunktabstand z-Richtung","mm",{"$f":"'EM-LM-3'!Q14","v":0}]
[null,null,null,null,"Mx Summe  I(II) + III","Nm",{"$f":"G8+I8","v":0}]
["Zusatzkraft Fx","N",{"$f":"'EM-LM-3'!K18","v":0},null,"Absolutbetrag",null,{"$f":"ABS(G16)","v":0}]
["Kraftangriffspunkt von Fx in y-Richtung","mm",{"$f":"'EM-LM-3'!O18","v":0},null,"Mx Summe  I+V oder II+IV","Nm",{"$f":"IF(J11=TRUE,H8+J8,G8+K8)","v":0}]
["Kraftangriffspunkt von Fx in z-Richtung","mm",{"$f":"'EM-LM-3'!Q18","v":0},null,"Absolutbetrag",null,{"$f":"ABS(G18)","v":0}]
[null,null,null,null,"Mx ges","Nm",{"$f":"MAX(G17,G19)","v":0}]
["Zusatzkraft Fy","N",{"$f":"'EM-LM-3'!K20","v":0},null,"Mx zul","Nm",{"$f":"IF(C7=0,'Allgemeine Werte'!B79,IF(C7=1,'Allgemeine Werte'!B80,IF(C7=2,'Allgemeine Werte'!B81,0)))","v":10.5},null,"Maximal-Werte Mxzul  berechnet über Extrablatt !!"]
["Kraftangrp. von Fy in x-Richt. (Mitte Welle)","mm",{"$f":"'EM-LM-3'!M20+12","v":12},null,null,null,null,null,"Länge L, tan alpha und E werden zur Berechnung von Mx nicht mehr benötigt"]
["Kraftangrp. von Fy in z-Richt.","mm",{"$f":"'EM-LM-3'!Q20","v":0},null,"My IV = V","Nm",{"$f":"J9","v":0}]
[null,null,null,null,"Absolutbetrag",null,{"$f":"ABS(G23)","v":0}]
["Zusatzkraft Fz","N",{"$f":"'EM-LM-3'!K22","v":0},null,"My ges","Nm",{"$f":"G24","v":0}]
["Kraftangrp. von Fz in x-Richt. (Mitte Welle)","mm",{"$f":"'EM-LM-3'!M22+12","v":12},null,"My zul","Nm",{"$f":"G43*0.0135","v":3.024},"Maximal-Werte Myzul berechnet aus Fzzul und Abstand Führungssäulen !!"]
["Kraftangriffspunkt von Fz in y-Richtung","mm",{"$f":"'EM-LM-3'!O22","v":0}]
[]
[null,null,null,null,"Mz Summe I(II)+III","Nm",{"$f":"G10+I10","v":0}]
["Länge L (Mittenabstand Buchsen)","mm",{"$f":"50+(C7*17)","v":50},null,"Absolutbetrag",null,{"$f":"ABS(G29)","v":0}]
["tan alpha",null,{"$f":"0.00065+(C7*0.00011)","v":6.4999999999999997E-4},null,"Mz Summe  I+V oder II+IV","Nm",{"$f":"IF(J11=TRUE,H10+J10,G10+K10)","v":0},"Maximal-Werte Fzzul neu berechnet"]
["E",null,126630000,null,"Absolutbetrag",null,{"$f":"ABS(G31)","v":0}]
["Schwerpunktabstand in y-Richtung","mm",{"$f":"C14","v":0},null,"Mz ges","Nm",{"$f":"MAX(G30,G32)","v":0}]
["Wert K (Abstand Stirnplatte/1.Buchse)","mm",30,null,"Mz zul","Nm",{"$f":"G21","v":10.5}]
[]
[null,null,null,null,null,null,null,null,"Belastungsgleichung stat.",{"$f":"G19/G21+G25/G26+G32/G34+G38/G39+G42/G43","v":0}]
[null,null,null,null,"Fx ges","N",{"$f":"C17","v":0},null,"Belastungsgleichung dyn.",{"$f":"G17/G21+G30/G34","v":0}]
[null,null,null,null,"Absolutwert",null,{"$f":"ABS(G37)","v":0},null,"Belastungsgleichung",{"$f":"MAX(J36:J37)","v":0}]
[null,null,null,null,"Fx zul","N",{"$f":"G43","v":224}]
["Stoßdämpferhub s ( Hub bis a=0 )","m",{"$f":"'Allgemeine Werte'!M34","v":4.0200000000000001E-3}]
["Verzögerung a=vxv/2xs","m/s2",{"$f":"POWER(C48,2)/(2*C40)","v":1.6666777770672143},null,"Fz ges","N",{"$f":"-C25","v":0},null,"Verfahrzeitberechnung",null,{"$f":"0.000622837*POWER(C5,2)-0.084083045*C5+5.522802768","v":4.7442560179999997}]
["Kraft zur Verzögerung der Masse","N",{"$f":"C12*C41","v":0},null,"Absolutwert",null,{"$f":"ABS(G41)","v":0},null,"Verfahrzeit berechnet ( t=Wurzel aus (2xsxm/F)",null,{"$f":"(SQRT(2*(C5/1000)*(C12+C8/2)/(C6-(C12+C8/2)*9.81)))*K41","v":4.1755472861313564E-2}]
["Kraft zur Verzög. d. Masse incl Modul/2","N",{"$f":"C47*C41","v":0.41666944426680358},null,"Fz zul","N",{"$f":"IF(C7=0,'Allgemeine Werte'!C79,IF(C7=1,'Allgemeine Werte'!C80,IF(C7=2,'Allgemeine Werte'!C81,0)))","v":224},null,"Mittlere Verfahrgeschwindigkeit berechnet",null,{"$f":"(C5/1000)/K42","v":0.23948956423542261}]
[null,null,null,null,null,null,null,null,"Endgeschwindigkeit berechnet",null,{"$f":"K43*'Allgemeine Werte'!E71","v":0.41910673741198956}]
["Stoßdämpferberechnung",null,null,null,"Max. Zyklenzahl / Min."]
["Anzahl Stoßdämpfer",null,1,null,"Zyklen aus Verfahrzeit",null,{"$f":"60/(2*L50)","v":198.44357976653694},null,"Endgeschwindigkeit (Eingabe)",null,{"$f":"C10","v":2.02}]
["Gesamtmasse","kg",{"$f":"C12+C8/2","v":0.25},null,null,null,null,null,"Mittlere Verfahrgeschwindigkeit (Eingabe)   m/s",null,{"$f":"C10/'Allgemeine Werte'!E71","v":1.1542857142857144}]
["Aufprallgeschwindigkeit","m/s",{"$f":"L54","v":0.11575875486381323},null,"Ezul / Stunde","Nm",{"$f":"'Allgemeine Werte'!H34*C46*0.95","v":13680},null,"Verfahrzeit (Eingabe)","s",{"$f":"(C5/1000)/K47","v":8.6633663366336624E-3},"Verfahrzeit für Berechnung"]
["W1","Nm",{"$f":"C47*POWER(C48,2)*0.5","v":1.6750111659525504E-3},null,"Ezul / Minute","Nm",{"$f":"G48/60","v":228},null,null,null,null,"( max )"]
["Hub Stoßdämpfer","m",{"$f":"'Allgemeine Werte'!L34","v":6.0000000000000001E-3},null,"Zyklen aus Ezul",null,{"$f":"G49/C53","v":586.17851052745414},null,"min. Verfahrzeit ab","gemessen",{"$f":"0.13+((C5-8)/17)*0.01","v":0.13117647058823531},{"$f":"MAX(K48,K53,K42)","v":0.1511764705882353}]
["Zylinderkraft","N",67,null,null,null,null,null,"Mittlere Verfahrgeschwindigkeit ab",null,{"$f":"(C5/1000)/K50","v":7.623318385650224E-2}]
["W2 ( Antriebsenergie )","Nm",{"$f":"MAX(C56,C57)*C50","v":0.38728499999999999},null,"Max. Zyklen",null,{"$f":"MIN(G46,G50,G55)","v":120},null,"Endgeschwindigkeit ab",null,{"$f":"K51*'Allgemeine Werte'!E71","v":0.13340807174887892},"Endgeschwindigkeit f. Ber."]
["W1+W2 ( Energie / Hub )","Nm",{"$f":"C52+C49","v":0.38896001116595252},null,null,null,null,null,"min. Verfahrzeit auf",null,{"$f":"0.15+(((C5-8)/17)*0.01)","v":0.1511764705882353},"( min )"]
["Ezul / Zyklus ( Hub )","Nm",{"$f":"'Allgemeine Werte'!G34*C50/'Allgemeine Werte'!K34*C46","v":3.0000000000000004},null,"Stoßd.-kolbenrückstellzeit",null,{"$f":"'Allgemeine Werte'!E34","v":0.5},null,"Mittlere Verfahrgeschwindigkeit auf",null,{"$f":"(C5/1000)/K53","v":6.6147859922178989E-2},{"$f":"MIN(K46,K55,K44)","v":0.11575875486381323}]
["Auslastung / Zyklus",null,{"$f":"C53/C54","v":0.12965333705531748},null,"Max. Zyklen aus Rückstellzeit",null,{"$f":"60/G54","v":120},null,"Endgeschwindigkeit auf",null,{"$f":"K54*'Allgemeine Werte'!E71","v":0.11575875486381323}]
["Antriebskraft nach oben",null,{"$f":"C6-C47*9.81","v":64.547499999999999}]
["Antriebskraft nach unten",null,{"$f":"C9+C47*9.81","v":52.452500000000001}]

{"sheet":"EM-Ber-KLM25-4","index":51,"n_rows":55,"n_cols":12,"rows_kept":55,"cut":false,"hidden":false,"merged":[]}
["Linearmodul Typ",null,"KLM 25"]
[]
["Berechnung der Führungsbelastung"]
[null,null,null,null,null,null,"Statisch auf Grund","Statisch auf Grund"]
["Hub","mm",{"$f":"'EM-LM-4'!K8","v":10},null,null,null,"Zusatzmasse m","Zusatzmasse m","Dynamisch auf Grund","Statisch auf Grund","Statisch auf Grund"]
["Zylinderkraft","N",67,null,null,null,"Modul ausgef.","Modul eingef.","Zusatzmasse m","Zusatzkraft Modul eingef.","Zusatzkraft Modul ausgef."]
["Faktor",null,{"$f":"ROUNDDOWN(((C5-8)/17.1),0)","v":0},null,null,null,"I","II","III","IV","V"]
["Modulgewicht","kg",{"$f":"0.5+(C7*0.08)","v":0.5},null,"Moment Mx=M2","Nm",{"$f":"(C12*9.81)*(C34+C14+C30/2)/1000","v":0},{"$f":"(C12*9.81)*(C34+C14+C30/2)/1000","v":0},{"$f":"C42*(C15/1000)","v":0},{"$f":"(C21*C23/1000)-C25*(C27+C34+C30/2)/1000","v":0},{"$f":"(C21*C23/1000)-C25*((C27+C34+C30/2)/1000)","v":0}]
["Zylinderkraft zurück","N",50,null,"Moment My=M1","Nm",{"$f":"C12*9.81*(C13/1000)","v":0},{"$f":"C12*9.81*(C13/1000)","v":0},"-",{"$f":"C17*C19/1000-C25*(C26/1000)","v":0},{"$f":"C17*C19/1000-C25*(C26/1000)","v":0}]
["Verfahrgeschwindigkeit","m/s",{"$f":"'EM-LM-4-1'!I58","v":2.02},null,"Moment Mz=M3","Nm","-","-",{"$f":"C42*(C13/1000)","v":0},{"$f":"C21*C22/1000-C17*(C18+C34+C30/2)/1000","v":0},{"$f":"C21*C22/1000-C17*(C18+C34+C30/2)/1000","v":0}]
[null,null,null,null,null,null,null,null,null,{"$f":"'EM-LM-4'!G51","v":false}]
["Zusatzmasse","kg",{"$f":"'EM-LM-4'!K14","v":0},null,"Mx Summe  I + III","Nm",{"$f":"G8+I8","v":0}]
["Schwerpunktabstand x-Richtung","mm",{"$f":"'EM-LM-4'!M14","v":0},null,"Absolutbetrag",null,{"$f":"ABS(G12)","v":0}]
["Schwerpunktabstand y-Richtung","mm",{"$f":"'EM-LM-4'!O14","v":0},null,"Mx Summe  II-III",null,{"$f":"H8-I8","v":0}]
["Schwerpunktabstand z-Richt.(Mitte Welle)","mm",{"$f":"'EM-LM-4'!Q14+20","v":20},null,"Absolutbetrag",null,{"$f":"ABS(G14)","v":0}]
[null,null,null,null,"I ","Nm",{"$f":"G8","v":0}]
["Zusatzkraft Fx","N",{"$f":"'EM-LM-4'!K18","v":0},null,"I oder I+III oder II-III",null,{"$f":"MAX(G16,G15,G13)","v":0}]
["Kraftangriffspunkt von Fx in y-Richtung","mm",{"$f":"'EM-LM-4'!O18","v":0},null,"Mx Summe  I+V oder II+IV","Nm",{"$f":"IF(AND(J8=0,K8=0),MAX(G8,H8),IF(J11=TRUE,H8+J8,G8+K8))","v":0}]
["Kraftangrp. von Fx in z-Richt.(Mitte Welle)","mm",{"$f":"'EM-LM-4'!Q18+20","v":20},null,"Absolutbetrag",null,{"$f":"ABS(G18)","v":0}]
[null,null,null,null,"Mx ges","Nm",{"$f":"MAX(G17,G19)","v":0}]
["Zusatzkraft Fy","N",{"$f":"'EM-LM-4'!K20","v":0},null,"Mx zul","Nm",{"$f":"IF(C7=0,'Allgemeine Werte'!B79,IF(C7=1,'Allgemeine Werte'!B80,IF(C7=2,'Allgemeine Werte'!B81,0)))","v":10.5},null,"Maximal-Werte Mxzul  berechnet über Extrablatt !!"]
["Kraftangriffspunkt von Fy in x-Richtung","mm",{"$f":"'EM-LM-4'!M20","v":0},null,null,null,null,null,"Länge L, tan alpha und E werden zur Berechnung von Mx nicht mehr benötigt"]
["Kraftangrp. von Fy in z-Richt.(Mitte Welle)","mm",{"$f":"'EM-LM-4'!Q20+20","v":20},null,"My Summe  I+V ( = II+IV )","Nm",{"$f":"G9+K9","v":0}]
[null,null,null,null,"Absolutbetrag",null,{"$f":"ABS(G23)","v":0}]
["Zusatzkraft Fz","N",{"$f":"'EM-LM-4'!K22","v":0},null,"My ges","Nm",{"$f":"G24","v":0}]
["Kraftangriffspunkt von Fz in x-Richtung","mm",{"$f":"'EM-LM-4'!M22","v":0},null,"My zul","Nm",{"$f":"G43*0.0135","v":3.024},null,"Maximal-Werte Myzul berechnet aus Fzzul und Abstand Führungssäulen !!"]
["Kraftangriffspunkt von Fz in y-Richtung","mm",{"$f":"'EM-LM-4'!O22","v":0}]
[]
[null,null,null,null,"Mz III","Nm",{"$f":"I10","v":0}]
["Länge L (Mittenabstand Buchsen)","mm",{"$f":"50+(C7*17)","v":50},null,"Absolutbetrag",null,{"$f":"ABS(G29)","v":0}]
["tan alpha",null,{"$f":"0.00065+(C7*0.00011)","v":6.4999999999999997E-4},null,"Mz IV/V","Nm",{"$f":"IF(J11=TRUE,J10,K10)","v":0},null,"Maximal-Werte Fzzul neu berechnet"]
["E",null,126630000,null,"Absolutbetrag",null,{"$f":"ABS(G31)","v":0}]
["Schwerpunktabstand in y-Richtung","mm",{"$f":"C14","v":0},null,"Mz ges","Nm",{"$f":"MAX(G30,G32)","v":0}]
["Reduzierter Wert K","mm",{"$f":"C35-C36","v":12},null,"Mz zul","Nm",{"$f":"G21","v":10.5}]
["Wert K (Abstand Stirnplatte/1.Buchse)","mm",30]
["Anfangswert (Abst. Stirnpl./Deckplatte)","mm",18,null,null,null,null,null,"Belastungsgleichung stat.",{"$f":"G19/G21+G25/G26+G32/G34+G38/G39+G42/G43","v":0}]
[null,null,null,null,"Fx ges","N",{"$f":"C17","v":0},null,"Belastungsgleichung dyn.",{"$f":"G17/G21+G30/G34+G40/G43","v":0}]
[null,null,null,null,"Absolutwert",null,{"$f":"ABS(G37)","v":0},null,"Belastungsgleichung",{"$f":"MAX(J36:J37)","v":0}]
[null,null,null,null,"Fx zul","N",{"$f":"G43","v":224}]
["Stoßdämpferhub s ( Hub bis a=0 )","m",{"$f":"'Allgemeine Werte'!M34","v":4.0200000000000001E-3},null,"Gewichtskraft","N",{"$f":"C12*9.81","v":0}]
["Verzögerung a=vxv/2xs","m/s2",{"$f":"POWER(C48,2)/(2*C40)","v":1.4662795100633013},null,"Fz ges abs","N",{"$f":"ABS(-C25+C12*9.81)","v":0},null,"Verfahrzeitberechnung",null,{"$f":"0.00067474*POWER(C5,2)-0.091089965*C5+5.905536332","v":5.0621106820000001}]
["Kraft zur Verzögerung der Masse","N",{"$f":"C12*C41","v":0},null,"Max aus E40,E41",null,{"$f":"MAX(G40,G41)","v":0},null,"Verfahrzeit berechnet ( t=Wurzel aus (2xsxm/F)",null,{"$f":"(SQRT(2*(C5/1000)*(C12+C8/2)/C9))*K41","v":5.0621106820000004E-2}]
["Kraft zur Verzög. d. Masse incl Modul/2","N",{"$f":"C47*C41","v":0.36656987751582532},null,"Fz zul","N",{"$f":"IF(C7=0,'Allgemeine Werte'!C79,IF(C7=1,'Allgemeine Werte'!C80,IF(C7=2,'Allgemeine Werte'!C81,0)))","v":224},null,"Mittlere Verfahrgeschwindigkeit berechnet",null,{"$f":"(C5/1000)/K42","v":0.19754605594773519}]
[null,null,null,null,null,null,null,null,"Endgeschwindigkeit berechnet",null,{"$f":"K43*'Allgemeine Werte'!E71","v":0.34570559790853661}]
["Stoßdämpferberechnung",null,null,null,"Max. Zyklenzahl / Min."]
["Anzahl Stoßdämpfer",null,1,null,"Zyklen aus Verfahrzeit",null,{"$f":"60/(2*L50)","v":186.13138686131384},null,"Endgeschwindigkeit (Eingabe)",null,{"$f":"C10","v":2.02}]
["Gesamtmasse","kg",{"$f":"C12+C8/2","v":0.25},null,null,null,null,null,"Mittlere Verfahrgeschwindigkeit (Eingabe)   m/s",null,{"$f":"C10/'Allgemeine Werte'!E71","v":1.1542857142857144}]
["Aufprallgeschwindigkeit","m/s",{"$f":"L54","v":0.10857664233576642},null,"Ezul / Stunde","Nm",{"$f":"'Allgemeine Werte'!H34*C46*0.95","v":13680},null,"Verfahrzeit (Eingabe)","s",{"$f":"(C5/1000)/K47","v":8.6633663366336624E-3},"Verfahrzeit für Berechnung"]
["W1","Nm",{"$f":"C47*POWER(C48,2)*0.5","v":1.4736109076136179E-3},null,"Ezul / Minute","Nm",{"$f":"G48/60","v":228},null,null,null,null,"( max )"]
["Hub Stoßdämpfer","m",{"$f":"'Allgemeine Werte'!L34","v":6.0000000000000001E-3},null,"Zyklen aus Ezul",null,{"$f":"G49/C53","v":565.09271941506688},null,"min. Verfahrzeit vor","gemessen",{"$f":"0.14+((C5-8)/17)*0.01","v":0.14117647058823532},{"$f":"MAX(K48,K53,K42)","v":0.16117647058823531}]
["Zylinderkraft","N",67,null,null,null,null,null,"Mittlere Verfahrgeschwindigkeit vor",null,{"$f":"(C5/1000)/K50","v":7.0833333333333318E-2}]
["W2 ( Antriebsenergie )","Nm",{"$f":"C51*C50","v":0.40200000000000002},null,"Max. Zyklen",null,{"$f":"MIN(G46,G50,G55)","v":120},null,"Endgeschwindigkeit vor",null,{"$f":"K51*'Allgemeine Werte'!E71","v":0.12395833333333331},"Endgeschwindigkeit f. Ber."]
["W1+W2 ( Energie / Hub )","Nm",{"$f":"C52+C49","v":0.40347361090761363},null,null,null,null,null,"min. Verfahrzeit zurück",null,{"$f":"0.16+(((C5-8)/17)*0.01)","v":0.16117647058823531},"( min )"]
["Ezul / Zyklus ( Hub )","Nm",{"$f":"'Allgemeine Werte'!G34*C50/'Allgemeine Werte'!K34*C46","v":3.0000000000000004},null,"Stoßd.-kolbenrückstellzeit",null,{"$f":"'Allgemeine Werte'!E34","v":0.5},null,"Mittlere Verfahrgeschwindigkeit zurück",null,{"$f":"(C5/1000)/K53","v":6.204379562043795E-2},{"$f":"MIN(K46,K55,K44)","v":0.10857664233576642}]
["Auslastung / Zyklus",null,{"$f":"C53/C54","v":0.13449120363587119},null,"Max. Zyklen aus Rückstellzeit",null,{"$f":"60/G54","v":120},null,"Endgeschwindigkeit zurück",null,{"$f":"K54*'Allgemeine Werte'!E71","v":0.10857664233576642}]

{"sheet":"EM-Ber-KLM25-5","index":52,"n_rows":55,"n_cols":12,"rows_kept":55,"cut":false,"hidden":false,"merged":[]}
["Linearmodul Typ",null,"KLM 25"]
[]
["Berechnung der Führungsbelastung"]
[null,null,null,null,null,null,"Statisch auf Grund","Statisch auf Grund"]
["Hub","mm",{"$f":"'EM-LM-5'!K8","v":10},null,null,null,"Zusatzmasse m","Zusatzmasse m","Dynamisch auf Grund","Statisch auf Grund","Statisch auf Grund"]
["Zylinderkraft","N",67,null,null,null,"Modul ausgef.","Modul eingef.","Zusatzmasse m","Zusatzkraft Modul eingef.","Zusatzkraft Modul ausgef."]
["Faktor",null,{"$f":"ROUNDDOWN(((C5-8)/17.1),0)","v":0},null,null,null,"I","II","III","IV","V"]
["Modulgewicht","kg",{"$f":"0.5+(C7*0.08)","v":0.5},null,"Moment Mx=M3","Nm",{"$f":"(C12*9.81)*(C34+C14+C30/2)/1000","v":0},{"$f":"(C12*9.81)*(C34+C14+C30/2)/1000","v":0},{"$f":"C42*(C15/1000)","v":0},{"$f":"(C21*C23/1000)-C25*(C27+C34+C30/2)/1000","v":0},{"$f":"(C21*C23/1000)-C25*(C27+C34+C30/2)/1000","v":0}]
["Zylinderkraft zurück","N",50,null,"Moment My=M1","Nm",{"$f":"C12*9.81*((C13)/1000)","v":0},{"$f":"C12*9.81*((C13)/1000)","v":0},"-",{"$f":"C17*(C19/1000)-C25*C26/1000","v":0},{"$f":"C17*(C19/1000)-C25*C26/1000","v":0}]
["Verfahrgeschwindigkeit","m/s",{"$f":"'EM-LM-5-1'!I58","v":2.02},null,"Moment Mz=M2","Nm","-","-",{"$f":"C42*(C13/1000)","v":0},{"$f":"C21*C22/1000-C17*(C18+C34+C30/2)/1000","v":0},{"$f":"C21*C22/1000-C17*(C18+C34+C30/2)/1000","v":0}]
[null,null,null,null,null,null,null,null,null,{"$f":"'EM-LM-5'!G51","v":false}]
["Zusatzmasse","kg",{"$f":"'EM-LM-5'!K14","v":0},null,"Mx Summe  I + III","Nm",{"$f":"G8+I8","v":0}]
["Schwerpunktabstand x-Richt.(Mitte Welle)","mm",{"$f":"'EM-LM-5'!M14+20","v":20},null,"Absolutbetrag",null,{"$f":"ABS(G12)","v":0}]
["Schwerpunktabstand y-Richtung","mm",{"$f":"'EM-LM-5'!O14","v":0},null,"Mx Summe  II-III",null,{"$f":"H8-I8","v":0}]
["Schwerpunktabstand z-Richtung","mm",{"$f":"'EM-LM-5'!Q14","v":0},null,"Absolutbetrag",null,{"$f":"ABS(G14)","v":0}]
[null,null,null,null,"I ","Nm",{"$f":"G8","v":0}]
["Zusatzkraft Fx","N",{"$f":"'EM-LM-5'!K18","v":0},null,"I oder I+III oder II-III",null,{"$f":"MAX(G16,G15,G13)","v":0}]
["Kraftangriffspunkt von Fx in y-Richtung","mm",{"$f":"'EM-LM-5'!O18","v":0},null,"Mx Summe  I+V oder II+IV","Nm",{"$f":"IF(AND(J8=0,K8=0),MAX(G8,H8),IF(J11=TRUE,H8+J8,G8+K8))","v":0}]
["Kraftangriffspunkt von Fx in z-Richtung","mm",{"$f":"'EM-LM-5'!Q18","v":0},null,"Absolutbetrag",null,{"$f":"ABS(G18)","v":0}]
[null,null,null,null,"Mx ges","Nm",{"$f":"MAX(G17,G19)","v":0}]
["Zusatzkraft Fy","N",{"$f":"'EM-LM-5'!K20","v":0},null,"Mx zul","Nm",{"$f":"IF(C7=0,'Allgemeine Werte'!B79,IF(C7=1,'Allgemeine Werte'!B80,IF(C7=2,'Allgemeine Werte'!B81,0)))","v":10.5},null,"Maximal-Werte Mxzul  berechnet über Extrablatt !!"]
["Kraftangrp. von Fy in x-Richt. (Mitte Welle)","mm",{"$f":"'EM-LM-5'!M20+20","v":20},null,null,null,null,null,"Länge L, tan alpha und E werden zur Berechnung von Mx nicht mehr benötigt"]
["Kraftangrp. von Fy in z-Richt.","mm",{"$f":"'EM-LM-5'!Q20","v":0},null,"My Summe  I+V ( = II+IV )","Nm",{"$f":"G9+K9","v":0}]
[null,null,null,null,"Absolutbetrag",null,{"$f":"ABS(G23)","v":0}]
["Zusatzkraft Fz","N",{"$f":"'EM-LM-5'!K22","v":0},null,"My ges","Nm",{"$f":"G24","v":0}]
["Kraftangrp. von Fz in x-Richt. (Mitte Welle)","mm",{"$f":"'EM-LM-5'!M22+20","v":20},null,"My zul","Nm",{"$f":"G43*0.0135","v":3.024},null,"Maximal-Werte Myzul berechnet aus Fzzul und Abstand Führungssäulen !!"]
["Kraftangriffspunkt von Fz in y-Richtung","mm",{"$f":"'EM-LM-5'!O22","v":0}]
[]
[null,null,null,null,"Mz III","Nm",{"$f":"I10","v":0}]
["Länge L (Mittenabstand Buchsen)","mm",{"$f":"50+(C7*17)","v":50},null,"Absolutbetrag",null,{"$f":"ABS(G29)","v":0}]
["tan alpha",null,{"$f":"0.00065+(C7*0.00011)","v":6.4999999999999997E-4},null,"Mz IV/V","Nm",{"$f":"IF(J11=TRUE,J10,K10)","v":0},null,"Maximal-Werte Fzzul neu berechnet"]
["E",null,126630000,null,"Absolutbetrag",null,{"$f":"ABS(G31)","v":0}]
["Schwerpunktabstand in y-Richtung","mm",{"$f":"C14","v":0},null,"Mz ges","Nm",{"$f":"MAX(G30,G32)","v":0}]
["Reduzierter Wert K","mm",{"$f":"C35-C36","v":12},null,"Mz zul","Nm",{"$f":"G21","v":10.5}]
["Wert K (Abstand Stirnplatte/1.Buchse)","mm",30]
["Anfangswert (Abst. Stirnpl./Deckplatte)","mm",18,null,null,null,null,null,"Belastungsgleichung stat.",{"$f":"G19/G21+G25/G26+G32/G34+G38/G39+G42/G43","v":0}]
[null,null,null,null,"Fx ges","N",{"$f":"C17","v":0},null,"Belastungsgleichung dyn.",{"$f":"G17/G21+G30/G34+G40/G43","v":0}]
[null,null,null,null,"Absolutwert",null,{"$f":"ABS(G37)","v":0},null,"Belastungsgleichung",{"$f":"MAX(J36:J37)","v":0}]
[null,null,null,null,"Fx zul","N",{"$f":"G43","v":224}]
["Stoßdämpferhub s ( Hub bis a=0 )","m",{"$f":"'Allgemeine Werte'!M34","v":4.0200000000000001E-3},null,"Gewichtskraft","N",{"$f":"C12*9.81","v":0}]
["Verzögerung a=vxv/2xs","m/s2",{"$f":"POWER(C48,2)/(2*C40)","v":1.4662795100633013},null,"Fz ges abs","N",{"$f":"ABS(-C25+C12*9.81)","v":0},null,"Verfahrzeitberechnung",null,{"$f":"0.00067474*POWER(C5,2)-0.091089965*C5+5.905536332","v":5.0621106820000001}]
["Kraft zur Verzögerung der Masse","N",{"$f":"C12*C41","v":0},null,"Max aus E40,E41",null,{"$f":"MAX(G40,G41)","v":0},null,"Verfahrzeit berechnet ( t=Wurzel aus (2xsxm/F)",null,{"$f":"(SQRT(2*(C5/1000)*(C12+C8/2)/C9))*K41","v":5.0621106820000004E-2}]
["Kraft zur Verzög. d. Masse incl Modul/2","N",{"$f":"C47*C41","v":0.36656987751582532},null,"Fz zul","N",{"$f":"IF(C7=0,'Allgemeine Werte'!C79,IF(C7=1,'Allgemeine Werte'!C80,IF(C7=2,'Allgemeine Werte'!C81,0)))","v":224},null,"Mittlere Verfahrgeschwindigkeit berechnet",null,{"$f":"(C5/1000)/K42","v":0.19754605594773519}]
[null,null,null,null,null,null,null,null,"Endgeschwindigkeit berechnet",null,{"$f":"K43*'Allgemeine Werte'!E71","v":0.34570559790853661}]
["Stoßdämpferberechnung",null,null,null,"Max. Zyklenzahl / Min."]
["Anzahl Stoßdämpfer",null,1,null,"Zyklen aus Verfahrzeit",null,{"$f":"60/(2*L50)","v":186.13138686131384},null,"Endgeschwindigkeit (Eingabe)",null,{"$f":"C10","v":2.02}]
["Gesamtmasse","kg",{"$f":"C12+C8/2","v":0.25},null,null,null,null,null,"Mittlere Verfahrgeschwindigkeit (Eingabe)   m/s",null,{"$f":"C10/'Allgemeine Werte'!E71","v":1.1542857142857144}]
["Aufprallgeschwindigkeit","m/s",{"$f":"L54","v":0.10857664233576642},null,"Ezul / Stunde","Nm",{"$f":"'Allgemeine Werte'!H34*C46*0.95","v":13680},null,"Verfahrzeit (Eingabe)","s",{"$f":"(C5/1000)/K47","v":8.6633663366336624E-3},"Verfahrzeit für Berechnung"]
["W1","Nm",{"$f":"C47*POWER(C48,2)*0.5","v":1.4736109076136179E-3},null,"Ezul / Minute","Nm",{"$f":"G48/60","v":228},null,null,null,null,"( max )"]
["Hub Stoßdämpfer","m",{"$f":"'Allgemeine Werte'!L34","v":6.0000000000000001E-3},null,"Zyklen aus Ezul",null,{"$f":"G49/C53","v":565.09271941506688},null,"min. Verfahrzeit vor","gemessen",{"$f":"0.14+((C5-8)/17)*0.01","v":0.14117647058823532},{"$f":"MAX(K48,K53,K42)","v":0.16117647058823531}]
["Zylinderkraft","N",67,null,null,null,null,null,"Mittlere Verfahrgeschwindigkeit vor",null,{"$f":"(C5/1000)/K50","v":7.0833333333333318E-2}]
["W2 ( Antriebsenergie )","Nm",{"$f":"C51*C50","v":0.40200000000000002},null,"Max. Zyklen",null,{"$f":"MIN(G46,G50,G55)","v":120},null,"Endgeschwindigkeit vor",null,{"$f":"K51*'Allgemeine Werte'!E71","v":0.12395833333333331},"Endgeschwindigkeit f. Ber."]
["W1+W2 ( Energie / Hub )","Nm",{"$f":"C52+C49","v":0.40347361090761363},null,null,null,null,null,"min. Verfahrzeit zurück",null,{"$f":"0.16+(((C5-8)/17)*0.01)","v":0.16117647058823531},"( min )"]
["Ezul / Zyklus ( Hub )","Nm",{"$f":"'Allgemeine Werte'!G34*C50/'Allgemeine Werte'!K34*C46","v":3.0000000000000004},null,"Stoßd.-kolbenrückstellzeit",null,{"$f":"'Allgemeine Werte'!E34","v":0.5},null,"Mittlere Verfahrgeschwindigkeit zurück",null,{"$f":"(C5/1000)/K53","v":6.204379562043795E-2},{"$f":"MIN(K46,K55,K44)","v":0.10857664233576642}]
["Auslastung / Zyklus",null,{"$f":"C53/C54","v":0.13449120363587119},null,"Max. Zyklen aus Rückstellzeit",null,{"$f":"60/G54","v":120},null,"Endgeschwindigkeit zurück",null,{"$f":"K54*'Allgemeine Werte'!E71","v":0.10857664233576642}]

{"sheet":"EM-Ber-KLM25-6","index":53,"n_rows":57,"n_cols":12,"rows_kept":57,"cut":false,"hidden":false,"merged":[]}
["Linearmodul Typ",null,"KLM 25"]
[]
["Berechnung der Führungsbelastung"]
[null,null,null,null,null,null,"Statisch auf Grund","Statisch auf Grund"]
["Hub","mm",{"$f":"'EM-LM-6'!K8","v":10},null,null,null,"Zusatzmasse m","Zusatzmasse m","Dynamisch auf Grund","Statisch auf Grund","Statisch auf Grund"]
["Zylinderkraft","N",67,null,null,null,"Modul ausgef.","Modul eingef.","Zusatzmasse m","Zusatzkraft Modul eingef.","Zusatzkraft Modul ausgef."]
["Faktor",null,{"$f":"ROUNDDOWN(((C5-8)/17.1),0)","v":0},null,null,null,"I","II","III","IV","V"]
["Modulgewicht","kg",{"$f":"0.5+(C7*0.08)","v":0.5},null,"Moment Mx=M3","Nm",{"$f":"C12*9.81*((C15)/1000)","v":0},{"$f":"C12*9.81*((C15)/1000)","v":0},{"$f":"C42*(C15/1000)","v":0},{"$f":"IF(K11=TRUE,-(C21*C23/1000)+C25*((C27+C34+C30/2)/1000),(C21*C23/1000)-C25*((C27+C34+C30/2)/1000))","v":0},{"$f":"IF(K11=TRUE,-(C21*C23/1000)+C25*((C27+C34+C30/2)/1000),(C21*C23/1000)-C25*((C27+C34+C30/2)/1000))","v":0}]
["Zylinderkraft zurück","N",50,null,"Moment My=M1","Nm","-","-","-",{"$f":"C17*(C19/1000)-C25*C26/1000","v":0},{"$f":"C17*(C19/1000)-C25*C26/1000","v":0}]
["Verfahrgeschwindigkeit","m/s",{"$f":"'EM-LM-6-1'!I58","v":2.02},null,"Moment Mz=M2","Nm",{"$f":"C12*9.81*((C13)/1000)","v":0},{"$f":"C12*9.81*((C13)/1000)","v":0},{"$f":"C42*(C13/1000)","v":0},{"$f":"IF(K11=TRUE,-C21*C22/1000+C17*(C18+C34+C30/2)/1000,C21*C22/1000-C17*(C18+C34+C30/2)/1000)","v":0},{"$f":"IF(K11=TRUE,-C21*C22/1000+C17*(C18+C34+C30/2)/1000,C21*C22/1000-C17*(C18+C34+C30/2)/1000)","v":0}]
[null,null,null,null,null,null,null,null,null,{"$f":"'EM-LM-6'!G51","v":false},{"$f":"'EM-LM-6'!G52","v":true}]
["Zusatzmasse","kg",{"$f":"'EM-LM-6'!K14","v":0}]
["Schwerpunktabstand x-Richt.(Mitte Welle)","mm",{"$f":"'EM-LM-6'!M14+20","v":20}]
["Schwerpunktabstand y-Richtung","mm",{"$f":"'EM-LM-6'!O14","v":0}]
["Schwerpunktabstand z-Richtung","mm",{"$f":"'EM-LM-6'!Q14","v":0}]
[null,null,null,null,"Mx Summe  I(II) + III","Nm",{"$f":"G8+I8","v":0}]
["Zusatzkraft Fx","N",{"$f":"'EM-LM-6'!K18","v":0},null,"Absolutbetrag",null,{"$f":"ABS(G16)","v":0}]
["Kraftangriffspunkt von Fx in y-Richtung","mm",{"$f":"'EM-LM-6'!O18","v":0},null,"Mx Summe  I+V oder II+IV","Nm",{"$f":"IF(J11=TRUE,H8+J8,G8+K8)","v":0}]
["Kraftangriffspunkt von Fx in z-Richtung","mm",{"$f":"'EM-LM-6'!Q18","v":0},null,"Absolutbetrag",null,{"$f":"ABS(G18)","v":0}]
[null,null,null,null,"Mx ges","Nm",{"$f":"MAX(G17,G19)","v":0}]
["Zusatzkraft Fy","N",{"$f":"'EM-LM-6'!K20","v":0},null,"Mx zul","Nm",{"$f":"IF(C7=0,'Allgemeine Werte'!B79,IF(C7=1,'Allgemeine Werte'!B80,IF(C7=2,'Allgemeine Werte'!B81,0)))","v":10.5},null,"Maximal-Werte Mxzul  berechnet über Extrablatt !!"]
["Kraftangrp. von Fy in x-Richt. (Mitte Welle)","mm",{"$f":"'EM-LM-6'!M20+20","v":20},null,null,null,null,null,"Länge L, tan alpha und E werden zur Berechnung von Mx nicht mehr benötigt"]
["Kraftangrp. von Fy in z-Richt.","mm",{"$f":"'EM-LM-6'!Q20","v":0},null,"My IV = V","Nm",{"$f":"J9","v":0}]
[null,null,null,null,"Absolutbetrag",null,{"$f":"ABS(G23)","v":0}]
["Zusatzkraft Fz","N",{"$f":"'EM-LM-6'!K22","v":0},null,"My ges","Nm",{"$f":"G24","v":0}]
["Kraftangrp. von Fz in x-Richt. (Mitte Welle)","mm",{"$f":"'EM-LM-6'!M22+20","v":20},null,"My zul","Nm",{"$f":"G43*0.0135","v":3.024},"Maximal-Werte Myzul berechnet aus Fzzul und Abstand Führungssäulen !!"]
["Kraftangriffspunkt von Fz in y-Richtung","mm",{"$f":"'EM-LM-6'!O22","v":0}]
[]
[null,null,null,null,"Mz Summe I(II)+III","Nm",{"$f":"G10+I10","v":0}]
["Länge L (Mittenabstand Buchsen)","mm",{"$f":"50+(C7*17)","v":50},null,"Absolutbetrag",null,{"$f":"ABS(G29)","v":0}]
["tan alpha",null,{"$f":"0.00065+(C7*0.00011)","v":6.4999999999999997E-4},null,"Mz Summe  I+V oder II+IV","Nm",{"$f":"IF(J11=TRUE,H10+J10,G10+K10)","v":0},"Maximal-Werte Fzzul neu berechnet"]
["E",null,126630000,null,"Absolutbetrag",null,{"$f":"ABS(G31)","v":0}]
["Schwerpunktabstand in y-Richtung","mm",{"$f":"C14","v":0},null,"Mz ges","Nm",{"$f":"MAX(G30,G32)","v":0}]
["Reduzierter Wert K","mm",{"$f":"C35-C36","v":12},null,"Mz zul","Nm",{"$f":"G21","v":10.5}]
["Wert K (Abstand Stirnplatte/1.Buchse)","mm",30]
["Anfangswert (Abst. Stirnpl./Deckplatte)","mm",18,null,null,null,null,null,"Belastungsgleichung stat.",{"$f":"G19/G21+G25/G26+G32/G34+G38/G39+G42/G43","v":0}]
[null,null,null,null,"Fx ges","N",{"$f":"C17","v":0},null,"Belastungsgleichung dyn.",{"$f":"G17/G21+G30/G34","v":0}]
[null,null,null,null,"Absolutwert",null,{"$f":"ABS(G37)","v":0},null,"Belastungsgleichung",{"$f":"MAX(J36:J37)","v":0}]
[null,null,null,null,"Fx zul","N",{"$f":"G43","v":224}]
["Stoßdämpferhub s ( Hub bis a=0 )","m",{"$f":"'Allgemeine Werte'!M34","v":4.0200000000000001E-3}]
["Verzögerung a=vxv/2xs","m/s2",{"$f":"POWER(C48,2)/(2*C40)","v":1.6666777770672143},null,"Fz ges","N",{"$f":"-C25","v":0},null,"Verfahrzeitberechnung",null,{"$f":"0.000622837*POWER(C5,2)-0.084083045*C5+5.522802768","v":4.7442560179999997}]
["Kraft zur Verzögerung der Masse","N",{"$f":"C12*C41","v":0},null,"Absolutwert",null,{"$f":"ABS(G41)","v":0},null,"Verfahrzeit berechnet ( t=Wurzel aus (2xsxm/F)",null,{"$f":"(SQRT(2*(C5/1000)*(C12+C8/2)/(C6-(C12+C8/2)*9.81)))*K41","v":4.1755472861313564E-2}]
["Kraft zur Verzög. d. Masse incl Modul/2","N",{"$f":"C47*C41","v":0.41666944426680358},null,"Fz zul","N",{"$f":"IF(C7=0,'Allgemeine Werte'!C79,IF(C7=1,'Allgemeine Werte'!C80,IF(C7=2,'Allgemeine Werte'!C81,0)))","v":224},null,"Mittlere Verfahrgeschwindigkeit berechnet",null,{"$f":"(C5/1000)/K42","v":0.23948956423542261}]
[null,null,null,null,null,null,null,null,"Endgeschwindigkeit berechnet",null,{"$f":"K43*'Allgemeine Werte'!E71","v":0.41910673741198956}]
["Stoßdämpferberechnung",null,null,null,"Max. Zyklenzahl / Min."]
["Anzahl Stoßdämpfer",null,1,null,"Zyklen aus Verfahrzeit",null,{"$f":"60/(2*L50)","v":198.44357976653694},null,"Endgeschwindigkeit (Eingabe)",null,{"$f":"C10","v":2.02}]
["Gesamtmasse","kg",{"$f":"C12+C8/2","v":0.25},null,null,null,null,null,"Mittlere Verfahrgeschwindigkeit (Eingabe)   m/s",null,{"$f":"C10/'Allgemeine Werte'!E71","v":1.1542857142857144}]
["Aufprallgeschwindigkeit","m/s",{"$f":"L54","v":0.11575875486381323},null,"Ezul / Stunde","Nm",{"$f":"'Allgemeine Werte'!H34*C46*0.95","v":13680},null,"Verfahrzeit (Eingabe)","s",{"$f":"(C5/1000)/K47","v":8.6633663366336624E-3},"Verfahrzeit für Berechnung"]
["W1","Nm",{"$f":"C47*POWER(C48,2)*0.5","v":1.6750111659525504E-3},null,"Ezul / Minute","Nm",{"$f":"G48/60","v":228},null,null,null,null,"( max )"]
["Hub Stoßdämpfer","m",{"$f":"'Allgemeine Werte'!L34","v":6.0000000000000001E-3},null,"Zyklen aus Ezul",null,{"$f":"G49/C53","v":586.17851052745414},null,"min. Verfahrzeit ab","gemessen",{"$f":"0.13+((C5-8)/17)*0.01","v":0.13117647058823531},{"$f":"MAX(K48,K53,K42)","v":0.1511764705882353}]
["Zylinderkraft","N",67,null,null,null,null,null,"Mittlere Verfahrgeschwindigkeit ab",null,{"$f":"(C5/1000)/K50","v":7.623318385650224E-2}]
["W2 ( Antriebsenergie )","Nm",{"$f":"MAX(C56,C57)*C50","v":0.38728499999999999},null,"Max. Zyklen",null,{"$f":"MIN(G46,G50,G55)","v":120},null,"Endgeschwindigkeit ab",null,{"$f":"K51*'Allgemeine Werte'!E71","v":0.13340807174887892},"Endgeschwindigkeit f. Ber."]
["W1+W2 ( Energie / Hub )","Nm",{"$f":"C52+C49","v":0.38896001116595252},null,null,null,null,null,"min. Verfahrzeit auf",null,{"$f":"0.15+(((C5-8)/17)*0.01)","v":0.1511764705882353},"( min )"]
["Ezul / Zyklus ( Hub )","Nm",{"$f":"'Allgemeine Werte'!G34*C50/'Allgemeine Werte'!K34*C46","v":3.0000000000000004},null,"Stoßd.-kolbenrückstellzeit",null,{"$f":"'Allgemeine Werte'!E34","v":0.5},null,"Mittlere Verfahrgeschwindigkeit auf",null,{"$f":"(C5/1000)/K53","v":6.6147859922178989E-2},{"$f":"MIN(K46,K55,K44)","v":0.11575875486381323}]
["Auslastung / Zyklus",null,{"$f":"C53/C54","v":0.12965333705531748},null,"Max. Zyklen aus Rückstellzeit",null,{"$f":"60/G54","v":120},null,"Endgeschwindigkeit auf",null,{"$f":"K54*'Allgemeine Werte'!E71","v":0.11575875486381323}]
["Antriebskraft nach oben",null,{"$f":"C6-C47*9.81","v":64.547499999999999}]
["Antriebskraft nach unten",null,{"$f":"C9+C47*9.81","v":52.452500000000001}]

{"sheet":"EM-Ber-KLM50-1","index":54,"n_rows":55,"n_cols":12,"rows_kept":55,"cut":false,"hidden":false,"merged":[]}
["Linearmodul Typ",null,"KLM 50"]
[]
["Berechnung der Führungsbelastung"]
[null,null,null,null,null,null,"Statisch auf Grund","Statisch auf Grund"]
["Hub","mm",{"$f":"'EM-LM-1'!K8","v":10},null,null,null,"Zusatzmasse m","Zusatzmasse m","Dynamisch auf Grund","Statisch auf Grund","Statisch auf Grund"]
["Zylinderkraft","N",120,null,null,null,"Modul ausgef.","Modul eingef.","Zusatzmasse m","Zusatzkraft Modul eingef.","Zusatzkraft Modul ausgef."]
["Faktor",null,{"$f":"ROUNDDOWN(((C5+12.5)/25.1)+0.5,0)","v":1},null,null,null,"I","II","III","IV","V"]
["Modulgewicht","kg",{"$f":"1.1+(C7*0.2)","v":1.3},null,"Moment Mx=M2","Nm",{"$f":"(C12*9.81)*(C34+C5+C14+C30/2)/1000","v":0},{"$f":"(C12*9.81)*(C34+C14+C30/2)/1000","v":0},{"$f":"C42*(C15/1000)","v":0},{"$f":"(C21*C23/1000)-C25*(C27+C34+C30/2)/1000","v":0},{"$f":"(C21*C23/1000)-C25*((C27+C34+C5+C30/2)/1000)","v":0}]
["Zylinderkraft zurück","N",103,null,"Moment My=M1","Nm",{"$f":"C12*9.81*(C13/1000)","v":0},{"$f":"C12*9.81*(C13/1000)","v":0},"-",{"$f":"C17*C19/1000-C25*(C26/1000)","v":0},{"$f":"C17*C19/1000-C25*(C26/1000)","v":0}]
["Verfahrgeschwindigkeit","m/s",{"$f":"'EM-LM-1-1'!I58","v":2.02},null,"Moment Mz=M3","Nm","-","-",{"$f":"C42*(C13/1000)","v":0},{"$f":"C21*C22/1000-C17*(C18+C34+C30/2)/1000","v":0},{"$f":"C21*C22/1000-C17*(C18+C34+C5+C30/2)/1000","v":0}]
[null,null,null,null,null,null,null,null,null,{"$f":"'EM-LM-1'!G51","v":true}]
["Zusatzmasse","kg",{"$f":"'EM-LM-1'!K14","v":0},null,"Mx Summe  I + III","Nm",{"$f":"G8+I8","v":0}]
["Schwerpunktabstand x-Richtung","mm",{"$f":"'EM-LM-1'!M14","v":0},null,"Absolutbetrag",null,{"$f":"ABS(G12)","v":0}]
["Schwerpunktabstand y-Richtung","mm",{"$f":"'EM-LM-1'!O14","v":0},null,"Mx Summe  II-III",null,{"$f":"H8-I8","v":0}]
["Schwerpunktabstand z-Richt.(Mitte Welle)","mm",{"$f":"'EM-LM-1'!Q14+12.5","v":12.5},null,"Absolutbetrag",null,{"$f":"ABS(G14)","v":0}]
[null,null,null,null,"I ","Nm",{"$f":"G8","v":0}]
["Zusatzkraft Fx","N",{"$f":"'EM-LM-1'!K18","v":0},null,"I oder I+III oder II-III",null,{"$f":"MAX(G16,G15,G13)","v":0}]
["Kraftangriffspunkt von Fx in y-Richtung","mm",{"$f":"'EM-LM-1'!O18","v":0},null,"Mx Summe  I+V oder II+IV","Nm",{"$f":"IF(AND(J8=0,K8=0),MAX(G8,H8),IF(J11=TRUE,H8+J8,G8+K8))","v":0}]
["Kraftangrp. von Fx in z-Richt.(Mitte Welle)","mm",{"$f":"'EM-LM-1'!Q18+12.5","v":12.5},null,"Absolutbetrag",null,{"$f":"ABS(G18)","v":0}]
[null,null,null,null,"Mx ges","Nm",{"$f":"MAX(G17,G19)","v":0}]
["Zusatzkraft Fy","N",{"$f":"'EM-LM-1'!K20","v":0},null,"Mx zul","Nm",{"$f":"IF(C7=1,'Allgemeine Werte'!B83,IF(C7=2,'Allgemeine Werte'!B84,IF(C7=3,'Allgemeine Werte'!B85,IF(C7=4,'Allgemeine Werte'!B86,IF(C7=5,'Allgemeine Werte'!B87,0)))))","v":23},null,"Maximal-Werte Mxzul  berechnet über Extrablatt !!"]
["Kraftangriffspunkt von Fy in x-Richtung","mm",{"$f":"'EM-LM-1'!M20","v":0},null,null,null,null,null,"Länge L, tan alpha und E werden zur Berechnung von Mx nicht mehr benötigt"]
["Kraftangrp. von Fy in z-Richt.(Mitte Rolle)","mm",{"$f":"'EM-LM-1'!Q20+12.5","v":12.5},null,"My Summe  I+V ( = II+IV )","Nm",{"$f":"G9+K9","v":0}]
[null,null,null,null,"Absolutbetrag",null,{"$f":"ABS(G23)","v":0}]
["Zusatzkraft Fz","N",{"$f":"'EM-LM-1'!K22","v":0},null,"My ges","Nm",{"$f":"G24","v":0}]
["Kraftangriffspunkt von Fz in x-Richtung","mm",{"$f":"'EM-LM-1'!M22","v":0},null,"My zul","Nm",{"$f":"G43*0.02","v":11.4},null,"Maximal-Werte Myzul berechnet aus Fzzul und Abstand Führungssäulen !!"]
["Kraftangriffspunkt von Fz in y-Richtung","mm",{"$f":"'EM-LM-1'!O22","v":0}]
[]
[null,null,null,null,"Mz III","Nm",{"$f":"I10","v":0}]
["Länge L (Mittenabstand Buchsen)","mm",{"$f":"30+(C7*25)","v":55},null,"Absolutbetrag",null,{"$f":"ABS(G29)","v":0}]
["tan alpha",null,{"$f":"0.0004+(C7*0.00012)","v":5.2000000000000006E-4},null,"Mz IV/V","Nm",{"$f":"IF(J11=TRUE,J10,K10)","v":0},null,"Maximal-Werte Fzzul neu berechnet"]
["E",null,641340000,null,"Absolutbetrag",null,{"$f":"ABS(G31)","v":0}]
["Schwerpunktabstand in y-Richtung","mm",{"$f":"C14","v":0},null,"Mz ges","Nm",{"$f":"MAX(G30,G32)","v":0}]
["Wert K (Abstand Stirnplatte/1.Buchse)","mm",35,null,"Mz zul","Nm",{"$f":"G21","v":23}]
[]
[null,null,null,null,null,null,null,null,"Belastungsgleichung stat.",{"$f":"G19/G21+G25/G26+G32/G34+G38/G39+G42/G43","v":0}]
[null,null,null,null,"Fx ges","N",{"$f":"C17","v":0},null,"Belastungsgleichung dyn.",{"$f":"G17/G21+G30/G34+G40/G43","v":0}]
[null,null,null,null,"Absolutwert",null,{"$f":"ABS(G37)","v":0},null,"Belastungsgleichung",{"$f":"MAX(J36:J37)","v":0}]
[null,null,null,null,"Fx zul","N",{"$f":"G43","v":570}]
["Stoßdämpferhub s ( Hub bis a=0 )","m",{"$f":"'Allgemeine Werte'!M36","v":4.5560000000000002E-3},null,"Gewichtskraft","N",{"$f":"C12*9.81","v":0}]
["Verzögerung a=vxv/2xs","m/s2",{"$f":"POWER(C48,2)/(2*C40)","v":4.8320373772797875},null,"Fz ges abs","N",{"$f":"ABS(-C25+C12*9.81)","v":0},null,"Verfahrzeitberechnung"]
["Kraft zur Verzögerung der Masse","N",{"$f":"C12*C41","v":0},null,"Max aus E40,E41",null,{"$f":"MAX(G40,G41)","v":0},null,"Verfahrzeit berechnet ( t=Wurzel aus (2xsxm/F)",null,{"$f":"(SQRT(2*(C5/1000)*(C12+C8/2)/C9))*(2.45-C7*0.15)","v":2.5839309257652796E-2}]
["Kraft zur Verzög. d. Masse incl Modul/2","N",{"$f":"C47*C41","v":3.1408242952318619},null,"Fz zul","N",{"$f":"IF(C7=1,'Allgemeine Werte'!C83,IF(C7=2,'Allgemeine Werte'!C84,IF(C7=3,'Allgemeine Werte'!C85,IF(C7=4,'Allgemeine Werte'!C86,IF(C7=5,'Allgemeine Werte'!C87,0)))))","v":570},null,"Mittlere Verfahrgeschwindigkeit berechnet",null,{"$f":"(C5/1000)/K42","v":0.38700724931485203}]
[null,null,null,null,null,null,null,null,"Endgeschwindigkeit berechnet",null,{"$f":"K43*'Allgemeine Werte'!E71","v":0.67726268630099107}]
["Stoßdämpferberechnung",null,null,null,"Max. Zyklenzahl / Min."]
["Anzahl Stoßdämpfer",null,1,null,"Zyklen aus Verfahrzeit",null,{"$f":"60/(2*L50)","v":359.71223021582733},null,"Endgeschwindigkeit (Eingabe)",null,{"$f":"C10","v":2.02}]
["Gesamtmasse","kg",{"$f":"C12+C8/2","v":0.65},null,null,null,null,null,"Mittlere Verfahrgeschwindigkeit (Eingabe)   m/s",null,{"$f":"C10/'Allgemeine Werte'!E71","v":1.1542857142857144}]
["Aufprallgeschwindigkeit","m/s",{"$f":"L54","v":0.20983213429256595},null,"Ezul / Stunde","Nm",{"$f":"'Allgemeine Werte'!H36*C46*0.95","v":23940},null,"Verfahrzeit (Eingabe)","s",{"$f":"(C5/1000)/K47","v":8.6633663366336624E-3},"Verfahrzeit für Berechnung"]
["W1","Nm",{"$f":"C47*POWER(C48,2)*0.5","v":1.4309595489076364E-2},null,"Ezul / Minute","Nm",{"$f":"G48/60","v":399},null,null,null,null,"( max )"]
["Hub Stoßdämpfer","m",{"$f":"'Allgemeine Werte'!L36","v":6.7999999999999996E-3},null,"Zyklen aus Ezul",null,{"$f":"G49/C53","v":480.54364560845221},null,"min. Verfahrzeit vor","gemessen",{"$f":"0.068+(C5/12.5)*0.007","v":7.3599999999999999E-2},{"$f":"MAX(K48,K53,K42)","v":8.3400000000000002E-2}]
["Zylinderkraft","N",120,null,null,null,null,null,"Mittlere Verfahrgeschwindigkeit vor",null,{"$f":"(C5/1000)/K50","v":0.1358695652173913}]
["W2 ( Antriebsenergie )","Nm",{"$f":"C51*C50","v":0.81599999999999995},null,"Max. Zyklen",null,{"$f":"MIN(G46,G50,G55)","v":120},null,"Endgeschwindigkeit vor",null,{"$f":"K51*'Allgemeine Werte'!E71","v":0.23777173913043476},"Endgeschwindigkeit f. Ber."]
["W1+W2 ( Energie / Hub )","Nm",{"$f":"C52+C49","v":0.83030959548907635},null,null,null,null,null,"min. Verfahrzeit zurück",null,{"$f":"0.077+((C5/12.5)*0.008)","v":8.3400000000000002E-2},"( min )"]
["Ezul / Zyklus ( Hub )","Nm",{"$f":"'Allgemeine Werte'!G36*C50/'Allgemeine Werte'!K36*C46","v":5.8285714285714283},null,"Stoßd.-kolbenrückstellzeit",null,{"$f":"'Allgemeine Werte'!E36","v":0.5},null,"Mittlere Verfahrgeschwindigkeit zurück",null,{"$f":"(C5/1000)/K53","v":0.11990407673860912},{"$f":"MIN(K46,K55,K44)","v":0.20983213429256595}]
["Auslastung / Zyklus",null,{"$f":"C53/C54","v":0.14245507765743959},null,"Max. Zyklen aus Rückstellzeit",null,{"$f":"60/G54","v":120},null,"Endgeschwindigkeit zurück",null,{"$f":"K54*'Allgemeine Werte'!E71","v":0.20983213429256595}]

{"sheet":"EM-Ber-KLM50-2","index":55,"n_rows":55,"n_cols":12,"rows_kept":55,"cut":false,"hidden":false,"merged":[]}
["Linearmodul Typ",null,"KLM 50"]
[]
["Berechnung der Führungsbelastung"]
[null,null,null,null,null,null,"Statisch auf Grund","Statisch auf Grund"]
["Hub","mm",{"$f":"'EM-LM-2'!K8","v":10},null,null,null,"Zusatzmasse m","Zusatzmasse m","Dynamisch auf Grund","Statisch auf Grund","Statisch auf Grund"]
["Zylinderkraft","N",120,null,null,null,"Modul ausgef.","Modul eingef.","Zusatzmasse m","Zusatzkraft Modul eingef.","Zusatzkraft Modul ausgef."]
["Faktor",null,{"$f":"ROUNDDOWN(((C5+12.5)/25.1)+0.5,0)","v":1},null,null,null,"I","II","III","IV","V"]
["Modulgewicht","kg",{"$f":"1.1+(C7*0.2)","v":1.3},null,"Moment Mx=M3","Nm",{"$f":"(C12*9.81)*(C34+C5+C14+C30/2)/1000","v":0},{"$f":"(C12*9.81)*(C34+C14+C30/2)/1000","v":0},{"$f":"C42*(C15/1000)","v":0},{"$f":"(C21*C23/1000)-C25*(C27+C34+C30/2)/1000","v":0},{"$f":"(C21*C23/1000)-C25*(C27+C34+C5+C30/2)/1000","v":0}]
["Zylinderkraft zurück","N",103,null,"Moment My=M1","Nm",{"$f":"C12*9.81*((C13)/1000)","v":0},{"$f":"C12*9.81*((C13)/1000)","v":0},"-",{"$f":"C17*(C19/1000)-C25*C26/1000","v":0},{"$f":"C17*(C19/1000)-C25*C26/1000","v":0}]
["Verfahrgeschwindigkeit","m/s",{"$f":"'EM-LM-2-1'!I58","v":2.02},null,"Moment Mz=M2","Nm","-","-",{"$f":"C42*(C13/1000)","v":0},{"$f":"C21*C22/1000-C17*(C18+C34+C30/2)/1000","v":0},{"$f":"C21*C22/1000-C17*(C18+C34+C5+C30/2)/1000","v":0}]
[null,null,null,null,null,null,null,null,null,{"$f":"'EM-LM-2'!G51","v":true}]
["Zusatzmasse","kg",{"$f":"'EM-LM-2'!K14","v":0},null,"Mx Summe  I + III","Nm",{"$f":"G8+I8","v":0}]
["Schwerpunktabstand x-Richt.(Mitte Welle)","mm",{"$f":"'EM-LM-2'!M14+12.5","v":12.5},null,"Absolutbetrag",null,{"$f":"ABS(G12)","v":0}]
["Schwerpunktabstand y-Richtung","mm",{"$f":"'EM-LM-2'!O14","v":0},null,"Mx Summe  II-III",null,{"$f":"H8-I8","v":0}]
["Schwerpunktabstand z-Richtung","mm",{"$f":"'EM-LM-2'!Q14","v":0},null,"Absolutbetrag",null,{"$f":"ABS(G14)","v":0}]
[null,null,null,null,"I ","Nm",{"$f":"G8","v":0}]
["Zusatzkraft Fx","N",{"$f":"'EM-LM-2'!K18","v":0},null,"I oder I+III oder II-III",null,{"$f":"MAX(G16,G15,G13)","v":0}]
["Kraftangriffspunkt von Fx in y-Richtung","mm",{"$f":"'EM-LM-2'!O18","v":0},null,"Mx Summe  I+V oder II+IV","Nm",{"$f":"IF(AND(J8=0,K8=0),MAX(G8,H8),IF(J11=TRUE,H8+J8,G8+K8))","v":0}]
["Kraftangriffspunkt von Fx in z-Richtung","mm",{"$f":"'EM-LM-2'!Q18","v":0},null,"Absolutbetrag",null,{"$f":"ABS(G18)","v":0}]
[null,null,null,null,"Mx ges","Nm",{"$f":"MAX(G17,G19)","v":0}]
["Zusatzkraft Fy","N",{"$f":"'EM-LM-2'!K20","v":0},null,"Mx zul","Nm",{"$f":"IF(C7=1,'Allgemeine Werte'!B83,IF(C7=2,'Allgemeine Werte'!B84,IF(C7=3,'Allgemeine Werte'!B85,IF(C7=4,'Allgemeine Werte'!B86,IF(C7=5,'Allgemeine Werte'!B87,0)))))","v":23},null,"Maximal-Werte Mxzul  berechnet über Extrablatt !!"]
["Kraftangrp. von Fy in x-Richt. (Mitte Welle)","mm",{"$f":"'EM-LM-2'!M20+12.5","v":12.5},null,null,null,null,null,"Länge L, tan alpha und E werden zur Berechnung von Mx nicht mehr benötigt"]
["Kraftangrp. von Fy in z-Richt.","mm",{"$f":"'EM-LM-2'!Q20","v":0},null,"My Summe  I+V ( = II+IV )","Nm",{"$f":"G9+K9","v":0}]
[null,null,null,null,"Absolutbetrag",null,{"$f":"ABS(G23)","v":0}]
["Zusatzkraft Fz","N",{"$f":"'EM-LM-2'!K22","v":0},null,"My ges","Nm",{"$f":"G24","v":0}]
["Kraftangrp. von Fz in x-Richt. (Mitte Welle)","mm",{"$f":"'EM-LM-2'!M22+12.5","v":12.5},null,"My zul","Nm",{"$f":"G43*0.02","v":11.4},null,"Maximal-Werte Myzul berechnet aus Fzzul und Abstand Führungssäulen !!"]
["Kraftangriffspunkt von Fz in y-Richtung","mm",{"$f":"'EM-LM-2'!O22","v":0}]
[]
[null,null,null,null,"Mz III","Nm",{"$f":"I10","v":0}]
["Länge L (Mittenabstand Buchsen)","mm",{"$f":"30+(C7*25)","v":55},null,"Absolutbetrag",null,{"$f":"ABS(G29)","v":0}]
["tan alpha",null,{"$f":"0.0004+(C7*0.00012)","v":5.2000000000000006E-4},null,"Mz IV/V","Nm",{"$f":"IF(J11=TRUE,J10,K10)","v":0},null,"Maximal-Werte Fzzul neu berechnet"]
["E",null,641340000,null,"Absolutbetrag",null,{"$f":"ABS(G31)","v":0}]
["Schwerpunktabstand in y-Richtung","mm",{"$f":"C14","v":0},null,"Mz ges","Nm",{"$f":"MAX(G30,G32)","v":0}]
["Wert K (Abstand Stirnplatte/1.Buchse)","mm",35,null,"Mz zul","Nm",{"$f":"G21","v":23}]
[]
[null,null,null,null,null,null,null,null,"Belastungsgleichung stat.",{"$f":"G19/G21+G25/G26+G32/G34+G38/G39+G42/G43","v":0}]
[null,null,null,null,"Fx ges","N",{"$f":"C17","v":0},null,"Belastungsgleichung dyn.",{"$f":"G17/G21+G30/G34+G40/G43","v":0}]
[null,null,null,null,"Absolutwert",null,{"$f":"ABS(G37)","v":0},null,"Belastungsgleichung",{"$f":"MAX(J36:J37)","v":0}]
[null,null,null,null,"Fx zul","N",{"$f":"G43","v":570}]
["Stoßdämpferhub s ( Hub bis a=0 )","m",{"$f":"'Allgemeine Werte'!M36","v":4.5560000000000002E-3},null,"Gewichtskraft","N",{"$f":"C12*9.81","v":0}]
["Verzögerung a=vxv/2xs","m/s2",{"$f":"POWER(C48,2)/(2*C40)","v":4.8320373772797875},null,"Fz ges abs","N",{"$f":"ABS(-C25+C12*9.81)","v":0},null,"Verfahrzeitberechnung"]
["Kraft zur Verzögerung der Masse","N",{"$f":"C12*C41","v":0},null,"Max aus E40,E41",null,{"$f":"MAX(G40,G41)","v":0},null,"Verfahrzeit berechnet ( t=Wurzel aus (2xsxm/F)",null,{"$f":"(SQRT(2*(C5/1000)*(C12+C8/2)/C9))*(2.45-C7*0.15)","v":2.5839309257652796E-2}]
["Kraft zur Verzög. d. Masse incl Modul/2","N",{"$f":"C47*C41","v":3.1408242952318619},null,"Fz zul","N",{"$f":"IF(C7=1,'Allgemeine Werte'!C83,IF(C7=2,'Allgemeine Werte'!C84,IF(C7=3,'Allgemeine Werte'!C85,IF(C7=4,'Allgemeine Werte'!C86,IF(C7=5,'Allgemeine Werte'!C87,0)))))","v":570},null,"Mittlere Verfahrgeschwindigkeit berechnet",null,{"$f":"(C5/1000)/K42","v":0.38700724931485203}]
[null,null,null,null,null,null,null,null,"Endgeschwindigkeit berechnet",null,{"$f":"K43*'Allgemeine Werte'!E71","v":0.67726268630099107}]
["Stoßdämpferberechnung",null,null,null,"Max. Zyklenzahl / Min."]
["Anzahl Stoßdämpfer",null,1,null,"Zyklen aus Verfahrzeit",null,{"$f":"60/(2*L50)","v":359.71223021582733},null,"Endgeschwindigkeit (Eingabe)",null,{"$f":"C10","v":2.02}]
["Gesamtmasse","kg",{"$f":"C12+C8/2","v":0.65},null,null,null,null,null,"Mittlere Verfahrgeschwindigkeit (Eingabe)   m/s",null,{"$f":"C10/'Allgemeine Werte'!E71","v":1.1542857142857144}]
["Aufprallgeschwindigkeit","m/s",{"$f":"L54","v":0.20983213429256595},null,"Ezul / Stunde","Nm",{"$f":"'Allgemeine Werte'!H36*C46*0.95","v":23940},null,"Verfahrzeit (Eingabe)","s",{"$f":"(C5/1000)/K47","v":8.6633663366336624E-3},"Verfahrzeit für Berechnung"]
["W1","Nm",{"$f":"C47*POWER(C48,2)*0.5","v":1.4309595489076364E-2},null,"Ezul / Minute","Nm",{"$f":"G48/60","v":399},null,null,null,null,"( max )"]
["Hub Stoßdämpfer","m",{"$f":"'Allgemeine Werte'!L36","v":6.7999999999999996E-3},null,"Zyklen aus Ezul",null,{"$f":"G49/C53","v":480.54364560845221},null,"min. Verfahrzeit vor","gemessen",{"$f":"0.068+(C5/12.5)*0.007","v":7.3599999999999999E-2},{"$f":"MAX(K48,K53,K42)","v":8.3400000000000002E-2}]
["Zylinderkraft","N",120,null,null,null,null,null,"Mittlere Verfahrgeschwindigkeit vor",null,{"$f":"(C5/1000)/K50","v":0.1358695652173913}]
["W2 ( Antriebsenergie )","Nm",{"$f":"C51*C50","v":0.81599999999999995},null,"Max. Zyklen",null,{"$f":"MIN(G46,G50,G55)","v":120},null,"Endgeschwindigkeit vor",null,{"$f":"K51*'Allgemeine Werte'!E71","v":0.23777173913043476},"Endgeschwindigkeit f. Ber."]
["W1+W2 ( Energie / Hub )","Nm",{"$f":"C52+C49","v":0.83030959548907635},null,null,null,null,null,"min. Verfahrzeit zurück",null,{"$f":"0.077+((C5/12.5)*0.008)","v":8.3400000000000002E-2},"( min )"]
["Ezul / Zyklus ( Hub )","Nm",{"$f":"'Allgemeine Werte'!G36*C50/'Allgemeine Werte'!K36*C46","v":5.8285714285714283},null,"Stoßd.-kolbenrückstellzeit",null,{"$f":"'Allgemeine Werte'!E36","v":0.5},null,"Mittlere Verfahrgeschwindigkeit zurück",null,{"$f":"(C5/1000)/K53","v":0.11990407673860912},{"$f":"MIN(K46,K55,K44)","v":0.20983213429256595}]
["Auslastung / Zyklus",null,{"$f":"C53/C54","v":0.14245507765743959},null,"Max. Zyklen aus Rückstellzeit",null,{"$f":"60/G54","v":120},null,"Endgeschwindigkeit zurück",null,{"$f":"K54*'Allgemeine Werte'!E71","v":0.20983213429256595}]

{"sheet":"EM-Ber-KLM50-3","index":56,"n_rows":57,"n_cols":12,"rows_kept":57,"cut":false,"hidden":false,"merged":[]}
["Linearmodul Typ",null,"KLM 50"]
[]
["Berechnung der Führungsbelastung"]
[null,null,null,null,null,null,"Statisch auf Grund","Statisch auf Grund"]
["Hub","mm",{"$f":"'EM-LM-3'!K8","v":10},null,null,null,"Zusatzmasse m","Zusatzmasse m","Dynamisch auf Grund","Statisch auf Grund","Statisch auf Grund"]
["Zylinderkraft","N",120,null,null,null,"Modul ausgef.","Modul eingef.","Zusatzmasse m","Zusatzkraft Modul eingef.","Zusatzkraft Modul ausgef."]
["Faktor",null,{"$f":"ROUNDDOWN(((C5+12.5)/25.1)+0.5,0)","v":1},null,null,null,"I","II","III","IV","V"]
["Modulgewicht","kg",{"$f":"1.1+(C7*0.2)","v":1.3},null,"Moment Mx=M3","Nm",{"$f":"C12*9.81*((C15)/1000)","v":0},{"$f":"C12*9.81*((C15)/1000)","v":0},{"$f":"C42*(C15/1000)","v":0},{"$f":"IF(K11=TRUE,-(C21*C23/1000)+C25*((C27+C34+C30/2)/1000),(C21*C23/1000)-C25*((C27+C34+C30/2)/1000))","v":0},{"$f":"IF(K11=TRUE,-(C21*C23/1000)+C25*((C27+C5+C34+C30/2)/1000),(C21*C23/1000)-C25*((C27+C5+C34+C30/2)/1000))","v":0}]
["Zylinderkraft zurück","N",103,null,"Moment My=M1","Nm","-","-","-",{"$f":"C17*(C19/1000)-C25*C26/1000","v":0},{"$f":"C17*(C19/1000)-C25*C26/1000","v":0}]
["Verfahrgeschwindigkeit","m/s",{"$f":"'EM-LM-3-1'!I58","v":2.02},null,"Moment Mz=M2","Nm",{"$f":"C12*9.81*((C13)/1000)","v":0},{"$f":"C12*9.81*((C13)/1000)","v":0},{"$f":"C42*(C13/1000)","v":0},{"$f":"IF(K11=TRUE,-C21*C22/1000+C17*(C18+C34+C30/2)/1000,C21*C22/1000-C17*(C18+C34+C30/2)/1000)","v":0},{"$f":"IF(K11=TRUE,-C21*C22/1000+C17*(C18+C5+C34+C30/2)/1000,C21*C22/1000-C17*(C18+C5+C34+C30/2)/1000)","v":0}]
[null,null,null,null,null,null,null,null,null,{"$f":"'EM-LM-3'!G51","v":true},{"$f":"'EM-LM-3'!G52","v":true}]
["Zusatzmasse","kg",{"$f":"'EM-LM-3'!K14","v":0}]
["Schwerpunktabstand x-Richt.(Mitte Welle)","mm",{"$f":"'EM-LM-3'!M14+12.5","v":12.5}]
["Schwerpunktabstand y-Richtung","mm",{"$f":"'EM-LM-3'!O14","v":0}]
["Schwerpunktabstand z-Richtung","mm",{"$f":"'EM-LM-3'!Q14","v":0}]
[null,null,null,null,"Mx Summe  I(II) + III","Nm",{"$f":"G8+I8","v":0}]
["Zusatzkraft Fx","N",{"$f":"'EM-LM-3'!K18","v":0},null,"Absolutbetrag",null,{"$f":"ABS(G16)","v":0}]
["Kraftangriffspunkt von Fx in y-Richtung","mm",{"$f":"'EM-LM-3'!O18","v":0},null,"Mx Summe  I+V oder II+IV","Nm",{"$f":"IF(J11=TRUE,H8+J8,G8+K8)","v":0}]
["Kraftangriffspunkt von Fx in z-Richtung","mm",{"$f":"'EM-LM-3'!Q18","v":0},null,"Absolutbetrag",null,{"$f":"ABS(G18)","v":0}]
[null,null,null,null,"Mx ges","Nm",{"$f":"MAX(G17,G19)","v":0}]
["Zusatzkraft Fy","N",{"$f":"'EM-LM-3'!K20","v":0},null,"Mx zul","Nm",{"$f":"IF(C7=1,'Allgemeine Werte'!B83,IF(C7=2,'Allgemeine Werte'!B84,IF(C7=3,'Allgemeine Werte'!B85,IF(C7=4,'Allgemeine Werte'!B86,IF(C7=5,'Allgemeine Werte'!B87,0)))))","v":23},null,"Maximal-Werte Mxzul  berechnet über Extrablatt !!"]
["Kraftangrp. von Fy in x-Richt. (Mitte Welle)","mm",{"$f":"'EM-LM-3'!M20+12.5","v":12.5},null,null,null,null,null,"Länge L, tan alpha und E werden zur Berechnung von Mx nicht mehr benötigt"]
["Kraftangrp. von Fy in z-Richt.","mm",{"$f":"'EM-LM-3'!Q20","v":0},null,"My IV = V","Nm",{"$f":"J9","v":0}]
[null,null,null,null,"Absolutbetrag",null,{"$f":"ABS(G23)","v":0}]
["Zusatzkraft Fz","N",{"$f":"'EM-LM-3'!K22","v":0},null,"My ges","Nm",{"$f":"G24","v":0}]
["Kraftangrp. von Fz in x-Richt. (Mitte Welle)","mm",{"$f":"'EM-LM-3'!M22+12.5","v":12.5},null,"My zul","Nm",{"$f":"G43*0.02","v":11.4},"Maximal-Werte Myzul berechnet aus Fzzul und Abstand Führungssäulen !!"]
["Kraftangriffspunkt von Fz in y-Richtung","mm",{"$f":"'EM-LM-3'!O22","v":0}]
[]
[null,null,null,null,"Mz Summe I(II)+III","Nm",{"$f":"G10+I10","v":0}]
["Länge L (Mittenabstand Buchsen)","mm",{"$f":"30+(C7*25)","v":55},null,"Absolutbetrag",null,{"$f":"ABS(G29)","v":0}]
["tan alpha",null,{"$f":"0.0004+(C7*0.00012)","v":5.2000000000000006E-4},null,"Mz Summe  I+V oder II+IV","Nm",{"$f":"IF(J11=TRUE,H10+J10,G10+K10)","v":0},"Maximal-Werte Fzzul neu berechnet"]
["E",null,641340000,null,"Absolutbetrag",null,{"$f":"ABS(G31)","v":0}]
["Schwerpunktabstand in y-Richtung","mm",{"$f":"C14","v":0},null,"Mz ges","Nm",{"$f":"MAX(G30,G32)","v":0}]
["Wert K (Abstand Stirnplatte/1.Buchse)","mm",35,null,"Mz zul","Nm",{"$f":"G21","v":23}]
[]
[null,null,null,null,null,null,null,null,"Belastungsgleichung stat.",{"$f":"G19/G21+G25/G26+G32/G34+G38/G39+G42/G43","v":0}]
[null,null,null,null,"Fx ges","N",{"$f":"C17","v":0},null,"Belastungsgleichung dyn.",{"$f":"G17/G21+G30/G34","v":0}]
[null,null,null,null,"Absolutwert",null,{"$f":"ABS(G37)","v":0},null,"Belastungsgleichung",{"$f":"MAX(J36:J37)","v":0}]
[null,null,null,null,"Fx zul","N",{"$f":"G43","v":570}]
["Stoßdämpferhub s ( Hub bis a=0 )","m",{"$f":"'Allgemeine Werte'!M36","v":4.5560000000000002E-3}]
["Verzögerung a=vxv/2xs","m/s2",{"$f":"POWER(C48,2)/(2*C40)","v":3.499534142015015},null,"Fz ges","N",{"$f":"-C25","v":0},null,"Verfahrzeitberechnung"]
["Kraft zur Verzögerung der Masse","N",{"$f":"C12*C41","v":0},null,"Absolutwert",null,{"$f":"ABS(G41)","v":0},null,"Verfahrzeit berechnet ( t=Wurzel aus (2xsxm/F)",null,{"$f":"(SQRT(2*(C5/1000)*(C12+C8/2)/(C6-(C12+C8/2)*9.81)))*(2.45-C7*0.15)","v":2.4601717697732992E-2}]
["Kraft zur Verzög. d. Masse incl Modul/2","N",{"$f":"C47*C41","v":2.2746971923097599},null,"Fz zul","N",{"$f":"IF(C7=1,'Allgemeine Werte'!C83,IF(C7=2,'Allgemeine Werte'!C84,IF(C7=3,'Allgemeine Werte'!C85,IF(C7=4,'Allgemeine Werte'!C86,IF(C7=5,'Allgemeine Werte'!C87,0)))))","v":570},null,"Mittlere Verfahrgeschwindigkeit berechnet",null,{"$f":"(C5/1000)/K42","v":0.40647568283093843}]
[null,null,null,null,null,null,null,null,"Endgeschwindigkeit berechnet",null,{"$f":"K43*'Allgemeine Werte'!E71","v":0.71133244495414227}]
["Stoßdämpferberechnung",null,null,null,"Max. Zyklenzahl / Min."]
["Anzahl Stoßdämpfer",null,1,null,"Zyklen aus Verfahrzeit",null,{"$f":"60/(2*L50)","v":306.12244897959181},null,"Endgeschwindigkeit (Eingabe)",null,{"$f":"C10","v":2.02}]
["Gesamtmasse","kg",{"$f":"C12+C8/2","v":0.65},null,null,null,null,null,"Mittlere Verfahrgeschwindigkeit (Eingabe)   m/s",null,{"$f":"C10/'Allgemeine Werte'!E71","v":1.1542857142857144}]
["Aufprallgeschwindigkeit","m/s",{"$f":"L54","v":0.17857142857142858},null,"Ezul / Stunde","Nm",{"$f":"'Allgemeine Werte'!H36*C46*0.95","v":23940},null,"Verfahrzeit (Eingabe)","s",{"$f":"(C5/1000)/K47","v":8.6633663366336624E-3},"Verfahrzeit für Berechnung"]
["W1","Nm",{"$f":"C47*POWER(C48,2)*0.5","v":1.0363520408163266E-2},null,"Ezul / Minute","Nm",{"$f":"G48/60","v":399},null,null,null,null,"( max )"]
["Hub Stoßdämpfer","m",{"$f":"'Allgemeine Werte'!L36","v":6.7999999999999996E-3},null,"Zyklen aus Ezul",null,{"$f":"G49/C53","v":509.57638313974161},null,"min. Verfahrzeit ab","gemessen",{"$f":"0.058+(C5/12.5)*0.007","v":6.3600000000000004E-2},{"$f":"MAX(K48,K53,K42)","v":9.8000000000000004E-2}]
["Zylinderkraft","N",120,null,null,null,null,null,"Mittlere Verfahrgeschwindigkeit ab",null,{"$f":"(C5/1000)/K50","v":0.15723270440251572}]
["W2 ( Antriebsenergie )","Nm",{"$f":"MAX(C56,C57)*C50","v":0.77263979999999988},null,"Max. Zyklen",null,{"$f":"MIN(G46,G50,G55)","v":120},null,"Endgeschwindigkeit ab",null,{"$f":"K51*'Allgemeine Werte'!E71","v":0.27515723270440251},"Endgeschwindigkeit f. Ber."]
["W1+W2 ( Energie / Hub )","Nm",{"$f":"C52+C49","v":0.78300332040816312},null,null,null,null,null,"min. Verfahrzeit auf",null,{"$f":"0.09+((C5/12.5)*0.01)","v":9.8000000000000004E-2},"( min )"]
["Ezul / Zyklus ( Hub )","Nm",{"$f":"'Allgemeine Werte'!G36*C50/'Allgemeine Werte'!K36*C46","v":5.8285714285714283},null,"Stoßd.-kolbenrückstellzeit",null,{"$f":"'Allgemeine Werte'!E36","v":0.5},null,"Mittlere Verfahrgeschwindigkeit auf",null,{"$f":"(C5/1000)/K53","v":0.10204081632653061},{"$f":"MIN(K46,K55,K44)","v":0.17857142857142858}]
["Auslastung / Zyklus",null,{"$f":"C53/C54","v":0.13433880497198877},null,"Max. Zyklen aus Rückstellzeit",null,{"$f":"60/G54","v":120},null,"Endgeschwindigkeit auf",null,{"$f":"K54*'Allgemeine Werte'!E71","v":0.17857142857142858}]
["Antriebskraft nach oben",null,{"$f":"C6-C47*9.81","v":113.62349999999999}]
["Antriebskraft nach unten",null,{"$f":"C9+C47*9.81","v":109.37650000000001}]

{"sheet":"EM-Ber-KLM50-4","index":57,"n_rows":55,"n_cols":12,"rows_kept":55,"cut":false,"hidden":false,"merged":[]}
["Linearmodul Typ",null,"KLM 50"]
[]
["Berechnung der Führungsbelastung"]
[null,null,null,null,null,null,"Statisch auf Grund","Statisch auf Grund"]
["Hub","mm",{"$f":"'EM-LM-4'!K8","v":10},null,null,null,"Zusatzmasse m","Zusatzmasse m","Dynamisch auf Grund","Statisch auf Grund","Statisch auf Grund"]
["Zylinderkraft","N",120,null,null,null,"Modul ausgef.","Modul eingef.","Zusatzmasse m","Zusatzkraft Modul eingef.","Zusatzkraft Modul ausgef."]
["Faktor",null,{"$f":"ROUNDDOWN(((C5+12.5)/25.1)+0.5,0)","v":1},null,null,null,"I","II","III","IV","V"]
["Modulgewicht","kg",{"$f":"1.1+(C7*0.2)","v":1.3},null,"Moment Mx=M2","Nm",{"$f":"(C12*9.81)*(C34+C14+C30/2)/1000","v":0},{"$f":"(C12*9.81)*(C34+C14+C30/2)/1000","v":0},{"$f":"C42*(C15/1000)","v":0},{"$f":"(C21*C23/1000)-C25*(C27+C34+C30/2)/1000","v":0},{"$f":"(C21*C23/1000)-C25*((C27+C34+C30/2)/1000)","v":0}]
["Zylinderkraft zurück","N",103,null,"Moment My=M1","Nm",{"$f":"C12*9.81*(C13/1000)","v":0},{"$f":"C12*9.81*(C13/1000)","v":0},"-",{"$f":"C17*C19/1000-C25*(C26/1000)","v":0},{"$f":"C17*C19/1000-C25*(C26/1000)","v":0}]
["Verfahrgeschwindigkeit","m/s",{"$f":"'EM-LM-4-1'!I58","v":2.02},null,"Moment Mz=M3","Nm","-","-",{"$f":"C42*(C13/1000)","v":0},{"$f":"C21*C22/1000-C17*(C18+C34+C30/2)/1000","v":0},{"$f":"C21*C22/1000-C17*(C18+C34+C30/2)/1000","v":0}]
[null,null,null,null,null,null,null,null,null,{"$f":"'EM-LM-4'!G51","v":false}]
["Zusatzmasse","kg",{"$f":"'EM-LM-4'!K14","v":0},null,"Mx Summe  I + III","Nm",{"$f":"G8+I8","v":0}]
["Schwerpunktabstand x-Richtung","mm",{"$f":"'EM-LM-4'!M14","v":0},null,"Absolutbetrag",null,{"$f":"ABS(G12)","v":0}]
["Schwerpunktabstand y-Richtung","mm",{"$f":"'EM-LM-4'!O14","v":0},null,"Mx Summe  II-III",null,{"$f":"H8-I8","v":0}]
["Schwerpunktabstand z-Richt.(Mitte Welle)","mm",{"$f":"'EM-LM-4'!Q14+32.5","v":32.5},null,"Absolutbetrag",null,{"$f":"ABS(G14)","v":0}]
[null,null,null,null,"I ","Nm",{"$f":"G8","v":0}]
["Zusatzkraft Fx","N",{"$f":"'EM-LM-4'!K18","v":0},null,"I oder I+III oder II-III",null,{"$f":"MAX(G16,G15,G13)","v":0}]
["Kraftangriffspunkt von Fx in y-Richtung","mm",{"$f":"'EM-LM-4'!O18","v":0},null,"Mx Summe  I+V oder II+IV","Nm",{"$f":"IF(AND(J8=0,K8=0),MAX(G8,H8),IF(J11=TRUE,H8+J8,G8+K8))","v":0}]
["Kraftangrp. von Fx in z-Richt.(Mitte Welle)","mm",{"$f":"'EM-LM-4'!Q18+32.5","v":32.5},null,"Absolutbetrag",null,{"$f":"ABS(G18)","v":0}]
[null,null,null,null,"Mx ges","Nm",{"$f":"MAX(G17,G19)","v":0}]
["Zusatzkraft Fy","N",{"$f":"'EM-LM-4'!K20","v":0},null,"Mx zul","Nm",{"$f":"IF(C7=1,'Allgemeine Werte'!B83,IF(C7=2,'Allgemeine Werte'!B84,IF(C7=3,'Allgemeine Werte'!B85,IF(C7=4,'Allgemeine Werte'!B86,IF(C7=5,'Allgemeine Werte'!B87,0)))))","v":23},null,"Maximal-Werte Mxzul  berechnet über Extrablatt !!"]
["Kraftangriffspunkt von Fy in x-Richtung","mm",{"$f":"'EM-LM-4'!M20","v":0},null,null,null,null,null,"Länge L, tan alpha und E werden zur Berechnung von Mx nicht mehr benötigt"]
["Kraftangrp. von Fy in z-Richt.(Mitte Rolle)","mm",{"$f":"'EM-LM-4'!Q20+32.5","v":32.5},null,"My Summe  I+V ( = II+IV )","Nm",{"$f":"G9+K9","v":0}]
[null,null,null,null,"Absolutbetrag",null,{"$f":"ABS(G23)","v":0}]
["Zusatzkraft Fz","N",{"$f":"'EM-LM-4'!K22","v":0},null,"My ges","Nm",{"$f":"G24","v":0}]
["Kraftangriffspunkt von Fz in x-Richtung","mm",{"$f":"'EM-LM-4'!M22","v":0},null,"My zul","Nm",{"$f":"G43*0.02","v":11.4},null,"Maximal-Werte Myzul berechnet aus Fzzul und Abstand Führungssäulen !!"]
["Kraftangriffspunkt von Fz in y-Richtung","mm",{"$f":"'EM-LM-4'!O22","v":0}]
[]
[null,null,null,null,"Mz III","Nm",{"$f":"I10","v":0}]
["Länge L (Mittenabstand Buchsen)","mm",{"$f":"30+(C7*25)","v":55},null,"Absolutbetrag",null,{"$f":"ABS(G29)","v":0}]
["tan alpha",null,{"$f":"0.0004+(C7*0.00012)","v":5.2000000000000006E-4},null,"Mz IV/V","Nm",{"$f":"IF(J11=TRUE,J10,K10)","v":0},null,"Maximal-Werte Fzzul neu berechnet"]
["E",null,641340000,null,"Absolutbetrag",null,{"$f":"ABS(G31)","v":0}]
["Schwerpunktabstand in y-Richtung","mm",{"$f":"C14","v":0},null,"Mz ges","Nm",{"$f":"MAX(G30,G32)","v":0}]
["Reduzierter Wert K","mm",{"$f":"C35-C36","v":14},null,"Mz zul","Nm",{"$f":"G21","v":23}]
["Wert K (Abstand Stirnplatte/1.Buchse)","mm",35]
["Anfangswert (Abst. Stirnpl./Deckplatte)","mm",21,null,null,null,null,null,"Belastungsgleichung stat.",{"$f":"G19/G21+G25/G26+G32/G34+G38/G39+G42/G43","v":0}]
[null,null,null,null,"Fx ges","N",{"$f":"C17","v":0},null,"Belastungsgleichung dyn.",{"$f":"G17/G21+G30/G34+G40/G43","v":0}]
[null,null,null,null,"Absolutwert",null,{"$f":"ABS(G37)","v":0},null,"Belastungsgleichung",{"$f":"MAX(J36:J37)","v":0}]
[null,null,null,null,"Fx zul","N",{"$f":"G43","v":570}]
["Stoßdämpferhub s ( Hub bis a=0 )","m",{"$f":"'Allgemeine Werte'!M36","v":4.5560000000000002E-3},null,"Gewichtskraft","N",{"$f":"C12*9.81","v":0}]
["Verzögerung a=vxv/2xs","m/s2",{"$f":"POWER(C48,2)/(2*C40)","v":4.8320373772797875},null,"Fz ges abs","N",{"$f":"ABS(-C25+C12*9.81)","v":0},null,"Verfahrzeitberechnung"]
["Kraft zur Verzögerung der Masse","N",{"$f":"C12*C41","v":0},null,"Max aus E40,E41",null,{"$f":"MAX(G40,G41)","v":0},null,"Verfahrzeit berechnet ( t=Wurzel aus (2xsxm/F)",null,{"$f":"(SQRT(2*(C5/1000)*(C12+C8/2)/C9))*(2.45-C7*0.15)","v":2.5839309257652796E-2}]
["Kraft zur Verzög. d. Masse incl Modul/2","N",{"$f":"C47*C41","v":3.1408242952318619},null,"Fz zul","N",{"$f":"IF(C7=1,'Allgemeine Werte'!C83,IF(C7=2,'Allgemeine Werte'!C84,IF(C7=3,'Allgemeine Werte'!C85,IF(C7=4,'Allgemeine Werte'!C86,IF(C7=5,'Allgemeine Werte'!C87,0)))))","v":570},null,"Mittlere Verfahrgeschwindigkeit berechnet",null,{"$f":"(C5/1000)/K42","v":0.38700724931485203}]
[null,null,null,null,null,null,null,null,"Endgeschwindigkeit berechnet",null,{"$f":"K43*'Allgemeine Werte'!E71","v":0.67726268630099107}]
["Stoßdämpferberechnung",null,null,null,"Max. Zyklenzahl / Min."]
["Anzahl Stoßdämpfer",null,1,null,"Zyklen aus Verfahrzeit",null,{"$f":"60/(2*L50)","v":359.71223021582733},null,"Endgeschwindigkeit (Eingabe)",null,{"$f":"C10","v":2.02}]
["Gesamtmasse","kg",{"$f":"C12+C8/2","v":0.65},null,null,null,null,null,"Mittlere Verfahrgeschwindigkeit (Eingabe)   m/s",null,{"$f":"C10/'Allgemeine Werte'!E71","v":1.1542857142857144}]
["Aufprallgeschwindigkeit","m/s",{"$f":"L54","v":0.20983213429256595},null,"Ezul / Stunde","Nm",{"$f":"'Allgemeine Werte'!H36*C46*0.95","v":23940},null,"Verfahrzeit (Eingabe)","s",{"$f":"(C5/1000)/K47","v":8.6633663366336624E-3},"Verfahrzeit für Berechnung"]
["W1","Nm",{"$f":"C47*POWER(C48,2)*0.5","v":1.4309595489076364E-2},null,"Ezul / Minute","Nm",{"$f":"G48/60","v":399},null,null,null,null,"( max )"]
["Hub Stoßdämpfer","m",{"$f":"'Allgemeine Werte'!L36","v":6.7999999999999996E-3},null,"Zyklen aus Ezul",null,{"$f":"G49/C53","v":480.54364560845221},null,"min. Verfahrzeit vor","gemessen",{"$f":"0.068+(C5/12.5)*0.007","v":7.3599999999999999E-2},{"$f":"MAX(K48,K53,K42)","v":8.3400000000000002E-2}]
["Zylinderkraft","N",120,null,null,null,null,null,"Mittlere Verfahrgeschwindigkeit vor",null,{"$f":"(C5/1000)/K50","v":0.1358695652173913}]
["W2 ( Antriebsenergie )","Nm",{"$f":"C51*C50","v":0.81599999999999995},null,"Max. Zyklen",null,{"$f":"MIN(G46,G50,G55)","v":120},null,"Endgeschwindigkeit vor",null,{"$f":"K51*'Allgemeine Werte'!E71","v":0.23777173913043476},"Endgeschwindigkeit f. Ber."]
["W1+W2 ( Energie / Hub )","Nm",{"$f":"C52+C49","v":0.83030959548907635},null,null,null,null,null,"min. Verfahrzeit zurück",null,{"$f":"0.077+((C5/12.5)*0.008)","v":8.3400000000000002E-2},"( min )"]
["Ezul / Zyklus ( Hub )","Nm",{"$f":"'Allgemeine Werte'!G36*C50/'Allgemeine Werte'!K36*C46","v":5.8285714285714283},null,"Stoßd.-kolbenrückstellzeit",null,{"$f":"'Allgemeine Werte'!E36","v":0.5},null,"Mittlere Verfahrgeschwindigkeit zurück",null,{"$f":"(C5/1000)/K53","v":0.11990407673860912},{"$f":"MIN(K46,K55,K44)","v":0.20983213429256595}]
["Auslastung / Zyklus",null,{"$f":"C53/C54","v":0.14245507765743959},null,"Max. Zyklen aus Rückstellzeit",null,{"$f":"60/G54","v":120},null,"Endgeschwindigkeit zurück",null,{"$f":"K54*'Allgemeine Werte'!E71","v":0.20983213429256595}]

{"sheet":"EM-Ber-KLM50-5","index":58,"n_rows":55,"n_cols":12,"rows_kept":55,"cut":false,"hidden":false,"merged":[]}
["Linearmodul Typ",null,"KLM 50"]
[]
["Berechnung der Führungsbelastung"]
[null,null,null,null,null,null,"Statisch auf Grund","Statisch auf Grund"]
["Hub","mm",{"$f":"'EM-LM-5'!K8","v":10},null,null,null,"Zusatzmasse m","Zusatzmasse m","Dynamisch auf Grund","Statisch auf Grund","Statisch auf Grund"]
["Zylinderkraft","N",120,null,null,null,"Modul ausgef.","Modul eingef.","Zusatzmasse m","Zusatzkraft Modul eingef.","Zusatzkraft Modul ausgef."]
["Faktor",null,{"$f":"ROUNDDOWN(((C5+12.5)/25.1)+0.5,0)","v":1},null,null,null,"I","II","III","IV","V"]
["Modulgewicht","kg",{"$f":"1.1+(C7*0.2)","v":1.3},null,"Moment Mx=M3","Nm",{"$f":"(C12*9.81)*(C34+C14+C30/2)/1000","v":0},{"$f":"(C12*9.81)*(C34+C14+C30/2)/1000","v":0},{"$f":"C42*(C15/1000)","v":0},{"$f":"(C21*C23/1000)-C25*(C27+C34+C30/2)/1000","v":0},{"$f":"(C21*C23/1000)-C25*(C27+C34+C30/2)/1000","v":0}]
["Zylinderkraft zurück","N",103,null,"Moment My=M1","Nm",{"$f":"C12*9.81*((C13)/1000)","v":0},{"$f":"C12*9.81*((C13)/1000)","v":0},"-",{"$f":"C17*(C19/1000)-C25*C26/1000","v":0},{"$f":"C17*(C19/1000)-C25*C26/1000","v":0}]
["Verfahrgeschwindigkeit","m/s",{"$f":"'EM-LM-5-1'!I58","v":2.02},null,"Moment Mz=M2","Nm","-","-",{"$f":"C42*(C13/1000)","v":0},{"$f":"C21*C22/1000-C17*(C18+C34+C30/2)/1000","v":0},{"$f":"C21*C22/1000-C17*(C18+C34+C30/2)/1000","v":0}]
[null,null,null,null,null,null,null,null,null,{"$f":"'EM-LM-5'!G51","v":false}]
["Zusatzmasse","kg",{"$f":"'EM-LM-5'!K14","v":0},null,"Mx Summe  I + III","Nm",{"$f":"G8+I8","v":0}]
["Schwerpunktabstand x-Richt.(Mitte Welle)","mm",{"$f":"'EM-LM-5'!M14+32.5","v":32.5},null,"Absolutbetrag",null,{"$f":"ABS(G12)","v":0}]
["Schwerpunktabstand y-Richtung","mm",{"$f":"'EM-LM-5'!O14","v":0},null,"Mx Summe  II-III",null,{"$f":"H8-I8","v":0}]
["Schwerpunktabstand z-Richtung","mm",{"$f":"'EM-LM-5'!Q14","v":0},null,"Absolutbetrag",null,{"$f":"ABS(G14)","v":0}]
[null,null,null,null,"I ","Nm",{"$f":"G8","v":0}]
["Zusatzkraft Fx","N",{"$f":"'EM-LM-5'!K18","v":0},null,"I oder I+III oder II-III",null,{"$f":"MAX(G16,G15,G13)","v":0}]
["Kraftangriffspunkt von Fx in y-Richtung","mm",{"$f":"'EM-LM-5'!O18","v":0},null,"Mx Summe  I+V oder II+IV","Nm",{"$f":"IF(AND(J8=0,K8=0),MAX(G8,H8),IF(J11=TRUE,H8+J8,G8+K8))","v":0}]
["Kraftangriffspunkt von Fx in z-Richtung","mm",{"$f":"'EM-LM-5'!Q18","v":0},null,"Absolutbetrag",null,{"$f":"ABS(G18)","v":0}]
[null,null,null,null,"Mx ges","Nm",{"$f":"MAX(G17,G19)","v":0}]
["Zusatzkraft Fy","N",{"$f":"'EM-LM-5'!K20","v":0},null,"Mx zul","Nm",{"$f":"IF(C7=1,'Allgemeine Werte'!B83,IF(C7=2,'Allgemeine Werte'!B84,IF(C7=3,'Allgemeine Werte'!B85,IF(C7=4,'Allgemeine Werte'!B86,IF(C7=5,'Allgemeine Werte'!B87,0)))))","v":23},null,"Maximal-Werte Mxzul  berechnet über Extrablatt !!"]
["Kraftangrp. von Fy in x-Richt. (Mitte Welle)","mm",{"$f":"'EM-LM-5'!M20+32.5","v":32.5},null,null,null,null,null,"Länge L, tan alpha und E werden zur Berechnung von Mx nicht mehr benötigt"]
["Kraftangrp. von Fy in z-Richt.","mm",{"$f":"'EM-LM-5'!Q20","v":0},null,"My Summe  I+V ( = II+IV )","Nm",{"$f":"G9+K9","v":0}]
[null,null,null,null,"Absolutbetrag",null,{"$f":"ABS(G23)","v":0}]
["Zusatzkraft Fz","N",{"$f":"'EM-LM-5'!K22","v":0},null,"My ges","Nm",{"$f":"G24","v":0}]
["Kraftangrp. von Fz in x-Richt. (Mitte Welle)","mm",{"$f":"'EM-LM-5'!M22+32.5","v":32.5},null,"My zul","Nm",{"$f":"G43*0.02","v":11.4},null,"Maximal-Werte Myzul berechnet aus Fzzul und Abstand Führungssäulen !!"]
["Kraftangriffspunkt von Fz in y-Richtung","mm",{"$f":"'EM-LM-5'!O22","v":0}]
[]
[null,null,null,null,"Mz III","Nm",{"$f":"I10","v":0}]
["Länge L (Mittenabstand Buchsen)","mm",{"$f":"30+(C7*25)","v":55},null,"Absolutbetrag",null,{"$f":"ABS(G29)","v":0}]
["tan alpha",null,{"$f":"0.0004+(C7*0.00012)","v":5.2000000000000006E-4},null,"Mz IV/V","Nm",{"$f":"IF(J11=TRUE,J10,K10)","v":0},null,"Maximal-Werte Fzzul neu berechnet"]
["E",null,641340000,null,"Absolutbetrag",null,{"$f":"ABS(G31)","v":0}]
["Schwerpunktabstand in y-Richtung","mm",{"$f":"C14","v":0},null,"Mz ges","Nm",{"$f":"MAX(G30,G32)","v":0}]
["Reduzierter Wert K","mm",{"$f":"C35-C36","v":14},null,"Mz zul","Nm",{"$f":"G21","v":23}]
["Wert K (Abstand Stirnplatte/1.Buchse)","mm",35]
["Anfangswert (Abst. Stirnpl./Deckplatte)","mm",21,null,null,null,null,null,"Belastungsgleichung stat.",{"$f":"G19/G21+G25/G26+G32/G34+G38/G39+G42/G43","v":0}]
[null,null,null,null,"Fx ges","N",{"$f":"C17","v":0},null,"Belastungsgleichung dyn.",{"$f":"G17/G21+G30/G34+G40/G43","v":0}]
[null,null,null,null,"Absolutwert",null,{"$f":"ABS(G37)","v":0},null,"Belastungsgleichung",{"$f":"MAX(J36:J37)","v":0}]
[null,null,null,null,"Fx zul","N",{"$f":"G43","v":570}]
["Stoßdämpferhub s ( Hub bis a=0 )","m",{"$f":"'Allgemeine Werte'!M36","v":4.5560000000000002E-3},null,"Gewichtskraft","N",{"$f":"C12*9.81","v":0}]
["Verzögerung a=vxv/2xs","m/s2",{"$f":"POWER(C48,2)/(2*C40)","v":4.8320373772797875},null,"Fz ges abs","N",{"$f":"ABS(-C25+C12*9.81)","v":0},null,"Verfahrzeitberechnung"]
["Kraft zur Verzögerung der Masse","N",{"$f":"C12*C41","v":0},null,"Max aus E40,E41",null,{"$f":"MAX(G40,G41)","v":0},null,"Verfahrzeit berechnet ( t=Wurzel aus (2xsxm/F)",null,{"$f":"(SQRT(2*(C5/1000)*(C12+C8/2)/C9))*(2.45-C7*0.15)","v":2.5839309257652796E-2}]
["Kraft zur Verzög. d. Masse incl Modul/2","N",{"$f":"C47*C41","v":3.1408242952318619},null,"Fz zul","N",{"$f":"IF(C7=1,'Allgemeine Werte'!C83,IF(C7=2,'Allgemeine Werte'!C84,IF(C7=3,'Allgemeine Werte'!C85,IF(C7=4,'Allgemeine Werte'!C86,IF(C7=5,'Allgemeine Werte'!C87,0)))))","v":570},null,"Mittlere Verfahrgeschwindigkeit berechnet",null,{"$f":"(C5/1000)/K42","v":0.38700724931485203}]
[null,null,null,null,null,null,null,null,"Endgeschwindigkeit berechnet",null,{"$f":"K43*'Allgemeine Werte'!E71","v":0.67726268630099107}]
["Stoßdämpferberechnung",null,null,null,"Max. Zyklenzahl / Min."]
["Anzahl Stoßdämpfer",null,1,null,"Zyklen aus Verfahrzeit",null,{"$f":"60/(2*L50)","v":359.71223021582733},null,"Endgeschwindigkeit (Eingabe)",null,{"$f":"C10","v":2.02}]
["Gesamtmasse","kg",{"$f":"C12+C8/2","v":0.65},null,null,null,null,null,"Mittlere Verfahrgeschwindigkeit (Eingabe)   m/s",null,{"$f":"C10/'Allgemeine Werte'!E71","v":1.1542857142857144}]
["Aufprallgeschwindigkeit","m/s",{"$f":"L54","v":0.20983213429256595},null,"Ezul / Stunde","Nm",{"$f":"'Allgemeine Werte'!H36*C46*0.95","v":23940},null,"Verfahrzeit (Eingabe)","s",{"$f":"(C5/1000)/K47","v":8.6633663366336624E-3},"Verfahrzeit für Berechnung"]
["W1","Nm",{"$f":"C47*POWER(C48,2)*0.5","v":1.4309595489076364E-2},null,"Ezul / Minute","Nm",{"$f":"G48/60","v":399},null,null,null,null,"( max )"]
["Hub Stoßdämpfer","m",{"$f":"'Allgemeine Werte'!L36","v":6.7999999999999996E-3},null,"Zyklen aus Ezul",null,{"$f":"G49/C53","v":480.54364560845221},null,"min. Verfahrzeit vor","gemessen",{"$f":"0.068+(C5/12.5)*0.007","v":7.3599999999999999E-2},{"$f":"MAX(K48,K53,K42)","v":8.3400000000000002E-2}]
["Zylinderkraft","N",120,null,null,null,null,null,"Mittlere Verfahrgeschwindigkeit vor",null,{"$f":"(C5/1000)/K50","v":0.1358695652173913}]
["W2 ( Antriebsenergie )","Nm",{"$f":"C51*C50","v":0.81599999999999995},null,"Max. Zyklen",null,{"$f":"MIN(G46,G50,G55)","v":120},null,"Endgeschwindigkeit vor",null,{"$f":"K51*'Allgemeine Werte'!E71","v":0.23777173913043476},"Endgeschwindigkeit f. Ber."]
["W1+W2 ( Energie / Hub )","Nm",{"$f":"C52+C49","v":0.83030959548907635},null,null,null,null,null,"min. Verfahrzeit zurück",null,{"$f":"0.077+((C5/12.5)*0.008)","v":8.3400000000000002E-2},"( min )"]
["Ezul / Zyklus ( Hub )","Nm",{"$f":"'Allgemeine Werte'!G36*C50/'Allgemeine Werte'!K36*C46","v":5.8285714285714283},null,"Stoßd.-kolbenrückstellzeit",null,{"$f":"'Allgemeine Werte'!E36","v":0.5},null,"Mittlere Verfahrgeschwindigkeit zurück",null,{"$f":"(C5/1000)/K53","v":0.11990407673860912},{"$f":"MIN(K46,K55,K44)","v":0.20983213429256595}]
["Auslastung / Zyklus",null,{"$f":"C53/C54","v":0.14245507765743959},null,"Max. Zyklen aus Rückstellzeit",null,{"$f":"60/G54","v":120},null,"Endgeschwindigkeit zurück",null,{"$f":"K54*'Allgemeine Werte'!E71","v":0.20983213429256595}]

{"sheet":"EM-Ber-KLM50-6","index":59,"n_rows":57,"n_cols":12,"rows_kept":57,"cut":false,"hidden":false,"merged":[]}
["Linearmodul Typ",null,"KLM 50"]
[]
["Berechnung der Führungsbelastung"]
[null,null,null,null,null,null,"Statisch auf Grund","Statisch auf Grund"]
["Hub","mm",{"$f":"'EM-LM-6'!K8","v":10},null,null,null,"Zusatzmasse m","Zusatzmasse m","Dynamisch auf Grund","Statisch auf Grund","Statisch auf Grund"]
["Zylinderkraft","N",120,null,null,null,"Modul ausgef.","Modul eingef.","Zusatzmasse m","Zusatzkraft Modul eingef.","Zusatzkraft Modul ausgef."]
["Faktor",null,{"$f":"ROUNDDOWN(((C5+12.5)/25.1)+0.5,0)","v":1},null,null,null,"I","II","III","IV","V"]
["Modulgewicht","kg",{"$f":"1.1+(C7*0.2)","v":1.3},null,"Moment Mx=M3","Nm",{"$f":"C12*9.81*((C15)/1000)","v":0},{"$f":"C12*9.81*((C15)/1000)","v":0},{"$f":"C42*(C15/1000)","v":0},{"$f":"IF(K11=TRUE,-(C21*C23/1000)+C25*((C27+C34+C30/2)/1000),(C21*C23/1000)-C25*((C27+C34+C30/2)/1000))","v":0},{"$f":"IF(K11=TRUE,-(C21*C23/1000)+C25*((C27+C34+C30/2)/1000),(C21*C23/1000)-C25*((C27+C34+C30/2)/1000))","v":0}]
["Zylinderkraft zurück","N",103,null,"Moment My=M1","Nm","-","-","-",{"$f":"C17*(C19/1000)-C25*C26/1000","v":0},{"$f":"C17*(C19/1000)-C25*C26/1000","v":0}]
["Verfahrgeschwindigkeit","m/s",{"$f":"'EM-LM-6-1'!I58","v":2.02},null,"Moment Mz=M2","Nm",{"$f":"C12*9.81*((C13)/1000)","v":0},{"$f":"C12*9.81*((C13)/1000)","v":0},{"$f":"C42*(C13/1000)","v":0},{"$f":"IF(K11=TRUE,-C21*C22/1000+C17*(C18+C34+C30/2)/1000,C21*C22/1000-C17*(C18+C34+C30/2)/1000)","v":0},{"$f":"IF(K11=TRUE,-C21*C22/1000+C17*(C18+C34+C30/2)/1000,C21*C22/1000-C17*(C18+C34+C30/2)/1000)","v":0}]
[null,null,null,null,null,null,null,null,null,{"$f":"'EM-LM-6'!G51","v":false},{"$f":"'EM-LM-6'!G52","v":true}]
["Zusatzmasse","kg",{"$f":"'EM-LM-6'!K14","v":0}]
["Schwerpunktabstand x-Richt.(Mitte Welle)","mm",{"$f":"'EM-LM-6'!M14+32.5","v":32.5}]
["Schwerpunktabstand y-Richtung","mm",{"$f":"'EM-LM-6'!O14","v":0}]
["Schwerpunktabstand z-Richtung","mm",{"$f":"'EM-LM-6'!Q14","v":0}]
[null,null,null,null,"Mx Summe  I(II) + III","Nm",{"$f":"G8+I8","v":0}]
["Zusatzkraft Fx","N",{"$f":"'EM-LM-6'!K18","v":0},null,"Absolutbetrag",null,{"$f":"ABS(G16)","v":0}]
["Kraftangriffspunkt von Fx in y-Richtung","mm",{"$f":"'EM-LM-6'!O18","v":0},null,"Mx Summe  I+V oder II+IV","Nm",{"$f":"IF(J11=TRUE,H8+J8,G8+K8)","v":0}]
["Kraftangriffspunkt von Fx in z-Richtung","mm",{"$f":"'EM-LM-6'!Q18","v":0},null,"Absolutbetrag",null,{"$f":"ABS(G18)","v":0}]
[null,null,null,null,"Mx ges","Nm",{"$f":"MAX(G17,G19)","v":0}]
["Zusatzkraft Fy","N",{"$f":"'EM-LM-6'!K20","v":0},null,"Mx zul","Nm",{"$f":"IF(C7=1,'Allgemeine Werte'!B83,IF(C7=2,'Allgemeine Werte'!B84,IF(C7=3,'Allgemeine Werte'!B85,IF(C7=4,'Allgemeine Werte'!B86,IF(C7=5,'Allgemeine Werte'!B87,0)))))","v":23},null,"Maximal-Werte Mxzul  berechnet über Extrablatt !!"]
["Kraftangrp. von Fy in x-Richt. (Mitte Welle)","mm",{"$f":"'EM-LM-6'!M20+32.5","v":32.5},null,null,null,null,null,"Länge L, tan alpha und E werden zur Berechnung von Mx nicht mehr benötigt"]
["Kraftangrp. von Fy in z-Richt.","mm",{"$f":"'EM-LM-6'!Q20","v":0},null,"My IV = V","Nm",{"$f":"J9","v":0}]
[null,null,null,null,"Absolutbetrag",null,{"$f":"ABS(G23)","v":0}]
["Zusatzkraft Fz","N",{"$f":"'EM-LM-6'!K22","v":0},null,"My ges","Nm",{"$f":"G24","v":0}]
["Kraftangrp. von Fz in x-Richt. (Mitte Welle)","mm",{"$f":"'EM-LM-6'!M22+32.5","v":32.5},null,"My zul","Nm",{"$f":"G43*0.02","v":11.4},"Maximal-Werte Myzul berechnet aus Fzzul und Abstand Führungssäulen !!"]
["Kraftangriffspunkt von Fz in y-Richtung","mm",{"$f":"'EM-LM-6'!O22","v":0}]
[]
[null,null,null,null,"Mz Summe I(II)+III","Nm",{"$f":"G10+I10","v":0}]
["Länge L (Mittenabstand Buchsen)","mm",{"$f":"30+(C7*25)","v":55},null,"Absolutbetrag",null,{"$f":"ABS(G29)","v":0}]
["tan alpha",null,{"$f":"0.0004+(C7*0.00012)","v":5.2000000000000006E-4},null,"Mz Summe  I+V oder II+IV","Nm",{"$f":"IF(J11=TRUE,H10+J10,G10+K10)","v":0},"Maximal-Werte Fzzul neu berechnet"]
["E",null,641340000,null,"Absolutbetrag",null,{"$f":"ABS(G31)","v":0}]
["Schwerpunktabstand in y-Richtung","mm",{"$f":"C14","v":0},null,"Mz ges","Nm",{"$f":"MAX(G30,G32)","v":0}]
["Reduzierter Wert K","mm",{"$f":"C35-C36","v":14},null,"Mz zul","Nm",{"$f":"G21","v":23}]
["Wert K (Abstand Stirnplatte/1.Buchse)","mm",35]
["Anfangswert (Abst. Stirnpl./Deckplatte)","mm",21,null,null,null,null,null,"Belastungsgleichung stat.",{"$f":"G19/G21+G25/G26+G32/G34+G38/G39+G42/G43","v":0}]
[null,null,null,null,"Fx ges","N",{"$f":"C17","v":0},null,"Belastungsgleichung dyn.",{"$f":"G17/G21+G30/G34","v":0}]
[null,null,null,null,"Absolutwert",null,{"$f":"ABS(G37)","v":0},null,"Belastungsgleichung",{"$f":"MAX(J36:J37)","v":0}]
[null,null,null,null,"Fx zul","N",{"$f":"G43","v":570}]
["Stoßdämpferhub s ( Hub bis a=0 )","m",{"$f":"'Allgemeine Werte'!M36","v":4.5560000000000002E-3}]
["Verzögerung a=vxv/2xs","m/s2",{"$f":"POWER(C48,2)/(2*C40)","v":3.499534142015015},null,"Fz ges","N",{"$f":"-C25","v":0},null,"Verfahrzeitberechnung"]
["Kraft zur Verzögerung der Masse","N",{"$f":"C12*C41","v":0},null,"Absolutwert",null,{"$f":"ABS(G41)","v":0},null,"Verfahrzeit berechnet ( t=Wurzel aus (2xsxm/F)",null,{"$f":"(SQRT(2*(C5/1000)*(C12+C8/2)/(C6-(C12+C8/2)*9.81)))*(2.45-C7*0.15)","v":2.4601717697732992E-2}]
["Kraft zur Verzög. d. Masse incl Modul/2","N",{"$f":"C47*C41","v":2.2746971923097599},null,"Fz zul","N",{"$f":"IF(C7=1,'Allgemeine Werte'!C83,IF(C7=2,'Allgemeine Werte'!C84,IF(C7=3,'Allgemeine Werte'!C85,IF(C7=4,'Allgemeine Werte'!C86,IF(C7=5,'Allgemeine Werte'!C87,0)))))","v":570},null,"Mittlere Verfahrgeschwindigkeit berechnet",null,{"$f":"(C5/1000)/K42","v":0.40647568283093843}]
[null,null,null,null,null,null,null,null,"Endgeschwindigkeit berechnet",null,{"$f":"K43*'Allgemeine Werte'!E71","v":0.71133244495414227}]
["Stoßdämpferberechnung",null,null,null,"Max. Zyklenzahl / Min."]
["Anzahl Stoßdämpfer",null,1,null,"Zyklen aus Verfahrzeit",null,{"$f":"60/(2*L50)","v":306.12244897959181},null,"Endgeschwindigkeit (Eingabe)",null,{"$f":"C10","v":2.02}]
["Gesamtmasse","kg",{"$f":"C12+C8/2","v":0.65},null,null,null,null,null,"Mittlere Verfahrgeschwindigkeit (Eingabe)   m/s",null,{"$f":"C10/'Allgemeine Werte'!E71","v":1.1542857142857144}]
["Aufprallgeschwindigkeit","m/s",{"$f":"L54","v":0.17857142857142858},null,"Ezul / Stunde","Nm",{"$f":"'Allgemeine Werte'!H36*C46*0.95","v":23940},null,"Verfahrzeit (Eingabe)","s",{"$f":"(C5/1000)/K47","v":8.6633663366336624E-3},"Verfahrzeit für Berechnung"]
["W1","Nm",{"$f":"C47*POWER(C48,2)*0.5","v":1.0363520408163266E-2},null,"Ezul / Minute","Nm",{"$f":"G48/60","v":399},null,null,null,null,"( max )"]
["Hub Stoßdämpfer","m",{"$f":"'Allgemeine Werte'!L36","v":6.7999999999999996E-3},null,"Zyklen aus Ezul",null,{"$f":"G49/C53","v":509.57638313974161},null,"min. Verfahrzeit ab","gemessen",{"$f":"0.058+(C5/12.5)*0.007","v":6.3600000000000004E-2},{"$f":"MAX(K48,K53,K42)","v":9.8000000000000004E-2}]
["Zylinderkraft","N",120,null,null,null,null,null,"Mittlere Verfahrgeschwindigkeit ab",null,{"$f":"(C5/1000)/K50","v":0.15723270440251572}]
["W2 ( Antriebsenergie )","Nm",{"$f":"MAX(C56,C57)*C50","v":0.77263979999999988},null,"Max. Zyklen",null,{"$f":"MIN(G46,G50,G55)","v":120},null,"Endgeschwindigkeit ab",null,{"$f":"K51*'Allgemeine Werte'!E71","v":0.27515723270440251},"Endgeschwindigkeit f. Ber."]
["W1+W2 ( Energie / Hub )","Nm",{"$f":"C52+C49","v":0.78300332040816312},null,null,null,null,null,"min. Verfahrzeit auf",null,{"$f":"0.09+((C5/12.5)*0.01)","v":9.8000000000000004E-2},"( min )"]
["Ezul / Zyklus ( Hub )","Nm",{"$f":"'Allgemeine Werte'!G36*C50/'Allgemeine Werte'!K36*C46","v":5.8285714285714283},null,"Stoßd.-kolbenrückstellzeit",null,{"$f":"'Allgemeine Werte'!E36","v":0.5},null,"Mittlere Verfahrgeschwindigkeit auf",null,{"$f":"(C5/1000)/K53","v":0.10204081632653061},{"$f":"MIN(K46,K55,K44)","v":0.17857142857142858}]
["Auslastung / Zyklus",null,{"$f":"C53/C54","v":0.13433880497198877},null,"Max. Zyklen aus Rückstellzeit",null,{"$f":"60/G54","v":120},null,"Endgeschwindigkeit auf",null,{"$f":"K54*'Allgemeine Werte'!E71","v":0.17857142857142858}]
["Antriebskraft nach oben",null,{"$f":"C6-C47*9.81","v":113.62349999999999}]
["Antriebskraft nach unten",null,{"$f":"C9+C47*9.81","v":109.37650000000001}]

{"sheet":"EM-Ber-KLM100-1","index":60,"n_rows":55,"n_cols":12,"rows_kept":55,"cut":false,"hidden":false,"merged":[]}
["Linearmodul Typ",null,"KLM 100"]
[]
["Berechnung der Führungsbelastung"]
[null,null,null,null,null,null,"Statisch auf Grund","Statisch auf Grund"]
["Hub","mm",{"$f":"'EM-LM-1'!K8","v":10},null,null,null,"Zusatzmasse m","Zusatzmasse m","Dynamisch auf Grund","Statisch auf Grund","Statisch auf Grund"]
["Zylinderkraft","N",294,null,null,null,"Modul ausgef.","Modul eingef.","Zusatzmasse m","Zusatzkraft Modul eingef.","Zusatzkraft Modul ausgef."]
["Faktor",null,{"$f":"ROUNDDOWN((C5/50.1)+0.5,0)","v":0},null,null,null,"I","II","III","IV","V"]
["Modulgewicht","kg",{"$f":"2.3+(C7*0.7)","v":2.2999999999999998},null,"Moment Mx=M2","Nm",{"$f":"(C12*9.81)*(C34+C5+C14+C30/2)/1000","v":0},{"$f":"(C12*9.81)*(C34+C14+C30/2)/1000","v":0},{"$f":"C42*(C15/1000)","v":0},{"$f":"(C21*C23/1000)-C25*(C27+C34+C30/2)/1000","v":0},{"$f":"(C21*C23/1000)-C25*((C27+C34+C5+C30/2)/1000)","v":0}]
["Zylinderkraft zurück","N",226,null,"Moment My=M1","Nm",{"$f":"C12*9.81*(C13/1000)","v":0},{"$f":"C12*9.81*(C13/1000)","v":0},"-",{"$f":"C17*C19/1000-C25*(C26/1000)","v":0},{"$f":"C17*C19/1000-C25*(C26/1000)","v":0}]
["Verfahrgeschwindigkeit","m/s",{"$f":"'EM-LM-1-1'!I58","v":2.02},null,"Moment Mz=M3","Nm","-","-",{"$f":"C42*(C13/1000)","v":0},{"$f":"C21*C22/1000-C17*(C18+C34+C30/2)/1000","v":0},{"$f":"C21*C22/1000-C17*(C18+C34+C5+C30/2)/1000","v":0}]
[null,null,null,null,null,null,null,null,null,{"$f":"'EM-LM-1'!G51","v":true}]
["Zusatzmasse","kg",{"$f":"'EM-LM-1'!K14","v":0},null,"Mx Summe  I + III","Nm",{"$f":"G8+I8","v":0}]
["Schwerpunktabstand x-Richtung","mm",{"$f":"'EM-LM-1'!M14","v":0},null,"Absolutbetrag",null,{"$f":"ABS(G12)","v":0}]
["Schwerpunktabstand y-Richtung","mm",{"$f":"'EM-LM-1'!O14","v":0},null,"Mx Summe  II-III",null,{"$f":"H8-I8","v":0}]
["Schwerpunktabstand z-Richt.(Mitte Welle)","mm",{"$f":"'EM-LM-1'!Q14+16","v":16},null,"Absolutbetrag",null,{"$f":"ABS(G14)","v":0}]
[null,null,null,null,"I ","Nm",{"$f":"G8","v":0}]
["Zusatzkraft Fx","N",{"$f":"'EM-LM-1'!K18","v":0},null,"I oder I+III oder II-III",null,{"$f":"MAX(G16,G15,G13)","v":0}]
["Kraftangriffspunkt von Fx in y-Richtung","mm",{"$f":"'EM-LM-1'!O18","v":0},null,"Mx Summe  I+V oder II+IV","Nm",{"$f":"IF(AND(J8=0,K8=0),MAX(G8,H8),IF(J11=TRUE,H8+J8,G8+K8))","v":0}]
["Kraftangrp. von Fx in z-Richt.(Mitte Welle)","mm",{"$f":"'EM-LM-1'!Q18+16","v":16},null,"Absolutbetrag",null,{"$f":"ABS(G18)","v":0}]
[null,null,null,null,"Mx ges","Nm",{"$f":"MAX(G17,G19)","v":0}]
["Zusatzkraft Fy","N",{"$f":"'EM-LM-1'!K20","v":0},null,"Mx zul","Nm",{"$f":"IF(C7=0,'Allgemeine Werte'!B89,IF(C7=1,'Allgemeine Werte'!B90,IF(C7=2,'Allgemeine Werte'!B91,IF(C7=3,'Allgemeine Werte'!B92,IF(C7=4,'Allgemeine Werte'!B93,0)))))","v":32.5},null,"Maximal-Werte Mxzul  berechnet über Extrablatt !!"]
["Kraftangriffspunkt von Fy in x-Richtung","mm",{"$f":"'EM-LM-1'!M20","v":0},null,null,null,null,null,"Länge L, tan alpha und E werden zur Berechnung von Mx nicht mehr benötigt"]
["Kraftangrp. von Fy in z-Richt.(Mitte Rolle)","mm",{"$f":"'EM-LM-1'!Q20+16","v":16},null,"My Summe  I+V ( = II+IV )","Nm",{"$f":"G9+K9","v":0}]
[null,null,null,null,"Absolutbetrag",null,{"$f":"ABS(G23)","v":0}]
["Zusatzkraft Fz","N",{"$f":"'EM-LM-1'!K22","v":0},null,"My ges","Nm",{"$f":"G24","v":0}]
["Kraftangriffspunkt von Fz in x-Richtung","mm",{"$f":"'EM-LM-1'!M22","v":0},null,"My zul","Nm",{"$f":"G43*0.0255","v":25.5},null,"Maximal-Werte Myzul berechnet aus Fzzul und Abstand Führungssäulen !!"]
["Kraftangriffspunkt von Fz in y-Richtung","mm",{"$f":"'EM-LM-1'!O22","v":0}]
[]
[null,null,null,null,"Mz III","Nm",{"$f":"I10","v":0}]
["Länge L (Mittenabstand Buchsen)","mm",{"$f":"65+(C7*50)","v":65},null,"Absolutbetrag",null,{"$f":"ABS(G29)","v":0}]
["tan alpha",null,{"$f":"IF(C7=0,0.00045,IF(C7=1,0.0008,IF(C7=2,0.0011,IF(C7=3,0.0013,IF(C7=4,0.0015,1)))))","v":4.4999999999999999E-4},null,"Mz IV/V","Nm",{"$f":"IF(J11=TRUE,J10,K10)","v":0},null,"Maximal-Werte Fzzul neu berechnet"]
["E",null,2026710000,null,"Absolutbetrag",null,{"$f":"ABS(G31)","v":0}]
["Schwerpunktabstand in y-Richtung","mm",{"$f":"C14","v":0},null,"Mz ges","Nm",{"$f":"MAX(G30,G32)","v":0}]
["Wert K (Abstand Stirnplatte/1.Buchse)","mm",40,null,"Mz zul","Nm",{"$f":"G21","v":32.5}]
[]
[null,null,null,null,null,null,null,null,"Belastungsgleichung stat.",{"$f":"G19/G21+G25/G26+G32/G34+G38/G39+G42/G43","v":0}]
[null,null,null,null,"Fx ges","N",{"$f":"C17","v":0},null,"Belastungsgleichung dyn.",{"$f":"G17/G21+G30/G34+G40/G43","v":0}]
[null,null,null,null,"Absolutwert",null,{"$f":"ABS(G37)","v":0},null,"Belastungsgleichung",{"$f":"MAX(J36:J37)","v":0}]
[null,null,null,null,"Fx zul","N",{"$f":"G43","v":1000}]
["Stoßdämpferhub s ( Hub bis a=0 )","m",{"$f":"'Allgemeine Werte'!M38","v":7.6380000000000007E-3},null,"Gewichtskraft","N",{"$f":"C12*9.81","v":0}]
["Verzögerung a=vxv/2xs","m/s2",{"$f":"POWER(C48,2)/(2*C40)","v":2.9815269748505346},null,"Fz ges abs","N",{"$f":"ABS(-C25+C12*9.81)","v":0},null,"Verfahrzeitberechnung"]
["Kraft zur Verzögerung der Masse","N",{"$f":"C12*C41","v":0},null,"Max aus E40,E41",null,{"$f":"MAX(G40,G41)","v":0},null,"Verfahrzeit berechnet ( t=Wurzel aus (2xsxm/F)",null,{"$f":"(SQRT(2*(C5/1000)*(C12+C8/2)/C9))*(2.4+C7*0.1)","v":2.4211457830239935E-2}]
["Kraft zur Verzög. d. Masse incl Modul/2","N",{"$f":"C47*C41","v":3.4287560210781147},null,"Fz zul","N",{"$f":"IF(C7=0,'Allgemeine Werte'!C89,IF(C7=1,'Allgemeine Werte'!C90,IF(C7=2,'Allgemeine Werte'!C91,IF(C7=3,'Allgemeine Werte'!C92,IF(C7=4,'Allgemeine Werte'!C93,0)))))","v":1000},null,"Mittlere Verfahrgeschwindigkeit berechnet",null,{"$f":"(C5/1000)/K42","v":0.41302758677794582}]
[null,null,null,null,null,null,null,null,"Endgeschwindigkeit berechnet",null,{"$f":"K43*'Allgemeine Werte'!E71","v":0.72279827686140519}]
["Stoßdämpferberechnung",null,null,null,"Max. Zyklenzahl / Min."]
["Anzahl Stoßdämpfer",null,{"$f":"'EM-LM-1-1'!O38","v":1},null,"Zyklen aus Verfahrzeit",null,{"$f":"60/(2*L50)","v":365.85365853658533},null,"Endgeschwindigkeit (Eingabe)",null,{"$f":"C10","v":2.02}]
["Gesamtmasse","kg",{"$f":"C12+C8/2","v":1.1499999999999999},null,null,null,null,null,"Mittlere Verfahrgeschwindigkeit (Eingabe)   m/s",null,{"$f":"C10/'Allgemeine Werte'!E71","v":1.1542857142857144}]
["Aufprallgeschwindigkeit","m/s",{"$f":"L54","v":0.21341463414634146},null,"Ezul / Stunde","Nm",{"$f":"'Allgemeine Werte'!H38*C46*0.95","v":26790},null,"Verfahrzeit (Eingabe)","s",{"$f":"(C5/1000)/K47","v":8.6633663366336624E-3},"Verfahrzeit für Berechnung"]
["W1","Nm",{"$f":"C47*POWER(C48,2)*0.5","v":2.6188838488994642E-2},null,"Ezul / Minute","Nm",{"$f":"G48/60","v":446.5},null,null,null,null,"( max )"]
["Hub Stoßdämpfer","m",{"$f":"'Allgemeine Werte'!L38","v":1.14E-2},null,"Zyklen aus Ezul",null,{"$f":"G49/C53","v":132.18706714648729},null,"min. Verfahrzeit vor","gemessen",{"$f":"0.07+(C5/25)*0.02","v":7.8000000000000014E-2},{"$f":"MAX(K48,K53,K42)","v":8.2000000000000003E-2}]
["Zylinderkraft","N",294,null,null,null,null,null,"Mittlere Verfahrgeschwindigkeit vor",null,{"$f":"(C5/1000)/K50","v":0.12820512820512819}]
["W2 ( Antriebsenergie )","Nm",{"$f":"C51*C50","v":3.3515999999999999},null,"Max. Zyklen",null,{"$f":"MIN(G46,G50,G55)","v":120},null,"Endgeschwindigkeit vor",null,{"$f":"K51*'Allgemeine Werte'!E71","v":0.22435897435897434},"Endgeschwindigkeit f. Ber."]
["W1+W2 ( Energie / Hub )","Nm",{"$f":"C52+C49","v":3.3777888384889945},null,null,null,null,null,"min. Verfahrzeit zurück",null,{"$f":"0.07+((C5/25)*0.03)","v":8.2000000000000003E-2},"( min )"]
["Ezul / Zyklus ( Hub )","Nm",{"$f":"'Allgemeine Werte'!G38*C50/'Allgemeine Werte'!K38*C46","v":10.111304347826087},null,"Stoßd.-kolbenrückstellzeit",null,{"$f":"'Allgemeine Werte'!E38","v":0.5},null,"Mittlere Verfahrgeschwindigkeit zurück",null,{"$f":"(C5/1000)/K53","v":0.12195121951219512},{"$f":"MIN(K46,K55,K44)","v":0.21341463414634146}]
["Auslastung / Zyklus",null,{"$f":"C53/C54","v":0.33406064364141241},null,"Max. Zyklen aus Rückstellzeit",null,{"$f":"60/G54","v":120},null,"Endgeschwindigkeit zurück",null,{"$f":"K54*'Allgemeine Werte'!E71","v":0.21341463414634146}]

{"sheet":"EM-Ber-KLM100-2","index":61,"n_rows":55,"n_cols":12,"rows_kept":55,"cut":false,"hidden":false,"merged":[]}
["Linearmodul Typ",null,"KLM 100"]
[]
["Berechnung der Führungsbelastung"]
[null,null,null,null,null,null,"Statisch auf Grund","Statisch auf Grund"]
["Hub","mm",{"$f":"'EM-LM-2'!K8","v":10},null,null,null,"Zusatzmasse m","Zusatzmasse m","Dynamisch auf Grund","Statisch auf Grund","Statisch auf Grund"]
["Zylinderkraft","N",294,null,null,null,"Modul ausgef.","Modul eingef.","Zusatzmasse m","Zusatzkraft Modul eingef.","Zusatzkraft Modul ausgef."]
["Faktor",null,{"$f":"ROUNDDOWN((C5/50.1)+0.5,0)","v":0},null,null,null,"I","II","III","IV","V"]
["Modulgewicht","kg",{"$f":"2.3+(C7*0.7)","v":2.2999999999999998},null,"Moment Mx=M3","Nm",{"$f":"(C12*9.81)*(C34+C5+C14+C30/2)/1000","v":0},{"$f":"(C12*9.81)*(C34+C14+C30/2)/1000","v":0},{"$f":"C42*(C15/1000)","v":0},{"$f":"(C21*C23/1000)-C25*(C27+C34+C30/2)/1000","v":0},{"$f":"(C21*C23/1000)-C25*(C27+C34+C5+C30/2)/1000","v":0}]
["Zylinderkraft zurück","N",226,null,"Moment My=M1","Nm",{"$f":"C12*9.81*((C13)/1000)","v":0},{"$f":"C12*9.81*((C13)/1000)","v":0},"-",{"$f":"C17*(C19/1000)-C25*C26/1000","v":0},{"$f":"C17*(C19/1000)-C25*C26/1000","v":0}]
["Verfahrgeschwindigkeit","m/s",{"$f":"'EM-LM-2-1'!I58","v":2.02},null,"Moment Mz=M2","Nm","-","-",{"$f":"C42*(C13/1000)","v":0},{"$f":"C21*C22/1000-C17*(C18+C34+C30/2)/1000","v":0},{"$f":"C21*C22/1000-C17*(C18+C34+C5+C30/2)/1000","v":0}]
[null,null,null,null,null,null,null,null,null,{"$f":"'EM-LM-2'!G51","v":true}]
["Zusatzmasse","kg",{"$f":"'EM-LM-2'!K14","v":0},null,"Mx Summe  I + III","Nm",{"$f":"G8+I8","v":0}]
["Schwerpunktabstand x-Richt.(Mitte Welle)","mm",{"$f":"'EM-LM-2'!M14+16","v":16},null,"Absolutbetrag",null,{"$f":"ABS(G12)","v":0}]
["Schwerpunktabstand y-Richtung","mm",{"$f":"'EM-LM-2'!O14","v":0},null,"Mx Summe  II-III",null,{"$f":"H8-I8","v":0}]
["Schwerpunktabstand z-Richtung","mm",{"$f":"'EM-LM-2'!Q14","v":0},null,"Absolutbetrag",null,{"$f":"ABS(G14)","v":0}]
[null,null,null,null,"I ","Nm",{"$f":"G8","v":0}]
["Zusatzkraft Fx","N",{"$f":"'EM-LM-2'!K18","v":0},null,"I oder I+III oder II-III",null,{"$f":"MAX(G16,G15,G13)","v":0}]
["Kraftangriffspunkt von Fx in y-Richtung","mm",{"$f":"'EM-LM-2'!O18","v":0},null,"Mx Summe  I+V oder II+IV","Nm",{"$f":"IF(AND(J8=0,K8=0),MAX(G8,H8),IF(J11=TRUE,H8+J8,G8+K8))","v":0}]
["Kraftangriffspunkt von Fx in z-Richtung","mm",{"$f":"'EM-LM-2'!Q18","v":0},null,"Absolutbetrag",null,{"$f":"ABS(G18)","v":0}]
[null,null,null,null,"Mx ges","Nm",{"$f":"MAX(G17,G19)","v":0}]
["Zusatzkraft Fy","N",{"$f":"'EM-LM-2'!K20","v":0},null,"Mx zul","Nm",{"$f":"IF(C7=0,'Allgemeine Werte'!B89,IF(C7=1,'Allgemeine Werte'!B90,IF(C7=2,'Allgemeine Werte'!B91,IF(C7=3,'Allgemeine Werte'!B92,IF(C7=4,'Allgemeine Werte'!B93,0)))))","v":32.5},null,"Maximal-Werte Mxzul  berechnet über Extrablatt !!"]
["Kraftangrp. von Fy in x-Richt. (Mitte Welle)","mm",{"$f":"'EM-LM-2'!M20+16","v":16},null,null,null,null,null,"Länge L, tan alpha und E werden zur Berechnung von Mx nicht mehr benötigt"]
["Kraftangrp. von Fy in z-Richt.","mm",{"$f":"'EM-LM-2'!Q20","v":0},null,"My Summe  I+V ( = II+IV )","Nm",{"$f":"G9+K9","v":0}]
[null,null,null,null,"Absolutbetrag",null,{"$f":"ABS(G23)","v":0}]
["Zusatzkraft Fz","N",{"$f":"'EM-LM-2'!K22","v":0},null,"My ges","Nm",{"$f":"G24","v":0}]
["Kraftangrp. von Fz in x-Richt. (Mitte Welle)","mm",{"$f":"'EM-LM-2'!M22+16","v":16},null,"My zul","Nm",{"$f":"G43*0.0255","v":25.5},null,"Maximal-Werte dieses Momentes berechnet aus Fzzul und Abstand Führungssäulen !!"]
["Kraftangriffspunkt von Fz in y-Richtung","mm",{"$f":"'EM-LM-2'!O22","v":0}]
[]
[null,null,null,null,"Mz III","Nm",{"$f":"I10","v":0}]
["Länge L (Mittenabstand Buchsen)","mm",{"$f":"65+(C7*50)","v":65},null,"Absolutbetrag",null,{"$f":"ABS(G29)","v":0}]
["tan alpha",null,{"$f":"IF(C7=0,0.00045,IF(C7=1,0.0008,IF(C7=2,0.0011,IF(C7=3,0.0013,IF(C7=4,0.0015,1)))))","v":4.4999999999999999E-4},null,"Mz IV/V","Nm",{"$f":"IF(J11=TRUE,J10,K10)","v":0},null,"Maximal-Werte Fzzul neu berechnet"]
["E",null,2026710000,null,"Absolutbetrag",null,{"$f":"ABS(G31)","v":0}]
["Schwerpunktabstand in y-Richtung","mm",{"$f":"C14","v":0},null,"Mz ges","Nm",{"$f":"MAX(G30,G32)","v":0}]
["Wert K (Abstand Stirnplatte/1.Buchse)","mm",40,null,"Mz zul","Nm",{"$f":"G21","v":32.5}]
[]
[null,null,null,null,null,null,null,null,"Belastungsgleichung stat.",{"$f":"G19/G21+G25/G26+G32/G34+G38/G39+G42/G43","v":0}]
[null,null,null,null,"Fx ges","N",{"$f":"C17","v":0},null,"Belastungsgleichung dyn.",{"$f":"G17/G21+G30/G34+G40/G43","v":0}]
[null,null,null,null,"Absolutwert",null,{"$f":"ABS(G37)","v":0},null,"Belastungsgleichung",{"$f":"MAX(J36:J37)","v":0}]
[null,null,null,null,"Fx zul","N",{"$f":"G43","v":1000}]
["Stoßdämpferhub s ( Hub bis a=0 )","m",{"$f":"'Allgemeine Werte'!M38","v":7.6380000000000007E-3},null,"Gewichtskraft","N",{"$f":"C12*9.81","v":0}]
["Verzögerung a=vxv/2xs","m/s2",{"$f":"POWER(C48,2)/(2*C40)","v":2.9815269748505346},null,"Fz ges abs","N",{"$f":"ABS(-C25+C12*9.81)","v":0},null,"Verfahrzeitberechnung"]
["Kraft zur Verzögerung der Masse","N",{"$f":"C12*C41","v":0},null,"Max aus E40,E41",null,{"$f":"MAX(G40,G41)","v":0},null,"Verfahrzeit berechnet ( t=Wurzel aus (2xsxm/F)",null,{"$f":"(SQRT(2*(C5/1000)*(C12+C8/2)/C9))*(2.4+C7*0.1)","v":2.4211457830239935E-2}]
["Kraft zur Verzög. d. Masse incl Modul/2","N",{"$f":"C47*C41","v":3.4287560210781147},null,"Fz zul","N",{"$f":"IF(C7=0,'Allgemeine Werte'!C89,IF(C7=1,'Allgemeine Werte'!C90,IF(C7=2,'Allgemeine Werte'!C91,IF(C7=3,'Allgemeine Werte'!C92,IF(C7=4,'Allgemeine Werte'!C93,0)))))","v":1000},null,"Mittlere Verfahrgeschwindigkeit berechnet",null,{"$f":"(C5/1000)/K42","v":0.41302758677794582}]
[null,null,null,null,null,null,null,null,"Endgeschwindigkeit berechnet",null,{"$f":"K43*'Allgemeine Werte'!E71","v":0.72279827686140519}]
["Stoßdämpferberechnung",null,null,null,"Max. Zyklenzahl / Min."]
["Anzahl Stoßdämpfer",null,{"$f":"'EM-LM-2-1'!O38","v":1},null,"Zyklen aus Verfahrzeit",null,{"$f":"60/(2*L50)","v":365.85365853658533},null,"Endgeschwindigkeit (Eingabe)",null,{"$f":"C10","v":2.02}]
["Gesamtmasse","kg",{"$f":"C12+C8/2","v":1.1499999999999999},null,null,null,null,null,"Mittlere Verfahrgeschwindigkeit (Eingabe)   m/s",null,{"$f":"C10/'Allgemeine Werte'!E71","v":1.1542857142857144}]
["Aufprallgeschwindigkeit","m/s",{"$f":"L54","v":0.21341463414634146},null,"Ezul / Stunde","Nm",{"$f":"'Allgemeine Werte'!H38*C46*0.95","v":26790},null,"Verfahrzeit (Eingabe)","s",{"$f":"(C5/1000)/K47","v":8.6633663366336624E-3},"Verfahrzeit für Berechnung"]
["W1","Nm",{"$f":"C47*POWER(C48,2)*0.5","v":2.6188838488994642E-2},null,"Ezul / Minute","Nm",{"$f":"G48/60","v":446.5},null,null,null,null,"( max )"]
["Hub Stoßdämpfer","m",{"$f":"'Allgemeine Werte'!L38","v":1.14E-2},null,"Zyklen aus Ezul",null,{"$f":"G49/C53","v":132.18706714648729},null,"min. Verfahrzeit vor","gemessen",{"$f":"0.07+(C5/25)*0.02","v":7.8000000000000014E-2},{"$f":"MAX(K48,K53,K42)","v":8.2000000000000003E-2}]
["Zylinderkraft","N",294,null,null,null,null,null,"Mittlere Verfahrgeschwindigkeit vor",null,{"$f":"(C5/1000)/K50","v":0.12820512820512819}]
["W2 ( Antriebsenergie )","Nm",{"$f":"C51*C50","v":3.3515999999999999},null,"Max. Zyklen",null,{"$f":"MIN(G46,G50,G55)","v":120},null,"Endgeschwindigkeit vor",null,{"$f":"K51*'Allgemeine Werte'!E71","v":0.22435897435897434},"Endgeschwindigkeit f. Ber."]
["W1+W2 ( Energie / Hub )","Nm",{"$f":"C52+C49","v":3.3777888384889945},null,null,null,null,null,"min. Verfahrzeit zurück",null,{"$f":"0.07+((C5/25)*0.03)","v":8.2000000000000003E-2},"( min )"]
["Ezul / Zyklus ( Hub )","Nm",{"$f":"'Allgemeine Werte'!G38*C50/'Allgemeine Werte'!K38*C46","v":10.111304347826087},null,"Stoßd.-kolbenrückstellzeit",null,{"$f":"'Allgemeine Werte'!E38","v":0.5},null,"Mittlere Verfahrgeschwindigkeit zurück",null,{"$f":"(C5/1000)/K53","v":0.12195121951219512},{"$f":"MIN(K46,K55,K44)","v":0.21341463414634146}]
["Auslastung / Zyklus",null,{"$f":"C53/C54","v":0.33406064364141241},null,"Max. Zyklen aus Rückstellzeit",null,{"$f":"60/G54","v":120},null,"Endgeschwindigkeit zurück",null,{"$f":"K54*'Allgemeine Werte'!E71","v":0.21341463414634146}]

{"sheet":"EM-Ber-KLM100-3","index":62,"n_rows":57,"n_cols":12,"rows_kept":57,"cut":false,"hidden":false,"merged":[]}
["Linearmodul Typ",null,"KLM 100"]
[]
["Berechnung der Führungsbelastung"]
[null,null,null,null,null,null,"Statisch auf Grund","Statisch auf Grund"]
["Hub","mm",{"$f":"'EM-LM-3'!K8","v":10},null,null,null,"Zusatzmasse m","Zusatzmasse m","Dynamisch auf Grund","Statisch auf Grund","Statisch auf Grund"]
["Zylinderkraft","N",294,null,null,null,"Modul ausgef.","Modul eingef.","Zusatzmasse m","Zusatzkraft Modul eingef.","Zusatzkraft Modul ausgef."]
["Faktor",null,{"$f":"ROUNDDOWN((C5/50.1)+0.5,0)","v":0},null,null,null,"I","II","III","IV","V"]
["Modulgewicht","kg",{"$f":"2.3+(C7*0.7)","v":2.2999999999999998},null,"Moment Mx=M3","Nm",{"$f":"C12*9.81*((C15)/1000)","v":0},{"$f":"C12*9.81*((C15)/1000)","v":0},{"$f":"C42*(C15/1000)","v":0},{"$f":"IF(K11=TRUE,-(C21*C23/1000)+C25*((C27+C34+C30/2)/1000),(C21*C23/1000)-C25*((C27+C34+C30/2)/1000))","v":0},{"$f":"IF(K11=TRUE,-(C21*C23/1000)+C25*((C27+C5+C34+C30/2)/1000),(C21*C23/1000)-C25*((C27+C5+C34+C30/2)/1000))","v":0}]
["Zylinderkraft zurück","N",226,null,"Moment My=M1","Nm","-","-","-",{"$f":"C17*(C19/1000)-C25*C26/1000","v":0},{"$f":"C17*(C19/1000)-C25*C26/1000","v":0}]
["Verfahrgeschwindigkeit","m/s",{"$f":"'EM-LM-3-1'!I58","v":2.02},null,"Moment Mz=M2","Nm",{"$f":"C12*9.81*((C13)/1000)","v":0},{"$f":"C12*9.81*((C13)/1000)","v":0},{"$f":"C42*(C13/1000)","v":0},{"$f":"IF(K11=TRUE,-C21*C22/1000+C17*(C18+C34+C30/2)/1000,C21*C22/1000-C17*(C18+C34+C30/2)/1000)","v":0},{"$f":"IF(K11=TRUE,-C21*C22/1000+C17*(C18+C5+C34+C30/2)/1000,C21*C22/1000-C17*(C18+C5+C34+C30/2)/1000)","v":0}]
[null,null,null,null,null,null,null,null,null,{"$f":"'EM-LM-3'!G51","v":true},{"$f":"'EM-LM-3'!G52","v":true}]
["Zusatzmasse","kg",{"$f":"'EM-LM-3'!K14","v":0}]
["Schwerpunktabstand x-Richt.(Mitte Welle)","mm",{"$f":"'EM-LM-3'!M14+16","v":16}]
["Schwerpunktabstand y-Richtung","mm",{"$f":"'EM-LM-3'!O14","v":0}]
["Schwerpunktabstand z-Richtung","mm",{"$f":"'EM-LM-3'!Q14","v":0}]
[null,null,null,null,"Mx Summe  I(II) + III","Nm",{"$f":"G8+I8","v":0}]
["Zusatzkraft Fx","N",{"$f":"'EM-LM-3'!K18","v":0},null,"Absolutbetrag",null,{"$f":"ABS(G16)","v":0}]
["Kraftangriffspunkt von Fx in y-Richtung","mm",{"$f":"'EM-LM-3'!O18","v":0},null,"Mx Summe  I+V oder II+IV","Nm",{"$f":"IF(J11=TRUE,H8+J8,G8+K8)","v":0}]
["Kraftangriffspunkt von Fx in z-Richtung","mm",{"$f":"'EM-LM-3'!Q18","v":0},null,"Absolutbetrag",null,{"$f":"ABS(G18)","v":0}]
[null,null,null,null,"Mx ges","Nm",{"$f":"MAX(G17,G19)","v":0}]
["Zusatzkraft Fy","N",{"$f":"'EM-LM-3'!K20","v":0},null,"Mx zul","Nm",{"$f":"IF(C7=0,'Allgemeine Werte'!B89,IF(C7=1,'Allgemeine Werte'!B90,IF(C7=2,'Allgemeine Werte'!B91,IF(C7=3,'Allgemeine Werte'!B92,IF(C7=4,'Allgemeine Werte'!B93,0)))))","v":32.5},null,"Maximal-Werte Mxzul  berechnet über Extrablatt !!"]
["Kraftangrp. von Fy in x-Richt. (Mitte Welle)","mm",{"$f":"'EM-LM-3'!M20+16","v":16},null,null,null,null,null,"Länge L, tan alpha und E werden zur Berechnung von Mx nicht mehr benötigt"]
["Kraftangrp. von Fy in z-Richt.","mm",{"$f":"'EM-LM-3'!Q20","v":0},null,"My IV = V","Nm",{"$f":"J9","v":0}]
[null,null,null,null,"Absolutbetrag",null,{"$f":"ABS(G23)","v":0}]
["Zusatzkraft Fz","N",{"$f":"'EM-LM-3'!K22","v":0},null,"My ges","Nm",{"$f":"G24","v":0}]
["Kraftangrp. von Fz in x-Richt. (Mitte Welle)","mm",{"$f":"'EM-LM-3'!M22+16","v":16},null,"My zul","Nm",{"$f":"G43*0.0255","v":25.5},"Maximal-Werte dieses Momentes berechnet aus Fzzul und Abstand Führungssäulen !!"]
["Kraftangriffspunkt von Fz in y-Richtung","mm",{"$f":"'EM-LM-3'!O22","v":0}]
[]
[null,null,null,null,"Mz Summe I(II)+III","Nm",{"$f":"G10+I10","v":0}]
["Länge L (Mittenabstand Buchsen)","mm",{"$f":"65+(C7*50)","v":65},null,"Absolutbetrag",null,{"$f":"ABS(G29)","v":0}]
["tan alpha",null,{"$f":"IF(C7=0,0.00045,IF(C7=1,0.0008,IF(C7=2,0.0011,IF(C7=3,0.0013,IF(C7=4,0.0015,1)))))","v":4.4999999999999999E-4},null,"Mz Summe  I+V oder II+IV","Nm",{"$f":"IF(J11=TRUE,H10+J10,G10+K10)","v":0},"Maximal-Werte Fzzul neu berechnet"]
["E",null,2026710000,null,"Absolutbetrag",null,{"$f":"ABS(G31)","v":0}]
["Schwerpunktabstand in y-Richtung","mm",{"$f":"C14","v":0},null,"Mz ges","Nm",{"$f":"MAX(G30,G32)","v":0}]
["Wert K (Abstand Stirnplatte/1.Buchse)","mm",40,null,"Mz zul","Nm",{"$f":"G21","v":32.5}]
[]
[null,null,null,null,null,null,null,null,"Belastungsgleichung stat.",{"$f":"G19/G21+G25/G26+G32/G34+G38/G39+G42/G43","v":0}]
[null,null,null,null,"Fx ges","N",{"$f":"C17","v":0},null,"Belastungsgleichung dyn.",{"$f":"G17/G21+G30/G34","v":0}]
[null,null,null,null,"Absolutwert",null,{"$f":"ABS(G37)","v":0},null,"Belastungsgleichung",{"$f":"MAX(J36:J37)","v":0}]
[null,null,null,null,"Fx zul","N",{"$f":"G43","v":1000}]
["Stoßdämpferhub s ( Hub bis a=0 )","m",{"$f":"'Allgemeine Werte'!M38","v":7.6380000000000007E-3}]
["Verzögerung a=vxv/2xs","m/s2",{"$f":"POWER(C48,2)/(2*C40)","v":1.7187746381082816},null,"Fz ges","N",{"$f":"-C25","v":0},null,"Verfahrzeitberechnung"]
["Kraft zur Verzögerung der Masse","N",{"$f":"C12*C41","v":0},null,"Absolutwert",null,{"$f":"ABS(G41)","v":0},null,"Verfahrzeit berechnet ( t=Wurzel aus (2xsxm/F)",null,{"$f":"(SQRT(2*(C5/1000)*(C12+C8/2)/(C6-(C12+C8/2)*9.81)))*(2.7-C7*0.1)","v":2.4352893425745984E-2}]
["Kraft zur Verzög. d. Masse incl Modul/2","N",{"$f":"C47*C41","v":1.9765908338245237},null,"Fz zul","N",{"$f":"IF(C7=0,'Allgemeine Werte'!C89,IF(C7=1,'Allgemeine Werte'!C90,IF(C7=2,'Allgemeine Werte'!C91,IF(C7=3,'Allgemeine Werte'!C92,IF(C7=4,'Allgemeine Werte'!C93,0)))))","v":1000},null,"Mittlere Verfahrgeschwindigkeit berechnet",null,{"$f":"(C5/1000)/K42","v":0.41062882447586113}]
[null,null,null,null,null,null,null,null,"Endgeschwindigkeit berechnet",null,{"$f":"K43*'Allgemeine Werte'!E71","v":0.71860044283275704}]
["Stoßdämpferberechnung",null,null,null,"Max. Zyklenzahl / Min."]
["Anzahl Stoßdämpfer",null,{"$f":"'EM-LM-3-1'!O38","v":1},null,"Zyklen aus Verfahrzeit",null,{"$f":"60/(2*L50)","v":277.77777777777777},null,"Endgeschwindigkeit (Eingabe)",null,{"$f":"C10","v":2.02}]
["Gesamtmasse","kg",{"$f":"C12+C8/2","v":1.1499999999999999},null,null,null,null,null,"Mittlere Verfahrgeschwindigkeit (Eingabe)   m/s",null,{"$f":"C10/'Allgemeine Werte'!E71","v":1.1542857142857144}]
["Aufprallgeschwindigkeit","m/s",{"$f":"L54","v":0.16203703703703703},null,"Ezul / Stunde","Nm",{"$f":"'Allgemeine Werte'!H38*C46*0.95","v":26790},null,"Verfahrzeit (Eingabe)","s",{"$f":"(C5/1000)/K47","v":8.6633663366336624E-3},"Verfahrzeit für Berechnung"]
["W1","Nm",{"$f":"C47*POWER(C48,2)*0.5","v":1.5097200788751713E-2},null,"Ezul / Minute","Nm",{"$f":"G48/60","v":446.5},null,null,null,null,"( max )"]
["Hub Stoßdämpfer","m",{"$f":"'Allgemeine Werte'!L38","v":1.14E-2},null,"Zyklen aus Ezul",null,{"$f":"G49/C53","v":137.89000981512487},null,"min. Verfahrzeit ab","gemessen",{"$f":"0.06+(C5/25)*0.02","v":6.8000000000000005E-2},{"$f":"MAX(K48,K53,K42)","v":0.10800000000000001}]
["Zylinderkraft","N",294,null,null,null,null,null,"Mittlere Verfahrgeschwindigkeit ab",null,{"$f":"(C5/1000)/K50","v":0.14705882352941177}]
["W2 ( Antriebsenergie )","Nm",{"$f":"MAX(C56,C57)*C50","v":3.2229909000000001},null,"Max. Zyklen",null,{"$f":"MIN(G46,G50,G55)","v":120},null,"Endgeschwindigkeit ab",null,{"$f":"K51*'Allgemeine Werte'!E71","v":0.25735294117647062},"Endgeschwindigkeit f. Ber."]
["W1+W2 ( Energie / Hub )","Nm",{"$f":"C52+C49","v":3.2380881007887519},null,null,null,null,null,"min. Verfahrzeit auf",null,{"$f":"0.1+((C5/25)*0.02)","v":0.10800000000000001},"( min )"]
["Ezul / Zyklus ( Hub )","Nm",{"$f":"'Allgemeine Werte'!G38*C50/'Allgemeine Werte'!K38*C46","v":10.111304347826087},null,"Stoßd.-kolbenrückstellzeit",null,{"$f":"'Allgemeine Werte'!E38","v":0.5},null,"Mittlere Verfahrgeschwindigkeit auf",null,{"$f":"(C5/1000)/K53","v":9.2592592592592587E-2},{"$f":"MIN(K46,K55,K44)","v":0.16203703703703703}]
["Auslastung / Zyklus",null,{"$f":"C53/C54","v":0.32024435121319789},null,"Max. Zyklen aus Rückstellzeit",null,{"$f":"60/G54","v":120},null,"Endgeschwindigkeit auf",null,{"$f":"K54*'Allgemeine Werte'!E71","v":0.16203703703703703}]
["Antriebskraft nach oben",null,{"$f":"C6-C47*9.81","v":282.71850000000001}]
["Antriebskraft nach unten",null,{"$f":"C9+C47*9.81","v":237.28149999999999}]

{"sheet":"EM-Ber-KLM100-4","index":63,"n_rows":55,"n_cols":12,"rows_kept":55,"cut":false,"hidden":false,"merged":[]}
["Linearmodul Typ",null,"KLM 100"]
[]
["Berechnung der Führungsbelastung"]
[null,null,null,null,null,null,"Statisch auf Grund","Statisch auf Grund"]
["Hub","mm",{"$f":"'EM-LM-4'!K8","v":10},null,null,null,"Zusatzmasse m","Zusatzmasse m","Dynamisch auf Grund","Statisch auf Grund","Statisch auf Grund"]
["Zylinderkraft","N",294,null,null,null,"Modul ausgef.","Modul eingef.","Zusatzmasse m","Zusatzkraft Modul eingef.","Zusatzkraft Modul ausgef."]
["Faktor",null,{"$f":"ROUNDDOWN((C5/50.1)+0.5,0)","v":0},null,null,null,"I","II","III","IV","V"]
["Modulgewicht","kg",{"$f":"2.3+(C7*0.7)","v":2.2999999999999998},null,"Moment Mx=M2","Nm",{"$f":"(C12*9.81)*(C34+C14+C30/2)/1000","v":0},{"$f":"(C12*9.81)*(C34+C14+C30/2)/1000","v":0},{"$f":"C42*(C15/1000)","v":0},{"$f":"(C21*C23/1000)-C25*(C27+C34+C30/2)/1000","v":0},{"$f":"(C21*C23/1000)-C25*((C27+C34+C30/2)/1000)","v":0}]
["Zylinderkraft zurück","N",226,null,"Moment My=M1","Nm",{"$f":"C12*9.81*(C13/1000)","v":0},{"$f":"C12*9.81*(C13/1000)","v":0},"-",{"$f":"C17*C19/1000-C25*(C26/1000)","v":0},{"$f":"C17*C19/1000-C25*(C26/1000)","v":0}]
["Verfahrgeschwindigkeit","m/s",{"$f":"'EM-LM-4-1'!I58","v":2.02},null,"Moment Mz=M3","Nm","-","-",{"$f":"C42*(C13/1000)","v":0},{"$f":"C21*C22/1000-C17*(C18+C34+C30/2)/1000","v":0},{"$f":"C21*C22/1000-C17*(C18+C34+C30/2)/1000","v":0}]
[null,null,null,null,null,null,null,null,null,{"$f":"'EM-LM-4'!G51","v":false}]
["Zusatzmasse","kg",{"$f":"'EM-LM-4'!K14","v":0},null,"Mx Summe  I + III","Nm",{"$f":"G8+I8","v":0}]
["Schwerpunktabstand x-Richtung","mm",{"$f":"'EM-LM-4'!M14","v":0},null,"Absolutbetrag",null,{"$f":"ABS(G12)","v":0}]
["Schwerpunktabstand y-Richtung","mm",{"$f":"'EM-LM-4'!O14","v":0},null,"Mx Summe  II-III",null,{"$f":"H8-I8","v":0}]
["Schwerpunktabstand z-Richt.(Mitte Welle)","mm",{"$f":"'EM-LM-4'!Q14+44","v":44},null,"Absolutbetrag",null,{"$f":"ABS(G14)","v":0}]
[null,null,null,null,"I ","Nm",{"$f":"G8","v":0}]
["Zusatzkraft Fx","N",{"$f":"'EM-LM-4'!K18","v":0},null,"I oder I+III oder II-III",null,{"$f":"MAX(G16,G15,G13)","v":0}]
["Kraftangriffspunkt von Fx in y-Richtung","mm",{"$f":"'EM-LM-4'!O18","v":0},null,"Mx Summe  I+V oder II+IV","Nm",{"$f":"IF(AND(J8=0,K8=0),MAX(G8,H8),IF(J11=TRUE,H8+J8,G8+K8))","v":0}]
["Kraftangrp. von Fx in z-Richt.(Mitte Welle)","mm",{"$f":"'EM-LM-4'!Q18+44","v":44},null,"Absolutbetrag",null,{"$f":"ABS(G18)","v":0}]
[null,null,null,null,"Mx ges","Nm",{"$f":"MAX(G17,G19)","v":0}]
["Zusatzkraft Fy","N",{"$f":"'EM-LM-4'!K20","v":0},null,"Mx zul","Nm",{"$f":"IF(C7=0,'Allgemeine Werte'!B89,IF(C7=1,'Allgemeine Werte'!B90,IF(C7=2,'Allgemeine Werte'!B91,IF(C7=3,'Allgemeine Werte'!B92,IF(C7=4,'Allgemeine Werte'!B93,0)))))","v":32.5},null,"Maximal-Werte Mxzul  berechnet über Extrablatt !!"]
["Kraftangriffspunkt von Fy in x-Richtung","mm",{"$f":"'EM-LM-4'!M20","v":0},null,null,null,null,null,"Länge L, tan alpha und E werden zur Berechnung von Mx nicht mehr benötigt"]
["Kraftangrp. von Fy in z-Richt.(Mitte Rolle)","mm",{"$f":"'EM-LM-4'!Q20+44","v":44},null,"My Summe  I+V ( = II+IV )","Nm",{"$f":"G9+K9","v":0}]
[null,null,null,null,"Absolutbetrag",null,{"$f":"ABS(G23)","v":0}]
["Zusatzkraft Fz","N",{"$f":"'EM-LM-4'!K22","v":0},null,"My ges","Nm",{"$f":"G24","v":0}]
["Kraftangriffspunkt von Fz in x-Richtung","mm",{"$f":"'EM-LM-4'!M22","v":0},null,"My zul","Nm",{"$f":"G43*0.0255","v":25.5},null,"Maximal-Werte dieses Momentes berechnet aus Fzzul und Abstand Führungssäulen !!"]
["Kraftangriffspunkt von Fz in y-Richtung","mm",{"$f":"'EM-LM-4'!O22","v":0}]
[]
[null,null,null,null,"Mz III","Nm",{"$f":"I10","v":0}]
["Länge L (Mittenabstand Buchsen)","mm",{"$f":"65+(C7*50)","v":65},null,"Absolutbetrag",null,{"$f":"ABS(G29)","v":0}]
["tan alpha",null,{"$f":"IF(C7=0,0.00045,IF(C7=1,0.0008,IF(C7=2,0.0011,IF(C7=3,0.0013,IF(C7=4,0.0015,1)))))","v":4.4999999999999999E-4},null,"Mz IV/V","Nm",{"$f":"IF(J11=TRUE,J10,K10)","v":0},null,"Maximal-Werte Fzzul neu berechnet"]
["E",null,2026710000,null,"Absolutbetrag",null,{"$f":"ABS(G31)","v":0}]
["Schwerpunktabstand in y-Richtung","mm",{"$f":"C14","v":0},null,"Mz ges","Nm",{"$f":"MAX(G30,G32)","v":0}]
["Reduzierter Wert K","mm",{"$f":"C35-C36","v":15},null,"Mz zul","Nm",{"$f":"G21","v":32.5}]
["Wert K (Abstand Stirnplatte/1.Buchse)","mm",40]
["Anfangswert (Abst. Stirnpl./Deckplatte)","mm",25,null,null,null,null,null,"Belastungsgleichung stat.",{"$f":"G19/G21+G25/G26+G32/G34+G38/G39+G42/G43","v":0}]
[null,null,null,null,"Fx ges","N",{"$f":"C17","v":0},null,"Belastungsgleichung dyn.",{"$f":"G17/G21+G30/G34+G40/G43","v":0}]
[null,null,null,null,"Absolutwert",null,{"$f":"ABS(G37)","v":0},null,"Belastungsgleichung",{"$f":"MAX(J36:J37)","v":0}]
[null,null,null,null,"Fx zul","N",{"$f":"G43","v":1000}]
["Stoßdämpferhub s ( Hub bis a=0 )","m",{"$f":"'Allgemeine Werte'!M38","v":7.6380000000000007E-3},null,"Gewichtskraft","N",{"$f":"C12*9.81","v":0}]
["Verzögerung a=vxv/2xs","m/s2",{"$f":"POWER(C48,2)/(2*C40)","v":2.9815269748505346},null,"Fz ges abs","N",{"$f":"ABS(-C25+C12*9.81)","v":0},null,"Verfahrzeitberechnung"]
["Kraft zur Verzögerung der Masse","N",{"$f":"C12*C41","v":0},null,"Max aus E40,E41",null,{"$f":"MAX(G40,G41)","v":0},null,"Verfahrzeit berechnet ( t=Wurzel aus (2xsxm/F)",null,{"$f":"(SQRT(2*(C5/1000)*(C12+C8/2)/C9))*(2.4+C7*0.1)","v":2.4211457830239935E-2}]
["Kraft zur Verzög. d. Masse incl Modul/2","N",{"$f":"C47*C41","v":3.4287560210781147},null,"Fz zul","N",{"$f":"IF(C7=0,'Allgemeine Werte'!C89,IF(C7=1,'Allgemeine Werte'!C90,IF(C7=2,'Allgemeine Werte'!C91,IF(C7=3,'Allgemeine Werte'!C92,IF(C7=4,'Allgemeine Werte'!C93,0)))))","v":1000},null,"Mittlere Verfahrgeschwindigkeit berechnet",null,{"$f":"(C5/1000)/K42","v":0.41302758677794582}]
[null,null,null,null,null,null,null,null,"Endgeschwindigkeit berechnet",null,{"$f":"K43*'Allgemeine Werte'!E71","v":0.72279827686140519}]
["Stoßdämpferberechnung",null,null,null,"Max. Zyklenzahl / Min."]
["Anzahl Stoßdämpfer",null,{"$f":"'EM-LM-4-1'!O38","v":1},null,"Zyklen aus Verfahrzeit",null,{"$f":"60/(2*L50)","v":365.85365853658533},null,"Endgeschwindigkeit (Eingabe)",null,{"$f":"C10","v":2.02}]
["Gesamtmasse","kg",{"$f":"C12+C8/2","v":1.1499999999999999},null,null,null,null,null,"Mittlere Verfahrgeschwindigkeit (Eingabe)   m/s",null,{"$f":"C10/'Allgemeine Werte'!E71","v":1.1542857142857144}]
["Aufprallgeschwindigkeit","m/s",{"$f":"L54","v":0.21341463414634146},null,"Ezul / Stunde","Nm",{"$f":"'Allgemeine Werte'!H38*C46*0.95","v":26790},null,"Verfahrzeit (Eingabe)","s",{"$f":"(C5/1000)/K47","v":8.6633663366336624E-3},"Verfahrzeit für Berechnung"]
["W1","Nm",{"$f":"C47*POWER(C48,2)*0.5","v":2.6188838488994642E-2},null,"Ezul / Minute","Nm",{"$f":"G48/60","v":446.5},null,null,null,null,"( max )"]
["Hub Stoßdämpfer","m",{"$f":"'Allgemeine Werte'!L38","v":1.14E-2},null,"Zyklen aus Ezul",null,{"$f":"G49/C53","v":132.18706714648729},null,"min. Verfahrzeit vor","gemessen",{"$f":"0.07+(C5/25)*0.02","v":7.8000000000000014E-2},{"$f":"MAX(K48,K53,K42)","v":8.2000000000000003E-2}]
["Zylinderkraft","N",294,null,null,null,null,null,"Mittlere Verfahrgeschwindigkeit vor",null,{"$f":"(C5/1000)/K50","v":0.12820512820512819}]
["W2 ( Antriebsenergie )","Nm",{"$f":"C51*C50","v":3.3515999999999999},null,"Max. Zyklen",null,{"$f":"MIN(G46,G50,G55)","v":120},null,"Endgeschwindigkeit vor",null,{"$f":"K51*'Allgemeine Werte'!E71","v":0.22435897435897434},"Endgeschwindigkeit f. Ber."]
["W1+W2 ( Energie / Hub )","Nm",{"$f":"C52+C49","v":3.3777888384889945},null,null,null,null,null,"min. Verfahrzeit zurück",null,{"$f":"0.07+((C5/25)*0.03)","v":8.2000000000000003E-2},"( min )"]
["Ezul / Zyklus ( Hub )","Nm",{"$f":"'Allgemeine Werte'!G38*C50/'Allgemeine Werte'!K38*C46","v":10.111304347826087},null,"Stoßd.-kolbenrückstellzeit",null,{"$f":"'Allgemeine Werte'!E38","v":0.5},null,"Mittlere Verfahrgeschwindigkeit zurück",null,{"$f":"(C5/1000)/K53","v":0.12195121951219512},{"$f":"MIN(K46,K55,K44)","v":0.21341463414634146}]
["Auslastung / Zyklus",null,{"$f":"C53/C54","v":0.33406064364141241},null,"Max. Zyklen aus Rückstellzeit",null,{"$f":"60/G54","v":120},null,"Endgeschwindigkeit zurück",null,{"$f":"K54*'Allgemeine Werte'!E71","v":0.21341463414634146}]

{"sheet":"EM-Ber-KLM100-5","index":64,"n_rows":55,"n_cols":12,"rows_kept":55,"cut":false,"hidden":false,"merged":[]}
["Linearmodul Typ",null,"KLM 100"]
[]
["Berechnung der Führungsbelastung"]
[null,null,null,null,null,null,"Statisch auf Grund","Statisch auf Grund"]
["Hub","mm",{"$f":"'EM-LM-5'!K8","v":10},null,null,null,"Zusatzmasse m","Zusatzmasse m","Dynamisch auf Grund","Statisch auf Grund","Statisch auf Grund"]
["Zylinderkraft","N",294,null,null,null,"Modul ausgef.","Modul eingef.","Zusatzmasse m","Zusatzkraft Modul eingef.","Zusatzkraft Modul ausgef."]
["Faktor",null,{"$f":"ROUNDDOWN((C5/50.1)+0.5,0)","v":0},null,null,null,"I","II","III","IV","V"]
["Modulgewicht","kg",{"$f":"2.3+(C7*0.7)","v":2.2999999999999998},null,"Moment Mx=M3","Nm",{"$f":"(C12*9.81)*(C34+C14+C30/2)/1000","v":0},{"$f":"(C12*9.81)*(C34+C14+C30/2)/1000","v":0},{"$f":"C42*(C15/1000)","v":0},{"$f":"(C21*C23/1000)-C25*(C27+C34+C30/2)/1000","v":0},{"$f":"(C21*C23/1000)-C25*(C27+C34+C30/2)/1000","v":0}]
["Zylinderkraft zurück","N",226,null,"Moment My=M1","Nm",{"$f":"C12*9.81*((C13)/1000)","v":0},{"$f":"C12*9.81*((C13)/1000)","v":0},"-",{"$f":"C17*(C19/1000)-C25*C26/1000","v":0},{"$f":"C17*(C19/1000)-C25*C26/1000","v":0}]
["Verfahrgeschwindigkeit","m/s",{"$f":"'EM-LM-5-1'!I58","v":2.02},null,"Moment Mz=M2","Nm","-","-",{"$f":"C42*(C13/1000)","v":0},{"$f":"C21*C22/1000-C17*(C18+C34+C30/2)/1000","v":0},{"$f":"C21*C22/1000-C17*(C18+C34+C30/2)/1000","v":0}]
[null,null,null,null,null,null,null,null,null,{"$f":"'EM-LM-5'!G51","v":false}]
["Zusatzmasse","kg",{"$f":"'EM-LM-5'!K14","v":0},null,"Mx Summe  I + III","Nm",{"$f":"G8+I8","v":0}]
["Schwerpunktabstand x-Richt.(Mitte Welle)","mm",{"$f":"'EM-LM-5'!M14+44","v":44},null,"Absolutbetrag",null,{"$f":"ABS(G12)","v":0}]
["Schwerpunktabstand y-Richtung","mm",{"$f":"'EM-LM-5'!O14","v":0},null,"Mx Summe  II-III",null,{"$f":"H8-I8","v":0}]
["Schwerpunktabstand z-Richtung","mm",{"$f":"'EM-LM-5'!Q14","v":0},null,"Absolutbetrag",null,{"$f":"ABS(G14)","v":0}]
[null,null,null,null,"I ","Nm",{"$f":"G8","v":0}]
["Zusatzkraft Fx","N",{"$f":"'EM-LM-5'!K18","v":0},null,"I oder I+III oder II-III",null,{"$f":"MAX(G16,G15,G13)","v":0}]
["Kraftangriffspunkt von Fx in y-Richtung","mm",{"$f":"'EM-LM-5'!O18","v":0},null,"Mx Summe  I+V oder II+IV","Nm",{"$f":"IF(AND(J8=0,K8=0),MAX(G8,H8),IF(J11=TRUE,H8+J8,G8+K8))","v":0}]
["Kraftangriffspunkt von Fx in z-Richtung","mm",{"$f":"'EM-LM-5'!Q18","v":0},null,"Absolutbetrag",null,{"$f":"ABS(G18)","v":0}]
[null,null,null,null,"Mx ges","Nm",{"$f":"MAX(G17,G19)","v":0}]
["Zusatzkraft Fy","N",{"$f":"'EM-LM-5'!K20","v":0},null,"Mx zul","Nm",{"$f":"IF(C7=0,'Allgemeine Werte'!B89,IF(C7=1,'Allgemeine Werte'!B90,IF(C7=2,'Allgemeine Werte'!B91,IF(C7=3,'Allgemeine Werte'!B92,IF(C7=4,'Allgemeine Werte'!B93,0)))))","v":32.5},null,"Maximal-Werte Mxzul  berechnet über Extrablatt !!"]
["Kraftangrp. von Fy in x-Richt. (Mitte Welle)","mm",{"$f":"'EM-LM-5'!M20+44","v":44},null,null,null,null,null,"Länge L, tan alpha und E werden zur Berechnung von Mx nicht mehr benötigt"]
["Kraftangrp. von Fy in z-Richt.","mm",{"$f":"'EM-LM-5'!Q20","v":0},null,"My Summe  I+V ( = II+IV )","Nm",{"$f":"G9+K9","v":0}]
[null,null,null,null,"Absolutbetrag",null,{"$f":"ABS(G23)","v":0}]
["Zusatzkraft Fz","N",{"$f":"'EM-LM-5'!K22","v":0},null,"My ges","Nm",{"$f":"G24","v":0}]
["Kraftangrp. von Fz in x-Richt. (Mitte Welle)","mm",{"$f":"'EM-LM-5'!M22+44","v":44},null,"My zul","Nm",{"$f":"G43*0.0255","v":25.5},null,"Maximal-Werte dieses Momentes berechnet aus Fzzul und Abstand Führungssäulen !!"]
["Kraftangriffspunkt von Fz in y-Richtung","mm",{"$f":"'EM-LM-5'!O22","v":0}]
[]
[null,null,null,null,"Mz III","Nm",{"$f":"I10","v":0}]
["Länge L (Mittenabstand Buchsen)","mm",{"$f":"65+(C7*50)","v":65},null,"Absolutbetrag",null,{"$f":"ABS(G29)","v":0}]
["tan alpha",null,{"$f":"IF(C7=0,0.00045,IF(C7=1,0.0008,IF(C7=2,0.0011,IF(C7=3,0.0013,IF(C7=4,0.0015,1)))))","v":4.4999999999999999E-4},null,"Mz IV/V","Nm",{"$f":"IF(J11=TRUE,J10,K10)","v":0},null,"Maximal-Werte Fzzul neu berechnet"]
["E",null,2026710000,null,"Absolutbetrag",null,{"$f":"ABS(G31)","v":0}]
["Schwerpunktabstand in y-Richtung","mm",{"$f":"C14","v":0},null,"Mz ges","Nm",{"$f":"MAX(G30,G32)","v":0}]
["Reduzierter Wert K","mm",{"$f":"C35-C36","v":15},null,"Mz zul","Nm",{"$f":"G21","v":32.5}]
["Wert K (Abstand Stirnplatte/1.Buchse)","mm",40]
["Anfangswert (Abst. Stirnpl./Deckplatte)","mm",25,null,null,null,null,null,"Belastungsgleichung stat.",{"$f":"G19/G21+G25/G26+G32/G34+G38/G39+G42/G43","v":0}]
[null,null,null,null,"Fx ges","N",{"$f":"C17","v":0},null,"Belastungsgleichung dyn.",{"$f":"G17/G21+G30/G34+G40/G43","v":0}]
[null,null,null,null,"Absolutwert",null,{"$f":"ABS(G37)","v":0},null,"Belastungsgleichung",{"$f":"MAX(J36:J37)","v":0}]
[null,null,null,null,"Fx zul","N",{"$f":"G43","v":1000}]
["Stoßdämpferhub s ( Hub bis a=0 )","m",{"$f":"'Allgemeine Werte'!M38","v":7.6380000000000007E-3},null,"Gewichtskraft","N",{"$f":"C12*9.81","v":0}]
["Verzögerung a=vxv/2xs","m/s2",{"$f":"POWER(C48,2)/(2*C40)","v":2.9815269748505346},null,"Fz ges abs","N",{"$f":"ABS(-C25+C12*9.81)","v":0},null,"Verfahrzeitberechnung"]
["Kraft zur Verzögerung der Masse","N",{"$f":"C12*C41","v":0},null,"Max aus E40,E41",null,{"$f":"MAX(G40,G41)","v":0},null,"Verfahrzeit berechnet ( t=Wurzel aus (2xsxm/F)",null,{"$f":"(SQRT(2*(C5/1000)*(C12+C8/2)/C9))*(2.4+C7*0.1)","v":2.4211457830239935E-2}]
["Kraft zur Verzög. d. Masse incl Modul/2","N",{"$f":"C47*C41","v":3.4287560210781147},null,"Fz zul","N",{"$f":"IF(C7=0,'Allgemeine Werte'!C89,IF(C7=1,'Allgemeine Werte'!C90,IF(C7=2,'Allgemeine Werte'!C91,IF(C7=3,'Allgemeine Werte'!C92,IF(C7=4,'Allgemeine Werte'!C93,0)))))","v":1000},null,"Mittlere Verfahrgeschwindigkeit berechnet",null,{"$f":"(C5/1000)/K42","v":0.41302758677794582}]
[null,null,null,null,null,null,null,null,"Endgeschwindigkeit berechnet",null,{"$f":"K43*'Allgemeine Werte'!E71","v":0.72279827686140519}]
["Stoßdämpferberechnung",null,null,null,"Max. Zyklenzahl / Min."]
["Anzahl Stoßdämpfer",null,{"$f":"'EM-LM-5-1'!O38","v":1},null,"Zyklen aus Verfahrzeit",null,{"$f":"60/(2*L50)","v":365.85365853658533},null,"Endgeschwindigkeit (Eingabe)",null,{"$f":"C10","v":2.02}]
["Gesamtmasse","kg",{"$f":"C12+C8/2","v":1.1499999999999999},null,null,null,null,null,"Mittlere Verfahrgeschwindigkeit (Eingabe)   m/s",null,{"$f":"C10/'Allgemeine Werte'!E71","v":1.1542857142857144}]
["Aufprallgeschwindigkeit","m/s",{"$f":"L54","v":0.21341463414634146},null,"Ezul / Stunde","Nm",{"$f":"'Allgemeine Werte'!H38*C46*0.95","v":26790},null,"Verfahrzeit (Eingabe)","s",{"$f":"(C5/1000)/K47","v":8.6633663366336624E-3},"Verfahrzeit für Berechnung"]
["W1","Nm",{"$f":"C47*POWER(C48,2)*0.5","v":2.6188838488994642E-2},null,"Ezul / Minute","Nm",{"$f":"G48/60","v":446.5},null,null,null,null,"( max )"]
["Hub Stoßdämpfer","m",{"$f":"'Allgemeine Werte'!L38","v":1.14E-2},null,"Zyklen aus Ezul",null,{"$f":"G49/C53","v":132.18706714648729},null,"min. Verfahrzeit vor","gemessen",{"$f":"0.07+(C5/25)*0.02","v":7.8000000000000014E-2},{"$f":"MAX(K48,K53,K42)","v":8.2000000000000003E-2}]
["Zylinderkraft","N",294,null,null,null,null,null,"Mittlere Verfahrgeschwindigkeit vor",null,{"$f":"(C5/1000)/K50","v":0.12820512820512819}]
["W2 ( Antriebsenergie )","Nm",{"$f":"C51*C50","v":3.3515999999999999},null,"Max. Zyklen",null,{"$f":"MIN(G46,G50,G55)","v":120},null,"Endgeschwindigkeit vor",null,{"$f":"K51*'Allgemeine Werte'!E71","v":0.22435897435897434},"Endgeschwindigkeit f. Ber."]
["W1+W2 ( Energie / Hub )","Nm",{"$f":"C52+C49","v":3.3777888384889945},null,null,null,null,null,"min. Verfahrzeit zurück",null,{"$f":"0.07+((C5/25)*0.03)","v":8.2000000000000003E-2},"( min )"]
["Ezul / Zyklus ( Hub )","Nm",{"$f":"'Allgemeine Werte'!G38*C50/'Allgemeine Werte'!K38*C46","v":10.111304347826087},null,"Stoßd.-kolbenrückstellzeit",null,{"$f":"'Allgemeine Werte'!E38","v":0.5},null,"Mittlere Verfahrgeschwindigkeit zurück",null,{"$f":"(C5/1000)/K53","v":0.12195121951219512},{"$f":"MIN(K46,K55,K44)","v":0.21341463414634146}]
["Auslastung / Zyklus",null,{"$f":"C53/C54","v":0.33406064364141241},null,"Max. Zyklen aus Rückstellzeit",null,{"$f":"60/G54","v":120},null,"Endgeschwindigkeit zurück",null,{"$f":"K54*'Allgemeine Werte'!E71","v":0.21341463414634146}]

{"sheet":"EM-Ber-KLM100-6","index":65,"n_rows":57,"n_cols":12,"rows_kept":57,"cut":false,"hidden":false,"merged":[]}
["Linearmodul Typ",null,"KLM 100"]
[]
["Berechnung der Führungsbelastung"]
[null,null,null,null,null,null,"Statisch auf Grund","Statisch auf Grund"]
["Hub","mm",{"$f":"'EM-LM-6'!K8","v":10},null,null,null,"Zusatzmasse m","Zusatzmasse m","Dynamisch auf Grund","Statisch auf Grund","Statisch auf Grund"]
["Zylinderkraft","N",294,null,null,null,"Modul ausgef.","Modul eingef.","Zusatzmasse m","Zusatzkraft Modul eingef.","Zusatzkraft Modul ausgef."]
["Faktor",null,{"$f":"ROUNDDOWN((C5/50.1)+0.5,0)","v":0},null,null,null,"I","II","III","IV","V"]
["Modulgewicht","kg",{"$f":"2.3+(C7*0.7)","v":2.2999999999999998},null,"Moment Mx=M3","Nm",{"$f":"C12*9.81*((C15)/1000)","v":0},{"$f":"C12*9.81*((C15)/1000)","v":0},{"$f":"C42*(C15/1000)","v":0},{"$f":"IF(K11=TRUE,-(C21*C23/1000)+C25*((C27+C34+C30/2)/1000),(C21*C23/1000)-C25*((C27+C34+C30/2)/1000))","v":0},{"$f":"IF(K11=TRUE,-(C21*C23/1000)+C25*((C27+C34+C30/2)/1000),(C21*C23/1000)-C25*((C27+C34+C30/2)/1000))","v":0}]
["Zylinderkraft zurück","N",226,null,"Moment My=M1","Nm","-","-","-",{"$f":"C17*(C19/1000)-C25*C26/1000","v":0},{"$f":"C17*(C19/1000)-C25*C26/1000","v":0}]
["Verfahrgeschwindigkeit","m/s",{"$f":"'EM-LM-6-1'!I58","v":2.02},null,"Moment Mz=M2","Nm",{"$f":"C12*9.81*((C13)/1000)","v":0},{"$f":"C12*9.81*((C13)/1000)","v":0},{"$f":"C42*(C13/1000)","v":0},{"$f":"IF(K11=TRUE,-C21*C22/1000+C17*(C18+C34+C30/2)/1000,C21*C22/1000-C17*(C18+C34+C30/2)/1000)","v":0},{"$f":"IF(K11=TRUE,-C21*C22/1000+C17*(C18+C34+C30/2)/1000,C21*C22/1000-C17*(C18+C34+C30/2)/1000)","v":0}]
[null,null,null,null,null,null,null,null,null,{"$f":"'EM-LM-6'!G51","v":false},{"$f":"'EM-LM-6'!G52","v":true}]
["Zusatzmasse","kg",{"$f":"'EM-LM-6'!K14","v":0}]
["Schwerpunktabstand x-Richt.(Mitte Welle)","mm",{"$f":"'EM-LM-6'!M14+44","v":44}]
["Schwerpunktabstand y-Richtung","mm",{"$f":"'EM-LM-6'!O14","v":0}]
["Schwerpunktabstand z-Richtung","mm",{"$f":"'EM-LM-6'!Q14","v":0}]
[null,null,null,null,"Mx Summe  I(II) + III","Nm",{"$f":"G8+I8","v":0}]
["Zusatzkraft Fx","N",{"$f":"'EM-LM-6'!K18","v":0},null,"Absolutbetrag",null,{"$f":"ABS(G16)","v":0}]
["Kraftangriffspunkt von Fx in y-Richtung","mm",{"$f":"'EM-LM-6'!O18","v":0},null,"Mx Summe  I+V oder II+IV","Nm",{"$f":"IF(J11=TRUE,H8+J8,G8+K8)","v":0}]
["Kraftangriffspunkt von Fx in z-Richtung","mm",{"$f":"'EM-LM-6'!Q18","v":0},null,"Absolutbetrag",null,{"$f":"ABS(G18)","v":0}]
[null,null,null,null,"Mx ges","Nm",{"$f":"MAX(G17,G19)","v":0}]
["Zusatzkraft Fy","N",{"$f":"'EM-LM-6'!K20","v":0},null,"Mx zul","Nm",{"$f":"IF(C7=0,'Allgemeine Werte'!B89,IF(C7=1,'Allgemeine Werte'!B90,IF(C7=2,'Allgemeine Werte'!B91,IF(C7=3,'Allgemeine Werte'!B92,IF(C7=4,'Allgemeine Werte'!B93,0)))))","v":32.5},null,"Maximal-Werte Mxzul  berechnet über Extrablatt !!"]
["Kraftangrp. von Fy in x-Richt. (Mitte Welle)","mm",{"$f":"'EM-LM-6'!M20+44","v":44},null,null,null,null,null,"Länge L, tan alpha und E werden zur Berechnung von Mx nicht mehr benötigt"]
["Kraftangrp. von Fy in z-Richt.","mm",{"$f":"'EM-LM-6'!Q20","v":0},null,"My IV = V","Nm",{"$f":"J9","v":0}]
[null,null,null,null,"Absolutbetrag",null,{"$f":"ABS(G23)","v":0}]
["Zusatzkraft Fz","N",{"$f":"'EM-LM-6'!K22","v":0},null,"My ges","Nm",{"$f":"G24","v":0}]
["Kraftangrp. von Fz in x-Richt. (Mitte Welle)","mm",{"$f":"'EM-LM-6'!M22+44","v":44},null,"My zul","Nm",{"$f":"G43*0.0255","v":25.5},"Maximal-Werte dieses Momentes berechnet aus Fzzul und Abstand Führungssäulen !!"]
["Kraftangriffspunkt von Fz in y-Richtung","mm",{"$f":"'EM-LM-6'!O22","v":0}]
[]
[null,null,null,null,"Mz Summe I(II)+III","Nm",{"$f":"G10+I10","v":0}]
["Länge L (Mittenabstand Buchsen)","mm",{"$f":"65+(C7*50)","v":65},null,"Absolutbetrag",null,{"$f":"ABS(G29)","v":0}]
["tan alpha",null,{"$f":"IF(C7=0,0.00045,IF(C7=1,0.0008,IF(C7=2,0.0011,IF(C7=3,0.0013,IF(C7=4,0.0015,1)))))","v":4.4999999999999999E-4},null,"Mz Summe  I+V oder II+IV","Nm",{"$f":"IF(J11=TRUE,H10+J10,G10+K10)","v":0},"Maximal-Werte Fzzul neu berechnet"]
["E",null,2026710000,null,"Absolutbetrag",null,{"$f":"ABS(G31)","v":0}]
["Schwerpunktabstand in y-Richtung","mm",{"$f":"C14","v":0},null,"Mz ges","Nm",{"$f":"MAX(G30,G32)","v":0}]
["Reduzierter Wert K","mm",{"$f":"C35-C36","v":15},null,"Mz zul","Nm",{"$f":"G21","v":32.5}]
["Wert K (Abstand Stirnplatte/1.Buchse)","mm",40]
["Anfangswert (Abst. Stirnpl./Deckplatte)","mm",25,null,null,null,null,null,"Belastungsgleichung stat.",{"$f":"G19/G21+G25/G26+G32/G34+G38/G39+G42/G43","v":0}]
[null,null,null,null,"Fx ges","N",{"$f":"C17","v":0},null,"Belastungsgleichung dyn.",{"$f":"G17/G21+G30/G34","v":0}]
[null,null,null,null,"Absolutwert",null,{"$f":"ABS(G37)","v":0},null,"Belastungsgleichung",{"$f":"MAX(J36:J37)","v":0}]
[null,null,null,null,"Fx zul","N",{"$f":"G43","v":1000}]
["Stoßdämpferhub s ( Hub bis a=0 )","m",{"$f":"'Allgemeine Werte'!M38","v":7.6380000000000007E-3}]
["Verzögerung a=vxv/2xs","m/s2",{"$f":"POWER(C48,2)/(2*C40)","v":1.7187746381082816},null,"Fz ges","N",{"$f":"-C25","v":0},null,"Verfahrzeitberechnung"]
["Kraft zur Verzögerung der Masse","N",{"$f":"C12*C41","v":0},null,"Absolutwert",null,{"$f":"ABS(G41)","v":0},null,"Verfahrzeit berechnet ( t=Wurzel aus (2xsxm/F)",null,{"$f":"(SQRT(2*(C5/1000)*(C12+C8/2)/(C6-(C12+C8/2)*9.81)))*(2.7-C7*0.1)","v":2.4352893425745984E-2}]
["Kraft zur Verzög. d. Masse incl Modul/2","N",{"$f":"C47*C41","v":1.9765908338245237},null,"Fz zul","N",{"$f":"IF(C7=0,'Allgemeine Werte'!C89,IF(C7=1,'Allgemeine Werte'!C90,IF(C7=2,'Allgemeine Werte'!C91,IF(C7=3,'Allgemeine Werte'!C92,IF(C7=4,'Allgemeine Werte'!C93,0)))))","v":1000},null,"Mittlere Verfahrgeschwindigkeit berechnet",null,{"$f":"(C5/1000)/K42","v":0.41062882447586113}]
[null,null,null,null,null,null,null,null,"Endgeschwindigkeit berechnet",null,{"$f":"K43*'Allgemeine Werte'!E71","v":0.71860044283275704}]
["Stoßdämpferberechnung",null,null,null,"Max. Zyklenzahl / Min."]
["Anzahl Stoßdämpfer",null,{"$f":"'EM-LM-6-1'!O38","v":1},null,"Zyklen aus Verfahrzeit",null,{"$f":"60/(2*L50)","v":277.77777777777777},null,"Endgeschwindigkeit (Eingabe)",null,{"$f":"C10","v":2.02}]
["Gesamtmasse","kg",{"$f":"C12+C8/2","v":1.1499999999999999},null,null,null,null,null,"Mittlere Verfahrgeschwindigkeit (Eingabe)   m/s",null,{"$f":"C10/'Allgemeine Werte'!E71","v":1.1542857142857144}]
["Aufprallgeschwindigkeit","m/s",{"$f":"L54","v":0.16203703703703703},null,"Ezul / Stunde","Nm",{"$f":"'Allgemeine Werte'!H38*C46*0.95","v":26790},null,"Verfahrzeit (Eingabe)","s",{"$f":"(C5/1000)/K47","v":8.6633663366336624E-3},"Verfahrzeit für Berechnung"]
["W1","Nm",{"$f":"C47*POWER(C48,2)*0.5","v":1.5097200788751713E-2},null,"Ezul / Minute","Nm",{"$f":"G48/60","v":446.5},null,null,null,null,"( max )"]
["Hub Stoßdämpfer","m",{"$f":"'Allgemeine Werte'!L38","v":1.14E-2},null,"Zyklen aus Ezul",null,{"$f":"G49/C53","v":137.89000981512487},null,"min. Verfahrzeit ab","gemessen",{"$f":"0.06+(C5/25)*0.02","v":6.8000000000000005E-2},{"$f":"MAX(K48,K53,K42)","v":0.10800000000000001}]
["Zylinderkraft","N",294,null,null,null,null,null,"Mittlere Verfahrgeschwindigkeit ab",null,{"$f":"(C5/1000)/K50","v":0.14705882352941177}]
["W2 ( Antriebsenergie )","Nm",{"$f":"MAX(C56,C57)*C50","v":3.2229909000000001},null,"Max. Zyklen",null,{"$f":"MIN(G46,G50,G55)","v":120},null,"Endgeschwindigkeit ab",null,{"$f":"K51*'Allgemeine Werte'!E71","v":0.25735294117647062},"Endgeschwindigkeit f. Ber."]
["W1+W2 ( Energie / Hub )","Nm",{"$f":"C52+C49","v":3.2380881007887519},null,null,null,null,null,"min. Verfahrzeit auf",null,{"$f":"0.1+((C5/25)*0.02)","v":0.10800000000000001},"( min )"]
["Ezul / Zyklus ( Hub )","Nm",{"$f":"'Allgemeine Werte'!G38*C50/'Allgemeine Werte'!K38*C46","v":10.111304347826087},null,"Stoßd.-kolbenrückstellzeit",null,{"$f":"'Allgemeine Werte'!E38","v":0.5},null,"Mittlere Verfahrgeschwindigkeit auf",null,{"$f":"(C5/1000)/K53","v":9.2592592592592587E-2},{"$f":"MIN(K46,K55,K44)","v":0.16203703703703703}]
["Auslastung / Zyklus",null,{"$f":"C53/C54","v":0.32024435121319789},null,"Max. Zyklen aus Rückstellzeit",null,{"$f":"60/G54","v":120},null,"Endgeschwindigkeit auf",null,{"$f":"K54*'Allgemeine Werte'!E71","v":0.16203703703703703}]
["Antriebskraft nach oben",null,{"$f":"C6-C47*9.81","v":282.71850000000001}]
["Antriebskraft nach unten",null,{"$f":"C9+C47*9.81","v":237.28149999999999}]

{"sheet":"EM-Ber-KLM300-1","index":66,"n_rows":55,"n_cols":12,"rows_kept":55,"cut":false,"hidden":false,"merged":[]}
["Linearmodul Typ",null,"KLM 300"]
[]
["Berechnung der Führungsbelastung"]
[null,null,null,null,null,null,"Statisch auf Grund","Statisch auf Grund"]
["Hub","mm",{"$f":"'EM-LM-1'!K8","v":10},null,null,null,"Zusatzmasse m","Zusatzmasse m","Dynamisch auf Grund","Statisch auf Grund","Statisch auf Grund"]
["Zylinderkraft","N",753,null,null,null,"Modul ausgef.","Modul eingef.","Zusatzmasse m","Zusatzkraft Modul eingef.","Zusatzkraft Modul ausgef."]
["Faktor",null,{"$f":"ROUNDDOWN((C5/100.1),0)","v":0},null,null,null,"I","II","III","IV","V"]
["Modulgewicht","kg",{"$f":"7.4+(C7*2.9)","v":7.4},null,"Moment Mx=M2","Nm",{"$f":"(C12*9.81)*(C34+C5+C14+C30/2)/1000","v":0},{"$f":"(C12*9.81)*(C34+C14+C30/2)/1000","v":0},{"$f":"C42*(C15/1000)","v":0},{"$f":"(C21*C23/1000)-C25*(C27+C34+C30/2)/1000","v":0},{"$f":"(C21*C23/1000)-C25*((C27+C34+C5+C30/2)/1000)","v":0}]
["Zylinderkraft zurück","N",633,null,"Moment My=M1","Nm",{"$f":"C12*9.81*(C13/1000)","v":0},{"$f":"C12*9.81*(C13/1000)","v":0},"-",{"$f":"C17*C19/1000-C25*(C26/1000)","v":0},{"$f":"C17*C19/1000-C25*(C26/1000)","v":0}]
["Verfahrgeschwindigkeit","m/s",{"$f":"'EM-LM-1-1'!I58","v":2.02},null,"Moment Mz=M3","Nm","-","-",{"$f":"C42*(C13/1000)","v":0},{"$f":"C21*C22/1000-C17*(C18+C34+C30/2)/1000","v":0},{"$f":"C21*C22/1000-C17*(C18+C34+C5+C30/2)/1000","v":0}]
[null,null,null,null,null,null,null,null,null,{"$f":"'EM-LM-1'!G51","v":true}]
["Zusatzmasse","kg",{"$f":"'EM-LM-1'!K14","v":0},null,"Mx Summe  I + III","Nm",{"$f":"G8+I8","v":0}]
["Schwerpunktabstand x-Richtung","mm",{"$f":"'EM-LM-1'!M14","v":0},null,"Absolutbetrag",null,{"$f":"ABS(G12)","v":0}]
["Schwerpunktabstand y-Richtung","mm",{"$f":"'EM-LM-1'!O14","v":0},null,"Mx Summe  II-III",null,{"$f":"H8-I8","v":0}]
["Schwerpunktabstand z-Richt.(Mitte Welle)","mm",{"$f":"'EM-LM-1'!Q14+24","v":24},null,"Absolutbetrag",null,{"$f":"ABS(G14)","v":0}]
[null,null,null,null,"I ","Nm",{"$f":"G8","v":0}]
["Zusatzkraft Fx","N",{"$f":"'EM-LM-1'!K18","v":0},null,"I oder I+III oder II-III",null,{"$f":"MAX(G16,G15,G13)","v":0}]
["Kraftangriffspunkt von Fx in y-Richtung","mm",{"$f":"'EM-LM-1'!O18","v":0},null,"Mx Summe  I+V oder II+IV","Nm",{"$f":"IF(AND(J8=0,K8=0),MAX(G8,H8),IF(J11=TRUE,H8+J8,G8+K8))","v":0}]
["Kraftangrp. von Fx in z-Richt.(Mitte Welle)","mm",{"$f":"'EM-LM-1'!Q18+24","v":24},null,"Absolutbetrag",null,{"$f":"ABS(G18)","v":0}]
[null,null,null,null,"Mx ges","Nm",{"$f":"MAX(G17,G19)","v":0}]
["Zusatzkraft Fy","N",{"$f":"'EM-LM-1'!K20","v":0},null,"Mx zul","Nm",{"$f":"IF(C7=0,'Allgemeine Werte'!B95,IF(C7=1,'Allgemeine Werte'!B96,IF(C7=2,'Allgemeine Werte'!B97,0)))","v":200},null,"Maximal-Werte Mxzul  berechnet über Extrablatt !!"]
["Kraftangriffspunkt von Fy in x-Richtung","mm",{"$f":"'EM-LM-1'!M20","v":0},null,null,null,null,null,"Länge L, tan alpha und E werden zur Berechnung von Mx nicht mehr benötigt"]
["Kraftangrp. von Fy in z-Richt.(Mitte Rolle)","mm",{"$f":"'EM-LM-1'!Q20+24","v":24},null,"My Summe  I+V ( = II+IV )","Nm",{"$f":"G9+K9","v":0}]
[null,null,null,null,"Absolutbetrag",null,{"$f":"ABS(G23)","v":0}]
["Zusatzkraft Fz","N",{"$f":"'EM-LM-1'!K22","v":0},null,"My ges","Nm",{"$f":"G24","v":0}]
["Kraftangriffspunkt von Fz in x-Richtung","mm",{"$f":"'EM-LM-1'!M22","v":0},null,"My zul","Nm",{"$f":"G43*0.029","v":90.48},null,"Maximal-Werte Myzul berechnet aus Fzzul und Abstand Führungssäulen !!"]
["Kraftangriffspunkt von Fz in y-Richtung","mm",{"$f":"'EM-LM-1'!O22","v":0}]
[]
[null,null,null,null,"Mz III","Nm",{"$f":"I10","v":0}]
["Länge L (Mittenabstand Buchsen)","mm",{"$f":"130+(C7*100)","v":130},null,"Absolutbetrag",null,{"$f":"ABS(G29)","v":0}]
["tan alpha",null,{"$f":"IF(C7=0,0.00045,IF(C7=1,0.0008,IF(C7=2,0.0011,IF(C7=3,0.0013,IF(C7=4,0.0015,1)))))","v":4.4999999999999999E-4},null,"Mz IV/V","Nm",{"$f":"IF(J11=TRUE,J10,K10)","v":0},null,"Maximal-Werte Fzzul neu berechnet"]
["E",null,2026710000,null,"Absolutbetrag",null,{"$f":"ABS(G31)","v":0}]
["Schwerpunktabstand in y-Richtung","mm",{"$f":"C14","v":0},null,"Mz ges","Nm",{"$f":"MAX(G30,G32)","v":0}]
["Wert K (Abstand Stirnplatte/1.Buchse)","mm",47,null,"Mz zul","Nm",{"$f":"G21","v":200}]
[]
[null,null,null,null,null,null,null,null,"Belastungsgleichung stat.",{"$f":"G19/G21+G25/G26+G32/G34+G38/G39+G42/G43","v":0}]
[null,null,null,null,"Fx ges","N",{"$f":"C17","v":0},null,"Belastungsgleichung dyn.",{"$f":"G17/G21+G30/G34+G40/G43","v":0}]
[null,null,null,null,"Absolutwert",null,{"$f":"ABS(G37)","v":0},null,"Belastungsgleichung",{"$f":"MAX(J36:J37)","v":0}]
[null,null,null,null,"Fx zul","N",{"$f":"G43","v":3120}]
["Stoßdämpferhub s ( Hub bis a=0 )","m",{"$f":"'Allgemeine Werte'!M41","v":1.0586000000000002E-2},null,"Gewichtskraft","N",{"$f":"C12*9.81","v":0},null,null,null,"Faktor für Verfahrzber., wie LM 300"]
["Verzögerung a=vxv/2xs","m/s2",{"$f":"POWER(C48,2)/(2*C40)","v":3.5314597773592475},null,"Fz ges abs","N",{"$f":"ABS(-C25+C12*9.81)","v":0},null,"Verfahrzeitberechnung",null,{"$f":"ROUNDDOWN(((C5+25)/50.1)+0.5,0)","v":1}]
["Kraft zur Verzögerung der Masse","N",{"$f":"C12*C41","v":0},null,"Max aus E40,E41",null,{"$f":"MAX(G40,G41)","v":0},null,"Verfahrzeit berechnet ( t=Wurzel aus (2xsxm/F)",null,{"$f":"(SQRT(2*(C5/1000)*(C12+C8/2)/C9))*(2.6+K41*0.2)","v":3.0274155422932617E-2}]
["Kraft zur Verzög. d. Masse incl Modul/2","N",{"$f":"C47*C41","v":13.066401176229217},null,"Fz zul","N",{"$f":"IF(C7=0,'Allgemeine Werte'!C95,IF(C7=1,'Allgemeine Werte'!C96,IF(C7=2,'Allgemeine Werte'!C97,0)))","v":3120},null,"Mittlere Verfahrgeschwindigkeit berechnet",null,{"$f":"(C5/1000)/K42","v":0.33031474735790711}]
[null,null,null,null,null,null,null,null,"Endgeschwindigkeit berechnet",null,{"$f":"K43*'Allgemeine Werte'!E71","v":0.57805080787633745}]
["Stoßdämpferberechnung",null,null,null,"Max. Zyklenzahl / Min."]
["Anzahl Stoßdämpfer",null,{"$f":"'EM-LM-1-1'!S38","v":1},null,"Zyklen aus Verfahrzeit",null,{"$f":"60/(2*L50)","v":468.75},null,"Endgeschwindigkeit (Eingabe)",null,{"$f":"C10","v":2.02}]
["Gesamtmasse","kg",{"$f":"C12+C8/2","v":3.7},null,null,null,null,null,"Mittlere Verfahrgeschwindigkeit (Eingabe)   m/s",null,{"$f":"C10/'Allgemeine Werte'!E71","v":1.1542857142857144}]
["Aufprallgeschwindigkeit","m/s",{"$f":"L54","v":0.2734375},null,"Ezul / Stunde","Nm",{"$f":"'Allgemeine Werte'!H41*C46*0.95","v":32300},null,"Verfahrzeit (Eingabe)","s",{"$f":"(C5/1000)/K47","v":8.6633663366336624E-3},"Verfahrzeit für Berechnung"]
["W1","Nm",{"$f":"C47*POWER(C48,2)*0.5","v":0.1383209228515625},null,"Ezul / Minute","Nm",{"$f":"G48/60","v":538.33333333333337},null,null,null,null,"( max )"]
["Hub Stoßdämpfer","m",{"$f":"'Allgemeine Werte'!L41","v":1.5800000000000002E-2},null,"Zyklen aus Ezul",null,{"$f":"G49/C53","v":44.727967421646454},null,"min. Verfahrzeit vor","gemessen",{"$f":"0.05+(C5/25)*0.03","v":6.2E-2},{"$f":"MAX(K48,K53,K42)","v":6.4000000000000001E-2}]
["Zylinderkraft","N",753,null,null,null,null,null,"Mittlere Verfahrgeschwindigkeit vor",null,{"$f":"(C5/1000)/K50","v":0.16129032258064516}]
["W2 ( Antriebsenergie )","Nm",{"$f":"C51*C50","v":11.897400000000001},null,"Max. Zyklen",null,{"$f":"MIN(G46,G50,G55)","v":44.727967421646454},null,"Endgeschwindigkeit vor",null,{"$f":"K51*'Allgemeine Werte'!E71","v":0.282258064516129},"Endgeschwindigkeit f. Ber."]
["W1+W2 ( Energie / Hub )","Nm",{"$f":"C52+C49","v":12.035720922851564},null,null,null,null,null,"min. Verfahrzeit zurück",null,{"$f":"0.05+((C5/25)*0.035)","v":6.4000000000000001E-2},"( min )"]
["Ezul / Zyklus ( Hub )","Nm",{"$f":"'Allgemeine Werte'!G41*C50/'Allgemeine Werte'!K41*C46","v":25.675000000000004},null,"Stoßd.-kolbenrückstellzeit",null,{"$f":"'Allgemeine Werte'!E41","v":0.75},null,"Mittlere Verfahrgeschwindigkeit zurück",null,{"$f":"(C5/1000)/K53","v":0.15625},{"$f":"MIN(K46,K55,K44)","v":0.2734375}]
["Auslastung / Zyklus",null,{"$f":"C53/C54","v":0.46877199310035295},null,"Max. Zyklen aus Rückstellzeit",null,{"$f":"60/G54","v":80},null,"Endgeschwindigkeit zurück",null,{"$f":"K54*'Allgemeine Werte'!E71","v":0.2734375}]

{"sheet":"EM-Ber-KLM300-2","index":67,"n_rows":55,"n_cols":12,"rows_kept":55,"cut":false,"hidden":false,"merged":[]}
["Linearmodul Typ",null,"KLM 300"]
[]
["Berechnung der Führungsbelastung"]
[null,null,null,null,null,null,"Statisch auf Grund","Statisch auf Grund"]
["Hub","mm",{"$f":"'EM-LM-2'!K8","v":10},null,null,null,"Zusatzmasse m","Zusatzmasse m","Dynamisch auf Grund","Statisch auf Grund","Statisch auf Grund"]
["Zylinderkraft","N",753,null,null,null,"Modul ausgef.","Modul eingef.","Zusatzmasse m","Zusatzkraft Modul eingef.","Zusatzkraft Modul ausgef."]
["Faktor",null,{"$f":"ROUNDDOWN((C5/100.1),0)","v":0},null,null,null,"I","II","III","IV","V"]
["Modulgewicht","kg",{"$f":"7.4+(C7*2.9)","v":7.4},null,"Moment Mx=M3","Nm",{"$f":"(C12*9.81)*(C34+C5+C14+C30/2)/1000","v":0},{"$f":"(C12*9.81)*(C34+C14+C30/2)/1000","v":0},{"$f":"C42*(C15/1000)","v":0},{"$f":"(C21*C23/1000)-C25*(C27+C34+C30/2)/1000","v":0},{"$f":"(C21*C23/1000)-C25*(C27+C34+C5+C30/2)/1000","v":0}]
["Zylinderkraft zurück","N",633,null,"Moment My=M1","Nm",{"$f":"C12*9.81*((C13)/1000)","v":0},{"$f":"C12*9.81*((C13)/1000)","v":0},"-",{"$f":"C17*(C19/1000)-C25*C26/1000","v":0},{"$f":"C17*(C19/1000)-C25*C26/1000","v":0}]
["Verfahrgeschwindigkeit","m/s",{"$f":"'EM-LM-2-1'!I58","v":2.02},null,"Moment Mz=M2","Nm","-","-",{"$f":"C42*(C13/1000)","v":0},{"$f":"C21*C22/1000-C17*(C18+C34+C30/2)/1000","v":0},{"$f":"C21*C22/1000-C17*(C18+C34+C5+C30/2)/1000","v":0}]
[null,null,null,null,null,null,null,null,null,{"$f":"'EM-LM-2'!G51","v":true}]
["Zusatzmasse","kg",{"$f":"'EM-LM-2'!K14","v":0},null,"Mx Summe  I + III","Nm",{"$f":"G8+I8","v":0}]
["Schwerpunktabstand x-Richt.(Mitte Welle)","mm",{"$f":"'EM-LM-2'!M14+24","v":24},null,"Absolutbetrag",null,{"$f":"ABS(G12)","v":0}]
["Schwerpunktabstand y-Richtung","mm",{"$f":"'EM-LM-2'!O14","v":0},null,"Mx Summe  II-III",null,{"$f":"H8-I8","v":0}]
["Schwerpunktabstand z-Richtung","mm",{"$f":"'EM-LM-2'!Q14","v":0},null,"Absolutbetrag",null,{"$f":"ABS(G14)","v":0}]
[null,null,null,null,"I ","Nm",{"$f":"G8","v":0}]
["Zusatzkraft Fx","N",{"$f":"'EM-LM-2'!K18","v":0},null,"I oder I+III oder II-III",null,{"$f":"MAX(G16,G15,G13)","v":0}]
["Kraftangriffspunkt von Fx in y-Richtung","mm",{"$f":"'EM-LM-2'!O18","v":0},null,"Mx Summe  I+V oder II+IV","Nm",{"$f":"IF(AND(J8=0,K8=0),MAX(G8,H8),IF(J11=TRUE,H8+J8,G8+K8))","v":0}]
["Kraftangriffspunkt von Fx in z-Richtung","mm",{"$f":"'EM-LM-2'!Q18","v":0},null,"Absolutbetrag",null,{"$f":"ABS(G18)","v":0}]
[null,null,null,null,"Mx ges","Nm",{"$f":"MAX(G17,G19)","v":0}]
["Zusatzkraft Fy","N",{"$f":"'EM-LM-2'!K20","v":0},null,"Mx zul","Nm",{"$f":"IF(C7=0,'Allgemeine Werte'!B95,IF(C7=1,'Allgemeine Werte'!B96,IF(C7=2,'Allgemeine Werte'!B97,0)))","v":200},null,"Maximal-Werte Mxzul  berechnet über Extrablatt !!"]
["Kraftangrp. von Fy in x-Richt. (Mitte Welle)","mm",{"$f":"'EM-LM-2'!M20+24","v":24},null,null,null,null,null,"Länge L, tan alpha und E werden zur Berechnung von Mx nicht mehr benötigt"]
["Kraftangrp. von Fy in z-Richt.","mm",{"$f":"'EM-LM-2'!Q20","v":0},null,"My Summe  I+V ( = II+IV )","Nm",{"$f":"G9+K9","v":0}]
[null,null,null,null,"Absolutbetrag",null,{"$f":"ABS(G23)","v":0}]
["Zusatzkraft Fz","N",{"$f":"'EM-LM-2'!K22","v":0},null,"My ges","Nm",{"$f":"G24","v":0}]
["Kraftangrp. von Fz in x-Richt. (Mitte Welle)","mm",{"$f":"'EM-LM-2'!M22+24","v":24},null,"My zul","Nm",{"$f":"G43*0.029","v":90.48},null,"Maximal-Werte dieses Momentes berechnet aus Fzzul und Abstand Führungssäulen !!"]
["Kraftangriffspunkt von Fz in y-Richtung","mm",{"$f":"'EM-LM-2'!O22","v":0}]
[]
[null,null,null,null,"Mz III","Nm",{"$f":"I10","v":0}]
["Länge L (Mittenabstand Buchsen)","mm",{"$f":"130+(C7*100)","v":130},null,"Absolutbetrag",null,{"$f":"ABS(G29)","v":0}]
["tan alpha",null,{"$f":"IF(C7=0,0.00045,IF(C7=1,0.0008,IF(C7=2,0.0011,IF(C7=3,0.0013,IF(C7=4,0.0015,1)))))","v":4.4999999999999999E-4},null,"Mz IV/V","Nm",{"$f":"IF(J11=TRUE,J10,K10)","v":0},null,"Maximal-Werte Fzzul neu berechnet"]
["E",null,2026710000,null,"Absolutbetrag",null,{"$f":"ABS(G31)","v":0}]
["Schwerpunktabstand in y-Richtung","mm",{"$f":"C14","v":0},null,"Mz ges","Nm",{"$f":"MAX(G30,G32)","v":0}]
["Wert K (Abstand Stirnplatte/1.Buchse)","mm",47,null,"Mz zul","Nm",{"$f":"G21","v":200}]
[]
[null,null,null,null,null,null,null,null,"Belastungsgleichung stat.",{"$f":"G19/G21+G25/G26+G32/G34+G38/G39+G42/G43","v":0}]
[null,null,null,null,"Fx ges","N",{"$f":"C17","v":0},null,"Belastungsgleichung dyn.",{"$f":"G17/G21+G30/G34+G40/G43","v":0}]
[null,null,null,null,"Absolutwert",null,{"$f":"ABS(G37)","v":0},null,"Belastungsgleichung",{"$f":"MAX(J36:J37)","v":0}]
[null,null,null,null,"Fx zul","N",{"$f":"G43","v":3120}]
["Stoßdämpferhub s ( Hub bis a=0 )","m",{"$f":"'Allgemeine Werte'!M41","v":1.0586000000000002E-2},null,"Gewichtskraft","N",{"$f":"C12*9.81","v":0},null,null,null,"Faktor für Verfahrzber., wie LM 300"]
["Verzögerung a=vxv/2xs","m/s2",{"$f":"POWER(C48,2)/(2*C40)","v":3.5314597773592475},null,"Fz ges abs","N",{"$f":"ABS(-C25+C12*9.81)","v":0},null,"Verfahrzeitberechnung",null,{"$f":"ROUNDDOWN(((C5+25)/50.1)+0.5,0)","v":1}]
["Kraft zur Verzögerung der Masse","N",{"$f":"C12*C41","v":0},null,"Max aus E40,E41",null,{"$f":"MAX(G40,G41)","v":0},null,"Verfahrzeit berechnet ( t=Wurzel aus (2xsxm/F)",null,{"$f":"(SQRT(2*(C5/1000)*(C12+C8/2)/C9))*(2.6+K41*0.2)","v":3.0274155422932617E-2}]
["Kraft zur Verzög. d. Masse incl Modul/2","N",{"$f":"C47*C41","v":13.066401176229217},null,"Fz zul","N",{"$f":"IF(C7=0,'Allgemeine Werte'!C95,IF(C7=1,'Allgemeine Werte'!C96,IF(C7=2,'Allgemeine Werte'!C97,0)))","v":3120},null,"Mittlere Verfahrgeschwindigkeit berechnet",null,{"$f":"(C5/1000)/K42","v":0.33031474735790711}]
[null,null,null,null,null,null,null,null,"Endgeschwindigkeit berechnet",null,{"$f":"K43*'Allgemeine Werte'!E71","v":0.57805080787633745}]
["Stoßdämpferberechnung",null,null,null,"Max. Zyklenzahl / Min."]
["Anzahl Stoßdämpfer",null,{"$f":"'EM-LM-2-1'!S38","v":1},null,"Zyklen aus Verfahrzeit",null,{"$f":"60/(2*L50)","v":468.75},null,"Endgeschwindigkeit (Eingabe)",null,{"$f":"C10","v":2.02}]
["Gesamtmasse","kg",{"$f":"C12+C8/2","v":3.7},null,null,null,null,null,"Mittlere Verfahrgeschwindigkeit (Eingabe)   m/s",null,{"$f":"C10/'Allgemeine Werte'!E71","v":1.1542857142857144}]
["Aufprallgeschwindigkeit","m/s",{"$f":"L54","v":0.2734375},null,"Ezul / Stunde","Nm",{"$f":"'Allgemeine Werte'!H41*C46*0.95","v":32300},null,"Verfahrzeit (Eingabe)","s",{"$f":"(C5/1000)/K47","v":8.6633663366336624E-3},"Verfahrzeit für Berechnung"]
["W1","Nm",{"$f":"C47*POWER(C48,2)*0.5","v":0.1383209228515625},null,"Ezul / Minute","Nm",{"$f":"G48/60","v":538.33333333333337},null,null,null,null,"( max )"]
["Hub Stoßdämpfer","m",{"$f":"'Allgemeine Werte'!L41","v":1.5800000000000002E-2},null,"Zyklen aus Ezul",null,{"$f":"G49/C53","v":44.727967421646454},null,"min. Verfahrzeit vor","gemessen",{"$f":"0.05+(C5/25)*0.03","v":6.2E-2},{"$f":"MAX(K48,K53,K42)","v":6.4000000000000001E-2}]
["Zylinderkraft","N",753,null,null,null,null,null,"Mittlere Verfahrgeschwindigkeit vor",null,{"$f":"(C5/1000)/K50","v":0.16129032258064516}]
["W2 ( Antriebsenergie )","Nm",{"$f":"C51*C50","v":11.897400000000001},null,"Max. Zyklen",null,{"$f":"MIN(G46,G50,G55)","v":44.727967421646454},null,"Endgeschwindigkeit vor",null,{"$f":"K51*'Allgemeine Werte'!E71","v":0.282258064516129},"Endgeschwindigkeit f. Ber."]
["W1+W2 ( Energie / Hub )","Nm",{"$f":"C52+C49","v":12.035720922851564},null,null,null,null,null,"min. Verfahrzeit zurück",null,{"$f":"0.05+((C5/25)*0.035)","v":6.4000000000000001E-2},"( min )"]
["Ezul / Zyklus ( Hub )","Nm",{"$f":"'Allgemeine Werte'!G41*C50/'Allgemeine Werte'!K41*C46","v":25.675000000000004},null,"Stoßd.-kolbenrückstellzeit",null,{"$f":"'Allgemeine Werte'!E41","v":0.75},null,"Mittlere Verfahrgeschwindigkeit zurück",null,{"$f":"(C5/1000)/K53","v":0.15625},{"$f":"MIN(K46,K55,K44)","v":0.2734375}]
["Auslastung / Zyklus",null,{"$f":"C53/C54","v":0.46877199310035295},null,"Max. Zyklen aus Rückstellzeit",null,{"$f":"60/G54","v":80},null,"Endgeschwindigkeit zurück",null,{"$f":"K54*'Allgemeine Werte'!E71","v":0.2734375}]

{"sheet":"EM-Ber-KLM300-3","index":68,"n_rows":57,"n_cols":12,"rows_kept":57,"cut":false,"hidden":false,"merged":[]}
["Linearmodul Typ",null,"KLM 300"]
[]
["Berechnung der Führungsbelastung"]
[null,null,null,null,null,null,"Statisch auf Grund","Statisch auf Grund"]
["Hub","mm",{"$f":"'EM-LM-3'!K8","v":10},null,null,null,"Zusatzmasse m","Zusatzmasse m","Dynamisch auf Grund","Statisch auf Grund","Statisch auf Grund"]
["Zylinderkraft","N",753,null,null,null,"Modul ausgef.","Modul eingef.","Zusatzmasse m","Zusatzkraft Modul eingef.","Zusatzkraft Modul ausgef."]
["Faktor",null,{"$f":"ROUNDDOWN((C5/100.1),0)","v":0},null,null,null,"I","II","III","IV","V"]
["Modulgewicht","kg",{"$f":"7.4+(C7*2.9)","v":7.4},null,"Moment Mx=M3","Nm",{"$f":"C12*9.81*((C15)/1000)","v":0},{"$f":"C12*9.81*((C15)/1000)","v":0},{"$f":"C42*(C15/1000)","v":0},{"$f":"IF(K11=TRUE,-(C21*C23/1000)+C25*((C27+C34+C30/2)/1000),(C21*C23/1000)-C25*((C27+C34+C30/2)/1000))","v":0},{"$f":"IF(K11=TRUE,-(C21*C23/1000)+C25*((C27+C5+C34+C30/2)/1000),(C21*C23/1000)-C25*((C27+C5+C34+C30/2)/1000))","v":0}]
["Zylinderkraft zurück","N",633,null,"Moment My=M1","Nm","-","-","-",{"$f":"C17*(C19/1000)-C25*C26/1000","v":0},{"$f":"C17*(C19/1000)-C25*C26/1000","v":0}]
["Verfahrgeschwindigkeit","m/s",{"$f":"'EM-LM-3-1'!I58","v":2.02},null,"Moment Mz=M2","Nm",{"$f":"C12*9.81*((C13)/1000)","v":0},{"$f":"C12*9.81*((C13)/1000)","v":0},{"$f":"C42*(C13/1000)","v":0},{"$f":"IF(K11=TRUE,-C21*C22/1000+C17*(C18+C34+C30/2)/1000,C21*C22/1000-C17*(C18+C34+C30/2)/1000)","v":0},{"$f":"IF(K11=TRUE,-C21*C22/1000+C17*(C18+C5+C34+C30/2)/1000,C21*C22/1000-C17*(C18+C5+C34+C30/2)/1000)","v":0}]
[null,null,null,null,null,null,null,null,null,{"$f":"'EM-LM-3'!G51","v":true},{"$f":"'EM-LM-3'!G52","v":true}]
["Zusatzmasse","kg",{"$f":"'EM-LM-3'!K14","v":0}]
["Schwerpunktabstand x-Richt.(Mitte Welle)","mm",{"$f":"'EM-LM-3'!M14+24","v":24}]
["Schwerpunktabstand y-Richtung","mm",{"$f":"'EM-LM-3'!O14","v":0}]
["Schwerpunktabstand z-Richtung","mm",{"$f":"'EM-LM-3'!Q14","v":0}]
[null,null,null,null,"Mx Summe  I(II) + III","Nm",{"$f":"G8+I8","v":0}]
["Zusatzkraft Fx","N",{"$f":"'EM-LM-3'!K18","v":0},null,"Absolutbetrag",null,{"$f":"ABS(G16)","v":0}]
["Kraftangriffspunkt von Fx in y-Richtung","mm",{"$f":"'EM-LM-3'!O18","v":0},null,"Mx Summe  I+V oder II+IV","Nm",{"$f":"IF(J11=TRUE,H8+J8,G8+K8)","v":0}]
["Kraftangriffspunkt von Fx in z-Richtung","mm",{"$f":"'EM-LM-3'!Q18","v":0},null,"Absolutbetrag",null,{"$f":"ABS(G18)","v":0}]
[null,null,null,null,"Mx ges","Nm",{"$f":"MAX(G17,G19)","v":0}]
["Zusatzkraft Fy","N",{"$f":"'EM-LM-3'!K20","v":0},null,"Mx zul","Nm",{"$f":"IF(C7=0,'Allgemeine Werte'!B95,IF(C7=1,'Allgemeine Werte'!B96,IF(C7=2,'Allgemeine Werte'!B97,0)))","v":200},null,"Maximal-Werte Mxzul  berechnet über Extrablatt !!"]
["Kraftangrp. von Fy in x-Richt. (Mitte Welle)","mm",{"$f":"'EM-LM-3'!M20+24","v":24},null,null,null,null,null,"Länge L, tan alpha und E werden zur Berechnung von Mx nicht mehr benötigt"]
["Kraftangrp. von Fy in z-Richt.","mm",{"$f":"'EM-LM-3'!Q20","v":0},null,"My IV = V","Nm",{"$f":"J9","v":0}]
[null,null,null,null,"Absolutbetrag",null,{"$f":"ABS(G23)","v":0}]
["Zusatzkraft Fz","N",{"$f":"'EM-LM-3'!K22","v":0},null,"My ges","Nm",{"$f":"G24","v":0}]
["Kraftangrp. von Fz in x-Richt. (Mitte Welle)","mm",{"$f":"'EM-LM-3'!M22+24","v":24},null,"My zul","Nm",{"$f":"G43*0.029","v":90.48},"Maximal-Werte dieses Momentes berechnet aus Fzzul und Abstand Führungssäulen !!"]
["Kraftangriffspunkt von Fz in y-Richtung","mm",{"$f":"'EM-LM-3'!O22","v":0}]
[]
[null,null,null,null,"Mz Summe I(II)+III","Nm",{"$f":"G10+I10","v":0}]
["Länge L (Mittenabstand Buchsen)","mm",{"$f":"130+(C7*100)","v":130},null,"Absolutbetrag",null,{"$f":"ABS(G29)","v":0}]
["tan alpha",null,{"$f":"IF(C7=0,0.00045,IF(C7=1,0.0008,IF(C7=2,0.0011,IF(C7=3,0.0013,IF(C7=4,0.0015,1)))))","v":4.4999999999999999E-4},null,"Mz Summe  I+V oder II+IV","Nm",{"$f":"IF(J11=TRUE,H10+J10,G10+K10)","v":0},"Maximal-Werte Fzzul neu berechnet"]
["E",null,2026710000,null,"Absolutbetrag",null,{"$f":"ABS(G31)","v":0}]
["Schwerpunktabstand in y-Richtung","mm",{"$f":"C14","v":0},null,"Mz ges","Nm",{"$f":"MAX(G30,G32)","v":0}]
["Wert K (Abstand Stirnplatte/1.Buchse)","mm",47,null,"Mz zul","Nm",{"$f":"G21","v":200}]
[]
[null,null,null,null,null,null,null,null,"Belastungsgleichung stat.",{"$f":"G19/G21+G25/G26+G32/G34+G38/G39+G42/G43","v":0}]
[null,null,null,null,"Fx ges","N",{"$f":"C17","v":0},null,"Belastungsgleichung dyn.",{"$f":"G17/G21+G30/G34","v":0}]
[null,null,null,null,"Absolutwert",null,{"$f":"ABS(G37)","v":0},null,"Belastungsgleichung",{"$f":"MAX(J36:J37)","v":0}]
[null,null,null,null,"Fx zul","N",{"$f":"G43","v":3120}]
["Stoßdämpferhub s ( Hub bis a=0 )","m",{"$f":"'Allgemeine Werte'!M41","v":1.0586000000000002E-2},null,null,null,null,null,null,null,"Faktor für Verfahrzber., wie LM 300"]
["Verzögerung a=vxv/2xs","m/s2",{"$f":"POWER(C48,2)/(2*C40)","v":3.3206747585086034},null,"Fz ges","N",{"$f":"-C25","v":0},null,"Verfahrzeitberechnung",null,{"$f":"ROUNDDOWN(((C5+25)/50.1)+0.5,0)","v":1}]
["Kraft zur Verzögerung der Masse","N",{"$f":"C12*C41","v":0},null,"Absolutwert",null,{"$f":"ABS(G41)","v":0},null,"Verfahrzeit berechnet ( t=Wurzel aus (2xsxm/F)",null,{"$f":"(SQRT(2*(C5/1000)*(C12+C8/2)/(C6-(C12+C8/2)*9.81)))*(2.7+K41*0.25)","v":2.9975626217558535E-2}]
["Kraft zur Verzög. d. Masse incl Modul/2","N",{"$f":"C47*C41","v":12.286496606481833},null,"Fz zul","N",{"$f":"IF(C7=0,'Allgemeine Werte'!C95,IF(C7=1,'Allgemeine Werte'!C96,IF(C7=2,'Allgemeine Werte'!C97,0)))","v":3120},null,"Mittlere Verfahrgeschwindigkeit berechnet",null,{"$f":"(C5/1000)/K42","v":0.33360437334724957}]
[null,null,null,null,null,null,null,null,"Endgeschwindigkeit berechnet",null,{"$f":"K43*'Allgemeine Werte'!E71","v":0.58380765335768681}]
["Stoßdämpferberechnung",null,null,null,"Max. Zyklenzahl / Min."]
["Anzahl Stoßdämpfer",null,{"$f":"'EM-LM-3-1'!S38","v":1},null,"Zyklen aus Verfahrzeit",null,{"$f":"60/(2*L50)","v":454.5454545454545},null,"Endgeschwindigkeit (Eingabe)",null,{"$f":"C10","v":2.02}]
["Gesamtmasse","kg",{"$f":"C12+C8/2","v":3.7},null,null,null,null,null,"Mittlere Verfahrgeschwindigkeit (Eingabe)   m/s",null,{"$f":"C10/'Allgemeine Werte'!E71","v":1.1542857142857144}]
["Aufprallgeschwindigkeit","m/s",{"$f":"L54","v":0.26515151515151514},null,"Ezul / Stunde","Nm",{"$f":"'Allgemeine Werte'!H41*C46*0.95","v":32300},null,"Verfahrzeit (Eingabe)","s",{"$f":"(C5/1000)/K47","v":8.6633663366336624E-3},"Verfahrzeit für Berechnung"]
["W1","Nm",{"$f":"C47*POWER(C48,2)*0.5","v":0.13006485307621671},null,"Ezul / Minute","Nm",{"$f":"G48/60","v":538.33333333333337},null,null,null,null,"( max )"]
["Hub Stoßdämpfer","m",{"$f":"'Allgemeine Werte'!L41","v":1.5800000000000002E-2},null,"Zyklen aus Ezul",null,{"$f":"G49/C53","v":46.999706428374843},null,"min. Verfahrzeit ab","gemessen",{"$f":"0.04+(C5/25)*0.03","v":5.2000000000000005E-2},{"$f":"MAX(K48,K53,K42)","v":6.6000000000000003E-2}]
["Zylinderkraft","N",753,null,null,null,null,null,"Mittlere Verfahrgeschwindigkeit ab",null,{"$f":"(C5/1000)/K50","v":0.19230769230769229}]
["W2 ( Antriebsenergie )","Nm",{"$f":"MAX(C56,C57)*C50","v":11.323907400000001},null,"Max. Zyklen",null,{"$f":"MIN(G46,G50,G55)","v":46.999706428374843},null,"Endgeschwindigkeit ab",null,{"$f":"K51*'Allgemeine Werte'!E71","v":0.33653846153846151},"Endgeschwindigkeit f. Ber."]
["W1+W2 ( Energie / Hub )","Nm",{"$f":"C52+C49","v":11.453972253076218},null,null,null,null,null,"min. Verfahrzeit auf",null,{"$f":"0.05+((C5/25)*0.04)","v":6.6000000000000003E-2},"( min )"]
["Ezul / Zyklus ( Hub )","Nm",{"$f":"'Allgemeine Werte'!G41*C50/'Allgemeine Werte'!K41*C46","v":25.675000000000004},null,"Stoßd.-kolbenrückstellzeit",null,{"$f":"'Allgemeine Werte'!E41","v":0.75},null,"Mittlere Verfahrgeschwindigkeit auf",null,{"$f":"(C5/1000)/K53","v":0.15151515151515152},{"$f":"MIN(K46,K55,K44)","v":0.26515151515151514}]
["Auslastung / Zyklus",null,{"$f":"C53/C54","v":0.4461138170623648},null,"Max. Zyklen aus Rückstellzeit",null,{"$f":"60/G54","v":80},null,"Endgeschwindigkeit auf",null,{"$f":"K54*'Allgemeine Werte'!E71","v":0.26515151515151514}]
["Antriebskraft nach oben",null,{"$f":"C6-C47*9.81","v":716.70299999999997}]
["Antriebskraft nach unten",null,{"$f":"C9+C47*9.81","v":669.29700000000003}]

{"sheet":"EM-Ber-KLM300-4","index":69,"n_rows":55,"n_cols":12,"rows_kept":55,"cut":false,"hidden":false,"merged":[]}
["Linearmodul Typ",null,"KLM 300"]
[]
["Berechnung der Führungsbelastung"]
[null,null,null,null,null,null,"Statisch auf Grund","Statisch auf Grund"]
["Hub","mm",{"$f":"'EM-LM-4'!K8","v":10},null,null,null,"Zusatzmasse m","Zusatzmasse m","Dynamisch auf Grund","Statisch auf Grund","Statisch auf Grund"]
["Zylinderkraft","N",753,null,null,null,"Modul ausgef.","Modul eingef.","Zusatzmasse m","Zusatzkraft Modul eingef.","Zusatzkraft Modul ausgef."]
["Faktor",null,{"$f":"ROUNDDOWN((C5/100.1),0)","v":0},null,null,null,"I","II","III","IV","V"]
["Modulgewicht","kg",{"$f":"7.4+(C7*2.9)","v":7.4},null,"Moment Mx=M2","Nm",{"$f":"(C12*9.81)*(C34+C14+C30/2)/1000","v":0},{"$f":"(C12*9.81)*(C34+C14+C30/2)/1000","v":0},{"$f":"C42*(C15/1000)","v":0},{"$f":"(C21*C23/1000)-C25*(C27+C34+C30/2)/1000","v":0},{"$f":"(C21*C23/1000)-C25*((C27+C34+C30/2)/1000)","v":0}]
["Zylinderkraft zurück","N",633,null,"Moment My=M1","Nm",{"$f":"C12*9.81*(C13/1000)","v":0},{"$f":"C12*9.81*(C13/1000)","v":0},"-",{"$f":"C17*C19/1000-C25*(C26/1000)","v":0},{"$f":"C17*C19/1000-C25*(C26/1000)","v":0}]
["Verfahrgeschwindigkeit","m/s",{"$f":"'EM-LM-4-1'!I58","v":2.02},null,"Moment Mz=M3","Nm","-","-",{"$f":"C42*(C13/1000)","v":0},{"$f":"C21*C22/1000-C17*(C18+C34+C30/2)/1000","v":0},{"$f":"C21*C22/1000-C17*(C18+C34+C30/2)/1000","v":0}]
[null,null,null,null,null,null,null,null,null,{"$f":"'EM-LM-4'!G51","v":false}]
["Zusatzmasse","kg",{"$f":"'EM-LM-4'!K14","v":0},null,"Mx Summe  I + III","Nm",{"$f":"G8+I8","v":0}]
["Schwerpunktabstand x-Richtung","mm",{"$f":"'EM-LM-4'!M14","v":0},null,"Absolutbetrag",null,{"$f":"ABS(G12)","v":0}]
["Schwerpunktabstand y-Richtung","mm",{"$f":"'EM-LM-4'!O14","v":0},null,"Mx Summe  II-III",null,{"$f":"H8-I8","v":0}]
["Schwerpunktabstand z-Richt.(Mitte Welle)","mm",{"$f":"'EM-LM-4'!Q14+61","v":61},null,"Absolutbetrag",null,{"$f":"ABS(G14)","v":0}]
[null,null,null,null,"I ","Nm",{"$f":"G8","v":0}]
["Zusatzkraft Fx","N",{"$f":"'EM-LM-4'!K18","v":0},null,"I oder I+III oder II-III",null,{"$f":"MAX(G16,G15,G13)","v":0}]
["Kraftangriffspunkt von Fx in y-Richtung","mm",{"$f":"'EM-LM-4'!O18","v":0},null,"Mx Summe  I+V oder II+IV","Nm",{"$f":"IF(AND(J8=0,K8=0),MAX(G8,H8),IF(J11=TRUE,H8+J8,G8+K8))","v":0}]
["Kraftangrp. von Fx in z-Richt.(Mitte Welle)","mm",{"$f":"'EM-LM-4'!Q18+61","v":61},null,"Absolutbetrag",null,{"$f":"ABS(G18)","v":0}]
[null,null,null,null,"Mx ges","Nm",{"$f":"MAX(G17,G19)","v":0}]
["Zusatzkraft Fy","N",{"$f":"'EM-LM-4'!K20","v":0},null,"Mx zul","Nm",{"$f":"IF(C7=0,'Allgemeine Werte'!B95,IF(C7=1,'Allgemeine Werte'!B96,IF(C7=2,'Allgemeine Werte'!B97,0)))","v":200},null,"Maximal-Werte Mxzul  berechnet über Extrablatt !!"]
["Kraftangriffspunkt von Fy in x-Richtung","mm",{"$f":"'EM-LM-4'!M20","v":0},null,null,null,null,null,"Länge L, tan alpha und E werden zur Berechnung von Mx nicht mehr benötigt"]
["Kraftangrp. von Fy in z-Richt.(Mitte Rolle)","mm",{"$f":"'EM-LM-4'!Q20+61","v":61},null,"My Summe  I+V ( = II+IV )","Nm",{"$f":"G9+K9","v":0}]
[null,null,null,null,"Absolutbetrag",null,{"$f":"ABS(G23)","v":0}]
["Zusatzkraft Fz","N",{"$f":"'EM-LM-4'!K22","v":0},null,"My ges","Nm",{"$f":"G24","v":0}]
["Kraftangriffspunkt von Fz in x-Richtung","mm",{"$f":"'EM-LM-4'!M22","v":0},null,"My zul","Nm",{"$f":"G43*0.029","v":90.48},null,"Maximal-Werte dieses Momentes berechnet aus Fzzul und Abstand Führungssäulen !!"]
["Kraftangriffspunkt von Fz in y-Richtung","mm",{"$f":"'EM-LM-4'!O22","v":0}]
[]
[null,null,null,null,"Mz III","Nm",{"$f":"I10","v":0}]
["Länge L (Mittenabstand Buchsen)","mm",{"$f":"130+(C7*100)","v":130},null,"Absolutbetrag",null,{"$f":"ABS(G29)","v":0}]
["tan alpha",null,{"$f":"IF(C7=0,0.00045,IF(C7=1,0.0008,IF(C7=2,0.0011,IF(C7=3,0.0013,IF(C7=4,0.0015,1)))))","v":4.4999999999999999E-4},null,"Mz IV/V","Nm",{"$f":"IF(J11=TRUE,J10,K10)","v":0},null,"Maximal-Werte Fzzul neu berechnet"]
["E",null,2026710000,null,"Absolutbetrag",null,{"$f":"ABS(G31)","v":0}]
["Schwerpunktabstand in y-Richtung","mm",{"$f":"C14","v":0},null,"Mz ges","Nm",{"$f":"MAX(G30,G32)","v":0}]
["Reduzierter Wert K","mm",{"$f":"C35-C36","v":20},null,"Mz zul","Nm",{"$f":"G21","v":200}]
["Wert K (Abstand Stirnplatte/1.Buchse)","mm",47]
["Anfangswert (Abst. Stirnpl./Deckplatte)","mm",27,null,null,null,null,null,"Belastungsgleichung stat.",{"$f":"G19/G21+G25/G26+G32/G34+G38/G39+G42/G43","v":0}]
[null,null,null,null,"Fx ges","N",{"$f":"C17","v":0},null,"Belastungsgleichung dyn.",{"$f":"G17/G21+G30/G34+G40/G43","v":0}]
[null,null,null,null,"Absolutwert",null,{"$f":"ABS(G37)","v":0},null,"Belastungsgleichung",{"$f":"MAX(J36:J37)","v":0}]
[null,null,null,null,"Fx zul","N",{"$f":"G43","v":3120}]
["Stoßdämpferhub s ( Hub bis a=0 )","m",{"$f":"'Allgemeine Werte'!M41","v":1.0586000000000002E-2},null,"Gewichtskraft","N",{"$f":"C12*9.81","v":0},null,null,null,"Faktor für Verfahrzber., wie LM 300"]
["Verzögerung a=vxv/2xs","m/s2",{"$f":"POWER(C48,2)/(2*C40)","v":3.5314597773592475},null,"Fz ges abs","N",{"$f":"ABS(-C25+C12*9.81)","v":0},null,"Verfahrzeitberechnung",null,{"$f":"ROUNDDOWN(((C5+25)/50.1)+0.5,0)","v":1}]
["Kraft zur Verzögerung der Masse","N",{"$f":"C12*C41","v":0},null,"Max aus E40,E41",null,{"$f":"MAX(G40,G41)","v":0},null,"Verfahrzeit berechnet ( t=Wurzel aus (2xsxm/F)",null,{"$f":"(SQRT(2*(C5/1000)*(C12+C8/2)/C9))*(2.6+K41*0.2)","v":3.0274155422932617E-2}]
["Kraft zur Verzög. d. Masse incl Modul/2","N",{"$f":"C47*C41","v":13.066401176229217},null,"Fz zul","N",{"$f":"IF(C7=0,'Allgemeine Werte'!C95,IF(C7=1,'Allgemeine Werte'!C96,IF(C7=2,'Allgemeine Werte'!C97,0)))","v":3120},null,"Mittlere Verfahrgeschwindigkeit berechnet",null,{"$f":"(C5/1000)/K42","v":0.33031474735790711}]
[null,null,null,null,null,null,null,null,"Endgeschwindigkeit berechnet",null,{"$f":"K43*'Allgemeine Werte'!E71","v":0.57805080787633745}]
["Stoßdämpferberechnung",null,null,null,"Max. Zyklenzahl / Min."]
["Anzahl Stoßdämpfer",null,{"$f":"'EM-LM-4-1'!S38","v":1},null,"Zyklen aus Verfahrzeit",null,{"$f":"60/(2*L50)","v":468.75},null,"Endgeschwindigkeit (Eingabe)",null,{"$f":"C10","v":2.02}]
["Gesamtmasse","kg",{"$f":"C12+C8/2","v":3.7},null,null,null,null,null,"Mittlere Verfahrgeschwindigkeit (Eingabe)   m/s",null,{"$f":"C10/'Allgemeine Werte'!E71","v":1.1542857142857144}]
["Aufprallgeschwindigkeit","m/s",{"$f":"L54","v":0.2734375},null,"Ezul / Stunde","Nm",{"$f":"'Allgemeine Werte'!H41*C46*0.95","v":32300},null,"Verfahrzeit (Eingabe)","s",{"$f":"(C5/1000)/K47","v":8.6633663366336624E-3},"Verfahrzeit für Berechnung"]
["W1","Nm",{"$f":"C47*POWER(C48,2)*0.5","v":0.1383209228515625},null,"Ezul / Minute","Nm",{"$f":"G48/60","v":538.33333333333337},null,null,null,null,"( max )"]
["Hub Stoßdämpfer","m",{"$f":"'Allgemeine Werte'!L41","v":1.5800000000000002E-2},null,"Zyklen aus Ezul",null,{"$f":"G49/C53","v":44.727967421646454},null,"min. Verfahrzeit vor","gemessen",{"$f":"0.05+(C5/25)*0.03","v":6.2E-2},{"$f":"MAX(K48,K53,K42)","v":6.4000000000000001E-2}]
["Zylinderkraft","N",753,null,null,null,null,null,"Mittlere Verfahrgeschwindigkeit vor",null,{"$f":"(C5/1000)/K50","v":0.16129032258064516}]
["W2 ( Antriebsenergie )","Nm",{"$f":"C51*C50","v":11.897400000000001},null,"Max. Zyklen",null,{"$f":"MIN(G46,G50,G55)","v":44.727967421646454},null,"Endgeschwindigkeit vor",null,{"$f":"K51*'Allgemeine Werte'!E71","v":0.282258064516129},"Endgeschwindigkeit f. Ber."]
["W1+W2 ( Energie / Hub )","Nm",{"$f":"C52+C49","v":12.035720922851564},null,null,null,null,null,"min. Verfahrzeit zurück",null,{"$f":"0.05+((C5/25)*0.035)","v":6.4000000000000001E-2},"( min )"]
["Ezul / Zyklus ( Hub )","Nm",{"$f":"'Allgemeine Werte'!G41*C50/'Allgemeine Werte'!K41*C46","v":25.675000000000004},null,"Stoßd.-kolbenrückstellzeit",null,{"$f":"'Allgemeine Werte'!E41","v":0.75},null,"Mittlere Verfahrgeschwindigkeit zurück",null,{"$f":"(C5/1000)/K53","v":0.15625},{"$f":"MIN(K46,K55,K44)","v":0.2734375}]
["Auslastung / Zyklus",null,{"$f":"C53/C54","v":0.46877199310035295},null,"Max. Zyklen aus Rückstellzeit",null,{"$f":"60/G54","v":80},null,"Endgeschwindigkeit zurück",null,{"$f":"K54*'Allgemeine Werte'!E71","v":0.2734375}]

{"sheet":"EM-Ber-KLM300-5","index":70,"n_rows":55,"n_cols":12,"rows_kept":55,"cut":false,"hidden":false,"merged":[]}
["Linearmodul Typ",null,"KLM 300"]
[]
["Berechnung der Führungsbelastung"]
[null,null,null,null,null,null,"Statisch auf Grund","Statisch auf Grund"]
["Hub","mm",{"$f":"'EM-LM-5'!K8","v":10},null,null,null,"Zusatzmasse m","Zusatzmasse m","Dynamisch auf Grund","Statisch auf Grund","Statisch auf Grund"]
["Zylinderkraft","N",753,null,null,null,"Modul ausgef.","Modul eingef.","Zusatzmasse m","Zusatzkraft Modul eingef.","Zusatzkraft Modul ausgef."]
["Faktor",null,{"$f":"ROUNDDOWN((C5/100.1),0)","v":0},null,null,null,"I","II","III","IV","V"]
["Modulgewicht","kg",{"$f":"7.4+(C7*2.9)","v":7.4},null,"Moment Mx=M3","Nm",{"$f":"(C12*9.81)*(C34+C14+C30/2)/1000","v":0},{"$f":"(C12*9.81)*(C34+C14+C30/2)/1000","v":0},{"$f":"C42*(C15/1000)","v":0},{"$f":"(C21*C23/1000)-C25*(C27+C34+C30/2)/1000","v":0},{"$f":"(C21*C23/1000)-C25*(C27+C34+C30/2)/1000","v":0}]
["Zylinderkraft zurück","N",633,null,"Moment My=M1","Nm",{"$f":"C12*9.81*((C13)/1000)","v":0},{"$f":"C12*9.81*((C13)/1000)","v":0},"-",{"$f":"C17*(C19/1000)-C25*C26/1000","v":0},{"$f":"C17*(C19/1000)-C25*C26/1000","v":0}]
["Verfahrgeschwindigkeit","m/s",{"$f":"'EM-LM-5-1'!I58","v":2.02},null,"Moment Mz=M2","Nm","-","-",{"$f":"C42*(C13/1000)","v":0},{"$f":"C21*C22/1000-C17*(C18+C34+C30/2)/1000","v":0},{"$f":"C21*C22/1000-C17*(C18+C34+C30/2)/1000","v":0}]
[null,null,null,null,null,null,null,null,null,{"$f":"'EM-LM-5'!G51","v":false}]
["Zusatzmasse","kg",{"$f":"'EM-LM-5'!K14","v":0},null,"Mx Summe  I + III","Nm",{"$f":"G8+I8","v":0}]
["Schwerpunktabstand x-Richt.(Mitte Welle)","mm",{"$f":"'EM-LM-5'!M14+61","v":61},null,"Absolutbetrag",null,{"$f":"ABS(G12)","v":0}]
["Schwerpunktabstand y-Richtung","mm",{"$f":"'EM-LM-5'!O14","v":0},null,"Mx Summe  II-III",null,{"$f":"H8-I8","v":0}]
["Schwerpunktabstand z-Richtung","mm",{"$f":"'EM-LM-5'!Q14","v":0},null,"Absolutbetrag",null,{"$f":"ABS(G14)","v":0}]
[null,null,null,null,"I ","Nm",{"$f":"G8","v":0}]
["Zusatzkraft Fx","N",{"$f":"'EM-LM-5'!K18","v":0},null,"I oder I+III oder II-III",null,{"$f":"MAX(G16,G15,G13)","v":0}]
["Kraftangriffspunkt von Fx in y-Richtung","mm",{"$f":"'EM-LM-5'!O18","v":0},null,"Mx Summe  I+V oder II+IV","Nm",{"$f":"IF(AND(J8=0,K8=0),MAX(G8,H8),IF(J11=TRUE,H8+J8,G8+K8))","v":0}]
["Kraftangriffspunkt von Fx in z-Richtung","mm",{"$f":"'EM-LM-5'!Q18","v":0},null,"Absolutbetrag",null,{"$f":"ABS(G18)","v":0}]
[null,null,null,null,"Mx ges","Nm",{"$f":"MAX(G17,G19)","v":0}]
["Zusatzkraft Fy","N",{"$f":"'EM-LM-5'!K20","v":0},null,"Mx zul","Nm",{"$f":"IF(C7=0,'Allgemeine Werte'!B95,IF(C7=1,'Allgemeine Werte'!B96,IF(C7=2,'Allgemeine Werte'!B97,0)))","v":200},null,"Maximal-Werte Mxzul  berechnet über Extrablatt !!"]
["Kraftangrp. von Fy in x-Richt. (Mitte Welle)","mm",{"$f":"'EM-LM-5'!M20+61","v":61},null,null,null,null,null,"Länge L, tan alpha und E werden zur Berechnung von Mx nicht mehr benötigt"]
["Kraftangrp. von Fy in z-Richt.","mm",{"$f":"'EM-LM-5'!Q20","v":0},null,"My Summe  I+V ( = II+IV )","Nm",{"$f":"G9+K9","v":0}]
[null,null,null,null,"Absolutbetrag",null,{"$f":"ABS(G23)","v":0}]
["Zusatzkraft Fz","N",{"$f":"'EM-LM-5'!K22","v":0},null,"My ges","Nm",{"$f":"G24","v":0}]
["Kraftangrp. von Fz in x-Richt. (Mitte Welle)","mm",{"$f":"'EM-LM-5'!M22+61","v":61},null,"My zul","Nm",{"$f":"G43*0.029","v":90.48},null,"Maximal-Werte dieses Momentes berechnet aus Fzzul und Abstand Führungssäulen !!"]
["Kraftangriffspunkt von Fz in y-Richtung","mm",{"$f":"'EM-LM-5'!O22","v":0}]
[]
[null,null,null,null,"Mz III","Nm",{"$f":"I10","v":0}]
["Länge L (Mittenabstand Buchsen)","mm",{"$f":"130+(C7*100)","v":130},null,"Absolutbetrag",null,{"$f":"ABS(G29)","v":0}]
["tan alpha",null,{"$f":"IF(C7=0,0.00045,IF(C7=1,0.0008,IF(C7=2,0.0011,IF(C7=3,0.0013,IF(C7=4,0.0015,1)))))","v":4.4999999999999999E-4},null,"Mz IV/V","Nm",{"$f":"IF(J11=TRUE,J10,K10)","v":0},null,"Maximal-Werte Fzzul neu berechnet"]
["E",null,2026710000,null,"Absolutbetrag",null,{"$f":"ABS(G31)","v":0}]
["Schwerpunktabstand in y-Richtung","mm",{"$f":"C14","v":0},null,"Mz ges","Nm",{"$f":"MAX(G30,G32)","v":0}]
["Reduzierter Wert K","mm",{"$f":"C35-C36","v":20},null,"Mz zul","Nm",{"$f":"G21","v":200}]
["Wert K (Abstand Stirnplatte/1.Buchse)","mm",47]
["Anfangswert (Abst. Stirnpl./Deckplatte)","mm",27,null,null,null,null,null,"Belastungsgleichung stat.",{"$f":"G19/G21+G25/G26+G32/G34+G38/G39+G42/G43","v":0}]
[null,null,null,null,"Fx ges","N",{"$f":"C17","v":0},null,"Belastungsgleichung dyn.",{"$f":"G17/G21+G30/G34+G40/G43","v":0}]
[null,null,null,null,"Absolutwert",null,{"$f":"ABS(G37)","v":0},null,"Belastungsgleichung",{"$f":"MAX(J36:J37)","v":0}]
[null,null,null,null,"Fx zul","N",{"$f":"G43","v":3120}]
["Stoßdämpferhub s ( Hub bis a=0 )","m",{"$f":"'Allgemeine Werte'!M41","v":1.0586000000000002E-2},null,"Gewichtskraft","N",{"$f":"C12*9.81","v":0},null,null,null,"Faktor für Verfahrzber., wie LM 300"]
["Verzögerung a=vxv/2xs","m/s2",{"$f":"POWER(C48,2)/(2*C40)","v":3.5314597773592475},null,"Fz ges abs","N",{"$f":"ABS(-C25+C12*9.81)","v":0},null,"Verfahrzeitberechnung",null,{"$f":"ROUNDDOWN(((C5+25)/50.1)+0.5,0)","v":1}]
["Kraft zur Verzögerung der Masse","N",{"$f":"C12*C41","v":0},null,"Max aus E40,E41",null,{"$f":"MAX(G40,G41)","v":0},null,"Verfahrzeit berechnet ( t=Wurzel aus (2xsxm/F)",null,{"$f":"(SQRT(2*(C5/1000)*(C12+C8/2)/C9))*(2.6+K41*0.2)","v":3.0274155422932617E-2}]
["Kraft zur Verzög. d. Masse incl Modul/2","N",{"$f":"C47*C41","v":13.066401176229217},null,"Fz zul","N",{"$f":"IF(C7=0,'Allgemeine Werte'!C95,IF(C7=1,'Allgemeine Werte'!C96,IF(C7=2,'Allgemeine Werte'!C97,0)))","v":3120},null,"Mittlere Verfahrgeschwindigkeit berechnet",null,{"$f":"(C5/1000)/K42","v":0.33031474735790711}]
[null,null,null,null,null,null,null,null,"Endgeschwindigkeit berechnet",null,{"$f":"K43*'Allgemeine Werte'!E71","v":0.57805080787633745}]
["Stoßdämpferberechnung",null,null,null,"Max. Zyklenzahl / Min."]
["Anzahl Stoßdämpfer",null,{"$f":"'EM-LM-5-1'!S38","v":1},null,"Zyklen aus Verfahrzeit",null,{"$f":"60/(2*L50)","v":468.75},null,"Endgeschwindigkeit (Eingabe)",null,{"$f":"C10","v":2.02}]
["Gesamtmasse","kg",{"$f":"C12+C8/2","v":3.7},null,null,null,null,null,"Mittlere Verfahrgeschwindigkeit (Eingabe)   m/s",null,{"$f":"C10/'Allgemeine Werte'!E71","v":1.1542857142857144}]
["Aufprallgeschwindigkeit","m/s",{"$f":"L54","v":0.2734375},null,"Ezul / Stunde","Nm",{"$f":"'Allgemeine Werte'!H41*C46*0.95","v":32300},null,"Verfahrzeit (Eingabe)","s",{"$f":"(C5/1000)/K47","v":8.6633663366336624E-3},"Verfahrzeit für Berechnung"]
["W1","Nm",{"$f":"C47*POWER(C48,2)*0.5","v":0.1383209228515625},null,"Ezul / Minute","Nm",{"$f":"G48/60","v":538.33333333333337},null,null,null,null,"( max )"]
["Hub Stoßdämpfer","m",{"$f":"'Allgemeine Werte'!L41","v":1.5800000000000002E-2},null,"Zyklen aus Ezul",null,{"$f":"G49/C53","v":44.727967421646454},null,"min. Verfahrzeit vor","gemessen",{"$f":"0.05+(C5/25)*0.03","v":6.2E-2},{"$f":"MAX(K48,K53,K42)","v":6.4000000000000001E-2}]
["Zylinderkraft","N",753,null,null,null,null,null,"Mittlere Verfahrgeschwindigkeit vor",null,{"$f":"(C5/1000)/K50","v":0.16129032258064516}]
["W2 ( Antriebsenergie )","Nm",{"$f":"C51*C50","v":11.897400000000001},null,"Max. Zyklen",null,{"$f":"MIN(G46,G50,G55)","v":44.727967421646454},null,"Endgeschwindigkeit vor",null,{"$f":"K51*'Allgemeine Werte'!E71","v":0.282258064516129},"Endgeschwindigkeit f. Ber."]
["W1+W2 ( Energie / Hub )","Nm",{"$f":"C52+C49","v":12.035720922851564},null,null,null,null,null,"min. Verfahrzeit zurück",null,{"$f":"0.05+((C5/25)*0.035)","v":6.4000000000000001E-2},"( min )"]
["Ezul / Zyklus ( Hub )","Nm",{"$f":"'Allgemeine Werte'!G41*C50/'Allgemeine Werte'!K41*C46","v":25.675000000000004},null,"Stoßd.-kolbenrückstellzeit",null,{"$f":"'Allgemeine Werte'!E41","v":0.75},null,"Mittlere Verfahrgeschwindigkeit zurück",null,{"$f":"(C5/1000)/K53","v":0.15625},{"$f":"MIN(K46,K55,K44)","v":0.2734375}]
["Auslastung / Zyklus",null,{"$f":"C53/C54","v":0.46877199310035295},null,"Max. Zyklen aus Rückstellzeit",null,{"$f":"60/G54","v":80},null,"Endgeschwindigkeit zurück",null,{"$f":"K54*'Allgemeine Werte'!E71","v":0.2734375}]

{"sheet":"EM-Ber-KLM300-6","index":71,"n_rows":57,"n_cols":12,"rows_kept":57,"cut":false,"hidden":false,"merged":[]}
["Linearmodul Typ",null,"KLM 300"]
[]
["Berechnung der Führungsbelastung"]
[null,null,null,null,null,null,"Statisch auf Grund","Statisch auf Grund"]
["Hub","mm",{"$f":"'EM-LM-6'!K8","v":10},null,null,null,"Zusatzmasse m","Zusatzmasse m","Dynamisch auf Grund","Statisch auf Grund","Statisch auf Grund"]
["Zylinderkraft","N",753,null,null,null,"Modul ausgef.","Modul eingef.","Zusatzmasse m","Zusatzkraft Modul eingef.","Zusatzkraft Modul ausgef."]
["Faktor",null,{"$f":"ROUNDDOWN((C5/100.1),0)","v":0},null,null,null,"I","II","III","IV","V"]
["Modulgewicht","kg",{"$f":"7.4+(C7*2.9)","v":7.4},null,"Moment Mx=M3","Nm",{"$f":"C12*9.81*((C15)/1000)","v":0},{"$f":"C12*9.81*((C15)/1000)","v":0},{"$f":"C42*(C15/1000)","v":0},{"$f":"IF(K11=TRUE,-(C21*C23/1000)+C25*((C27+C34+C30/2)/1000),(C21*C23/1000)-C25*((C27+C34+C30/2)/1000))","v":0},{"$f":"IF(K11=TRUE,-(C21*C23/1000)+C25*((C27+C34+C30/2)/1000),(C21*C23/1000)-C25*((C27+C34+C30/2)/1000))","v":0}]
["Zylinderkraft zurück","N",633,null,"Moment My=M1","Nm","-","-","-",{"$f":"C17*(C19/1000)-C25*C26/1000","v":0},{"$f":"C17*(C19/1000)-C25*C26/1000","v":0}]
["Verfahrgeschwindigkeit","m/s",{"$f":"'EM-LM-6-1'!I58","v":2.02},null,"Moment Mz=M2","Nm",{"$f":"C12*9.81*((C13)/1000)","v":0},{"$f":"C12*9.81*((C13)/1000)","v":0},{"$f":"C42*(C13/1000)","v":0},{"$f":"IF(K11=TRUE,-C21*C22/1000+C17*(C18+C34+C30/2)/1000,C21*C22/1000-C17*(C18+C34+C30/2)/1000)","v":0},{"$f":"IF(K11=TRUE,-C21*C22/1000+C17*(C18+C34+C30/2)/1000,C21*C22/1000-C17*(C18+C34+C30/2)/1000)","v":0}]
[null,null,null,null,null,null,null,null,null,{"$f":"'EM-LM-6'!G51","v":false},{"$f":"'EM-LM-6'!G52","v":true}]
["Zusatzmasse","kg",{"$f":"'EM-LM-6'!K14","v":0}]
["Schwerpunktabstand x-Richt.(Mitte Welle)","mm",{"$f":"'EM-LM-6'!M14+61","v":61}]
["Schwerpunktabstand y-Richtung","mm",{"$f":"'EM-LM-6'!O14","v":0}]
["Schwerpunktabstand z-Richtung","mm",{"$f":"'EM-LM-6'!Q14","v":0}]
[null,null,null,null,"Mx Summe  I(II) + III","Nm",{"$f":"G8+I8","v":0}]
["Zusatzkraft Fx","N",{"$f":"'EM-LM-6'!K18","v":0},null,"Absolutbetrag",null,{"$f":"ABS(G16)","v":0}]
["Kraftangriffspunkt von Fx in y-Richtung","mm",{"$f":"'EM-LM-6'!O18","v":0},null,"Mx Summe  I+V oder II+IV","Nm",{"$f":"IF(J11=TRUE,H8+J8,G8+K8)","v":0}]
["Kraftangriffspunkt von Fx in z-Richtung","mm",{"$f":"'EM-LM-6'!Q18","v":0},null,"Absolutbetrag",null,{"$f":"ABS(G18)","v":0}]
[null,null,null,null,"Mx ges","Nm",{"$f":"MAX(G17,G19)","v":0}]
["Zusatzkraft Fy","N",{"$f":"'EM-LM-6'!K20","v":0},null,"Mx zul","Nm",{"$f":"IF(C7=0,'Allgemeine Werte'!B95,IF(C7=1,'Allgemeine Werte'!B96,IF(C7=2,'Allgemeine Werte'!B97,0)))","v":200},null,"Maximal-Werte Mxzul  berechnet über Extrablatt !!"]
["Kraftangrp. von Fy in x-Richt. (Mitte Welle)","mm",{"$f":"'EM-LM-6'!M20+61","v":61},null,null,null,null,null,"Länge L, tan alpha und E werden zur Berechnung von Mx nicht mehr benötigt"]
["Kraftangrp. von Fy in z-Richt.","mm",{"$f":"'EM-LM-6'!Q20","v":0},null,"My IV = V","Nm",{"$f":"J9","v":0}]
[null,null,null,null,"Absolutbetrag",null,{"$f":"ABS(G23)","v":0}]
["Zusatzkraft Fz","N",{"$f":"'EM-LM-6'!K22","v":0},null,"My ges","Nm",{"$f":"G24","v":0}]
["Kraftangrp. von Fz in x-Richt. (Mitte Welle)","mm",{"$f":"'EM-LM-6'!M22+61","v":61},null,"My zul","Nm",{"$f":"G43*0.029","v":90.48},"Maximal-Werte dieses Momentes berechnet aus Fzzul und Abstand Führungssäulen !!"]
["Kraftangriffspunkt von Fz in y-Richtung","mm",{"$f":"'EM-LM-6'!O22","v":0}]
[]
[null,null,null,null,"Mz Summe I(II)+III","Nm",{"$f":"G10+I10","v":0}]
["Länge L (Mittenabstand Buchsen)","mm",{"$f":"130+(C7*100)","v":130},null,"Absolutbetrag",null,{"$f":"ABS(G29)","v":0}]
["tan alpha",null,{"$f":"IF(C7=0,0.00045,IF(C7=1,0.0008,IF(C7=2,0.0011,IF(C7=3,0.0013,IF(C7=4,0.0015,1)))))","v":4.4999999999999999E-4},null,"Mz Summe  I+V oder II+IV","Nm",{"$f":"IF(J11=TRUE,H10+J10,G10+K10)","v":0},"Maximal-Werte Fzzul neu berechnet"]
["E",null,2026710000,null,"Absolutbetrag",null,{"$f":"ABS(G31)","v":0}]
["Schwerpunktabstand in y-Richtung","mm",{"$f":"C14","v":0},null,"Mz ges","Nm",{"$f":"MAX(G30,G32)","v":0}]
["Reduzierter Wert K","mm",{"$f":"C35-C36","v":20},null,"Mz zul","Nm",{"$f":"G21","v":200}]
["Wert K (Abstand Stirnplatte/1.Buchse)","mm",47]
["Anfangswert (Abst. Stirnpl./Deckplatte)","mm",27,null,null,null,null,null,"Belastungsgleichung stat.",{"$f":"G19/G21+G25/G26+G32/G34+G38/G39+G42/G43","v":0}]
[null,null,null,null,"Fx ges","N",{"$f":"C17","v":0},null,"Belastungsgleichung dyn.",{"$f":"G17/G21+G30/G34","v":0}]
[null,null,null,null,"Absolutwert",null,{"$f":"ABS(G37)","v":0},null,"Belastungsgleichung",{"$f":"MAX(J36:J37)","v":0}]
[null,null,null,null,"Fx zul","N",{"$f":"G43","v":3120}]
["Stoßdämpferhub s ( Hub bis a=0 )","m",{"$f":"'Allgemeine Werte'!M41","v":1.0586000000000002E-2},null,null,null,null,null,null,null,"Faktor für Verfahrzber., wie LM 300"]
["Verzögerung a=vxv/2xs","m/s2",{"$f":"POWER(C48,2)/(2*C40)","v":3.3206747585086034},null,"Fz ges","N",{"$f":"-C25","v":0},null,"Verfahrzeitberechnung",null,{"$f":"ROUNDDOWN(((C5+25)/50.1)+0.5,0)","v":1}]
["Kraft zur Verzögerung der Masse","N",{"$f":"C12*C41","v":0},null,"Absolutwert",null,{"$f":"ABS(G41)","v":0},null,"Verfahrzeit berechnet ( t=Wurzel aus (2xsxm/F)",null,{"$f":"(SQRT(2*(C5/1000)*(C12+C8/2)/(C6-(C12+C8/2)*9.81)))*(2.7+K41*0.25)","v":2.9975626217558535E-2}]
["Kraft zur Verzög. d. Masse incl Modul/2","N",{"$f":"C47*C41","v":12.286496606481833},null,"Fz zul","N",{"$f":"IF(C7=0,'Allgemeine Werte'!C95,IF(C7=1,'Allgemeine Werte'!C96,IF(C7=2,'Allgemeine Werte'!C97,0)))","v":3120},null,"Mittlere Verfahrgeschwindigkeit berechnet",null,{"$f":"(C5/1000)/K42","v":0.33360437334724957}]
[null,null,null,null,null,null,null,null,"Endgeschwindigkeit berechnet",null,{"$f":"K43*'Allgemeine Werte'!E71","v":0.58380765335768681}]
["Stoßdämpferberechnung",null,null,null,"Max. Zyklenzahl / Min."]
["Anzahl Stoßdämpfer",null,{"$f":"'EM-LM-6-1'!S38","v":1},null,"Zyklen aus Verfahrzeit",null,{"$f":"60/(2*L50)","v":454.5454545454545},null,"Endgeschwindigkeit (Eingabe)",null,{"$f":"C10","v":2.02}]
["Gesamtmasse","kg",{"$f":"C12+C8/2","v":3.7},null,null,null,null,null,"Mittlere Verfahrgeschwindigkeit (Eingabe)   m/s",null,{"$f":"C10/'Allgemeine Werte'!E71","v":1.1542857142857144}]
["Aufprallgeschwindigkeit","m/s",{"$f":"L54","v":0.26515151515151514},null,"Ezul / Stunde","Nm",{"$f":"'Allgemeine Werte'!H41*C46*0.95","v":32300},null,"Verfahrzeit (Eingabe)","s",{"$f":"(C5/1000)/K47","v":8.6633663366336624E-3},"Verfahrzeit für Berechnung"]
["W1","Nm",{"$f":"C47*POWER(C48,2)*0.5","v":0.13006485307621671},null,"Ezul / Minute","Nm",{"$f":"G48/60","v":538.33333333333337},null,null,null,null,"( max )"]
["Hub Stoßdämpfer","m",{"$f":"'Allgemeine Werte'!L41","v":1.5800000000000002E-2},null,"Zyklen aus Ezul",null,{"$f":"G49/C53","v":46.999706428374843},null,"min. Verfahrzeit ab","gemessen",{"$f":"0.04+(C5/25)*0.03","v":5.2000000000000005E-2},{"$f":"MAX(K48,K53,K42)","v":6.6000000000000003E-2}]
["Zylinderkraft","N",753,null,null,null,null,null,"Mittlere Verfahrgeschwindigkeit ab",null,{"$f":"(C5/1000)/K50","v":0.19230769230769229}]
["W2 ( Antriebsenergie )","Nm",{"$f":"MAX(C56,C57)*C50","v":11.323907400000001},null,"Max. Zyklen",null,{"$f":"MIN(G46,G50,G55)","v":46.999706428374843},null,"Endgeschwindigkeit ab",null,{"$f":"K51*'Allgemeine Werte'!E71","v":0.33653846153846151},"Endgeschwindigkeit f. Ber."]
["W1+W2 ( Energie / Hub )","Nm",{"$f":"C52+C49","v":11.453972253076218},null,null,null,null,null,"min. Verfahrzeit auf",null,{"$f":"0.05+((C5/25)*0.04)","v":6.6000000000000003E-2},"( min )"]
["Ezul / Zyklus ( Hub )","Nm",{"$f":"'Allgemeine Werte'!G41*C50/'Allgemeine Werte'!K41*C46","v":25.675000000000004},null,"Stoßd.-kolbenrückstellzeit",null,{"$f":"'Allgemeine Werte'!E41","v":0.75},null,"Mittlere Verfahrgeschwindigkeit auf",null,{"$f":"(C5/1000)/K53","v":0.15151515151515152},{"$f":"MIN(K46,K55,K44)","v":0.26515151515151514}]
["Auslastung / Zyklus",null,{"$f":"C53/C54","v":0.4461138170623648},null,"Max. Zyklen aus Rückstellzeit",null,{"$f":"60/G54","v":80},null,"Endgeschwindigkeit auf",null,{"$f":"K54*'Allgemeine Werte'!E71","v":0.26515151515151514}]
["Antriebskraft nach oben",null,{"$f":"C6-C47*9.81","v":716.70299999999997}]
["Antriebskraft nach unten",null,{"$f":"C9+C47*9.81","v":669.29700000000003}]

{"sheet":"EM-Ber-CLM08-1","index":72,"n_rows":55,"n_cols":12,"rows_kept":55,"cut":false,"hidden":false,"merged":[]}
["Linearmodul Typ",null,"CLM 08"]
[]
["Berechnung der Führungsbelastung"]
[null,null,null,null,null,null,"Statisch auf Grund","Statisch auf Grund"]
["Hub","mm",{"$f":"'EM-LM-1'!K8","v":10},null,null,null,"Zusatzmasse m","Zusatzmasse m","Dynamisch auf Grund","Statisch auf Grund","Statisch auf Grund"]
["Zylinderkraft","N",30,null,null,null,"Modul ausgef.","Modul eingef.","Zusatzmasse m","Zusatzkraft Modul eingef.","Zusatzkraft Modul ausgef."]
["Faktor",null,{"$f":"ROUNDDOWN((C5/14.1),0)","v":0},null,null,null,"I","II","III","IV","V"]
["Modulgewicht","kg",{"$f":"0.074+(C7*0.016)","v":7.3999999999999996E-2},null,"Moment Mx=M2","Nm",{"$f":"(C12*9.81)*((C38+C34/2+C33)/1000)","v":0},{"$f":"C12*9.81*((C37+C34/2+C33)/1000)","v":0},{"$f":"C42*(C15/1000)","v":0},{"$f":"(C21*C23/1000)-C25*((C27+C37+C34/2)/1000)","v":0},{"$f":"(C21*C23/1000)-C25*((C27+C38+C34/2)/1000)","v":0}]
["Zylinderkraft zurück","N",25,null,"Moment My=M1","Nm",{"$f":"C12*9.81*(C13/1000)","v":0},{"$f":"C12*9.81*(C13/1000)","v":0},"-",{"$f":"C17*C19/1000-C25*(C26/1000)","v":0},{"$f":"C17*C19/1000-C25*(C26/1000)","v":0}]
["Verfahrgeschwindigkeit","m/s",{"$f":"'EM-LM-1-1'!I58","v":2.02},null,"Moment Mz=M3","Nm","-","-",{"$f":"C42*(C13/1000)","v":0},{"$f":"C21*C22/1000-C17*(C18+C37+C34/2)/1000","v":0},{"$f":"C21*C22/1000-C17*(C18+C38+C34/2)/1000","v":0}]
[null,null,null,null,null,null,null,null,null,{"$f":"'EM-LM-1'!G51","v":true}]
["Zusatzmasse","kg",{"$f":"'EM-LM-1'!K14","v":0},null,"Mx Summe  I + III","Nm",{"$f":"G8+I8","v":0}]
["Schwerpunktabstand x-Richtung","mm",{"$f":"'EM-LM-1'!M14","v":0},null,"Absolutbetrag",null,{"$f":"ABS(G12)","v":0}]
["Schwerpunktabstand y-Richtung","mm",{"$f":"'EM-LM-1'!O14","v":0},null,"Mx Summe  II-III",null,{"$f":"H8-I8","v":0}]
["Schwerpunktabstand z-Richt.(Mitte Rolle)","mm",{"$f":"'EM-LM-1'!Q14+6.7","v":6.7},null,"Absolutbetrag",null,{"$f":"ABS(G14)","v":0}]
[null,null,null,null,"I ","Nm",{"$f":"ABS(G8)","v":0}]
["Zusatzkraft Fx","N",{"$f":"'EM-LM-1'!K18","v":0},null,"I oder I+III oder II-III",null,{"$f":"MAX(G16,G15,G13)","v":0}]
["Kraftangriffspunkt von Fx in y-Richtung","mm",{"$f":"'EM-LM-1'!O18","v":0},null,"Mx Summe  I+V oder II+IV","Nm",{"$f":"IF(AND(J8=0,K8=0),MAX(G8,H8),IF(J11=TRUE,H8+J8,G8+K8))","v":0}]
["Kraftangrp. von Fx in z-Richt.(Mitte Rolle)","mm",{"$f":"'EM-LM-1'!Q18+6.7","v":6.7},null,"Absolutbetrag",null,{"$f":"ABS(G18)","v":0}]
[null,null,null,null,"Mx ges","Nm",{"$f":"MAX(G17,G19)","v":0}]
["Zusatzkraft Fy","N",{"$f":"'EM-LM-1'!K20","v":0},null,"Mx zul","Nm",{"$f":"C34/1000*70","v":2.1},null,"Maximal-Werte der Momente und Kräfte nicht aus Katalog, sondern exakt berechnete Werte !!"]
["Kraftangriffspunkt von Fy in x-Richtung","mm",{"$f":"'EM-LM-1'!M20","v":0}]
["Kraftangrp. von Fy in z-Richt.(Mitte Rolle)","mm",{"$f":"'EM-LM-1'!Q20+6.7","v":6.7},null,"My Summe  I+V ( = II+IV )","Nm",{"$f":"G9+K9","v":0}]
[null,null,null,null,"Absolutbetrag",null,{"$f":"ABS(G23)","v":0}]
["Zusatzkraft Fz","N",{"$f":"'EM-LM-1'!K22","v":0},null,"My ges","Nm",{"$f":"G24","v":0}]
["Kraftangriffspunkt von Fz in x-Richtung","mm",{"$f":"'EM-LM-1'!M22","v":0},null,"My zul","Nm",{"$f":"1.59+(0.14*C7)","v":1.59}]
["Kraftangriffspunkt von Fz in y-Richtung","mm",{"$f":"'EM-LM-1'!O22","v":0}]
[]
[null,null,null,null,"Mz III","Nm",{"$f":"I10","v":0}]
["Länge L (Stirnplatte zu 1. Rolle - HubN/2)","mm",13.65,null,"Absolutbetrag",null,{"$f":"ABS(G29)","v":0}]
["Nennhub/2        HubN/2","mm",{"$f":"(14+(C7*14))/2","v":7},null,"Mz IV/V","Nm",{"$f":"IF(J11=TRUE,J10,K10)","v":0}]
["tatsächlicher gefahrener Hub/2","mm",{"$f":"C5/2","v":5},null,"Absolutbetrag",null,{"$f":"ABS(G31)","v":0}]
["Schwerpunktabstand in y-Richtung","mm",{"$f":"C14","v":0},null,"Mz ges","Nm",{"$f":"MAX(G30,G32)","v":0}]
["Wert K ( Abstand erste / letzte Rolle )","mm",{"$f":"30+(C7*3)","v":30},null,"Mz zul","Nm",{"$f":"G21/2","v":1.05}]
[]
[null,null,null,null,null,null,null,null,"Belastungsgleichung stat.",{"$f":"G19/G21+G25/G26+G32/G34+G38/G39+G42/G43","v":0}]
["l1 bei eingefahrenem Hub (Stirnp.-1.Rolle)","mm",{"$f":"C30+C31","v":20.65},null,"Fx ges","N",{"$f":"C17","v":0},null,"Belastungsgleichung dyn.",{"$f":"G17/G21+G30/G34+G40/G43","v":0}]
["l1 bei ausgefahrenem Hub (Stirnp.-1.Rolle)","mm",{"$f":"C30+C31+C32","v":25.65},null,"Absolutwert",null,{"$f":"ABS(G37)","v":0},null,"Belastungsgleichung",{"$f":"MAX(J36:J37)","v":0}]
[null,null,null,null,"Fx zul","N",{"$f":"G43","v":385}]
["Stoßdämpferhub s ( Hub bis a=0 )","m",{"$f":"'Allgemeine Werte'!M30","v":1E-4},null,"Gewichtskraft","N",{"$f":"C12*9.81","v":0}]
["Verzögerung a=vxv/2xs","m/s2",{"$f":"POWER(C48,2)/(2*C40)","v":578.94483024691363},null,"Fz ges abs","N",{"$f":"ABS(-C25+C12*9.81)","v":0},null,"Verfahrzeitberechnung",null,{"$f":"0.0000765306*POWER(C5,2)+0.0125*C5+3.34","v":3.4726530599999998}]
["Kraft zur Verzögerung der Masse","N",{"$f":"C12*C41","v":0},null,"Max aus E40,E41",null,{"$f":"MAX(G40,G41)","v":0},null,"Verfahrzeit berechnet ( t=Wurzel aus (2xsxm/F)",null,{"$f":"(SQRT(2*(C5/1000)*(C12+C8/2)/C9))*K41","v":1.8893275273063958E-2}]
["Kraft zur Verzög. d. Masse incl Modul/2","N",{"$f":"C47*C41","v":21.420958719135804},null,"Fz zul","N",{"$f":"385+35*C7","v":385},null,"Mittlere Verfahrgeschwindigkeit berechnet",null,{"$f":"(C5/1000)/K42","v":0.52928885306916307}]
[null,null,null,null,null,null,null,null,"Endgeschwindigkeit berechnet",null,{"$f":"K43*'Allgemeine Werte'!E71","v":0.92625549287103537}]
["Stoßdämpferberechnung",null,null,null,"Max. Zyklenzahl / Min."]
["Anzahl Stoßdämpfer",null,1,null,"Zyklen aus Verfahrzeit",null,{"$f":"60/(2*L50)","v":583.33333333333337},null,"Endgeschwindigkeit (Eingabe)",null,{"$f":"C10","v":2.02}]
["Gesamtmasse","kg",{"$f":"C12+C8/2","v":3.6999999999999998E-2},null,null,null,null,null,"Mittlere Verfahrgeschwindigkeit (Eingabe)   m/s",null,{"$f":"C10/'Allgemeine Werte'!E71","v":1.1542857142857144}]
["Aufprallgeschwindigkeit","m/s",{"$f":"L54","v":0.34027777777777779},null,"Ezul / Stunde","Nm",{"$f":"'Allgemeine Werte'!H30*C46*0.95","v":0},null,"Verfahrzeit (Eingabe)","s",{"$f":"(C5/1000)/K47","v":8.6633663366336624E-3},"Verfahrzeit für Berechnung"]
["W1","Nm",{"$f":"C47*POWER(C48,2)*0.5","v":2.1420958719135805E-3},null,"Ezul / Minute","Nm",{"$f":"G48/60","v":0},null,null,null,null,"( max )"]
["Hub Stoßdämpfer","m",{"$f":"'Allgemeine Werte'!L30","v":1E-4},null,"Zyklen aus Ezul",null,{"$f":"G49/C53","v":0},null,"min. Verfahrzeit vor","gemessen",{"$f":"0.02+(C5/14)*0.03","v":4.1428571428571426E-2},{"$f":"MAX(K48,K53,K42)","v":5.1428571428571428E-2}]
["Zylinderkraft","N",30,null,null,null,null,null,"Mittlere Verfahrgeschwindigkeit vor",null,{"$f":"(C5/1000)/K50","v":0.2413793103448276}]
["W2 ( Antriebsenergie )","Nm",{"$f":"C51*C50","v":3.0000000000000001E-3},null,"Max. Zyklen",null,{"$f":"MIN(G46,G55)","v":120},null,"Endgeschwindigkeit vor",null,{"$f":"K51*'Allgemeine Werte'!E71","v":0.42241379310344829},"Endgeschwindigkeit f. Ber."]
["W1+W2 ( Energie / Hub )","Nm",{"$f":"C52+C49","v":5.1420958719135806E-3},null,null,null,null,null,"min. Verfahrzeit zurück",null,{"$f":"0.03+(C5/14)*0.03","v":5.1428571428571428E-2},"( min )"]
["Ezul / Zyklus ( Hub )","Nm",{"$f":"'Allgemeine Werte'!G30*C50/'Allgemeine Werte'!K30*C46","v":0},null,"Stoßd.-kolbenrückstellzeit",null,{"$f":"'Allgemeine Werte'!E30","v":0.5},null,"Mittlere Verfahrgeschwindigkeit zurück",null,{"$f":"(C5/1000)/K53","v":0.19444444444444445},{"$f":"MIN(K46,K55,K44)","v":0.34027777777777779}]
["Auslastung / Zyklus",null,{"$f":"C53/C54","v":{"$error":"#DIV/0!"}},null,"Max. Zyklen aus Rückstellzeit",null,{"$f":"60/G54","v":120},null,"Endgeschwindigkeit zurück",null,{"$f":"K54*'Allgemeine Werte'!E71","v":0.34027777777777779}]

{"sheet":"EM-Ber-CLM08-2","index":73,"n_rows":55,"n_cols":12,"rows_kept":55,"cut":false,"hidden":false,"merged":[]}
["Linearmodul Typ",null,"CLM 08"]
[]
["Berechnung der Führungsbelastung"]
[null,null,null,null,null,null,"Statisch auf Grund","Statisch auf Grund"]
["Hub","mm",{"$f":"'EM-LM-2'!K8","v":10},null,null,null,"Zusatzmasse m","Zusatzmasse m","Dynamisch auf Grund","Statisch auf Grund","Statisch auf Grund"]
["Zylinderkraft","N",30,null,null,null,"Modul ausgef.","Modul eingef.","Zusatzmasse m","Zusatzkraft Modul eingef.","Zusatzkraft Modul ausgef."]
["Faktor",null,{"$f":"ROUNDDOWN((C5/14.1),0)","v":0},null,null,null,"I","II","III","IV","V"]
["Modulgewicht","kg",{"$f":"0.074+(C7*0.016)","v":7.3999999999999996E-2},null,"Moment Mx=M3","Nm",{"$f":"(C12*9.81)*((C38+C34/2+C33)/1000)","v":0},{"$f":"C12*9.81*((C37+C34/2+C33)/1000)","v":0},{"$f":"C42*(C15/1000)","v":0},{"$f":"(C21*C23/1000)-C25*((C27+C37+C34/2)/1000)","v":0},{"$f":"(C21*C23/1000)-C25*((C27+C38+C34/2)/1000)","v":0}]
["Zylinderkraft zurück","N",25,null,"Moment My=M1","Nm",{"$f":"C12*9.81*((C13)/1000)","v":0},{"$f":"C12*9.81*((C13)/1000)","v":0},"-",{"$f":"C17*(C19/1000)-C25*C26/1000","v":0},{"$f":"C17*(C19/1000)-C25*C26/1000","v":0}]
["Verfahrgeschwindigkeit","m/s",{"$f":"'EM-LM-2-1'!I58","v":2.02},null,"Moment Mz=M2","Nm","-","-",{"$f":"C42*(C13/1000)","v":0},{"$f":"C21*C22/1000-C17*(C18+C37+C34/2)/1000","v":0},{"$f":"C21*C22/1000-C17*(C18+C38+C34/2)/1000","v":0}]
[null,null,null,null,null,null,null,null,null,{"$f":"'EM-LM-2'!G51","v":true}]
["Zusatzmasse","kg",{"$f":"'EM-LM-2'!K14","v":0},null,"Mx Summe  I + III","Nm",{"$f":"G8+I8","v":0}]
["Schwerpunktabstand x-Richt.(Mitte Rolle)","mm",{"$f":"'EM-LM-2'!M14+6.7","v":6.7},null,"Absolutbetrag",null,{"$f":"ABS(G12)","v":0}]
["Schwerpunktabstand y-Richtung","mm",{"$f":"'EM-LM-2'!O14","v":0},null,"Mx Summe  II-III",null,{"$f":"H8-I8","v":0}]
["Schwerpunktabstand z-Richtung","mm",{"$f":"'EM-LM-2'!Q14","v":0},null,"Absolutbetrag",null,{"$f":"ABS(G14)","v":0}]
[null,null,null,null,"I ","Nm",{"$f":"ABS(G8)","v":0}]
["Zusatzkraft Fx","N",{"$f":"'EM-LM-2'!K18","v":0},null,"I oder I+III oder II-III",null,{"$f":"MAX(G16,G15,G13)","v":0}]
["Kraftangriffspunkt von Fx in y-Richtung","mm",{"$f":"'EM-LM-2'!O18","v":0},null,"Mx Summe  I+V oder II+IV","Nm",{"$f":"IF(AND(J8=0,K8=0),MAX(G8,H8),IF(J11=TRUE,H8+J8,G8+K8))","v":0}]
["Kraftangriffspunkt von Fx in z-Richtung","mm",{"$f":"'EM-LM-2'!Q18","v":0},null,"Absolutbetrag",null,{"$f":"ABS(G18)","v":0}]
[null,null,null,null,"Mx ges","Nm",{"$f":"MAX(G17,G19)","v":0}]
["Zusatzkraft Fy","N",{"$f":"'EM-LM-2'!K20","v":0},null,"Mx zul","Nm",{"$f":"G34/2","v":1.05},null,"Maximal-Werte der Momente und Kräfte nicht aus Katalog, sondern exakt berechnete Werte !!"]
["Kraftangrp. von Fy in x-Richt. (Mitte Rolle)","mm",{"$f":"'EM-LM-2'!M20+6.7","v":6.7}]
["Kraftangrp. von Fy in z-Richt.","mm",{"$f":"'EM-LM-2'!Q20","v":0},null,"My Summe  I+V ( = II+IV )","Nm",{"$f":"G9+K9","v":0}]
[null,null,null,null,"Absolutbetrag",null,{"$f":"ABS(G23)","v":0}]
["Zusatzkraft Fz","N",{"$f":"'EM-LM-2'!K22","v":0},null,"My ges","Nm",{"$f":"G24","v":0}]
["Kraftangrp. von Fz in x-Richt. (Mitte Rolle)","mm",{"$f":"'EM-LM-2'!M22+6.7","v":6.7},null,"My zul","Nm",{"$f":"1.59+(0.14*C7)","v":1.59}]
["Kraftangriffspunkt von Fz in y-Richtung","mm",{"$f":"'EM-LM-2'!O22","v":0}]
[]
[null,null,null,null,"Mz III","Nm",{"$f":"I10","v":0}]
["Länge L (Stirnplatte zu 1. Rolle - HubN/2)","mm",13.65,null,"Absolutbetrag",null,{"$f":"ABS(G29)","v":0}]
["Nennhub/2        HubN/2","mm",{"$f":"(14+(C7*14))/2","v":7},null,"Mz IV/V","Nm",{"$f":"IF(J11=TRUE,J10,K10)","v":0}]
["tatsächlicher gefahrener Hub/2","mm",{"$f":"C5/2","v":5},null,"Absolutbetrag",null,{"$f":"ABS(G31)","v":0}]
["Schwerpunktabstand in y-Richtung","mm",{"$f":"C14","v":0},null,"Mz ges","Nm",{"$f":"MAX(G30,G32)","v":0}]
["Wert K ( Abstand erste / letzte Rolle )","mm",{"$f":"30+(C7*3)","v":30},null,"Mz zul","Nm",{"$f":"C34/1000*70","v":2.1}]
[]
[null,null,null,null,null,null,null,null,"Belastungsgleichung stat.",{"$f":"G19/G21+G25/G26+G32/G34+G38/G39+G42/G43","v":0}]
["l1 bei eingefahrenem Hub","mm",{"$f":"C30+C31","v":20.65},null,"Fx ges","N",{"$f":"C17","v":0},null,"Belastungsgleichung dyn.",{"$f":"G17/G21+G30/G34+G40/G43","v":0}]
["l1 bei ausgefahrenem Hub","mm",{"$f":"C30+C31+C32","v":25.65},null,"Absolutwert",null,{"$f":"ABS(G37)","v":0},null,"Belastungsgleichung",{"$f":"MAX(J36:J37)","v":0}]
[null,null,null,null,"Fx zul","N",{"$f":"G43","v":385}]
["Stoßdämpferhub s ( Hub bis a=0 )","m",{"$f":"'Allgemeine Werte'!M30","v":1E-4},null,"Gewichtskraft","N",{"$f":"C12*9.81","v":0}]
["Verzögerung a=vxv/2xs","m/s2",{"$f":"POWER(C48,2)/(2*C40)","v":578.94483024691363},null,"Fz ges abs","N",{"$f":"ABS(-C25+C12*9.81)","v":0},null,"Verfahrzeitberechnung",null,{"$f":"0.0000765306*POWER(C5,2)+0.0125*C5+3.34","v":3.4726530599999998}]
["Kraft zur Verzögerung der Masse","N",{"$f":"C12*C41","v":0},null,"Max aus E40,E41",null,{"$f":"MAX(G40,G41)","v":0},null,"Verfahrzeit berechnet ( t=Wurzel aus (2xsxm/F)",null,{"$f":"(SQRT(2*(C5/1000)*(C12+C8/2)/C9))*K41","v":1.8893275273063958E-2}]
["Kraft zur Verzög. d. Masse incl Modul/2","N",{"$f":"C47*C41","v":21.420958719135804},null,"Fz zul","N",{"$f":"385+35*C7","v":385},null,"Mittlere Verfahrgeschwindigkeit berechnet",null,{"$f":"(C5/1000)/K42","v":0.52928885306916307}]
[null,null,null,null,null,null,null,null,"Endgeschwindigkeit berechnet",null,{"$f":"K43*'Allgemeine Werte'!E71","v":0.92625549287103537}]
["Stoßdämpferberechnung",null,null,null,"Max. Zyklenzahl / Min."]
["Anzahl Stoßdämpfer",null,1,null,"Zyklen aus Verfahrzeit",null,{"$f":"60/(2*L50)","v":583.33333333333337},null,"Endgeschwindigkeit (Eingabe)",null,{"$f":"C10","v":2.02}]
["Gesamtmasse","kg",{"$f":"C12+C8/2","v":3.6999999999999998E-2},null,null,null,null,null,"Mittlere Verfahrgeschwindigkeit (Eingabe)   m/s",null,{"$f":"C10/'Allgemeine Werte'!E71","v":1.1542857142857144}]
["Aufprallgeschwindigkeit","m/s",{"$f":"L54","v":0.34027777777777779},null,"Ezul / Stunde","Nm",{"$f":"'Allgemeine Werte'!H30*C46*0.95","v":0},null,"Verfahrzeit (Eingabe)","s",{"$f":"(C5/1000)/K47","v":8.6633663366336624E-3},"Verfahrzeit für Berechnung"]
["W1","Nm",{"$f":"C47*POWER(C48,2)*0.5","v":2.1420958719135805E-3},null,"Ezul / Minute","Nm",{"$f":"G48/60","v":0},null,null,null,null,"( max )"]
["Hub Stoßdämpfer","m",{"$f":"'Allgemeine Werte'!L30","v":1E-4},null,"Zyklen aus Ezul",null,{"$f":"G49/C53","v":0},null,"min. Verfahrzeit vor","gemessen",{"$f":"0.02+(C5/14)*0.03","v":4.1428571428571426E-2},{"$f":"MAX(K48,K53,K42)","v":5.1428571428571428E-2}]
["Zylinderkraft","N",30,null,null,null,null,null,"Mittlere Verfahrgeschwindigkeit vor",null,{"$f":"(C5/1000)/K50","v":0.2413793103448276}]
["W2 ( Antriebsenergie )","Nm",{"$f":"C51*C50","v":3.0000000000000001E-3},null,"Max. Zyklen",null,{"$f":"MIN(G46,G55)","v":120},null,"Endgeschwindigkeit vor",null,{"$f":"K51*'Allgemeine Werte'!E71","v":0.42241379310344829},"Endgeschwindigkeit f. Ber."]
["W1+W2 ( Energie / Hub )","Nm",{"$f":"C52+C49","v":5.1420958719135806E-3},null,null,null,null,null,"min. Verfahrzeit zurück",null,{"$f":"0.03+(C5/14)*0.03","v":5.1428571428571428E-2},"( min )"]
["Ezul / Zyklus ( Hub )","Nm",{"$f":"'Allgemeine Werte'!G30*C50/'Allgemeine Werte'!K30*C46","v":0},null,"Stoßd.-kolbenrückstellzeit",null,{"$f":"'Allgemeine Werte'!E30","v":0.5},null,"Mittlere Verfahrgeschwindigkeit zurück",null,{"$f":"(C5/1000)/K53","v":0.19444444444444445},{"$f":"MIN(K46,K55,K44)","v":0.34027777777777779}]
["Auslastung / Zyklus",null,{"$f":"C53/C54","v":{"$error":"#DIV/0!"}},null,"Max. Zyklen aus Rückstellzeit",null,{"$f":"60/G54","v":120},null,"Endgeschwindigkeit zurück",null,{"$f":"K54*'Allgemeine Werte'!E71","v":0.34027777777777779}]

{"sheet":"EM-Ber-CLM08-3","index":74,"n_rows":57,"n_cols":12,"rows_kept":57,"cut":false,"hidden":false,"merged":[]}
["Linearmodul Typ",null,"CLM 08"]
[]
["Berechnung der Führungsbelastung"]
[null,null,null,null,null,null,"Statisch auf Grund","Statisch auf Grund"]
["Hub","mm",{"$f":"'EM-LM-3'!K8","v":10},null,null,null,"Zusatzmasse m","Zusatzmasse m","Dynamisch auf Grund","Statisch auf Grund","Statisch auf Grund"]
["Zylinderkraft","N",30,null,null,null,"Modul ausgef.","Modul eingef.","Zusatzmasse m","Zusatzkraft Modul eingef.","Zusatzkraft Modul ausgef."]
["Faktor",null,{"$f":"ROUNDDOWN((C5/14.1),0)","v":0},null,null,null,"I","II","III","IV","V"]
["Modulgewicht","kg",{"$f":"0.074+(C7*0.016)","v":7.3999999999999996E-2},null,"Moment Mx=M3","Nm",{"$f":"C12*9.81*((C15)/1000)","v":0},{"$f":"C12*9.81*((C15)/1000)","v":0},{"$f":"C42*(C15/1000)","v":0},{"$f":"IF(K11=TRUE,-(C21*C23/1000)+C25*((C27+C37+C34/2)/1000),(C21*C23/1000)-C25*((C27+C37+C34/2)/1000))","v":0},{"$f":"IF(K11=TRUE,-(C21*C23/1000)+C25*((C27+C38+C34/2)/1000),(C21*C23/1000)-C25*((C27+C38+C34/2)/1000))","v":0}]
["Zylinderkraft zurück","N",25,null,"Moment My=M1","Nm","-","-","-",{"$f":"C17*(C19/1000)-C25*C26/1000","v":0},{"$f":"C17*(C19/1000)-C25*C26/1000","v":0}]
["Verfahrgeschwindigkeit","m/s",{"$f":"'EM-LM-3-1'!I58","v":2.02},null,"Moment Mz=M2","Nm",{"$f":"C12*9.81*((C13)/1000)","v":0},{"$f":"C12*9.81*((C13)/1000)","v":0},{"$f":"C42*(C13/1000)","v":0},{"$f":"IF(K11=TRUE,-C21*C22/1000+C17*(C18+C37+C34/2)/1000,C21*C22/1000-C17*(C18+C37+C34/2)/1000)","v":0},{"$f":"IF(K11=TRUE,-C21*C22/1000+C17*(C18+C38+C34/2)/1000,C21*C22/1000-C17*(C18+C38+C34/2)/1000)","v":0}]
[null,null,null,null,null,null,null,null,null,{"$f":"'EM-LM-3'!G51","v":true},{"$f":"'EM-LM-3'!G52","v":true}]
["Zusatzmasse","kg",{"$f":"'EM-LM-3'!K14","v":0}]
["Schwerpunktabstand x-Richt.(Mitte Rolle)","mm",{"$f":"'EM-LM-3'!M14+6.7","v":6.7}]
["Schwerpunktabstand y-Richtung","mm",{"$f":"'EM-LM-3'!O14","v":0}]
["Schwerpunktabstand z-Richtung","mm",{"$f":"'EM-LM-3'!Q14","v":0}]
[null,null,null,null,"Mx Summe  I(II) + III","Nm",{"$f":"G8+I8","v":0}]
["Zusatzkraft Fx","N",{"$f":"'EM-LM-3'!K18","v":0},null,"Absolutbetrag",null,{"$f":"ABS(G16)","v":0}]
["Kraftangriffspunkt von Fx in y-Richtung","mm",{"$f":"'EM-LM-3'!O18","v":0},null,"Mx Summe  I+V oder II+IV","Nm",{"$f":"IF(J11=TRUE,H8+J8,G8+K8)","v":0}]
["Kraftangriffspunkt von Fx in z-Richtung","mm",{"$f":"'EM-LM-3'!Q18","v":0},null,"Absolutbetrag",null,{"$f":"ABS(G18)","v":0}]
[null,null,null,null,"Mx ges","Nm",{"$f":"MAX(G17,G19)","v":0}]
["Zusatzkraft Fy","N",{"$f":"'EM-LM-3'!K20","v":0},null,"Mx zul","Nm",{"$f":"G34/2","v":1.05},null,"Maximal-Werte der Momente und Kräfte nicht aus Katalog, sondern exakt berechnete Werte !!"]
["Kraftangrp. von Fy in x-Richt. (Mitte Rolle)","mm",{"$f":"'EM-LM-3'!M20+6.7","v":6.7}]
["Kraftangrp. von Fy in z-Richt.","mm",{"$f":"'EM-LM-3'!Q20","v":0},null,"My IV = V","Nm",{"$f":"J9","v":0}]
[null,null,null,null,"Absolutbetrag",null,{"$f":"ABS(G23)","v":0}]
["Zusatzkraft Fz","N",{"$f":"'EM-LM-3'!K22","v":0},null,"My ges","Nm",{"$f":"G24","v":0}]
["Kraftangrp. von Fz in x-Richt. (Mitte Rolle)","mm",{"$f":"'EM-LM-3'!M22+6.7","v":6.7},null,"My zul","Nm",{"$f":"1.59+(0.14*C7)","v":1.59}]
["Kraftangriffspunkt von Fz in y-Richtung","mm",{"$f":"'EM-LM-3'!O22","v":0}]
[]
[null,null,null,null,"Mz Summe I(II)+III","Nm",{"$f":"G10+I10","v":0}]
["Länge L (Stirnplatte zu 1. Rolle - HubN/2)","mm",13.65,null,"Absolutbetrag",null,{"$f":"ABS(G29)","v":0}]
["Nennhub/2        HubN/2","mm",{"$f":"(14+(C7*14))/2","v":7},null,"Mz Summe  I+V oder II+IV","Nm",{"$f":"IF(J11=TRUE,H10+J10,G10+K10)","v":0}]
["tatsächlicher gefahrener Hub/2","mm",{"$f":"C5/2","v":5},null,"Absolutbetrag",null,{"$f":"ABS(G31)","v":0}]
["Schwerpunktabstand in y-Richtung","mm",{"$f":"C14","v":0},null,"Mz ges","Nm",{"$f":"MAX(G30,G32)","v":0}]
["Wert K ( Abstand erste / letzte Rolle )","mm",{"$f":"30+(C7*3)","v":30},null,"Mz zul","Nm",{"$f":"C34/1000*70","v":2.1}]
[]
[null,null,null,null,null,null,null,null,"Belastungsgleichung stat.",{"$f":"G19/G21+G25/G26+G32/G34+G38/G39+G42/G43","v":0}]
["l1 bei eingefahrenem Hub","mm",{"$f":"C30+C31","v":20.65},null,"Fx ges","N",{"$f":"C17","v":0},null,"Belastungsgleichung dyn.",{"$f":"G17/G21+G30/G34","v":0}]
["l1 bei ausgefahrenem Hub","mm",{"$f":"C30+C31+C32","v":25.65},null,"Absolutwert",null,{"$f":"ABS(G37)","v":0},null,"Belastungsgleichung",{"$f":"MAX(J36:J37)","v":0}]
[null,null,null,null,"Fx zul","N",{"$f":"G43","v":385}]
["Stoßdämpferhub s ( Hub bis a=0 )","m",{"$f":"'Allgemeine Werte'!M30","v":1E-4}]
["Verzögerung a=vxv/2xs","m/s2",{"$f":"POWER(C48,2)/(2*C40)","v":578.94483024691363},null,"Fz ges","N",{"$f":"-C25","v":0},null,"Verfahrzeitberechnung",null,{"$f":"0.000178571*POWER(C5,2)+0.003928571*C5+3.66","v":3.7171428100000004}]
["Kraft zur Verzögerung der Masse","N",{"$f":"C12*C41","v":0},null,"Absolutwert",null,{"$f":"ABS(G41)","v":0},null,"Verfahrzeit berechnet ( t=Wurzel aus (2xsxm/F)",null,{"$f":"(SQRT(2*(C5/1000)*(C12+C8/2)/(C6-(C12+C8/2)*9.81)))*K41","v":1.8574099456657129E-2}]
["Kraft zur Verzög. d. Masse incl Modul/2","N",{"$f":"C47*C41","v":21.420958719135804},null,"Fz zul","N",{"$f":"385+35*C7","v":385},null,"Mittlere Verfahrgeschwindigkeit berechnet",null,{"$f":"(C5/1000)/K42","v":0.53838410972952488}]
[null,null,null,null,null,null,null,null,"Endgeschwindigkeit berechnet",null,{"$f":"K43*'Allgemeine Werte'!E71","v":0.94217219202666858}]
["Stoßdämpferberechnung",null,null,null,"Max. Zyklenzahl / Min."]
["Anzahl Stoßdämpfer",null,1,null,"Zyklen aus Verfahrzeit",null,{"$f":"60/(2*L50)","v":583.33333333333337},null,"Endgeschwindigkeit (Eingabe)",null,{"$f":"C10","v":2.02}]
["Gesamtmasse","kg",{"$f":"C12+C8/2","v":3.6999999999999998E-2},null,null,null,null,null,"Mittlere Verfahrgeschwindigkeit (Eingabe)   m/s",null,{"$f":"C10/'Allgemeine Werte'!E71","v":1.1542857142857144}]
["Aufprallgeschwindigkeit","m/s",{"$f":"L54","v":0.34027777777777779},null,"Ezul / Stunde","Nm",{"$f":"'Allgemeine Werte'!H30*C46*0.95","v":0},null,"Verfahrzeit (Eingabe)","s",{"$f":"(C5/1000)/K47","v":8.6633663366336624E-3},"Verfahrzeit für Berechnung"]
["W1","Nm",{"$f":"C47*POWER(C48,2)*0.5","v":2.1420958719135805E-3},null,"Ezul / Minute","Nm",{"$f":"G48/60","v":0},null,null,null,null,"( max )"]
["Hub Stoßdämpfer","m",{"$f":"'Allgemeine Werte'!L30","v":1E-4},null,"Zyklen aus Ezul",null,{"$f":"G49/C53","v":0},null,"min. Verfahrzeit ab","gemessen",{"$f":"0.02+(C5/14)*0.03","v":4.1428571428571426E-2},{"$f":"MAX(K48,K53,K42)","v":5.1428571428571428E-2}]
["Zylinderkraft","N",30,null,null,null,null,null,"Mittlere Verfahrgeschwindigkeit ab",null,{"$f":"(C5/1000)/K50","v":0.2413793103448276}]
["W2 ( Antriebsenergie )","Nm",{"$f":"MAX(C56,C57)*C50","v":2.9637030000000003E-3},null,"Max. Zyklen",null,{"$f":"MIN(G46,G55)","v":120},null,"Endgeschwindigkeit ab",null,{"$f":"K51*'Allgemeine Werte'!E71","v":0.42241379310344829},"Endgeschwindigkeit f. Ber."]
["W1+W2 ( Energie / Hub )","Nm",{"$f":"C52+C49","v":5.1057988719135812E-3},null,null,null,null,null,"min. Verfahrzeit auf",null,{"$f":"0.03+(C5/14)*0.03","v":5.1428571428571428E-2},"( min )"]
["Ezul / Zyklus ( Hub )","Nm",{"$f":"'Allgemeine Werte'!G30*C50/'Allgemeine Werte'!K30*C46","v":0},null,"Stoßd.-kolbenrückstellzeit",null,{"$f":"'Allgemeine Werte'!E30","v":0.5},null,"Mittlere Verfahrgeschwindigkeit auf",null,{"$f":"(C5/1000)/K53","v":0.19444444444444445},{"$f":"MIN(K46,K55,K44)","v":0.34027777777777779}]
["Auslastung / Zyklus",null,{"$f":"C53/C54","v":{"$error":"#DIV/0!"}},null,"Max. Zyklen aus Rückstellzeit",null,{"$f":"60/G54","v":120},null,"Endgeschwindigkeit auf",null,{"$f":"K54*'Allgemeine Werte'!E71","v":0.34027777777777779}]
["Antriebskraft nach oben",null,{"$f":"C6-C47*9.81","v":29.637029999999999}]
["Antriebskraft nach unten",null,{"$f":"C9+C47*9.81","v":25.362970000000001}]

{"sheet":"EM-Ber-CLM08-4","index":75,"n_rows":55,"n_cols":12,"rows_kept":55,"cut":false,"hidden":false,"merged":[]}
["Linearmodul Typ",null,"CLM 08"]
[]
["Berechnung der Führungsbelastung"]
[null,null,null,null,null,null,"Statisch auf Grund","Statisch auf Grund"]
["Hub","mm",{"$f":"'EM-LM-4'!K8","v":10},null,null,null,"Zusatzmasse m","Zusatzmasse m","Dynamisch auf Grund","Statisch auf Grund","Statisch auf Grund"]
["Zylinderkraft","N",30,null,null,null,"Modul ausgef.","Modul eingef.","Zusatzmasse m","Zusatzkraft Modul eingef.","Zusatzkraft Modul ausgef."]
["Faktor",null,{"$f":"ROUNDDOWN((C5/14.1),0)","v":0},null,null,null,"I","II","III","IV","V"]
["Modulgewicht","kg",{"$f":"0.074+(C7*0.016)","v":7.3999999999999996E-2},null,"Moment Mx=M2","Nm",{"$f":"(C12*9.81)*((C37-C32+C34/2+C33)/1000)","v":0},{"$f":"C12*9.81*((C37+C34/2+C33)/1000)","v":0},{"$f":"C42*(C15/1000)","v":0},{"$f":"(C21*C23/1000)-C25*((C27+C37+C34/2)/1000)","v":0},{"$f":"(C21*C23/1000)-C25*((C27+C37-C32+C34/2)/1000)","v":0}]
["Zylinderkraft zurück","N",25,null,"Moment My=M1","Nm",{"$f":"C12*9.81*(C13/1000)","v":0},{"$f":"C12*9.81*(C13/1000)","v":0},"-",{"$f":"C17*C19/1000-C25*(C26/1000)","v":0},{"$f":"C17*C19/1000-C25*(C26/1000)","v":0}]
["Verfahrgeschwindigkeit","m/s",{"$f":"'EM-LM-4-1'!I58","v":2.02},null,"Moment Mz=M3","Nm","-","-",{"$f":"C42*(C13/1000)","v":0},{"$f":"C21*C22/1000-C17*(C18+C37+C34/2)/1000","v":0},{"$f":"C21*C22/1000-C17*(C18+C37-C32+C34/2)/1000","v":0}]
[null,null,null,null,null,null,null,null,null,{"$f":"'EM-LM-4'!G51","v":false}]
["Zusatzmasse","kg",{"$f":"'EM-LM-4'!K14","v":0},null,"Mx Summe  I + III","Nm",{"$f":"G8+I8","v":0}]
["Schwerpunktabstand x-Richtung","mm",{"$f":"'EM-LM-4'!M14","v":0},null,"Absolutbetrag",null,{"$f":"ABS(G12)","v":0}]
["Schwerpunktabstand y-Richtung","mm",{"$f":"'EM-LM-4'!O14","v":0},null,"Mx Summe  II-III",null,{"$f":"H8-I8","v":0}]
["Schwerpunktabstand z-Richt.(Mitte Rolle)","mm",{"$f":"'EM-LM-4'!Q14+12.3","v":12.3},null,"Absolutbetrag",null,{"$f":"ABS(G14)","v":0}]
[null,null,null,null,"I ","Nm",{"$f":"ABS(G8)","v":0}]
["Zusatzkraft Fx","N",{"$f":"'EM-LM-4'!K18","v":0},null,"I oder I+III oder II-III",null,{"$f":"MAX(G16,G15,G13)","v":0}]
["Kraftangriffspunkt von Fx in y-Richtung","mm",{"$f":"'EM-LM-4'!O18","v":0},null,"Mx Summe  I+V oder II+IV","Nm",{"$f":"IF(AND(J8=0,K8=0),MAX(G8,H8),IF(J11=TRUE,H8+J8,G8+K8))","v":0}]
["Kraftangrp. von Fx in z-Richt.(Mitte Rolle)","mm",{"$f":"'EM-LM-4'!Q18+12.3","v":12.3},null,"Absolutbetrag",null,{"$f":"ABS(G18)","v":0}]
[null,null,null,null,"Mx ges","Nm",{"$f":"MAX(G17,G19)","v":0}]
["Zusatzkraft Fy","N",{"$f":"'EM-LM-4'!K20","v":0},null,"Mx zul","Nm",{"$f":"C34/1000*70","v":2.1},null,"Maximal-Werte der Momente und Kräfte nicht aus Katalog, sondern exakt berechnete Werte !!"]
["Kraftangriffspunkt von Fy in x-Richtung","mm",{"$f":"'EM-LM-4'!M20","v":0}]
["Kraftangrp. von Fy in z-Richt.(Mitte Rolle)","mm",{"$f":"'EM-LM-4'!Q20+12.3","v":12.3},null,"My Summe  I+V ( = II+IV )","Nm",{"$f":"G9+K9","v":0}]
[null,null,null,null,"Absolutbetrag",null,{"$f":"ABS(G23)","v":0}]
["Zusatzkraft Fz","N",{"$f":"'EM-LM-4'!K22","v":0},null,"My ges","Nm",{"$f":"G24","v":0}]
["Kraftangriffspunkt von Fz in x-Richtung","mm",{"$f":"'EM-LM-4'!M22","v":0},null,"My zul","Nm",{"$f":"1.59+(0.14*C7)","v":1.59}]
["Kraftangriffspunkt von Fz in y-Richtung","mm",{"$f":"'EM-LM-4'!O22","v":0}]
[]
[null,null,null,null,"Mz III","Nm",{"$f":"I10","v":0}]
["Länge L (Stirnplatte zu 1. Rolle - HubN/2)","mm",13.65,null,"Absolutbetrag",null,{"$f":"ABS(G29)","v":0}]
["Nennhub/2        HubN/2","mm",{"$f":"(14+(C7*14))/2","v":7},null,"Mz IV/V","Nm",{"$f":"IF(J11=TRUE,J10,K10)","v":0}]
["tatsächlicher gefahrener Hub/2","mm",{"$f":"C5/2","v":5},null,"Absolutbetrag",null,{"$f":"ABS(G31)","v":0}]
["Schwerpunktabstand in y-Richtung","mm",{"$f":"C14","v":0},null,"Mz ges","Nm",{"$f":"MAX(G30,G32)","v":0}]
["Wert K ( Abstand erste / letzte Rolle )","mm",{"$f":"30+(C7*3)","v":30},null,"Mz zul","Nm",{"$f":"G21/2","v":1.05}]
["Anfangswert (Abst. Stirnpl./Deckplatte)","mm",10.5]
[null,null,null,null,null,null,null,null,"Belastungsgleichung stat.",{"$f":"G19/G21+G25/G26+G32/G34+G38/G39+G42/G43","v":0}]
["l1 bei eingefahrenem Hub","mm",{"$f":"C30+C31-C35","v":10.149999999999999},null,"Fx ges","N",{"$f":"C17","v":0},null,"Belastungsgleichung dyn.",{"$f":"G17/G21+G30/G34+G40/G43","v":0}]
["l1 bei ausgefahrenem Hub","mm",{"$f":"C30+C31+C32-C35","v":15.149999999999999},null,"Absolutwert",null,{"$f":"ABS(G37)","v":0},null,"Belastungsgleichung",{"$f":"MAX(J36:J37)","v":0}]
[null,null,null,null,"Fx zul","N",{"$f":"G43","v":385}]
["Stoßdämpferhub s ( Hub bis a=0 )","m",{"$f":"'Allgemeine Werte'!M30","v":1E-4},null,"Gewichtskraft","N",{"$f":"C12*9.81","v":0}]
["Verzögerung a=vxv/2xs","m/s2",{"$f":"POWER(C48,2)/(2*C40)","v":578.94483024691363},null,"Fz ges abs","N",{"$f":"ABS(-C25+C12*9.81)","v":0},null,"Verfahrzeitberechnung",null,{"$f":"0.0000765306*POWER(C5,2)+0.0125*C5+3.34","v":3.4726530599999998}]
["Kraft zur Verzögerung der Masse","N",{"$f":"C12*C41","v":0},null,"Max aus E40,E41",null,{"$f":"MAX(G40,G41)","v":0},null,"Verfahrzeit berechnet ( t=Wurzel aus (2xsxm/F)",null,{"$f":"(SQRT(2*(C5/1000)*(C12+C8/2)/C9))*K41","v":1.8893275273063958E-2}]
["Kraft zur Verzög. d. Masse incl Modul/2","N",{"$f":"C47*C41","v":21.420958719135804},null,"Fz zul","N",{"$f":"385+35*C7","v":385},null,"Mittlere Verfahrgeschwindigkeit berechnet",null,{"$f":"(C5/1000)/K42","v":0.52928885306916307}]
[null,null,null,null,null,null,null,null,"Endgeschwindigkeit berechnet",null,{"$f":"K43*'Allgemeine Werte'!E71","v":0.92625549287103537}]
["Stoßdämpferberechnung",null,null,null,"Max. Zyklenzahl / Min."]
["Anzahl Stoßdämpfer",null,1,null,"Zyklen aus Verfahrzeit",null,{"$f":"60/(2*L50)","v":583.33333333333337},null,"Endgeschwindigkeit (Eingabe)",null,{"$f":"C10","v":2.02}]
["Gesamtmasse","kg",{"$f":"C12+C8/2","v":3.6999999999999998E-2},null,null,null,null,null,"Mittlere Verfahrgeschwindigkeit (Eingabe)   m/s",null,{"$f":"C10/'Allgemeine Werte'!E71","v":1.1542857142857144}]
["Aufprallgeschwindigkeit","m/s",{"$f":"L54","v":0.34027777777777779},null,"Ezul / Stunde","Nm",{"$f":"'Allgemeine Werte'!H30*C46*0.95","v":0},null,"Verfahrzeit (Eingabe)","s",{"$f":"(C5/1000)/K47","v":8.6633663366336624E-3},"Verfahrzeit für Berechnung"]
["W1","Nm",{"$f":"C47*POWER(C48,2)*0.5","v":2.1420958719135805E-3},null,"Ezul / Minute","Nm",{"$f":"G48/60","v":0},null,null,null,null,"( max )"]
["Hub Stoßdämpfer","m",{"$f":"'Allgemeine Werte'!L30","v":1E-4},null,"Zyklen aus Ezul",null,{"$f":"G49/C53","v":0},null,"min. Verfahrzeit vor","gemessen",{"$f":"0.02+(C5/14)*0.03","v":4.1428571428571426E-2},{"$f":"MAX(K48,K53,K42)","v":5.1428571428571428E-2}]
["Zylinderkraft","N",30,null,null,null,null,null,"Mittlere Verfahrgeschwindigkeit vor",null,{"$f":"(C5/1000)/K50","v":0.2413793103448276}]
["W2 ( Antriebsenergie )","Nm",{"$f":"C51*C50","v":3.0000000000000001E-3},null,"Max. Zyklen",null,{"$f":"MIN(G46,G55)","v":120},null,"Endgeschwindigkeit vor",null,{"$f":"K51*'Allgemeine Werte'!E71","v":0.42241379310344829},"Endgeschwindigkeit f. Ber."]
["W1+W2 ( Energie / Hub )","Nm",{"$f":"C52+C49","v":5.1420958719135806E-3},null,null,null,null,null,"min. Verfahrzeit zurück",null,{"$f":"0.03+(C5/14)*0.03","v":5.1428571428571428E-2},"( min )"]
["Ezul / Zyklus ( Hub )","Nm",{"$f":"'Allgemeine Werte'!G30*C50/'Allgemeine Werte'!K30*C46","v":0},null,"Stoßd.-kolbenrückstellzeit",null,{"$f":"'Allgemeine Werte'!E30","v":0.5},null,"Mittlere Verfahrgeschwindigkeit zurück",null,{"$f":"(C5/1000)/K53","v":0.19444444444444445},{"$f":"MIN(K46,K55,K44)","v":0.34027777777777779}]
["Auslastung / Zyklus",null,{"$f":"C53/C54","v":{"$error":"#DIV/0!"}},null,"Max. Zyklen aus Rückstellzeit",null,{"$f":"60/G54","v":120},null,"Endgeschwindigkeit zurück",null,{"$f":"K54*'Allgemeine Werte'!E71","v":0.34027777777777779}]

{"sheet":"EM-Ber-CLM08-5","index":76,"n_rows":55,"n_cols":12,"rows_kept":55,"cut":false,"hidden":false,"merged":[]}
["Linearmodul Typ",null,"CLM 08"]
[]
["Berechnung der Führungsbelastung"]
[null,null,null,null,null,null,"Statisch auf Grund","Statisch auf Grund"]
["Hub","mm",{"$f":"'EM-LM-5'!K8","v":10},null,null,null,"Zusatzmasse m","Zusatzmasse m","Dynamisch auf Grund","Statisch auf Grund","Statisch auf Grund"]
["Zylinderkraft","N",30,null,null,null,"Modul ausgef.","Modul eingef.","Zusatzmasse m","Zusatzkraft Modul eingef.","Zusatzkraft Modul ausgef."]
["Faktor",null,{"$f":"ROUNDDOWN((C5/14.1),0)","v":0},null,null,null,"I","II","III","IV","V"]
["Modulgewicht","kg",{"$f":"0.074+(C7*0.016)","v":7.3999999999999996E-2},null,"Moment Mx=M3","Nm",{"$f":"(C12*9.81)*((C37-C32+C34/2+C33)/1000)","v":0},{"$f":"C12*9.81*((C37+C34/2+C33)/1000)","v":0},{"$f":"C42*(C15/1000)","v":0},{"$f":"(C21*C23/1000)-C25*((C27+C37+C34/2)/1000)","v":0},{"$f":"(C21*C23/1000)-C25*((C27+C37-C32+C34/2)/1000)","v":0}]
["Zylinderkraft zurück","N",25,null,"Moment My=M1","Nm",{"$f":"C12*9.81*((C13)/1000)","v":0},{"$f":"C12*9.81*((C13)/1000)","v":0},"-",{"$f":"C17*(C19/1000)-C25*C26/1000","v":0},{"$f":"C17*(C19/1000)-C25*C26/1000","v":0}]
["Verfahrgeschwindigkeit","m/s",{"$f":"'EM-LM-5-1'!I58","v":2.02},null,"Moment Mz=M2","Nm","-","-",{"$f":"C42*(C13/1000)","v":0},{"$f":"C21*C22/1000-C17*(C18+C37+C34/2)/1000","v":0},{"$f":"C21*C22/1000-C17*(C18+C37-C32+C34/2)/1000","v":0}]
[null,null,null,null,null,null,null,null,null,{"$f":"'EM-LM-5'!G51","v":false}]
["Zusatzmasse","kg",{"$f":"'EM-LM-5'!K14","v":0},null,"Mx Summe  I + III","Nm",{"$f":"G8+I8","v":0}]
["Schwerpunktabstand x-Richt.(Mitte Rolle)","mm",{"$f":"'EM-LM-5'!M14+12.3","v":12.3},null,"Absolutbetrag",null,{"$f":"ABS(G12)","v":0}]
["Schwerpunktabstand y-Richtung","mm",{"$f":"'EM-LM-5'!O14","v":0},null,"Mx Summe  II-III",null,{"$f":"H8-I8","v":0}]
["Schwerpunktabstand z-Richtung","mm",{"$f":"'EM-LM-5'!Q14","v":0},null,"Absolutbetrag",null,{"$f":"ABS(G14)","v":0}]
[null,null,null,null,"I ","Nm",{"$f":"ABS(G8)","v":0}]
["Zusatzkraft Fx","N",{"$f":"'EM-LM-5'!K18","v":0},null,"I oder I+III oder II-III",null,{"$f":"MAX(G16,G15,G13)","v":0}]
["Kraftangriffspunkt von Fx in y-Richtung","mm",{"$f":"'EM-LM-5'!O18","v":0},null,"Mx Summe  I+V oder II+IV","Nm",{"$f":"IF(AND(J8=0,K8=0),MAX(G8,H8),IF(J11=TRUE,H8+J8,G8+K8))","v":0}]
["Kraftangriffspunkt von Fx in z-Richtung","mm",{"$f":"'EM-LM-5'!Q18","v":0},null,"Absolutbetrag",null,{"$f":"ABS(G18)","v":0}]
[null,null,null,null,"Mx ges","Nm",{"$f":"MAX(G17,G19)","v":0}]
["Zusatzkraft Fy","N",{"$f":"'EM-LM-5'!K20","v":0},null,"Mx zul","Nm",{"$f":"G34/2","v":1.05},null,"Maximal-Werte der Momente und Kräfte nicht aus Katalog, sondern exakt berechnete Werte !!"]
["Kraftangrp. von Fy in x-Richt. (Mitte Rolle)","mm",{"$f":"'EM-LM-5'!M20+12.3","v":12.3}]
["Kraftangrp. von Fy in z-Richt.","mm",{"$f":"'EM-LM-5'!Q20","v":0},null,"My Summe  I+V ( = II+IV )","Nm",{"$f":"G9+K9","v":0}]
[null,null,null,null,"Absolutbetrag",null,{"$f":"ABS(G23)","v":0}]
["Zusatzkraft Fz","N",{"$f":"'EM-LM-5'!K22","v":0},null,"My ges","Nm",{"$f":"G24","v":0}]
["Kraftangrp. von Fz in x-Richt. (Mitte Rolle)","mm",{"$f":"'EM-LM-5'!M22+12.3","v":12.3},null,"My zul","Nm",{"$f":"1.59+(0.14*C7)","v":1.59}]
["Kraftangriffspunkt von Fz in y-Richtung","mm",{"$f":"'EM-LM-5'!O22","v":0}]
[]
[null,null,null,null,"Mz III","Nm",{"$f":"I10","v":0}]
["Länge L (Stirnplatte zu 1. Rolle - HubN/2)","mm",13.65,null,"Absolutbetrag",null,{"$f":"ABS(G29)","v":0}]
["Nennhub/2        HubN/2","mm",{"$f":"(14+(C7*14))/2","v":7},null,"Mz IV/V","Nm",{"$f":"IF(J11=TRUE,J10,K10)","v":0}]
["tatsächlicher gefahrener Hub/2","mm",{"$f":"C5/2","v":5},null,"Absolutbetrag",null,{"$f":"ABS(G31)","v":0}]
["Schwerpunktabstand in y-Richtung","mm",{"$f":"C14","v":0},null,"Mz ges","Nm",{"$f":"MAX(G30,G32)","v":0}]
["Wert K ( Abstand erste / letzte Rolle )","mm",{"$f":"30+(C7*3)","v":30},null,"Mz zul","Nm",{"$f":"C34/1000*70","v":2.1}]
["Anfangswert (Abst. Stirnpl./Deckplatte)","mm",10.5]
[null,null,null,null,null,null,null,null,"Belastungsgleichung stat.",{"$f":"G19/G21+G25/G26+G32/G34+G38/G39+G42/G43","v":0}]
["l1 bei eingefahrenem Hub","mm",{"$f":"C30+C31-C35","v":10.149999999999999},null,"Fx ges","N",{"$f":"C17","v":0},null,"Belastungsgleichung dyn.",{"$f":"G17/G21+G30/G34+G40/G43","v":0}]
["l1 bei ausgefahrenem Hub","mm",{"$f":"C30+C31+C32-C35","v":15.149999999999999},null,"Absolutwert",null,{"$f":"ABS(G37)","v":0},null,"Belastungsgleichung",{"$f":"MAX(J36:J37)","v":0}]
[null,null,null,null,"Fx zul","N",{"$f":"G43","v":385}]
["Stoßdämpferhub s ( Hub bis a=0 )","m",{"$f":"'Allgemeine Werte'!M30","v":1E-4},null,"Gewichtskraft","N",{"$f":"C12*9.81","v":0}]
["Verzögerung a=vxv/2xs","m/s2",{"$f":"POWER(C48,2)/(2*C40)","v":578.94483024691363},null,"Fz ges abs","N",{"$f":"ABS(-C25+C12*9.81)","v":0},null,"Verfahrzeitberechnung",null,{"$f":"0.0000765306*POWER(C5,2)+0.0125*C5+3.34","v":3.4726530599999998}]
["Kraft zur Verzögerung der Masse","N",{"$f":"C12*C41","v":0},null,"Max aus E40,E41",null,{"$f":"MAX(G40,G41)","v":0},null,"Verfahrzeit berechnet ( t=Wurzel aus (2xsxm/F)",null,{"$f":"(SQRT(2*(C5/1000)*(C12+C8/2)/C9))*K41","v":1.8893275273063958E-2}]
["Kraft zur Verzög. d. Masse incl Modul/2","N",{"$f":"C47*C41","v":21.420958719135804},null,"Fz zul","N",{"$f":"385+35*C7","v":385},null,"Mittlere Verfahrgeschwindigkeit berechnet",null,{"$f":"(C5/1000)/K42","v":0.52928885306916307}]
[null,null,null,null,null,null,null,null,"Endgeschwindigkeit berechnet",null,{"$f":"K43*'Allgemeine Werte'!E71","v":0.92625549287103537}]
["Stoßdämpferberechnung",null,null,null,"Max. Zyklenzahl / Min."]
["Anzahl Stoßdämpfer",null,1,null,"Zyklen aus Verfahrzeit",null,{"$f":"60/(2*L50)","v":583.33333333333337},null,"Endgeschwindigkeit (Eingabe)",null,{"$f":"C10","v":2.02}]
["Gesamtmasse","kg",{"$f":"C12+C8/2","v":3.6999999999999998E-2},null,null,null,null,null,"Mittlere Verfahrgeschwindigkeit (Eingabe)   m/s",null,{"$f":"C10/'Allgemeine Werte'!E71","v":1.1542857142857144}]
["Aufprallgeschwindigkeit","m/s",{"$f":"L54","v":0.34027777777777779},null,"Ezul / Stunde","Nm",{"$f":"'Allgemeine Werte'!H30*C46*0.95","v":0},null,"Verfahrzeit (Eingabe)","s",{"$f":"(C5/1000)/K47","v":8.6633663366336624E-3},"Verfahrzeit für Berechnung"]
["W1","Nm",{"$f":"C47*POWER(C48,2)*0.5","v":2.1420958719135805E-3},null,"Ezul / Minute","Nm",{"$f":"G48/60","v":0},null,null,null,null,"( max )"]
["Hub Stoßdämpfer","m",{"$f":"'Allgemeine Werte'!L30","v":1E-4},null,"Zyklen aus Ezul",null,{"$f":"G49/C53","v":0},null,"min. Verfahrzeit vor","gemessen",{"$f":"0.02+(C5/14)*0.03","v":4.1428571428571426E-2},{"$f":"MAX(K48,K53,K42)","v":5.1428571428571428E-2}]
["Zylinderkraft","N",30,null,null,null,null,null,"Mittlere Verfahrgeschwindigkeit vor",null,{"$f":"(C5/1000)/K50","v":0.2413793103448276}]
["W2 ( Antriebsenergie )","Nm",{"$f":"C51*C50","v":3.0000000000000001E-3},null,"Max. Zyklen",null,{"$f":"MIN(G46,G55)","v":120},null,"Endgeschwindigkeit vor",null,{"$f":"K51*'Allgemeine Werte'!E71","v":0.42241379310344829},"Endgeschwindigkeit f. Ber."]
["W1+W2 ( Energie / Hub )","Nm",{"$f":"C52+C49","v":5.1420958719135806E-3},null,null,null,null,null,"min. Verfahrzeit zurück",null,{"$f":"0.03+(C5/14)*0.03","v":5.1428571428571428E-2},"( min )"]
["Ezul / Zyklus ( Hub )","Nm",{"$f":"'Allgemeine Werte'!G30*C50/'Allgemeine Werte'!K30*C46","v":0},null,"Stoßd.-kolbenrückstellzeit",null,{"$f":"'Allgemeine Werte'!E30","v":0.5},null,"Mittlere Verfahrgeschwindigkeit zurück",null,{"$f":"(C5/1000)/K53","v":0.19444444444444445},{"$f":"MIN(K46,K55,K44)","v":0.34027777777777779}]
["Auslastung / Zyklus",null,{"$f":"C53/C54","v":{"$error":"#DIV/0!"}},null,"Max. Zyklen aus Rückstellzeit",null,{"$f":"60/G54","v":120},null,"Endgeschwindigkeit zurück",null,{"$f":"K54*'Allgemeine Werte'!E71","v":0.34027777777777779}]

{"sheet":"EM-Ber-CLM08-6","index":77,"n_rows":57,"n_cols":12,"rows_kept":57,"cut":false,"hidden":false,"merged":[]}
["Linearmodul Typ",null,"CLM 08"]
[]
["Berechnung der Führungsbelastung"]
[null,null,null,null,null,null,"Statisch auf Grund","Statisch auf Grund"]
["Hub","mm",{"$f":"'EM-LM-6'!K8","v":10},null,null,null,"Zusatzmasse m","Zusatzmasse m","Dynamisch auf Grund","Statisch auf Grund","Statisch auf Grund"]
["Zylinderkraft","N",30,null,null,null,"Modul ausgef.","Modul eingef.","Zusatzmasse m","Zusatzkraft Modul eingef.","Zusatzkraft Modul ausgef."]
["Faktor",null,{"$f":"ROUNDDOWN((C5/14.1),0)","v":0},null,null,null,"I","II","III","IV","V"]
["Modulgewicht","kg",{"$f":"0.074+(C7*0.016)","v":7.3999999999999996E-2},null,"Moment Mx=M3","Nm",{"$f":"C12*9.81*((C15)/1000)","v":0},{"$f":"C12*9.81*((C15)/1000)","v":0},{"$f":"C42*(C15/1000)","v":0},{"$f":"IF(K11=TRUE,-(C21*C23/1000)+C25*((C27+C37+C34/2)/1000),(C21*C23/1000)-C25*((C27+C37+C34/2)/1000))","v":0},{"$f":"IF(K11=TRUE,-(C21*C23/1000)+C25*((C27+C37-C32+C34/2)/1000),(C21*C23/1000)-C25*((C27+C37-C32+C34/2)/1000))","v":0}]
["Zylinderkraft zurück","N",25,null,"Moment My=M1","Nm","-","-","-",{"$f":"C17*(C19/1000)-C25*C26/1000","v":0},{"$f":"C17*(C19/1000)-C25*C26/1000","v":0}]
["Verfahrgeschwindigkeit","m/s",{"$f":"'EM-LM-6-1'!I58","v":2.02},null,"Moment Mz=M2","Nm",{"$f":"C12*9.81*((C13)/1000)","v":0},{"$f":"C12*9.81*((C13)/1000)","v":0},{"$f":"C42*(C13/1000)","v":0},{"$f":"IF(K11=TRUE,-C21*C22/1000+C17*(C18+C37+C34/2)/1000,C21*C22/1000-C17*(C18+C37+C34/2)/1000)","v":0},{"$f":"IF(K11=TRUE,-C21*C22/1000+C17*(C18+C37-C32+C34/2)/1000,C21*C22/1000-C17*(C18+C37-C32+C34/2)/1000)","v":0}]
[null,null,null,null,null,null,null,null,null,{"$f":"'EM-LM-6'!G51","v":false},{"$f":"'EM-LM-6'!G52","v":true}]
["Zusatzmasse","kg",{"$f":"'EM-LM-6'!K14","v":0}]
["Schwerpunktabstand x-Richt.(Mitte Rolle)","mm",{"$f":"'EM-LM-6'!M14+12.3","v":12.3}]
["Schwerpunktabstand y-Richtung","mm",{"$f":"'EM-LM-6'!O14","v":0}]
["Schwerpunktabstand z-Richtung","mm",{"$f":"'EM-LM-6'!Q14","v":0}]
[null,null,null,null,"Mx Summe  I(II) + III","Nm",{"$f":"G8+I8","v":0}]
["Zusatzkraft Fx","N",{"$f":"'EM-LM-6'!K18","v":0},null,"Absolutbetrag",null,{"$f":"ABS(G16)","v":0}]
["Kraftangriffspunkt von Fx in y-Richtung","mm",{"$f":"'EM-LM-6'!O18","v":0},null,"Mx Summe  I+V oder II+IV","Nm",{"$f":"IF(J11=TRUE,H8+J8,G8+K8)","v":0}]
["Kraftangriffspunkt von Fx in z-Richtung","mm",{"$f":"'EM-LM-6'!Q18","v":0},null,"Absolutbetrag",null,{"$f":"ABS(G18)","v":0}]
[null,null,null,null,"Mx ges","Nm",{"$f":"MAX(G17,G19)","v":0}]
["Zusatzkraft Fy","N",{"$f":"'EM-LM-6'!K20","v":0},null,"Mx zul","Nm",{"$f":"G34/2","v":1.05},null,"Maximal-Werte der Momente und Kräfte nicht aus Katalog, sondern exakt berechnete Werte !!"]
["Kraftangrp. von Fy in x-Richt. (Mitte Rolle)","mm",{"$f":"'EM-LM-6'!M20+12.3","v":12.3}]
["Kraftangrp. von Fy in z-Richt.","mm",{"$f":"'EM-LM-6'!Q20","v":0},null,"My IV = V","Nm",{"$f":"J9","v":0}]
[null,null,null,null,"Absolutbetrag",null,{"$f":"ABS(G23)","v":0}]
["Zusatzkraft Fz","N",{"$f":"'EM-LM-6'!K22","v":0},null,"My ges","Nm",{"$f":"G24","v":0}]
["Kraftangrp. von Fz in x-Richt. (Mitte Rolle)","mm",{"$f":"'EM-LM-6'!M22+12.3","v":12.3},null,"My zul","Nm",{"$f":"1.59+(0.14*C7)","v":1.59}]
["Kraftangriffspunkt von Fz in y-Richtung","mm",{"$f":"'EM-LM-6'!O22","v":0}]
[]
[null,null,null,null,"Mz Summe I(II)+III","Nm",{"$f":"G10+I10","v":0}]
["Länge L (Stirnplatte zu 1. Rolle - HubN/2)","mm",13.65,null,"Absolutbetrag",null,{"$f":"ABS(G29)","v":0}]
["Nennhub/2        HubN/2","mm",{"$f":"(14+(C7*14))/2","v":7},null,"Mz Summe  I+V oder II+IV","Nm",{"$f":"IF(J11=TRUE,H10+J10,G10+K10)","v":0}]
["tatsächlicher gefahrener Hub/2","mm",{"$f":"C5/2","v":5},null,"Absolutbetrag",null,{"$f":"ABS(G31)","v":0}]
["Schwerpunktabstand in y-Richtung","mm",{"$f":"C14","v":0},null,"Mz ges","Nm",{"$f":"MAX(G30,G32)","v":0}]
["Wert K ( Abstand erste / letzte Rolle )","mm",{"$f":"30+(C7*3)","v":30},null,"Mz zul","Nm",{"$f":"C34/1000*70","v":2.1}]
["Anfangswert (Abst. Stirnpl./Deckplatte)","mm",10.5]
[null,null,null,null,null,null,null,null,"Belastungsgleichung stat.",{"$f":"G19/G21+G25/G26+G32/G34+G38/G39+G42/G43","v":0}]
["l1 bei eingefahrenem Hub","mm",{"$f":"C30+C31-C35","v":10.149999999999999},null,"Fx ges","N",{"$f":"C17","v":0},null,"Belastungsgleichung dyn.",{"$f":"G17/G21+G30/G34","v":0}]
["l1 bei ausgefahrenem Hub","mm",{"$f":"C30+C31+C32-C35","v":15.149999999999999},null,"Absolutwert",null,{"$f":"ABS(G37)","v":0},null,"Belastungsgleichung",{"$f":"MAX(J36:J37)","v":0}]
[null,null,null,null,"Fx zul","N",{"$f":"G43","v":385}]
["Stoßdämpferhub s ( Hub bis a=0 )","m",{"$f":"'Allgemeine Werte'!M30","v":1E-4}]
["Verzögerung a=vxv/2xs","m/s2",{"$f":"POWER(C48,2)/(2*C40)","v":578.94483024691363},null,"Fz ges","N",{"$f":"-C25","v":0},null,"Verfahrzeitberechnung",null,{"$f":"0.000178571*POWER(C5,2)+0.003928571*C5+3.66","v":3.7171428100000004}]
["Kraft zur Verzögerung der Masse","N",{"$f":"C12*C41","v":0},null,"Absolutwert",null,{"$f":"ABS(G41)","v":0},null,"Verfahrzeit berechnet ( t=Wurzel aus (2xsxm/F)",null,{"$f":"(SQRT(2*(C5/1000)*(C12+C8/2)/(C6-(C12+C8/2)*9.81)))*K41","v":1.8574099456657129E-2}]
["Kraft zur Verzög. d. Masse incl Modul/2","N",{"$f":"C47*C41","v":21.420958719135804},null,"Fz zul","N",{"$f":"385+35*C7","v":385},null,"Mittlere Verfahrgeschwindigkeit berechnet",null,{"$f":"(C5/1000)/K42","v":0.53838410972952488}]
[null,null,null,null,null,null,null,null,"Endgeschwindigkeit berechnet",null,{"$f":"K43*'Allgemeine Werte'!E71","v":0.94217219202666858}]
["Stoßdämpferberechnung",null,null,null,"Max. Zyklenzahl / Min."]
["Anzahl Stoßdämpfer",null,1,null,"Zyklen aus Verfahrzeit",null,{"$f":"60/(2*L50)","v":583.33333333333337},null,"Endgeschwindigkeit (Eingabe)",null,{"$f":"C10","v":2.02}]
["Gesamtmasse","kg",{"$f":"C12+C8/2","v":3.6999999999999998E-2},null,null,null,null,null,"Mittlere Verfahrgeschwindigkeit (Eingabe)   m/s",null,{"$f":"C10/'Allgemeine Werte'!E71","v":1.1542857142857144}]
["Aufprallgeschwindigkeit","m/s",{"$f":"L54","v":0.34027777777777779},null,"Ezul / Stunde","Nm",{"$f":"'Allgemeine Werte'!H30*C46*0.95","v":0},null,"Verfahrzeit (Eingabe)","s",{"$f":"(C5/1000)/K47","v":8.6633663366336624E-3},"Verfahrzeit für Berechnung"]
["W1","Nm",{"$f":"C47*POWER(C48,2)*0.5","v":2.1420958719135805E-3},null,"Ezul / Minute","Nm",{"$f":"G48/60","v":0},null,null,null,null,"( max )"]
["Hub Stoßdämpfer","m",{"$f":"'Allgemeine Werte'!L30","v":1E-4},null,"Zyklen aus Ezul",null,{"$f":"G49/C53","v":0},null,"min. Verfahrzeit ab","gemessen",{"$f":"0.02+(C5/14)*0.03","v":4.1428571428571426E-2},{"$f":"MAX(K48,K53,K42)","v":5.1428571428571428E-2}]
["Zylinderkraft","N",30,null,null,null,null,null,"Mittlere Verfahrgeschwindigkeit ab",null,{"$f":"(C5/1000)/K50","v":0.2413793103448276}]
["W2 ( Antriebsenergie )","Nm",{"$f":"MAX(C56,C57)*C50","v":2.9637030000000003E-3},null,"Max. Zyklen",null,{"$f":"MIN(G46,G55)","v":120},null,"Endgeschwindigkeit ab",null,{"$f":"K51*'Allgemeine Werte'!E71","v":0.42241379310344829},"Endgeschwindigkeit f. Ber."]
["W1+W2 ( Energie / Hub )","Nm",{"$f":"C52+C49","v":5.1057988719135812E-3},null,null,null,null,null,"min. Verfahrzeit auf",null,{"$f":"0.03+(C5/14)*0.03","v":5.1428571428571428E-2},"( min )"]
["Ezul / Zyklus ( Hub )","Nm",{"$f":"'Allgemeine Werte'!G30*C50/'Allgemeine Werte'!K30*C46","v":0},null,"Stoßd.-kolbenrückstellzeit",null,{"$f":"'Allgemeine Werte'!E30","v":0.5},null,"Mittlere Verfahrgeschwindigkeit auf",null,{"$f":"(C5/1000)/K53","v":0.19444444444444445},{"$f":"MIN(K46,K55,K44)","v":0.34027777777777779}]
["Auslastung / Zyklus",null,{"$f":"C53/C54","v":{"$error":"#DIV/0!"}},null,"Max. Zyklen aus Rückstellzeit",null,{"$f":"60/G54","v":120},null,"Endgeschwindigkeit auf",null,{"$f":"K54*'Allgemeine Werte'!E71","v":0.34027777777777779}]
["Antriebskraft nach oben",null,{"$f":"C6-C47*9.81","v":29.637029999999999}]
["Antriebskraft nach unten",null,{"$f":"C9+C47*9.81","v":25.362970000000001}]

{"sheet":"EM-Ber-CLM10-1","index":78,"n_rows":55,"n_cols":12,"rows_kept":55,"cut":false,"hidden":false,"merged":[]}
["Linearmodul Typ",null,"CLM 10"]
[]
["Berechnung der Führungsbelastung"]
[null,null,null,null,null,null,"Statisch auf Grund","Statisch auf Grund"]
["Hub","mm",{"$f":"'EM-LM-1'!K8","v":10},null,null,null,"Zusatzmasse m","Zusatzmasse m","Dynamisch auf Grund","Statisch auf Grund","Statisch auf Grund"]
["Zylinderkraft","N",47,null,null,null,"Modul ausgef.","Modul eingef.","Zusatzmasse m","Zusatzkraft Modul eingef.","Zusatzkraft Modul ausgef."]
["Faktor",null,{"$f":"ROUNDDOWN(((C5-6)/14.1),0)","v":0},null,null,null,"I","II","III","IV","V"]
["Modulgewicht","kg",{"$f":"0.148+(C7*0.031)","v":0.14799999999999999},null,"Moment Mx=M2","Nm",{"$f":"(C12*9.81)*((C38+C34/2+C33)/1000)","v":0},{"$f":"C12*9.81*((C37+C34/2+C33)/1000)","v":0},{"$f":"C42*(C15/1000)","v":0},{"$f":"(C21*C23/1000)-C25*((C27+C37+C34/2)/1000)","v":0},{"$f":"(C21*C23/1000)-C25*((C27+C38+C34/2)/1000)","v":0}]
["Zylinderkraft zurück","N",39,null,"Moment My=M1","Nm",{"$f":"C12*9.81*(C13/1000)","v":0},{"$f":"C12*9.81*(C13/1000)","v":0},"-",{"$f":"C17*C19/1000-C25*(C26/1000)","v":0},{"$f":"C17*C19/1000-C25*(C26/1000)","v":0}]
["Verfahrgeschwindigkeit","m/s",{"$f":"'EM-LM-1-1'!I58","v":2.02},null,"Moment Mz=M3","Nm","-","-",{"$f":"C42*(C13/1000)","v":0},{"$f":"C21*C22/1000-C17*(C18+C37+C34/2)/1000","v":0},{"$f":"C21*C22/1000-C17*(C18+C38+C34/2)/1000","v":0}]
[null,null,null,null,null,null,null,null,null,{"$f":"'EM-LM-1'!G51","v":true}]
["Zusatzmasse","kg",{"$f":"'EM-LM-1'!K14","v":0},null,"Mx Summe  I + III","Nm",{"$f":"G8+I8","v":0}]
["Schwerpunktabstand x-Richtung","mm",{"$f":"'EM-LM-1'!M14","v":0},null,"Absolutbetrag",null,{"$f":"ABS(G12)","v":0}]
["Schwerpunktabstand y-Richtung","mm",{"$f":"'EM-LM-1'!O14","v":0},null,"Mx Summe  II-III",null,{"$f":"H8-I8","v":0}]
["Schwerpunktabstand z-Richt.(Mitte Rolle)","mm",{"$f":"'EM-LM-1'!Q14+7.9","v":7.9},null,"Absolutbetrag",null,{"$f":"ABS(G14)","v":0}]
[null,null,null,null,"I ","Nm",{"$f":"ABS(G8)","v":0}]
["Zusatzkraft Fx","N",{"$f":"'EM-LM-1'!K18","v":0},null,"I oder I+III oder II-III",null,{"$f":"MAX(G16,G15,G13)","v":0}]
["Kraftangriffspunkt von Fx in y-Richtung","mm",{"$f":"'EM-LM-1'!O18","v":0},null,"Mx Summe  I+V oder II+IV","Nm",{"$f":"IF(AND(J8=0,K8=0),MAX(G8,H8),IF(J11=TRUE,H8+J8,G8+K8))","v":0}]
["Kraftangrp. von Fx in z-Richt.(Mitte Rolle)","mm",{"$f":"'EM-LM-1'!Q18+7.9","v":7.9},null,"Absolutbetrag",null,{"$f":"ABS(G18)","v":0}]
[null,null,null,null,"Mx ges","Nm",{"$f":"MAX(G17,G19)","v":0}]
["Zusatzkraft Fy","N",{"$f":"'EM-LM-1'!K20","v":0},null,"Mx zul","Nm",{"$f":"C34/1000*70","v":2.1},null,"Maximal-Werte der Momente und Kräfte nicht aus Katalog, sondern exakt berechnete Werte !!"]
["Kraftangriffspunkt von Fy in x-Richtung","mm",{"$f":"'EM-LM-1'!M20","v":0}]
["Kraftangrp. von Fy in z-Richt.(Mitte Rolle)","mm",{"$f":"'EM-LM-1'!Q20+7.9","v":7.9},null,"My Summe  I+V ( = II+IV )","Nm",{"$f":"G9+K9","v":0}]
[null,null,null,null,"Absolutbetrag",null,{"$f":"ABS(G23)","v":0}]
["Zusatzkraft Fz","N",{"$f":"'EM-LM-1'!K22","v":0},null,"My ges","Nm",{"$f":"G24","v":0}]
["Kraftangriffspunkt von Fz in x-Richtung","mm",{"$f":"'EM-LM-1'!M22","v":0},null,"My zul","Nm",{"$f":"1.82+(0.36*C7)","v":1.82}]
["Kraftangriffspunkt von Fz in y-Richtung","mm",{"$f":"'EM-LM-1'!O22","v":0}]
[]
[null,null,null,null,"Mz III","Nm",{"$f":"I10","v":0}]
["Länge L (Stirnplatte zu 1. Rolle - HubN/2)","mm",15.4,null,"Absolutbetrag",null,{"$f":"ABS(G29)","v":0}]
["Nennhub/2        HubN/2","mm",{"$f":"(20+(C7*14))/2","v":10},null,"Mz IV/V","Nm",{"$f":"IF(J11=TRUE,J10,K10)","v":0}]
["tatsächlicher gefahrener Hub/2","mm",{"$f":"C5/2","v":5},null,"Absolutbetrag",null,{"$f":"ABS(G31)","v":0}]
["Schwerpunktabstand in y-Richtung","mm",{"$f":"C14","v":0},null,"Mz ges","Nm",{"$f":"MAX(G30,G32)","v":0}]
["Wert K ( Abstand erste / letzte Rolle )","mm",{"$f":"30+(C7*6)","v":30},null,"Mz zul","Nm",{"$f":"G21/2","v":1.05}]
[]
[null,null,null,null,null,null,null,null,"Belastungsgleichung stat.",{"$f":"G19/G21+G25/G26+G32/G34+G38/G39+G42/G43","v":0}]
["l1 bei eingefahrenem Hub (Stirnp.-1.Rolle)","mm",{"$f":"C30+C31","v":25.4},null,"Fx ges","N",{"$f":"C17","v":0},null,"Belastungsgleichung dyn.",{"$f":"G17/G21+G30/G34+G40/G43","v":0}]
["l1 bei ausgefahrenem Hub (Stirnp.-1.Rolle)","mm",{"$f":"C30+C31+C32","v":30.4},null,"Absolutwert",null,{"$f":"ABS(G37)","v":0},null,"Belastungsgleichung",{"$f":"MAX(J36:J37)","v":0}]
[null,null,null,null,"Fx zul","N",{"$f":"G43","v":385}]
["Stoßdämpferhub s ( Hub bis a=0 )","m",{"$f":"'Allgemeine Werte'!M32","v":3.3500000000000001E-3},null,"Gewichtskraft","N",{"$f":"C12*9.81","v":0}]
["Verzögerung a=vxv/2xs","m/s2",{"$f":"POWER(C48,2)/(2*C40)","v":10.584776965832464},null,"Fz ges abs","N",{"$f":"ABS(-C25+C12*9.81)","v":0},null,"Verfahrzeitberechnung",null,{"$f":"0.000229592*POWER(C5,2)-0.021683673*C5+3.101836735","v":2.907959205}]
["Kraft zur Verzögerung der Masse","N",{"$f":"C12*C41","v":0},null,"Max aus E40,E41",null,{"$f":"MAX(G40,G41)","v":0},null,"Verfahrzeit berechnet ( t=Wurzel aus (2xsxm/F)",null,{"$f":"(SQRT(2*(C5/1000)*(C12+C8/2)/C9))*K41","v":1.7913764634734177E-2}]
["Kraft zur Verzög. d. Masse incl Modul/2","N",{"$f":"C47*C41","v":0.7832734954716023},null,"Fz zul","N",{"$f":"385+70*C7","v":385},null,"Mittlere Verfahrgeschwindigkeit berechnet",null,{"$f":"(C5/1000)/K42","v":0.55822995355260741}]
[null,null,null,null,null,null,null,null,"Endgeschwindigkeit berechnet",null,{"$f":"K43*'Allgemeine Werte'!E71","v":0.97690241871706296}]
["Stoßdämpferberechnung",null,null,null,"Max. Zyklenzahl / Min."]
["Anzahl Stoßdämpfer",null,1,null,"Zyklen aus Verfahrzeit",null,{"$f":"60/(2*L50)","v":456.52173913043481},null,"Endgeschwindigkeit (Eingabe)",null,{"$f":"C10","v":2.02}]
["Gesamtmasse","kg",{"$f":"C12+C8/2","v":7.3999999999999996E-2},null,null,null,null,null,"Mittlere Verfahrgeschwindigkeit (Eingabe)   m/s",null,{"$f":"C10/'Allgemeine Werte'!E71","v":1.1542857142857144}]
["Aufprallgeschwindigkeit","m/s",{"$f":"L54","v":0.26630434782608697},null,"Ezul / Stunde","Nm",{"$f":"'Allgemeine Werte'!H32*C46*0.95","v":2850},null,"Verfahrzeit (Eingabe)","s",{"$f":"(C5/1000)/K47","v":8.6633663366336624E-3},"Verfahrzeit für Berechnung"]
["W1","Nm",{"$f":"C47*POWER(C48,2)*0.5","v":2.623966209829868E-3},null,"Ezul / Minute","Nm",{"$f":"G48/60","v":47.5},null,null,null,null,"( max )"]
["Hub Stoßdämpfer","m",{"$f":"'Allgemeine Werte'!L32","v":5.0000000000000001E-3},null,"Zyklen aus Ezul",null,{"$f":"G49/C53","v":199.8956618628944},null,"min. Verfahrzeit vor","gemessen",{"$f":"0.04+((C5-6)/14)*0.02","v":4.5714285714285714E-2},{"$f":"MAX(K48,K53,K42)","v":6.5714285714285711E-2}]
["Zylinderkraft","N",47,null,null,null,null,null,"Mittlere Verfahrgeschwindigkeit vor",null,{"$f":"(C5/1000)/K50","v":0.21875}]
["W2 ( Antriebsenergie )","Nm",{"$f":"C51*C50","v":0.23500000000000001},null,"Max. Zyklen",null,{"$f":"MIN(G46,G50,G55)","v":120},null,"Endgeschwindigkeit vor",null,{"$f":"K51*'Allgemeine Werte'!E71","v":0.3828125},"Endgeschwindigkeit f. Ber."]
["W1+W2 ( Energie / Hub )","Nm",{"$f":"C52+C49","v":0.2376239662098299},null,null,null,null,null,"min. Verfahrzeit zurück",null,{"$f":"0.06+((C5-6)/14)*0.02","v":6.5714285714285711E-2},"( min )"]
["Ezul / Zyklus ( Hub )","Nm",{"$f":"'Allgemeine Werte'!G32*C50/'Allgemeine Werte'!K32*C46","v":1},null,"Stoßd.-kolbenrückstellzeit",null,{"$f":"'Allgemeine Werte'!E32","v":0.5},null,"Mittlere Verfahrgeschwindigkeit zurück",null,{"$f":"(C5/1000)/K53","v":0.15217391304347827},{"$f":"MIN(K46,K55,K44)","v":0.26630434782608697}]
["Auslastung / Zyklus",null,{"$f":"C53/C54","v":0.2376239662098299},null,"Max. Zyklen aus Rückstellzeit",null,{"$f":"60/G54","v":120},null,"Endgeschwindigkeit zurück",null,{"$f":"K54*'Allgemeine Werte'!E71","v":0.26630434782608697}]

{"sheet":"EM-Ber-CLM10-2","index":79,"n_rows":55,"n_cols":12,"rows_kept":55,"cut":false,"hidden":false,"merged":[]}
["Linearmodul Typ",null,"CLM 10"]
[]
["Berechnung der Führungsbelastung"]
[null,null,null,null,null,null,"Statisch auf Grund","Statisch auf Grund"]
["Hub","mm",{"$f":"'EM-LM-2'!K8","v":10},null,null,null,"Zusatzmasse m","Zusatzmasse m","Dynamisch auf Grund","Statisch auf Grund","Statisch auf Grund"]
["Zylinderkraft","N",47,null,null,null,"Modul ausgef.","Modul eingef.","Zusatzmasse m","Zusatzkraft Modul eingef.","Zusatzkraft Modul ausgef."]
["Faktor",null,{"$f":"ROUNDDOWN(((C5-6)/14.1),0)","v":0},null,null,null,"I","II","III","IV","V"]
["Modulgewicht","kg",{"$f":"0.148+(C7*0.031)","v":0.14799999999999999},null,"Moment Mx=M3","Nm",{"$f":"(C12*9.81)*((C38+C34/2+C33)/1000)","v":0},{"$f":"C12*9.81*((C37+C34/2+C33)/1000)","v":0},{"$f":"C42*(C15/1000)","v":0},{"$f":"(C21*C23/1000)-C25*((C27+C37+C34/2)/1000)","v":0},{"$f":"(C21*C23/1000)-C25*((C27+C38+C34/2)/1000)","v":0}]
["Zylinderkraft zurück","N",39,null,"Moment My=M1","Nm",{"$f":"C12*9.81*((C13)/1000)","v":0},{"$f":"C12*9.81*((C13)/1000)","v":0},"-",{"$f":"C17*(C19/1000)-C25*C26/1000","v":0},{"$f":"C17*(C19/1000)-C25*C26/1000","v":0}]
["Verfahrgeschwindigkeit","m/s",{"$f":"'EM-LM-2-1'!I58","v":2.02},null,"Moment Mz=M2","Nm","-","-",{"$f":"C42*(C13/1000)","v":0},{"$f":"C21*C22/1000-C17*(C18+C37+C34/2)/1000","v":0},{"$f":"C21*C22/1000-C17*(C18+C38+C34/2)/1000","v":0}]
[null,null,null,null,null,null,null,null,null,{"$f":"'EM-LM-2'!G51","v":true}]
["Zusatzmasse","kg",{"$f":"'EM-LM-2'!K14","v":0},null,"Mx Summe  I + III","Nm",{"$f":"G8+I8","v":0}]
["Schwerpunktabstand x-Richt.(Mitte Rolle)","mm",{"$f":"'EM-LM-2'!M14+7.9","v":7.9},null,"Absolutbetrag",null,{"$f":"ABS(G12)","v":0}]
["Schwerpunktabstand y-Richtung","mm",{"$f":"'EM-LM-2'!O14","v":0},null,"Mx Summe  II-III",null,{"$f":"H8-I8","v":0}]
["Schwerpunktabstand z-Richtung","mm",{"$f":"'EM-LM-2'!Q14","v":0},null,"Absolutbetrag",null,{"$f":"ABS(G14)","v":0}]
[null,null,null,null,"I ","Nm",{"$f":"ABS(G8)","v":0}]
["Zusatzkraft Fx","N",{"$f":"'EM-LM-2'!K18","v":0},null,"I oder I+III oder II-III",null,{"$f":"MAX(G16,G15,G13)","v":0}]
["Kraftangriffspunkt von Fx in y-Richtung","mm",{"$f":"'EM-LM-2'!O18","v":0},null,"Mx Summe  I+V oder II+IV","Nm",{"$f":"IF(AND(J8=0,K8=0),MAX(G8,H8),IF(J11=TRUE,H8+J8,G8+K8))","v":0}]
["Kraftangriffspunkt von Fx in z-Richtung","mm",{"$f":"'EM-LM-2'!Q18","v":0},null,"Absolutbetrag",null,{"$f":"ABS(G18)","v":0}]
[null,null,null,null,"Mx ges","Nm",{"$f":"MAX(G17,G19)","v":0}]
["Zusatzkraft Fy","N",{"$f":"'EM-LM-2'!K20","v":0},null,"Mx zul","Nm",{"$f":"G34/2","v":1.05},null,"Maximal-Werte der Momente und Kräfte nicht aus Katalog, sondern exakt berechnete Werte !!"]
["Kraftangrp. von Fy in x-Richt. (Mitte Rolle)","mm",{"$f":"'EM-LM-2'!M20+7.9","v":7.9}]
["Kraftangrp. von Fy in z-Richt.","mm",{"$f":"'EM-LM-2'!Q20","v":0},null,"My Summe  I+V ( = II+IV )","Nm",{"$f":"G9+K9","v":0}]
[null,null,null,null,"Absolutbetrag",null,{"$f":"ABS(G23)","v":0}]
["Zusatzkraft Fz","N",{"$f":"'EM-LM-2'!K22","v":0},null,"My ges","Nm",{"$f":"G24","v":0}]
["Kraftangrp. von Fz in x-Richt. (Mitte Rolle)","mm",{"$f":"'EM-LM-2'!M22+7.9","v":7.9},null,"My zul","Nm",{"$f":"1.82+(0.36*C7)","v":1.82}]
["Kraftangriffspunkt von Fz in y-Richtung","mm",{"$f":"'EM-LM-2'!O22","v":0}]
[]
[null,null,null,null,"Mz III","Nm",{"$f":"I10","v":0}]
["Länge L (Stirnplatte zu 1. Rolle - HubN/2)","mm",15.4,null,"Absolutbetrag",null,{"$f":"ABS(G29)","v":0}]
["Nennhub/2        HubN/2","mm",{"$f":"(20+(C7*14))/2","v":10},null,"Mz IV/V","Nm",{"$f":"IF(J11=TRUE,J10,K10)","v":0}]
["tatsächlicher gefahrener Hub/2","mm",{"$f":"C5/2","v":5},null,"Absolutbetrag",null,{"$f":"ABS(G31)","v":0}]
["Schwerpunktabstand in y-Richtung","mm",{"$f":"C14","v":0},null,"Mz ges","Nm",{"$f":"MAX(G30,G32)","v":0}]
["Wert K ( Abstand erste / letzte Rolle )","mm",{"$f":"30+(C7*6)","v":30},null,"Mz zul","Nm",{"$f":"C34/1000*70","v":2.1}]
[]
[null,null,null,null,null,null,null,null,"Belastungsgleichung stat.",{"$f":"G19/G21+G25/G26+G32/G34+G38/G39+G42/G43","v":0}]
["l1 bei eingefahrenem Hub","mm",{"$f":"C30+C31","v":25.4},null,"Fx ges","N",{"$f":"C17","v":0},null,"Belastungsgleichung dyn.",{"$f":"G17/G21+G30/G34+G40/G43","v":0}]
["l1 bei ausgefahrenem Hub","mm",{"$f":"C30+C31+C32","v":30.4},null,"Absolutwert",null,{"$f":"ABS(G37)","v":0},null,"Belastungsgleichung",{"$f":"MAX(J36:J37)","v":0}]
[null,null,null,null,"Fx zul","N",{"$f":"G43","v":385}]
["Stoßdämpferhub s ( Hub bis a=0 )","m",{"$f":"'Allgemeine Werte'!M32","v":3.3500000000000001E-3},null,"Gewichtskraft","N",{"$f":"C12*9.81","v":0}]
["Verzögerung a=vxv/2xs","m/s2",{"$f":"POWER(C48,2)/(2*C40)","v":10.584776965832464},null,"Fz ges abs","N",{"$f":"ABS(-C25+C12*9.81)","v":0},null,"Verfahrzeitberechnung",null,{"$f":"0.000229592*POWER(C5,2)-0.021683673*C5+3.101836735","v":2.907959205}]
["Kraft zur Verzögerung der Masse","N",{"$f":"C12*C41","v":0},null,"Max aus E40,E41",null,{"$f":"MAX(G40,G41)","v":0},null,"Verfahrzeit berechnet ( t=Wurzel aus (2xsxm/F)",null,{"$f":"(SQRT(2*(C5/1000)*(C12+C8/2)/C9))*K41","v":1.7913764634734177E-2}]
["Kraft zur Verzög. d. Masse incl Modul/2","N",{"$f":"C47*C41","v":0.7832734954716023},null,"Fz zul","N",{"$f":"385+70*C7","v":385},null,"Mittlere Verfahrgeschwindigkeit berechnet",null,{"$f":"(C5/1000)/K42","v":0.55822995355260741}]
[null,null,null,null,null,null,null,null,"Endgeschwindigkeit berechnet",null,{"$f":"K43*'Allgemeine Werte'!E71","v":0.97690241871706296}]
["Stoßdämpferberechnung",null,null,null,"Max. Zyklenzahl / Min."]
["Anzahl Stoßdämpfer",null,1,null,"Zyklen aus Verfahrzeit",null,{"$f":"60/(2*L50)","v":456.52173913043481},null,"Endgeschwindigkeit (Eingabe)",null,{"$f":"C10","v":2.02}]
["Gesamtmasse","kg",{"$f":"C12+C8/2","v":7.3999999999999996E-2},null,null,null,null,null,"Mittlere Verfahrgeschwindigkeit (Eingabe)   m/s",null,{"$f":"C10/'Allgemeine Werte'!E71","v":1.1542857142857144}]
["Aufprallgeschwindigkeit","m/s",{"$f":"L54","v":0.26630434782608697},null,"Ezul / Stunde","Nm",{"$f":"'Allgemeine Werte'!H32*C46*0.95","v":2850},null,"Verfahrzeit (Eingabe)","s",{"$f":"(C5/1000)/K47","v":8.6633663366336624E-3},"Verfahrzeit für Berechnung"]
["W1","Nm",{"$f":"C47*POWER(C48,2)*0.5","v":2.623966209829868E-3},null,"Ezul / Minute","Nm",{"$f":"G48/60","v":47.5},null,null,null,null,"( max )"]
["Hub Stoßdämpfer","m",{"$f":"'Allgemeine Werte'!L32","v":5.0000000000000001E-3},null,"Zyklen aus Ezul",null,{"$f":"G49/C53","v":199.8956618628944},null,"min. Verfahrzeit vor","gemessen",{"$f":"0.04+((C5-6)/14)*0.02","v":4.5714285714285714E-2},{"$f":"MAX(K48,K53,K42)","v":6.5714285714285711E-2}]
["Zylinderkraft","N",47,null,null,null,null,null,"Mittlere Verfahrgeschwindigkeit vor",null,{"$f":"(C5/1000)/K50","v":0.21875}]
["W2 ( Antriebsenergie )","Nm",{"$f":"C51*C50","v":0.23500000000000001},null,"Max. Zyklen",null,{"$f":"MIN(G46,G50,G55)","v":120},null,"Endgeschwindigkeit vor",null,{"$f":"K51*'Allgemeine Werte'!E71","v":0.3828125},"Endgeschwindigkeit f. Ber."]
["W1+W2 ( Energie / Hub )","Nm",{"$f":"C52+C49","v":0.2376239662098299},null,null,null,null,null,"min. Verfahrzeit zurück",null,{"$f":"0.06+((C5-6)/14)*0.02","v":6.5714285714285711E-2},"( min )"]
["Ezul / Zyklus ( Hub )","Nm",{"$f":"'Allgemeine Werte'!G32*C50/'Allgemeine Werte'!K32*C46","v":1},null,"Stoßd.-kolbenrückstellzeit",null,{"$f":"'Allgemeine Werte'!E32","v":0.5},null,"Mittlere Verfahrgeschwindigkeit zurück",null,{"$f":"(C5/1000)/K53","v":0.15217391304347827},{"$f":"MIN(K46,K55,K44)","v":0.26630434782608697}]
["Auslastung / Zyklus",null,{"$f":"C53/C54","v":0.2376239662098299},null,"Max. Zyklen aus Rückstellzeit",null,{"$f":"60/G54","v":120},null,"Endgeschwindigkeit zurück",null,{"$f":"K54*'Allgemeine Werte'!E71","v":0.26630434782608697}]

{"sheet":"EM-Ber-CLM10-3","index":80,"n_rows":57,"n_cols":12,"rows_kept":57,"cut":false,"hidden":false,"merged":[]}
["Linearmodul Typ",null,"CLM 10"]
[]
["Berechnung der Führungsbelastung"]
[null,null,null,null,null,null,"Statisch auf Grund","Statisch auf Grund"]
["Hub","mm",{"$f":"'EM-LM-3'!K8","v":10},null,null,null,"Zusatzmasse m","Zusatzmasse m","Dynamisch auf Grund","Statisch auf Grund","Statisch auf Grund"]
["Zylinderkraft","N",47,null,null,null,"Modul ausgef.","Modul eingef.","Zusatzmasse m","Zusatzkraft Modul eingef.","Zusatzkraft Modul ausgef."]
["Faktor",null,{"$f":"ROUNDDOWN(((C5-6)/14.1),0)","v":0},null,null,null,"I","II","III","IV","V"]
["Modulgewicht","kg",{"$f":"0.148+(C7*0.031)","v":0.14799999999999999},null,"Moment Mx=M3","Nm",{"$f":"C12*9.81*((C15)/1000)","v":0},{"$f":"C12*9.81*((C15)/1000)","v":0},{"$f":"C42*(C15/1000)","v":0},{"$f":"IF(K11=TRUE,-(C21*C23/1000)+C25*((C27+C37+C34/2)/1000),(C21*C23/1000)-C25*((C27+C37+C34/2)/1000))","v":0},{"$f":"IF(K11=TRUE,-(C21*C23/1000)+C25*((C27+C38+C34/2)/1000),(C21*C23/1000)-C25*((C27+C38+C34/2)/1000))","v":0}]
["Zylinderkraft zurück","N",39,null,"Moment My=M1","Nm","-","-","-",{"$f":"C17*(C19/1000)-C25*C26/1000","v":0},{"$f":"C17*(C19/1000)-C25*C26/1000","v":0}]
["Verfahrgeschwindigkeit","m/s",{"$f":"'EM-LM-3-1'!I58","v":2.02},null,"Moment Mz=M2","Nm",{"$f":"C12*9.81*((C13)/1000)","v":0},{"$f":"C12*9.81*((C13)/1000)","v":0},{"$f":"C42*(C13/1000)","v":0},{"$f":"IF(K11=TRUE,-C21*C22/1000+C17*(C18+C37+C34/2)/1000,C21*C22/1000-C17*(C18+C37+C34/2)/1000)","v":0},{"$f":"IF(K11=TRUE,-C21*C22/1000+C17*(C18+C38+C34/2)/1000,C21*C22/1000-C17*(C18+C38+C34/2)/1000)","v":0}]
[null,null,null,null,null,null,null,null,null,{"$f":"'EM-LM-3'!G51","v":true},{"$f":"'EM-LM-3'!G52","v":true}]
["Zusatzmasse","kg",{"$f":"'EM-LM-3'!K14","v":0}]
["Schwerpunktabstand x-Richt.(Mitte Rolle)","mm",{"$f":"'EM-LM-3'!M14+7.9","v":7.9}]
["Schwerpunktabstand y-Richtung","mm",{"$f":"'EM-LM-3'!O14","v":0}]
["Schwerpunktabstand z-Richtung","mm",{"$f":"'EM-LM-3'!Q14","v":0}]
[null,null,null,null,"Mx Summe  I(II) + III","Nm",{"$f":"G8+I8","v":0}]
["Zusatzkraft Fx","N",{"$f":"'EM-LM-3'!K18","v":0},null,"Absolutbetrag",null,{"$f":"ABS(G16)","v":0}]
["Kraftangriffspunkt von Fx in y-Richtung","mm",{"$f":"'EM-LM-3'!O18","v":0},null,"Mx Summe  I+V oder II+IV","Nm",{"$f":"IF(J11=TRUE,H8+J8,G8+K8)","v":0}]
["Kraftangriffspunkt von Fx in z-Richtung","mm",{"$f":"'EM-LM-3'!Q18","v":0},null,"Absolutbetrag",null,{"$f":"ABS(G18)","v":0}]
[null,null,null,null,"Mx ges","Nm",{"$f":"MAX(G17,G19)","v":0}]
["Zusatzkraft Fy","N",{"$f":"'EM-LM-3'!K20","v":0},null,"Mx zul","Nm",{"$f":"G34/2","v":1.05},null,"Maximal-Werte der Momente und Kräfte nicht aus Katalog, sondern exakt berechnete Werte !!"]
["Kraftangrp. von Fy in x-Richt. (Mitte Rolle)","mm",{"$f":"'EM-LM-3'!M20+7.9","v":7.9}]
["Kraftangrp. von Fy in z-Richt.","mm",{"$f":"'EM-LM-3'!Q20","v":0},null,"My IV = V","Nm",{"$f":"J9","v":0}]
[null,null,null,null,"Absolutbetrag",null,{"$f":"ABS(G23)","v":0}]
["Zusatzkraft Fz","N",{"$f":"'EM-LM-3'!K22","v":0},null,"My ges","Nm",{"$f":"G24","v":0}]
["Kraftangrp. von Fz in x-Richt. (Mitte Rolle)","mm",{"$f":"'EM-LM-3'!M22+7.9","v":7.9},null,"My zul","Nm",{"$f":"1.82+(0.36*C7)","v":1.82}]
["Kraftangriffspunkt von Fz in y-Richtung","mm",{"$f":"'EM-LM-3'!O22","v":0}]
[]
[null,null,null,null,"Mz Summe I(II)+III","Nm",{"$f":"G10+I10","v":0}]
["Länge L (Stirnplatte zu 1. Rolle - HubN/2)","mm",15.4,null,"Absolutbetrag",null,{"$f":"ABS(G29)","v":0}]
["Nennhub/2        HubN/2","mm",{"$f":"(20+(C7*14))/2","v":10},null,"Mz Summe  I+V oder II+IV","Nm",{"$f":"IF(J11=TRUE,H10+J10,G10+K10)","v":0}]
["tatsächlicher gefahrener Hub/2","mm",{"$f":"C5/2","v":5},null,"Absolutbetrag",null,{"$f":"ABS(G31)","v":0}]
["Schwerpunktabstand in y-Richtung","mm",{"$f":"C14","v":0},null,"Mz ges","Nm",{"$f":"MAX(G30,G32)","v":0}]
["Wert K ( Abstand erste / letzte Rolle )","mm",{"$f":"30+(C7*6)","v":30},null,"Mz zul","Nm",{"$f":"C34/1000*70","v":2.1}]
[]
[null,null,null,null,null,null,null,null,"Belastungsgleichung stat.",{"$f":"G19/G21+G25/G26+G32/G34+G38/G39+G42/G43","v":0}]
["l1 bei eingefahrenem Hub","mm",{"$f":"C30+C31","v":25.4},null,"Fx ges","N",{"$f":"C17","v":0},null,"Belastungsgleichung dyn.",{"$f":"G17/G21+G30/G34","v":0}]
["l1 bei ausgefahrenem Hub","mm",{"$f":"C30+C31+C32","v":30.4},null,"Absolutwert",null,{"$f":"ABS(G37)","v":0},null,"Belastungsgleichung",{"$f":"MAX(J36:J37)","v":0}]
[null,null,null,null,"Fx zul","N",{"$f":"G43","v":385}]
["Stoßdämpferhub s ( Hub bis a=0 )","m",{"$f":"'Allgemeine Werte'!M32","v":3.3500000000000001E-3}]
["Verzögerung a=vxv/2xs","m/s2",{"$f":"POWER(C48,2)/(2*C40)","v":10.584776965832464},null,"Fz ges","N",{"$f":"-C25","v":0},null,"Verfahrzeitberechnung",null,{"$f":"0.000229592*POWER(C5,2)-0.021683673*C5+3.101836735","v":2.907959205}]
["Kraft zur Verzögerung der Masse","N",{"$f":"C12*C41","v":0},null,"Absolutwert",null,{"$f":"ABS(G41)","v":0},null,"Verfahrzeit berechnet ( t=Wurzel aus (2xsxm/F)",null,{"$f":"(SQRT(2*(C5/1000)*(C12+C8/2)/(C6-(C12+C8/2)*9.81)))*K41","v":1.6445624302110651E-2}]
["Kraft zur Verzög. d. Masse incl Modul/2","N",{"$f":"C47*C41","v":0.7832734954716023},null,"Fz zul","N",{"$f":"385+70*C7","v":385},null,"Mittlere Verfahrgeschwindigkeit berechnet",null,{"$f":"(C5/1000)/K42","v":0.60806448063614027}]
[null,null,null,null,null,null,null,null,"Endgeschwindigkeit berechnet",null,{"$f":"K43*'Allgemeine Werte'!E71","v":1.0641128411132454}]
["Stoßdämpferberechnung",null,null,null,"Max. Zyklenzahl / Min."]
["Anzahl Stoßdämpfer",null,1,null,"Zyklen aus Verfahrzeit",null,{"$f":"60/(2*L50)","v":456.52173913043481},null,"Endgeschwindigkeit (Eingabe)",null,{"$f":"C10","v":2.02}]
["Gesamtmasse","kg",{"$f":"C12+C8/2","v":7.3999999999999996E-2},null,null,null,null,null,"Mittlere Verfahrgeschwindigkeit (Eingabe)   m/s",null,{"$f":"C10/'Allgemeine Werte'!E71","v":1.1542857142857144}]
["Aufprallgeschwindigkeit","m/s",{"$f":"L54","v":0.26630434782608697},null,"Ezul / Stunde","Nm",{"$f":"'Allgemeine Werte'!H32*C46*0.95","v":2850},null,"Verfahrzeit (Eingabe)","s",{"$f":"(C5/1000)/K47","v":8.6633663366336624E-3},"Verfahrzeit für Berechnung"]
["W1","Nm",{"$f":"C47*POWER(C48,2)*0.5","v":2.623966209829868E-3},null,"Ezul / Minute","Nm",{"$f":"G48/60","v":47.5},null,null,null,null,"( max )"]
["Hub Stoßdämpfer","m",{"$f":"'Allgemeine Werte'!L32","v":5.0000000000000001E-3},null,"Zyklen aus Ezul",null,{"$f":"G49/C53","v":202.99642708939407},null,"min. Verfahrzeit ab","gemessen",{"$f":"0.05+((C5-6)/14)*0.02","v":5.5714285714285716E-2},{"$f":"MAX(K48,K53,K42)","v":6.5714285714285711E-2}]
["Zylinderkraft","N",47,null,null,null,null,null,"Mittlere Verfahrgeschwindigkeit ab",null,{"$f":"(C5/1000)/K50","v":0.17948717948717949}]
["W2 ( Antriebsenergie )","Nm",{"$f":"MAX(C56,C57)*C50","v":0.2313703},null,"Max. Zyklen",null,{"$f":"MIN(G46,G50,G55)","v":120},null,"Endgeschwindigkeit ab",null,{"$f":"K51*'Allgemeine Werte'!E71","v":0.3141025641025641},"Endgeschwindigkeit f. Ber."]
["W1+W2 ( Energie / Hub )","Nm",{"$f":"C52+C49","v":0.23399426620982988},null,null,null,null,null,"min. Verfahrzeit auf",null,{"$f":"0.06+((C5-6)/14)*0.02","v":6.5714285714285711E-2},"( min )"]
["Ezul / Zyklus ( Hub )","Nm",{"$f":"'Allgemeine Werte'!G32*C50/'Allgemeine Werte'!K32*C46","v":1},null,"Stoßd.-kolbenrückstellzeit",null,{"$f":"'Allgemeine Werte'!E32","v":0.5},null,"Mittlere Verfahrgeschwindigkeit auf",null,{"$f":"(C5/1000)/K53","v":0.15217391304347827},{"$f":"MIN(K46,K55,K44)","v":0.26630434782608697}]
["Auslastung / Zyklus",null,{"$f":"C53/C54","v":0.23399426620982988},null,"Max. Zyklen aus Rückstellzeit",null,{"$f":"60/G54","v":120},null,"Endgeschwindigkeit auf",null,{"$f":"K54*'Allgemeine Werte'!E71","v":0.26630434782608697}]
["Antriebskraft nach oben",null,{"$f":"C6-C47*9.81","v":46.274059999999999}]
["Antriebskraft nach unten",null,{"$f":"C9+C47*9.81","v":39.725940000000001}]

{"sheet":"EM-Ber-CLM10-4","index":81,"n_rows":55,"n_cols":12,"rows_kept":55,"cut":false,"hidden":false,"merged":[]}
["Linearmodul Typ",null,"CLM 10"]
[]
["Berechnung der Führungsbelastung"]
[null,null,null,null,null,null,"Statisch auf Grund","Statisch auf Grund"]
["Hub","mm",{"$f":"'EM-LM-4'!K8","v":10},null,null,null,"Zusatzmasse m","Zusatzmasse m","Dynamisch auf Grund","Statisch auf Grund","Statisch auf Grund"]
["Zylinderkraft","N",47,null,null,null,"Modul ausgef.","Modul eingef.","Zusatzmasse m","Zusatzkraft Modul eingef.","Zusatzkraft Modul ausgef."]
["Faktor",null,{"$f":"ROUNDDOWN(((C5-6)/14.1),0)","v":0},null,null,null,"I","II","III","IV","V"]
["Modulgewicht","kg",{"$f":"0.148+(C7*0.031)","v":0.14799999999999999},null,"Moment Mx=M2","Nm",{"$f":"(C12*9.81)*((C37-C32+C34/2+C33)/1000)","v":0},{"$f":"C12*9.81*((C37+C34/2+C33)/1000)","v":0},{"$f":"C42*(C15/1000)","v":0},{"$f":"(C21*C23/1000)-C25*((C27+C37+C34/2)/1000)","v":0},{"$f":"(C21*C23/1000)-C25*((C27+C37-C32+C34/2)/1000)","v":0}]
["Zylinderkraft zurück","N",39,null,"Moment My=M1","Nm",{"$f":"C12*9.81*(C13/1000)","v":0},{"$f":"C12*9.81*(C13/1000)","v":0},"-",{"$f":"C17*C19/1000-C25*(C26/1000)","v":0},{"$f":"C17*C19/1000-C25*(C26/1000)","v":0}]
["Verfahrgeschwindigkeit","m/s",{"$f":"'EM-LM-4-1'!I58","v":2.02},null,"Moment Mz=M3","Nm","-","-",{"$f":"C42*(C13/1000)","v":0},{"$f":"C21*C22/1000-C17*(C18+C37+C34/2)/1000","v":0},{"$f":"C21*C22/1000-C17*(C18+C37-C32+C34/2)/1000","v":0}]
[null,null,null,null,null,null,null,null,null,{"$f":"'EM-LM-4'!G51","v":false}]
["Zusatzmasse","kg",{"$f":"'EM-LM-4'!K14","v":0},null,"Mx Summe  I + III","Nm",{"$f":"G8+I8","v":0}]
["Schwerpunktabstand x-Richtung","mm",{"$f":"'EM-LM-4'!M14","v":0},null,"Absolutbetrag",null,{"$f":"ABS(G12)","v":0}]
["Schwerpunktabstand y-Richtung","mm",{"$f":"'EM-LM-4'!O14","v":0},null,"Mx Summe  II-III",null,{"$f":"H8-I8","v":0}]
["Schwerpunktabstand z-Richt.(Mitte Rolle)","mm",{"$f":"'EM-LM-4'!Q14+17.1","v":17.100000000000001},null,"Absolutbetrag",null,{"$f":"ABS(G14)","v":0}]
[null,null,null,null,"I ","Nm",{"$f":"ABS(G8)","v":0}]
["Zusatzkraft Fx","N",{"$f":"'EM-LM-4'!K18","v":0},null,"I oder I+III oder II-III",null,{"$f":"MAX(G16,G15,G13)","v":0}]
["Kraftangriffspunkt von Fx in y-Richtung","mm",{"$f":"'EM-LM-4'!O18","v":0},null,"Mx Summe  I+V oder II+IV","Nm",{"$f":"IF(AND(J8=0,K8=0),MAX(G8,H8),IF(J11=TRUE,H8+J8,G8+K8))","v":0}]
["Kraftangrp. von Fx in z-Richt.(Mitte Rolle)","mm",{"$f":"'EM-LM-4'!Q18+17.1","v":17.100000000000001},null,"Absolutbetrag",null,{"$f":"ABS(G18)","v":0}]
[null,null,null,null,"Mx ges","Nm",{"$f":"MAX(G17,G19)","v":0}]
["Zusatzkraft Fy","N",{"$f":"'EM-LM-4'!K20","v":0},null,"Mx zul","Nm",{"$f":"C34/1000*70","v":2.1},null,"Maximal-Werte der Momente und Kräfte nicht aus Katalog, sondern exakt berechnete Werte !!"]
["Kraftangriffspunkt von Fy in x-Richtung","mm",{"$f":"'EM-LM-4'!M20","v":0}]
["Kraftangrp. von Fy in z-Richt.(Mitte Rolle)","mm",{"$f":"'EM-LM-4'!Q20+17.1","v":17.100000000000001},null,"My Summe  I+V ( = II+IV )","Nm",{"$f":"G9+K9","v":0}]
[null,null,null,null,"Absolutbetrag",null,{"$f":"ABS(G23)","v":0}]
["Zusatzkraft Fz","N",{"$f":"'EM-LM-4'!K22","v":0},null,"My ges","Nm",{"$f":"G24","v":0}]
["Kraftangriffspunkt von Fz in x-Richtung","mm",{"$f":"'EM-LM-4'!M22","v":0},null,"My zul","Nm",{"$f":"1.82+(0.36*C7)","v":1.82}]
["Kraftangriffspunkt von Fz in y-Richtung","mm",{"$f":"'EM-LM-4'!O22","v":0}]
[]
[null,null,null,null,"Mz III","Nm",{"$f":"I10","v":0}]
["Länge L (Stirnplatte zu 1. Rolle - HubN/2)","mm",15.4,null,"Absolutbetrag",null,{"$f":"ABS(G29)","v":0}]
["Nennhub/2        HubN/2","mm",{"$f":"(20+(C7*14))/2","v":10},null,"Mz IV/V","Nm",{"$f":"IF(J11=TRUE,J10,K10)","v":0}]
["tatsächlicher gefahrener Hub/2","mm",{"$f":"C5/2","v":5},null,"Absolutbetrag",null,{"$f":"ABS(G31)","v":0}]
["Schwerpunktabstand in y-Richtung","mm",{"$f":"C14","v":0},null,"Mz ges","Nm",{"$f":"MAX(G30,G32)","v":0}]
["Wert K ( Abstand erste / letzte Rolle )","mm",{"$f":"30+(C7*6)","v":30},null,"Mz zul","Nm",{"$f":"G21/2","v":1.05}]
["Anfangswert (Abst. Stirnpl./Deckplatte)","mm",12]
[null,null,null,null,null,null,null,null,"Belastungsgleichung stat.",{"$f":"G19/G21+G25/G26+G32/G34+G38/G39+G42/G43","v":0}]
["l1 bei eingefahrenem Hub","mm",{"$f":"C30+C31-C35","v":13.399999999999999},null,"Fx ges","N",{"$f":"C17","v":0},null,"Belastungsgleichung dyn.",{"$f":"G17/G21+G30/G34+G40/G43","v":0}]
["l1 bei ausgefahrenem Hub","mm",{"$f":"C30+C31+C32-C35","v":18.399999999999999},null,"Absolutwert",null,{"$f":"ABS(G37)","v":0},null,"Belastungsgleichung",{"$f":"MAX(J36:J37)","v":0}]
[null,null,null,null,"Fx zul","N",{"$f":"G43","v":385}]
["Stoßdämpferhub s ( Hub bis a=0 )","m",{"$f":"'Allgemeine Werte'!M32","v":3.3500000000000001E-3},null,"Gewichtskraft","N",{"$f":"C12*9.81","v":0}]
["Verzögerung a=vxv/2xs","m/s2",{"$f":"POWER(C48,2)/(2*C40)","v":10.584776965832464},null,"Fz ges abs","N",{"$f":"ABS(-C25+C12*9.81)","v":0},null,"Verfahrzeitberechnung",null,{"$f":"0.000229592*POWER(C5,2)-0.021683673*C5+3.101836735","v":2.907959205}]
["Kraft zur Verzögerung der Masse","N",{"$f":"C12*C41","v":0},null,"Max aus E40,E41",null,{"$f":"MAX(G40,G41)","v":0},null,"Verfahrzeit berechnet ( t=Wurzel aus (2xsxm/F)",null,{"$f":"(SQRT(2*(C5/1000)*(C12+C8/2)/C9))*K41","v":1.7913764634734177E-2}]
["Kraft zur Verzög. d. Masse incl Modul/2","N",{"$f":"C47*C41","v":0.7832734954716023},null,"Fz zul","N",{"$f":"385+70*C7","v":385},null,"Mittlere Verfahrgeschwindigkeit berechnet",null,{"$f":"(C5/1000)/K42","v":0.55822995355260741}]
[null,null,null,null,null,null,null,null,"Endgeschwindigkeit berechnet",null,{"$f":"K43*'Allgemeine Werte'!E71","v":0.97690241871706296}]
["Stoßdämpferberechnung",null,null,null,"Max. Zyklenzahl / Min."]
["Anzahl Stoßdämpfer",null,1,null,"Zyklen aus Verfahrzeit",null,{"$f":"60/(2*L50)","v":456.52173913043481},null,"Endgeschwindigkeit (Eingabe)",null,{"$f":"C10","v":2.02}]
["Gesamtmasse","kg",{"$f":"C12+C8/2","v":7.3999999999999996E-2},null,null,null,null,null,"Mittlere Verfahrgeschwindigkeit (Eingabe)   m/s",null,{"$f":"C10/'Allgemeine Werte'!E71","v":1.1542857142857144}]
["Aufprallgeschwindigkeit","m/s",{"$f":"L54","v":0.26630434782608697},null,"Ezul / Stunde","Nm",{"$f":"'Allgemeine Werte'!H32*C46*0.95","v":2850},null,"Verfahrzeit (Eingabe)","s",{"$f":"(C5/1000)/K47","v":8.6633663366336624E-3},"Verfahrzeit für Berechnung"]
["W1","Nm",{"$f":"C47*POWER(C48,2)*0.5","v":2.623966209829868E-3},null,"Ezul / Minute","Nm",{"$f":"G48/60","v":47.5},null,null,null,null,"( max )"]
["Hub Stoßdämpfer","m",{"$f":"'Allgemeine Werte'!L32","v":5.0000000000000001E-3},null,"Zyklen aus Ezul",null,{"$f":"G49/C53","v":199.8956618628944},null,"min. Verfahrzeit vor","gemessen",{"$f":"0.04+((C5-6)/14)*0.02","v":4.5714285714285714E-2},{"$f":"MAX(K48,K53,K42)","v":6.5714285714285711E-2}]
["Zylinderkraft","N",47,null,null,null,null,null,"Mittlere Verfahrgeschwindigkeit vor",null,{"$f":"(C5/1000)/K50","v":0.21875}]
["W2 ( Antriebsenergie )","Nm",{"$f":"C51*C50","v":0.23500000000000001},null,"Max. Zyklen",null,{"$f":"MIN(G46,G50,G55)","v":120},null,"Endgeschwindigkeit vor",null,{"$f":"K51*'Allgemeine Werte'!E71","v":0.3828125},"Endgeschwindigkeit f. Ber."]
["W1+W2 ( Energie / Hub )","Nm",{"$f":"C52+C49","v":0.2376239662098299},null,null,null,null,null,"min. Verfahrzeit zurück",null,{"$f":"0.06+((C5-6)/14)*0.02","v":6.5714285714285711E-2},"( min )"]
["Ezul / Zyklus ( Hub )","Nm",{"$f":"'Allgemeine Werte'!G32*C50/'Allgemeine Werte'!K32*C46","v":1},null,"Stoßd.-kolbenrückstellzeit",null,{"$f":"'Allgemeine Werte'!E32","v":0.5},null,"Mittlere Verfahrgeschwindigkeit zurück",null,{"$f":"(C5/1000)/K53","v":0.15217391304347827},{"$f":"MIN(K46,K55,K44)","v":0.26630434782608697}]
["Auslastung / Zyklus",null,{"$f":"C53/C54","v":0.2376239662098299},null,"Max. Zyklen aus Rückstellzeit",null,{"$f":"60/G54","v":120},null,"Endgeschwindigkeit zurück",null,{"$f":"K54*'Allgemeine Werte'!E71","v":0.26630434782608697}]

{"sheet":"EM-Ber-CLM10-5","index":82,"n_rows":55,"n_cols":12,"rows_kept":55,"cut":false,"hidden":false,"merged":[]}
["Linearmodul Typ",null,"CLM 10"]
[]
["Berechnung der Führungsbelastung"]
[null,null,null,null,null,null,"Statisch auf Grund","Statisch auf Grund"]
["Hub","mm",{"$f":"'EM-LM-5'!K8","v":10},null,null,null,"Zusatzmasse m","Zusatzmasse m","Dynamisch auf Grund","Statisch auf Grund","Statisch auf Grund"]
["Zylinderkraft","N",47,null,null,null,"Modul ausgef.","Modul eingef.","Zusatzmasse m","Zusatzkraft Modul eingef.","Zusatzkraft Modul ausgef."]
["Faktor",null,{"$f":"ROUNDDOWN(((C5-6)/14.1),0)","v":0},null,null,null,"I","II","III","IV","V"]
["Modulgewicht","kg",{"$f":"0.148+(C7*0.031)","v":0.14799999999999999},null,"Moment Mx=M3","Nm",{"$f":"(C12*9.81)*((C37-C32+C34/2+C33)/1000)","v":0},{"$f":"C12*9.81*((C37+C34/2+C33)/1000)","v":0},{"$f":"C42*(C15/1000)","v":0},{"$f":"(C21*C23/1000)-C25*((C27+C37+C34/2)/1000)","v":0},{"$f":"(C21*C23/1000)-C25*((C27+C37-C32+C34/2)/1000)","v":0}]
["Zylinderkraft zurück","N",39,null,"Moment My=M1","Nm",{"$f":"C12*9.81*((C13)/1000)","v":0},{"$f":"C12*9.81*((C13)/1000)","v":0},"-",{"$f":"C17*(C19/1000)-C25*C26/1000","v":0},{"$f":"C17*(C19/1000)-C25*C26/1000","v":0}]
["Verfahrgeschwindigkeit","m/s",{"$f":"'EM-LM-5-1'!I58","v":2.02},null,"Moment Mz=M2","Nm","-","-",{"$f":"C42*(C13/1000)","v":0},{"$f":"C21*C22/1000-C17*(C18+C37+C34/2)/1000","v":0},{"$f":"C21*C22/1000-C17*(C18+C37-C32+C34/2)/1000","v":0}]
[null,null,null,null,null,null,null,null,null,{"$f":"'EM-LM-5'!G51","v":false}]
["Zusatzmasse","kg",{"$f":"'EM-LM-5'!K14","v":0},null,"Mx Summe  I + III","Nm",{"$f":"G8+I8","v":0}]
["Schwerpunktabstand x-Richt.(Mitte Rolle)","mm",{"$f":"'EM-LM-5'!M14+17.1","v":17.100000000000001},null,"Absolutbetrag",null,{"$f":"ABS(G12)","v":0}]
["Schwerpunktabstand y-Richtung","mm",{"$f":"'EM-LM-5'!O14","v":0},null,"Mx Summe  II-III",null,{"$f":"H8-I8","v":0}]
["Schwerpunktabstand z-Richtung","mm",{"$f":"'EM-LM-5'!Q14","v":0},null,"Absolutbetrag",null,{"$f":"ABS(G14)","v":0}]
[null,null,null,null,"I ","Nm",{"$f":"ABS(G8)","v":0}]
["Zusatzkraft Fx","N",{"$f":"'EM-LM-5'!K18","v":0},null,"I oder I+III oder II-III",null,{"$f":"MAX(G16,G15,G13)","v":0}]
["Kraftangriffspunkt von Fx in y-Richtung","mm",{"$f":"'EM-LM-5'!O18","v":0},null,"Mx Summe  I+V oder II+IV","Nm",{"$f":"IF(AND(J8=0,K8=0),MAX(G8,H8),IF(J11=TRUE,H8+J8,G8+K8))","v":0}]
["Kraftangriffspunkt von Fx in z-Richtung","mm",{"$f":"'EM-LM-5'!Q18","v":0},null,"Absolutbetrag",null,{"$f":"ABS(G18)","v":0}]
[null,null,null,null,"Mx ges","Nm",{"$f":"MAX(G17,G19)","v":0}]
["Zusatzkraft Fy","N",{"$f":"'EM-LM-5'!K20","v":0},null,"Mx zul","Nm",{"$f":"G34/2","v":1.05},null,"Maximal-Werte der Momente und Kräfte nicht aus Katalog, sondern exakt berechnete Werte !!"]
["Kraftangrp. von Fy in x-Richt. (Mitte Rolle)","mm",{"$f":"'EM-LM-5'!M20+17.1","v":17.100000000000001}]
["Kraftangrp. von Fy in z-Richt.","mm",{"$f":"'EM-LM-5'!Q20","v":0},null,"My Summe  I+V ( = II+IV )","Nm",{"$f":"G9+K9","v":0}]
[null,null,null,null,"Absolutbetrag",null,{"$f":"ABS(G23)","v":0}]
["Zusatzkraft Fz","N",{"$f":"'EM-LM-5'!K22","v":0},null,"My ges","Nm",{"$f":"G24","v":0}]
["Kraftangrp. von Fz in x-Richt. (Mitte Rolle)","mm",{"$f":"'EM-LM-5'!M22+17.1","v":17.100000000000001},null,"My zul","Nm",{"$f":"1.82+(0.36*C7)","v":1.82}]
["Kraftangriffspunkt von Fz in y-Richtung","mm",{"$f":"'EM-LM-5'!O22","v":0}]
[]
[null,null,null,null,"Mz III","Nm",{"$f":"I10","v":0}]
["Länge L (Stirnplatte zu 1. Rolle - HubN/2)","mm",15.4,null,"Absolutbetrag",null,{"$f":"ABS(G29)","v":0}]
["Nennhub/2        HubN/2","mm",{"$f":"(20+(C7*14))/2","v":10},null,"Mz IV/V","Nm",{"$f":"IF(J11=TRUE,J10,K10)","v":0}]
["tatsächlicher gefahrener Hub/2","mm",{"$f":"C5/2","v":5},null,"Absolutbetrag",null,{"$f":"ABS(G31)","v":0}]
["Schwerpunktabstand in y-Richtung","mm",{"$f":"C14","v":0},null,"Mz ges","Nm",{"$f":"MAX(G30,G32)","v":0}]
["Wert K ( Abstand erste / letzte Rolle )","mm",{"$f":"30+(C7*6)","v":30},null,"Mz zul","Nm",{"$f":"C34/1000*70","v":2.1}]
["Anfangswert (Abst. Stirnpl./Deckplatte)","mm",12]
[null,null,null,null,null,null,null,null,"Belastungsgleichung stat.",{"$f":"G19/G21+G25/G26+G32/G34+G38/G39+G42/G43","v":0}]
["l1 bei eingefahrenem Hub","mm",{"$f":"C30+C31-C35","v":13.399999999999999},null,"Fx ges","N",{"$f":"C17","v":0},null,"Belastungsgleichung dyn.",{"$f":"G17/G21+G30/G34+G40/G43","v":0}]
["l1 bei ausgefahrenem Hub","mm",{"$f":"C30+C31+C32-C35","v":18.399999999999999},null,"Absolutwert",null,{"$f":"ABS(G37)","v":0},null,"Belastungsgleichung",{"$f":"MAX(J36:J37)","v":0}]
[null,null,null,null,"Fx zul","N",{"$f":"G43","v":385}]
["Stoßdämpferhub s ( Hub bis a=0 )","m",{"$f":"'Allgemeine Werte'!M32","v":3.3500000000000001E-3},null,"Gewichtskraft","N",{"$f":"C12*9.81","v":0}]
["Verzögerung a=vxv/2xs","m/s2",{"$f":"POWER(C48,2)/(2*C40)","v":10.584776965832464},null,"Fz ges abs","N",{"$f":"ABS(-C25+C12*9.81)","v":0},null,"Verfahrzeitberechnung",null,{"$f":"0.000229592*POWER(C5,2)-0.021683673*C5+3.101836735","v":2.907959205}]
["Kraft zur Verzögerung der Masse","N",{"$f":"C12*C41","v":0},null,"Max aus E40,E41",null,{"$f":"MAX(G40,G41)","v":0},null,"Verfahrzeit berechnet ( t=Wurzel aus (2xsxm/F)",null,{"$f":"(SQRT(2*(C5/1000)*(C12+C8/2)/C9))*K41","v":1.7913764634734177E-2}]
["Kraft zur Verzög. d. Masse incl Modul/2","N",{"$f":"C47*C41","v":0.7832734954716023},null,"Fz zul","N",{"$f":"385+70*C7","v":385},null,"Mittlere Verfahrgeschwindigkeit berechnet",null,{"$f":"(C5/1000)/K42","v":0.55822995355260741}]
[null,null,null,null,null,null,null,null,"Endgeschwindigkeit berechnet",null,{"$f":"K43*'Allgemeine Werte'!E71","v":0.97690241871706296}]
["Stoßdämpferberechnung",null,null,null,"Max. Zyklenzahl / Min."]
["Anzahl Stoßdämpfer",null,1,null,"Zyklen aus Verfahrzeit",null,{"$f":"60/(2*L50)","v":456.52173913043481},null,"Endgeschwindigkeit (Eingabe)",null,{"$f":"C10","v":2.02}]
["Gesamtmasse","kg",{"$f":"C12+C8/2","v":7.3999999999999996E-2},null,null,null,null,null,"Mittlere Verfahrgeschwindigkeit (Eingabe)   m/s",null,{"$f":"C10/'Allgemeine Werte'!E71","v":1.1542857142857144}]
["Aufprallgeschwindigkeit","m/s",{"$f":"L54","v":0.26630434782608697},null,"Ezul / Stunde","Nm",{"$f":"'Allgemeine Werte'!H32*C46*0.95","v":2850},null,"Verfahrzeit (Eingabe)","s",{"$f":"(C5/1000)/K47","v":8.6633663366336624E-3},"Verfahrzeit für Berechnung"]
["W1","Nm",{"$f":"C47*POWER(C48,2)*0.5","v":2.623966209829868E-3},null,"Ezul / Minute","Nm",{"$f":"G48/60","v":47.5},null,null,null,null,"( max )"]
["Hub Stoßdämpfer","m",{"$f":"'Allgemeine Werte'!L32","v":5.0000000000000001E-3},null,"Zyklen aus Ezul",null,{"$f":"G49/C53","v":199.8956618628944},null,"min. Verfahrzeit vor","gemessen",{"$f":"0.04+((C5-6)/14)*0.02","v":4.5714285714285714E-2},{"$f":"MAX(K48,K53,K42)","v":6.5714285714285711E-2}]
["Zylinderkraft","N",47,null,null,null,null,null,"Mittlere Verfahrgeschwindigkeit vor",null,{"$f":"(C5/1000)/K50","v":0.21875}]
["W2 ( Antriebsenergie )","Nm",{"$f":"C51*C50","v":0.23500000000000001},null,"Max. Zyklen",null,{"$f":"MIN(G46,G50,G55)","v":120},null,"Endgeschwindigkeit vor",null,{"$f":"K51*'Allgemeine Werte'!E71","v":0.3828125},"Endgeschwindigkeit f. Ber."]
["W1+W2 ( Energie / Hub )","Nm",{"$f":"C52+C49","v":0.2376239662098299},null,null,null,null,null,"min. Verfahrzeit zurück",null,{"$f":"0.06+((C5-6)/14)*0.02","v":6.5714285714285711E-2},"( min )"]
["Ezul / Zyklus ( Hub )","Nm",{"$f":"'Allgemeine Werte'!G32*C50/'Allgemeine Werte'!K32*C46","v":1},null,"Stoßd.-kolbenrückstellzeit",null,{"$f":"'Allgemeine Werte'!E32","v":0.5},null,"Mittlere Verfahrgeschwindigkeit zurück",null,{"$f":"(C5/1000)/K53","v":0.15217391304347827},{"$f":"MIN(K46,K55,K44)","v":0.26630434782608697}]
["Auslastung / Zyklus",null,{"$f":"C53/C54","v":0.2376239662098299},null,"Max. Zyklen aus Rückstellzeit",null,{"$f":"60/G54","v":120},null,"Endgeschwindigkeit zurück",null,{"$f":"K54*'Allgemeine Werte'!E71","v":0.26630434782608697}]

{"sheet":"EM-Ber-CLM10-6","index":83,"n_rows":57,"n_cols":12,"rows_kept":57,"cut":false,"hidden":false,"merged":[]}
["Linearmodul Typ",null,"CLM 10"]
[]
["Berechnung der Führungsbelastung"]
[null,null,null,null,null,null,"Statisch auf Grund","Statisch auf Grund"]
["Hub","mm",{"$f":"'EM-LM-6'!K8","v":10},null,null,null,"Zusatzmasse m","Zusatzmasse m","Dynamisch auf Grund","Statisch auf Grund","Statisch auf Grund"]
["Zylinderkraft","N",47,null,null,null,"Modul ausgef.","Modul eingef.","Zusatzmasse m","Zusatzkraft Modul eingef.","Zusatzkraft Modul ausgef."]
["Faktor",null,{"$f":"ROUNDDOWN(((C5-6)/14.1),0)","v":0},null,null,null,"I","II","III","IV","V"]
["Modulgewicht","kg",{"$f":"0.148+(C7*0.031)","v":0.14799999999999999},null,"Moment Mx=M3","Nm",{"$f":"C12*9.81*((C15)/1000)","v":0},{"$f":"C12*9.81*((C15)/1000)","v":0},{"$f":"C42*(C15/1000)","v":0},{"$f":"IF(K11=TRUE,-(C21*C23/1000)+C25*((C27+C37+C34/2)/1000),(C21*C23/1000)-C25*((C27+C37+C34/2)/1000))","v":0},{"$f":"IF(K11=TRUE,-(C21*C23/1000)+C25*((C27+C37-C32+C34/2)/1000),(C21*C23/1000)-C25*((C27+C37-C32+C34/2)/1000))","v":0}]
["Zylinderkraft zurück","N",39,null,"Moment My=M1","Nm","-","-","-",{"$f":"C17*(C19/1000)-C25*C26/1000","v":0},{"$f":"C17*(C19/1000)-C25*C26/1000","v":0}]
["Verfahrgeschwindigkeit","m/s",{"$f":"'EM-LM-6-1'!I58","v":2.02},null,"Moment Mz=M2","Nm",{"$f":"C12*9.81*((C13)/1000)","v":0},{"$f":"C12*9.81*((C13)/1000)","v":0},{"$f":"C42*(C13/1000)","v":0},{"$f":"IF(K11=TRUE,-C21*C22/1000+C17*(C18+C37+C34/2)/1000,C21*C22/1000-C17*(C18+C37+C34/2)/1000)","v":0},{"$f":"IF(K11=TRUE,-C21*C22/1000+C17*(C18+C37-C32+C34/2)/1000,C21*C22/1000-C17*(C18+C37-C32+C34/2)/1000)","v":0}]
[null,null,null,null,null,null,null,null,null,{"$f":"'EM-LM-6'!G51","v":false},{"$f":"'EM-LM-6'!G52","v":true}]
["Zusatzmasse","kg",{"$f":"'EM-LM-6'!K14","v":0}]
["Schwerpunktabstand x-Richt.(Mitte Rolle)","mm",{"$f":"'EM-LM-6'!M14+17.1","v":17.100000000000001}]
["Schwerpunktabstand y-Richtung","mm",{"$f":"'EM-LM-6'!O14","v":0}]
["Schwerpunktabstand z-Richtung","mm",{"$f":"'EM-LM-6'!Q14","v":0}]
[null,null,null,null,"Mx Summe  I(II) + III","Nm",{"$f":"G8+I8","v":0}]
["Zusatzkraft Fx","N",{"$f":"'EM-LM-6'!K18","v":0},null,"Absolutbetrag",null,{"$f":"ABS(G16)","v":0}]
["Kraftangriffspunkt von Fx in y-Richtung","mm",{"$f":"'EM-LM-6'!O18","v":0},null,"Mx Summe  I+V oder II+IV","Nm",{"$f":"IF(J11=TRUE,H8+J8,G8+K8)","v":0}]
["Kraftangriffspunkt von Fx in z-Richtung","mm",{"$f":"'EM-LM-6'!Q18","v":0},null,"Absolutbetrag",null,{"$f":"ABS(G18)","v":0}]
[null,null,null,null,"Mx ges","Nm",{"$f":"MAX(G17,G19)","v":0}]
["Zusatzkraft Fy","N",{"$f":"'EM-LM-6'!K20","v":0},null,"Mx zul","Nm",{"$f":"G34/2","v":1.05},null,"Maximal-Werte der Momente und Kräfte nicht aus Katalog, sondern exakt berechnete Werte !!"]
["Kraftangrp. von Fy in x-Richt. (Mitte Rolle)","mm",{"$f":"'EM-LM-6'!M20+17.1","v":17.100000000000001}]
["Kraftangrp. von Fy in z-Richt.","mm",{"$f":"'EM-LM-6'!Q20","v":0},null,"My IV = V","Nm",{"$f":"J9","v":0}]
[null,null,null,null,"Absolutbetrag",null,{"$f":"ABS(G23)","v":0}]
["Zusatzkraft Fz","N",{"$f":"'EM-LM-6'!K22","v":0},null,"My ges","Nm",{"$f":"G24","v":0}]
["Kraftangrp. von Fz in x-Richt. (Mitte Rolle)","mm",{"$f":"'EM-LM-6'!M22+17.1","v":17.100000000000001},null,"My zul","Nm",{"$f":"1.82+(0.36*C7)","v":1.82}]
["Kraftangriffspunkt von Fz in y-Richtung","mm",{"$f":"'EM-LM-6'!O22","v":0}]
[]
[null,null,null,null,"Mz Summe I(II)+III","Nm",{"$f":"G10+I10","v":0}]
["Länge L (Stirnplatte zu 1. Rolle - HubN/2)","mm",15.4,null,"Absolutbetrag",null,{"$f":"ABS(G29)","v":0}]
["Nennhub/2        HubN/2","mm",{"$f":"(20+(C7*14))/2","v":10},null,"Mz Summe  I+V oder II+IV","Nm",{"$f":"IF(J11=TRUE,H10+J10,G10+K10)","v":0}]
["tatsächlicher gefahrener Hub/2","mm",{"$f":"C5/2","v":5},null,"Absolutbetrag",null,{"$f":"ABS(G31)","v":0}]
["Schwerpunktabstand in y-Richtung","mm",{"$f":"C14","v":0},null,"Mz ges","Nm",{"$f":"MAX(G30,G32)","v":0}]
["Wert K ( Abstand erste / letzte Rolle )","mm",{"$f":"30+(C7*6)","v":30},null,"Mz zul","Nm",{"$f":"C34/1000*70","v":2.1}]
["Anfangswert (Abst. Stirnpl./Deckplatte)","mm",12]
[null,null,null,null,null,null,null,null,"Belastungsgleichung stat.",{"$f":"G19/G21+G25/G26+G32/G34+G38/G39+G42/G43","v":0}]
["l1 bei eingefahrenem Hub","mm",{"$f":"C30+C31-C35","v":13.399999999999999},null,"Fx ges","N",{"$f":"C17","v":0},null,"Belastungsgleichung dyn.",{"$f":"G17/G21+G30/G34","v":0}]
["l1 bei ausgefahrenem Hub","mm",{"$f":"C30+C31+C32-C35","v":18.399999999999999},null,"Absolutwert",null,{"$f":"ABS(G37)","v":0},null,"Belastungsgleichung",{"$f":"MAX(J36:J37)","v":0}]
[null,null,null,null,"Fx zul","N",{"$f":"G43","v":385}]
["Stoßdämpferhub s ( Hub bis a=0 )","m",{"$f":"'Allgemeine Werte'!M32","v":3.3500000000000001E-3}]
["Verzögerung a=vxv/2xs","m/s2",{"$f":"POWER(C48,2)/(2*C40)","v":10.584776965832464},null,"Fz ges","N",{"$f":"-C25","v":0},null,"Verfahrzeitberechnung",null,{"$f":"0.000229592*POWER(C5,2)-0.021683673*C5+3.101836735","v":2.907959205}]
["Kraft zur Verzögerung der Masse","N",{"$f":"C12*C41","v":0},null,"Absolutwert",null,{"$f":"ABS(G41)","v":0},null,"Verfahrzeit berechnet ( t=Wurzel aus (2xsxm/F)",null,{"$f":"(SQRT(2*(C5/1000)*(C12+C8/2)/(C6-(C12+C8/2)*9.81)))*K41","v":1.6445624302110651E-2}]
["Kraft zur Verzög. d. Masse incl Modul/2","N",{"$f":"C47*C41","v":0.7832734954716023},null,"Fz zul","N",{"$f":"385+70*C7","v":385},null,"Mittlere Verfahrgeschwindigkeit berechnet",null,{"$f":"(C5/1000)/K42","v":0.60806448063614027}]
[null,null,null,null,null,null,null,null,"Endgeschwindigkeit berechnet",null,{"$f":"K43*'Allgemeine Werte'!E71","v":1.0641128411132454}]
["Stoßdämpferberechnung",null,null,null,"Max. Zyklenzahl / Min."]
["Anzahl Stoßdämpfer",null,1,null,"Zyklen aus Verfahrzeit",null,{"$f":"60/(2*L50)","v":456.52173913043481},null,"Endgeschwindigkeit (Eingabe)",null,{"$f":"C10","v":2.02}]
["Gesamtmasse","kg",{"$f":"C12+C8/2","v":7.3999999999999996E-2},null,null,null,null,null,"Mittlere Verfahrgeschwindigkeit (Eingabe)   m/s",null,{"$f":"C10/'Allgemeine Werte'!E71","v":1.1542857142857144}]
["Aufprallgeschwindigkeit","m/s",{"$f":"L54","v":0.26630434782608697},null,"Ezul / Stunde","Nm",{"$f":"'Allgemeine Werte'!H32*C46*0.95","v":2850},null,"Verfahrzeit (Eingabe)","s",{"$f":"(C5/1000)/K47","v":8.6633663366336624E-3},"Verfahrzeit für Berechnung"]
["W1","Nm",{"$f":"C47*POWER(C48,2)*0.5","v":2.623966209829868E-3},null,"Ezul / Minute","Nm",{"$f":"G48/60","v":47.5},null,null,null,null,"( max )"]
["Hub Stoßdämpfer","m",{"$f":"'Allgemeine Werte'!L32","v":5.0000000000000001E-3},null,"Zyklen aus Ezul",null,{"$f":"G49/C53","v":202.99642708939407},null,"min. Verfahrzeit ab","gemessen",{"$f":"0.05+((C5-6)/14)*0.02","v":5.5714285714285716E-2},{"$f":"MAX(K48,K53,K42)","v":6.5714285714285711E-2}]
["Zylinderkraft","N",47,null,null,null,null,null,"Mittlere Verfahrgeschwindigkeit ab",null,{"$f":"(C5/1000)/K50","v":0.17948717948717949}]
["W2 ( Antriebsenergie )","Nm",{"$f":"MAX(C56,C57)*C50","v":0.2313703},null,"Max. Zyklen",null,{"$f":"MIN(G46,G50,G55)","v":120},null,"Endgeschwindigkeit ab",null,{"$f":"K51*'Allgemeine Werte'!E71","v":0.3141025641025641},"Endgeschwindigkeit f. Ber."]
["W1+W2 ( Energie / Hub )","Nm",{"$f":"C52+C49","v":0.23399426620982988},null,null,null,null,null,"min. Verfahrzeit auf",null,{"$f":"0.06+((C5-6)/14)*0.02","v":6.5714285714285711E-2},"( min )"]
["Ezul / Zyklus ( Hub )","Nm",{"$f":"'Allgemeine Werte'!G32*C50/'Allgemeine Werte'!K32*C46","v":1},null,"Stoßd.-kolbenrückstellzeit",null,{"$f":"'Allgemeine Werte'!E32","v":0.5},null,"Mittlere Verfahrgeschwindigkeit auf",null,{"$f":"(C5/1000)/K53","v":0.15217391304347827},{"$f":"MIN(K46,K55,K44)","v":0.26630434782608697}]
["Auslastung / Zyklus",null,{"$f":"C53/C54","v":0.23399426620982988},null,"Max. Zyklen aus Rückstellzeit",null,{"$f":"60/G54","v":120},null,"Endgeschwindigkeit auf",null,{"$f":"K54*'Allgemeine Werte'!E71","v":0.26630434782608697}]
["Antriebskraft nach oben",null,{"$f":"C6-C47*9.81","v":46.274059999999999}]
["Antriebskraft nach unten",null,{"$f":"C9+C47*9.81","v":39.725940000000001}]

{"sheet":"EM-Ber-CLM25-1","index":84,"n_rows":55,"n_cols":12,"rows_kept":55,"cut":false,"hidden":false,"merged":[]}
["Linearmodul Typ",null,"CLM 25"]
[]
["Berechnung der Führungsbelastung"]
[null,null,null,null,null,null,"Statisch auf Grund","Statisch auf Grund"]
["Hub","mm",{"$f":"'EM-LM-1'!K8","v":10},null,null,null,"Zusatzmasse m","Zusatzmasse m","Dynamisch auf Grund","Statisch auf Grund","Statisch auf Grund"]
["Zylinderkraft","N",67,null,null,null,"Modul ausgef.","Modul eingef.","Zusatzmasse m","Zusatzkraft Modul eingef.","Zusatzkraft Modul ausgef."]
["Faktor",null,{"$f":"ROUNDDOWN(((C5-8)/17.1),0)","v":0},null,null,null,"I","II","III","IV","V"]
["Modulgewicht","kg",{"$f":"0.44+(C7*0.08)","v":0.44},null,"Moment Mx=M2","Nm",{"$f":"(C12*9.81)*((C38+C34/2+C33)/1000)","v":0},{"$f":"C12*9.81*((C37+C34/2+C33)/1000)","v":0},{"$f":"C42*(C15/1000)","v":0},{"$f":"(C21*C23/1000)-C25*((C27+C37+C34/2)/1000)","v":0},{"$f":"(C21*C23/1000)-C25*((C27+C38+C34/2)/1000)","v":0}]
["Zylinderkraft zurück","N",50,null,"Moment My=M1","Nm",{"$f":"C12*9.81*(C13/1000)","v":0},{"$f":"C12*9.81*(C13/1000)","v":0},"-",{"$f":"C17*C19/1000-C25*(C26/1000)","v":0},{"$f":"C17*C19/1000-C25*(C26/1000)","v":0}]
["Verfahrgeschwindigkeit","m/s",{"$f":"'EM-LM-1-1'!I58","v":2.02},null,"Moment Mz=M3","Nm","-","-",{"$f":"C42*(C13/1000)","v":0},{"$f":"C21*C22/1000-C17*(C18+C37+C34/2)/1000","v":0},{"$f":"C21*C22/1000-C17*(C18+C38+C34/2)/1000","v":0}]
[null,null,null,null,null,null,null,null,null,{"$f":"'EM-LM-1'!G51","v":true}]
["Zusatzmasse","kg",{"$f":"'EM-LM-1'!K14","v":0},null,"Mx Summe  I + III","Nm",{"$f":"G8+I8","v":0}]
["Schwerpunktabstand x-Richtung","mm",{"$f":"'EM-LM-1'!M14","v":0},null,"Absolutbetrag",null,{"$f":"ABS(G12)","v":0}]
["Schwerpunktabstand y-Richtung","mm",{"$f":"'EM-LM-1'!O14","v":0},null,"Mx Summe  II-III",null,{"$f":"H8-I8","v":0}]
["Schwerpunktabstand z-Richt.(Mitte Rolle)","mm",{"$f":"'EM-LM-1'!Q14+9","v":9},null,"Absolutbetrag",null,{"$f":"ABS(G14)","v":0}]
[null,null,null,null,"I ","Nm",{"$f":"ABS(G8)","v":0}]
["Zusatzkraft Fx","N",{"$f":"'EM-LM-1'!K18","v":0},null,"I oder I+III oder II-III",null,{"$f":"MAX(G16,G15,G13)","v":0}]
["Kraftangriffspunkt von Fx in y-Richtung","mm",{"$f":"'EM-LM-1'!O18","v":0},null,"Mx Summe  I+V oder II+IV","Nm",{"$f":"IF(AND(J8=0,K8=0),MAX(G8,H8),IF(J11=TRUE,H8+J8,G8+K8))","v":0}]
["Kraftangrp. von Fx in z-Richt.(Mitte Rolle)","mm",{"$f":"'EM-LM-1'!Q18+9","v":9},null,"Absolutbetrag",null,{"$f":"ABS(G18)","v":0}]
[null,null,null,null,"Mx ges","Nm",{"$f":"MAX(G17,G19)","v":0}]
["Zusatzkraft Fy","N",{"$f":"'EM-LM-1'!K20","v":0},null,"Mx zul","Nm",{"$f":"C34/1000*120","v":4.8},null,"Maximal-Werte der Momente und Kräfte nicht aus Katalog, sondern exakt berechnete Werte !!"]
["Kraftangriffspunkt von Fy in x-Richtung","mm",{"$f":"'EM-LM-1'!M20","v":0}]
["Kraftangrp. von Fy in z-Richt.(Mitte Rolle)","mm",{"$f":"'EM-LM-1'!Q20+9","v":9},null,"My Summe  I+V ( = II+IV )","Nm",{"$f":"G9+K9","v":0}]
[null,null,null,null,"Absolutbetrag",null,{"$f":"ABS(G23)","v":0}]
["Zusatzkraft Fz","N",{"$f":"'EM-LM-1'!K22","v":0},null,"My ges","Nm",{"$f":"G24","v":0}]
["Kraftangriffspunkt von Fz in x-Richtung","mm",{"$f":"'EM-LM-1'!M22","v":0},null,"My zul","Nm",{"$f":"6.1+(1.2*C7)","v":6.1}]
["Kraftangriffspunkt von Fz in y-Richtung","mm",{"$f":"'EM-LM-1'!O22","v":0}]
[]
[null,null,null,null,"Mz III","Nm",{"$f":"I10","v":0}]
["Länge L (Stirnplatte zu 1. Rolle - HubN/2)","mm",25.5,null,"Absolutbetrag",null,{"$f":"ABS(G29)","v":0}]
["Nennhub/2        HubN/2","mm",{"$f":"(25+(C7*17))/2","v":12.5},null,"Mz IV/V","Nm",{"$f":"IF(J11=TRUE,J10,K10)","v":0}]
["tatsächlicher gefahrener Hub/2","mm",{"$f":"C5/2","v":5},null,"Absolutbetrag",null,{"$f":"ABS(G31)","v":0}]
["Schwerpunktabstand in y-Richtung","mm",{"$f":"C14","v":0},null,"Mz ges","Nm",{"$f":"MAX(G30,G32)","v":0}]
["Wert K ( Abstand erste / letzte Rolle )","mm",{"$f":"40+(C7*8)","v":40},null,"Mz zul","Nm",{"$f":"G21/2","v":2.4}]
[]
[null,null,null,null,null,null,null,null,"Belastungsgleichung stat.",{"$f":"G19/G21+G25/G26+G32/G34+G38/G39+G42/G43","v":0}]
["l1 bei eingefahrenem Hub","mm",{"$f":"C30+C31","v":38},null,"Fx ges","N",{"$f":"C17","v":0},null,"Belastungsgleichung dyn.",{"$f":"G17/G21+G30/G34+G40/G43","v":0}]
["l1 bei ausgefahrenem Hub","mm",{"$f":"C30+C31+C32","v":43},null,"Absolutwert",null,{"$f":"ABS(G37)","v":0},null,"Belastungsgleichung",{"$f":"MAX(J36:J37)","v":0}]
[null,null,null,null,"Fx zul","N",{"$f":"G43","v":660}]
["Stoßdämpferhub s ( Hub bis a=0 )","m",{"$f":"'Allgemeine Werte'!M34","v":4.0200000000000001E-3},null,"Gewichtskraft","N",{"$f":"C12*9.81","v":0}]
["Verzögerung a=vxv/2xs","m/s2",{"$f":"POWER(C48,2)/(2*C40)","v":1.4662795100633013},null,"Fz ges abs","N",{"$f":"ABS(-C25+C12*9.81)","v":0},null,"Verfahrzeitberechnung",null,{"$f":"0.000709343*POWER(C5,2)-0.095761246*C5+6.100692042","v":5.2140138820000006}]
["Kraft zur Verzögerung der Masse","N",{"$f":"C12*C41","v":0},null,"Max aus E40,E41",null,{"$f":"MAX(G40,G41)","v":0},null,"Verfahrzeit berechnet ( t=Wurzel aus (2xsxm/F)",null,{"$f":"(SQRT(2*(C5/1000)*(C12+C8/2)/C9))*K41","v":4.891178576814189E-2}]
["Kraft zur Verzög. d. Masse incl Modul/2","N",{"$f":"C47*C41","v":0.32258149221392629},null,"Fz zul","N",{"$f":"660+120*C7","v":660},null,"Mittlere Verfahrgeschwindigkeit berechnet",null,{"$f":"(C5/1000)/K42","v":0.20444970149737166}]
[null,null,null,null,null,null,null,null,"Endgeschwindigkeit berechnet",null,{"$f":"K43*'Allgemeine Werte'!E71","v":0.3577869776204004}]
["Stoßdämpferberechnung",null,null,null,"Max. Zyklenzahl / Min."]
["Anzahl Stoßdämpfer",null,1,null,"Zyklen aus Verfahrzeit",null,{"$f":"60/(2*L50)","v":186.13138686131384},null,"Endgeschwindigkeit (Eingabe)",null,{"$f":"C10","v":2.02}]
["Gesamtmasse","kg",{"$f":"C12+C8/2","v":0.22},null,null,null,null,null,"Mittlere Verfahrgeschwindigkeit (Eingabe)   m/s",null,{"$f":"C10/'Allgemeine Werte'!E71","v":1.1542857142857144}]
["Aufprallgeschwindigkeit","m/s",{"$f":"L54","v":0.10857664233576642},null,"Ezul / Stunde","Nm",{"$f":"'Allgemeine Werte'!H34*C46*0.95","v":13680},null,"Verfahrzeit (Eingabe)","s",{"$f":"(C5/1000)/K47","v":8.6633663366336624E-3},"Verfahrzeit für Berechnung"]
["W1","Nm",{"$f":"C47*POWER(C48,2)*0.5","v":1.2967775986999837E-3},null,"Ezul / Minute","Nm",{"$f":"G48/60","v":228},null,null,null,null,"( max )"]
["Hub Stoßdämpfer","m",{"$f":"'Allgemeine Werte'!L34","v":6.0000000000000001E-3},null,"Zyklen aus Ezul",null,{"$f":"G49/C53","v":565.34049529865354},null,"min. Verfahrzeit vor","gemessen",{"$f":"0.14+((C5-8)/17)*0.01","v":0.14117647058823532},{"$f":"MAX(K48,K53,K42)","v":0.16117647058823531}]
["Zylinderkraft","N",67,null,null,null,null,null,"Mittlere Verfahrgeschwindigkeit vor",null,{"$f":"(C5/1000)/K50","v":7.0833333333333318E-2}]
["W2 ( Antriebsenergie )","Nm",{"$f":"C51*C50","v":0.40200000000000002},null,"Max. Zyklen",null,{"$f":"MIN(G46,G50,G55)","v":120},null,"Endgeschwindigkeit vor",null,{"$f":"K51*'Allgemeine Werte'!E71","v":0.12395833333333331},"Endgeschwindigkeit f. Ber."]
["W1+W2 ( Energie / Hub )","Nm",{"$f":"C52+C49","v":0.40329677759870003},null,null,null,null,null,"min. Verfahrzeit zurück",null,{"$f":"0.16+((C5-8)/17)*0.01","v":0.16117647058823531},"( min )"]
["Ezul / Zyklus ( Hub )","Nm",{"$f":"'Allgemeine Werte'!G34*C50/'Allgemeine Werte'!K34*C46","v":3.0000000000000004},null,"Stoßd.-kolbenrückstellzeit",null,{"$f":"'Allgemeine Werte'!E34","v":0.5},null,"Mittlere Verfahrgeschwindigkeit zurück",null,{"$f":"(C5/1000)/K53","v":6.204379562043795E-2},{"$f":"MIN(K46,K55,K44)","v":0.10857664233576642}]
["Auslastung / Zyklus",null,{"$f":"C53/C54","v":0.13443225919956667},null,"Max. Zyklen aus Rückstellzeit",null,{"$f":"60/G54","v":120},null,"Endgeschwindigkeit zurück",null,{"$f":"K54*'Allgemeine Werte'!E71","v":0.10857664233576642}]

{"sheet":"EM-Ber-CLM25-2","index":85,"n_rows":55,"n_cols":12,"rows_kept":55,"cut":false,"hidden":false,"merged":[]}
["Linearmodul Typ",null,"CLM 25"]
[]
["Berechnung der Führungsbelastung"]
[null,null,null,null,null,null,"Statisch auf Grund","Statisch auf Grund"]
["Hub","mm",{"$f":"'EM-LM-2'!K8","v":10},null,null,null,"Zusatzmasse m","Zusatzmasse m","Dynamisch auf Grund","Statisch auf Grund","Statisch auf Grund"]
["Zylinderkraft","N",67,null,null,null,"Modul ausgef.","Modul eingef.","Zusatzmasse m","Zusatzkraft Modul eingef.","Zusatzkraft Modul ausgef."]
["Faktor",null,{"$f":"ROUNDDOWN(((C5-8)/17.1),0)","v":0},null,null,null,"I","II","III","IV","V"]
["Modulgewicht","kg",{"$f":"0.44+(C7*0.08)","v":0.44},null,"Moment Mx=M3","Nm",{"$f":"(C12*9.81)*((C38+C34/2+C33)/1000)","v":0},{"$f":"C12*9.81*((C37+C34/2+C33)/1000)","v":0},{"$f":"C42*(C15/1000)","v":0},{"$f":"(C21*C23/1000)-C25*((C27+C37+C34/2)/1000)","v":0},{"$f":"(C21*C23/1000)-C25*((C27+C38+C34/2)/1000)","v":0}]
["Zylinderkraft zurück","N",50,null,"Moment My=M1","Nm",{"$f":"C12*9.81*((C13)/1000)","v":0},{"$f":"C12*9.81*((C13)/1000)","v":0},"-",{"$f":"C17*(C19/1000)-C25*C26/1000","v":0},{"$f":"C17*(C19/1000)-C25*C26/1000","v":0}]
["Verfahrgeschwindigkeit","m/s",{"$f":"'EM-LM-2-1'!I58","v":2.02},null,"Moment Mz=M2","Nm","-","-",{"$f":"C42*(C13/1000)","v":0},{"$f":"C21*C22/1000-C17*(C18+C37+C34/2)/1000","v":0},{"$f":"C21*C22/1000-C17*(C18+C38+C34/2)/1000","v":0}]
[null,null,null,null,null,null,null,null,null,{"$f":"'EM-LM-2'!G51","v":true}]
["Zusatzmasse","kg",{"$f":"'EM-LM-2'!K14","v":0},null,"Mx Summe  I + III","Nm",{"$f":"G8+I8","v":0}]
["Schwerpunktabstand x-Richt.(Mitte Rolle)","mm",{"$f":"'EM-LM-2'!M14+9","v":9},null,"Absolutbetrag",null,{"$f":"ABS(G12)","v":0}]
["Schwerpunktabstand y-Richtung","mm",{"$f":"'EM-LM-2'!O14","v":0},null,"Mx Summe  II-III",null,{"$f":"H8-I8","v":0}]
["Schwerpunktabstand z-Richtung","mm",{"$f":"'EM-LM-2'!Q14","v":0},null,"Absolutbetrag",null,{"$f":"ABS(G14)","v":0}]
[null,null,null,null,"I ","Nm",{"$f":"ABS(G8)","v":0}]
["Zusatzkraft Fx","N",{"$f":"'EM-LM-2'!K18","v":0},null,"I oder I+III oder II-III",null,{"$f":"MAX(G16,G15,G13)","v":0}]
["Kraftangriffspunkt von Fx in y-Richtung","mm",{"$f":"'EM-LM-2'!O18","v":0},null,"Mx Summe  I+V oder II+IV","Nm",{"$f":"IF(AND(J8=0,K8=0),MAX(G8,H8),IF(J11=TRUE,H8+J8,G8+K8))","v":0}]
["Kraftangriffspunkt von Fx in z-Richtung","mm",{"$f":"'EM-LM-2'!Q18","v":0},null,"Absolutbetrag",null,{"$f":"ABS(G18)","v":0}]
[null,null,null,null,"Mx ges","Nm",{"$f":"MAX(G17,G19)","v":0}]
["Zusatzkraft Fy","N",{"$f":"'EM-LM-2'!K20","v":0},null,"Mx zul","Nm",{"$f":"G34/2","v":2.4},null,"Maximal-Werte der Momente und Kräfte nicht aus Katalog, sondern exakt berechnete Werte !!"]
["Kraftangrp. von Fy in x-Richt. (Mitte Rolle)","mm",{"$f":"'EM-LM-2'!M20+9","v":9}]
["Kraftangrp. von Fy in z-Richt.","mm",{"$f":"'EM-LM-2'!Q20","v":0},null,"My Summe  I+V ( = II+IV )","Nm",{"$f":"G9+K9","v":0}]
[null,null,null,null,"Absolutbetrag",null,{"$f":"ABS(G23)","v":0}]
["Zusatzkraft Fz","N",{"$f":"'EM-LM-2'!K22","v":0},null,"My ges","Nm",{"$f":"G24","v":0}]
["Kraftangrp. von Fz in x-Richt. (Mitte Rolle)","mm",{"$f":"'EM-LM-2'!M22+9","v":9},null,"My zul","Nm",{"$f":"6.1+(1.2*C7)","v":6.1}]
["Kraftangriffspunkt von Fz in y-Richtung","mm",{"$f":"'EM-LM-2'!O22","v":0}]
[]
[null,null,null,null,"Mz III","Nm",{"$f":"I10","v":0}]
["Länge L (Stirnplatte zu 1. Rolle - HubN/2)","mm",25.5,null,"Absolutbetrag",null,{"$f":"ABS(G29)","v":0}]
["Nennhub/2        HubN/2","mm",{"$f":"(25+(C7*17))/2","v":12.5},null,"Mz IV/V","Nm",{"$f":"IF(J11=TRUE,J10,K10)","v":0}]
["tatsächlicher gefahrener Hub/2","mm",{"$f":"C5/2","v":5},null,"Absolutbetrag",null,{"$f":"ABS(G31)","v":0}]
["Schwerpunktabstand in y-Richtung","mm",{"$f":"C14","v":0},null,"Mz ges","Nm",{"$f":"MAX(G30,G32)","v":0}]
["Wert K ( Abstand erste / letzte Rolle )","mm",{"$f":"40+(C7*8)","v":40},null,"Mz zul","Nm",{"$f":"C34/1000*120","v":4.8}]
[]
[null,null,null,null,null,null,null,null,"Belastungsgleichung stat.",{"$f":"G19/G21+G25/G26+G32/G34+G38/G39+G42/G43","v":0}]
["l1 bei eingefahrenem Hub","mm",{"$f":"C30+C31","v":38},null,"Fx ges","N",{"$f":"C17","v":0},null,"Belastungsgleichung dyn.",{"$f":"G17/G21+G30/G34+G40/G43","v":0}]
["l1 bei ausgefahrenem Hub","mm",{"$f":"C30+C31+C32","v":43},null,"Absolutwert",null,{"$f":"ABS(G37)","v":0},null,"Belastungsgleichung",{"$f":"MAX(J36:J37)","v":0}]
[null,null,null,null,"Fx zul","N",{"$f":"G43","v":660}]
["Stoßdämpferhub s ( Hub bis a=0 )","m",{"$f":"'Allgemeine Werte'!M34","v":4.0200000000000001E-3},null,"Gewichtskraft","N",{"$f":"C12*9.81","v":0}]
["Verzögerung a=vxv/2xs","m/s2",{"$f":"POWER(C48,2)/(2*C40)","v":1.4662795100633013},null,"Fz ges abs","N",{"$f":"ABS(-C25+C12*9.81)","v":0},null,"Verfahrzeitberechnung",null,{"$f":"0.000709343*POWER(C5,2)-0.095761246*C5+6.100692042","v":5.2140138820000006}]
["Kraft zur Verzögerung der Masse","N",{"$f":"C12*C41","v":0},null,"Max aus E40,E41",null,{"$f":"MAX(G40,G41)","v":0},null,"Verfahrzeit berechnet ( t=Wurzel aus (2xsxm/F)",null,{"$f":"(SQRT(2*(C5/1000)*(C12+C8/2)/C9))*K41","v":4.891178576814189E-2}]
["Kraft zur Verzög. d. Masse incl Modul/2","N",{"$f":"C47*C41","v":0.32258149221392629},null,"Fz zul","N",{"$f":"660+120*C7","v":660},null,"Mittlere Verfahrgeschwindigkeit berechnet",null,{"$f":"(C5/1000)/K42","v":0.20444970149737166}]
[null,null,null,null,null,null,null,null,"Endgeschwindigkeit berechnet",null,{"$f":"K43*'Allgemeine Werte'!E71","v":0.3577869776204004}]
["Stoßdämpferberechnung",null,null,null,"Max. Zyklenzahl / Min."]
["Anzahl Stoßdämpfer",null,1,null,"Zyklen aus Verfahrzeit",null,{"$f":"60/(2*L50)","v":186.13138686131384},null,"Endgeschwindigkeit (Eingabe)",null,{"$f":"C10","v":2.02}]
["Gesamtmasse","kg",{"$f":"C12+C8/2","v":0.22},null,null,null,null,null,"Mittlere Verfahrgeschwindigkeit (Eingabe)   m/s",null,{"$f":"C10/'Allgemeine Werte'!E71","v":1.1542857142857144}]
["Aufprallgeschwindigkeit","m/s",{"$f":"L54","v":0.10857664233576642},null,"Ezul / Stunde","Nm",{"$f":"'Allgemeine Werte'!H34*C46*0.95","v":13680},null,"Verfahrzeit (Eingabe)","s",{"$f":"(C5/1000)/K47","v":8.6633663366336624E-3},"Verfahrzeit für Berechnung"]
["W1","Nm",{"$f":"C47*POWER(C48,2)*0.5","v":1.2967775986999837E-3},null,"Ezul / Minute","Nm",{"$f":"G48/60","v":228},null,null,null,null,"( max )"]
["Hub Stoßdämpfer","m",{"$f":"'Allgemeine Werte'!L34","v":6.0000000000000001E-3},null,"Zyklen aus Ezul",null,{"$f":"G49/C53","v":565.34049529865354},null,"min. Verfahrzeit vor","gemessen",{"$f":"0.14+((C5-8)/17)*0.01","v":0.14117647058823532},{"$f":"MAX(K48,K53,K42)","v":0.16117647058823531}]
["Zylinderkraft","N",67,null,null,null,null,null,"Mittlere Verfahrgeschwindigkeit vor",null,{"$f":"(C5/1000)/K50","v":7.0833333333333318E-2}]
["W2 ( Antriebsenergie )","Nm",{"$f":"C51*C50","v":0.40200000000000002},null,"Max. Zyklen",null,{"$f":"MIN(G46,G50,G55)","v":120},null,"Endgeschwindigkeit vor",null,{"$f":"K51*'Allgemeine Werte'!E71","v":0.12395833333333331},"Endgeschwindigkeit f. Ber."]
["W1+W2 ( Energie / Hub )","Nm",{"$f":"C52+C49","v":0.40329677759870003},null,null,null,null,null,"min. Verfahrzeit zurück",null,{"$f":"0.16+((C5-8)/17)*0.01","v":0.16117647058823531},"( min )"]
["Ezul / Zyklus ( Hub )","Nm",{"$f":"'Allgemeine Werte'!G34*C50/'Allgemeine Werte'!K34*C46","v":3.0000000000000004},null,"Stoßd.-kolbenrückstellzeit",null,{"$f":"'Allgemeine Werte'!E34","v":0.5},null,"Mittlere Verfahrgeschwindigkeit zurück",null,{"$f":"(C5/1000)/K53","v":6.204379562043795E-2},{"$f":"MIN(K46,K55,K44)","v":0.10857664233576642}]
["Auslastung / Zyklus",null,{"$f":"C53/C54","v":0.13443225919956667},null,"Max. Zyklen aus Rückstellzeit",null,{"$f":"60/G54","v":120},null,"Endgeschwindigkeit zurück",null,{"$f":"K54*'Allgemeine Werte'!E71","v":0.10857664233576642}]

{"sheet":"EM-Ber-CLM25-3","index":86,"n_rows":57,"n_cols":12,"rows_kept":57,"cut":false,"hidden":false,"merged":[]}
["Linearmodul Typ",null,"CLM 25"]
[]
["Berechnung der Führungsbelastung"]
[null,null,null,null,null,null,"Statisch auf Grund","Statisch auf Grund"]
["Hub","mm",{"$f":"'EM-LM-3'!K8","v":10},null,null,null,"Zusatzmasse m","Zusatzmasse m","Dynamisch auf Grund","Statisch auf Grund","Statisch auf Grund"]
["Zylinderkraft","N",67,null,null,null,"Modul ausgef.","Modul eingef.","Zusatzmasse m","Zusatzkraft Modul eingef.","Zusatzkraft Modul ausgef."]
["Faktor",null,{"$f":"ROUNDDOWN(((C5-8)/17.1),0)","v":0},null,null,null,"I","II","III","IV","V"]
["Modulgewicht","kg",{"$f":"0.44+(C7*0.08)","v":0.44},null,"Moment Mx=M3","Nm",{"$f":"C12*9.81*((C15)/1000)","v":0},{"$f":"C12*9.81*((C15)/1000)","v":0},{"$f":"C42*(C15/1000)","v":0},{"$f":"IF(K11=TRUE,-(C21*C23/1000)+C25*((C27+C37+C34/2)/1000),(C21*C23/1000)-C25*((C27+C37+C34/2)/1000))","v":0},{"$f":"IF(K11=TRUE,-(C21*C23/1000)+C25*((C27+C38+C34/2)/1000),(C21*C23/1000)-C25*((C27+C38+C34/2)/1000))","v":0}]
["Zylinderkraft zurück","N",50,null,"Moment My=M1","Nm","-","-","-",{"$f":"C17*(C19/1000)-C25*C26/1000","v":0},{"$f":"C17*(C19/1000)-C25*C26/1000","v":0}]
["Verfahrgeschwindigkeit","m/s",{"$f":"'EM-LM-3-1'!I58","v":2.02},null,"Moment Mz=M2","Nm",{"$f":"C12*9.81*((C13)/1000)","v":0},{"$f":"C12*9.81*((C13)/1000)","v":0},{"$f":"C42*(C13/1000)","v":0},{"$f":"IF(K11=TRUE,-C21*C22/1000+C17*(C18+C37+C34/2)/1000,C21*C22/1000-C17*(C18+C37+C34/2)/1000)","v":0},{"$f":"IF(K11=TRUE,-C21*C22/1000+C17*(C18+C38+C34/2)/1000,C21*C22/1000-C17*(C18+C38+C34/2)/1000)","v":0}]
[null,null,null,null,null,null,null,null,null,{"$f":"'EM-LM-3'!G51","v":true},{"$f":"'EM-LM-3'!G52","v":true}]
["Zusatzmasse","kg",{"$f":"'EM-LM-3'!K14","v":0}]
["Schwerpunktabstand x-Richt.(Mitte Rolle)","mm",{"$f":"'EM-LM-3'!M14+9","v":9}]
["Schwerpunktabstand y-Richtung","mm",{"$f":"'EM-LM-3'!O14","v":0}]
["Schwerpunktabstand z-Richtung","mm",{"$f":"'EM-LM-3'!Q14","v":0}]
[null,null,null,null,"Mx Summe  I(II) + III","Nm",{"$f":"G8+I8","v":0}]
["Zusatzkraft Fx","N",{"$f":"'EM-LM-3'!K18","v":0},null,"Absolutbetrag",null,{"$f":"ABS(G16)","v":0}]
["Kraftangriffspunkt von Fx in y-Richtung","mm",{"$f":"'EM-LM-3'!O18","v":0},null,"Mx Summe  I+V oder II+IV","Nm",{"$f":"IF(J11=TRUE,H8+J8,G8+K8)","v":0}]
["Kraftangriffspunkt von Fx in z-Richtung","mm",{"$f":"'EM-LM-3'!Q18","v":0},null,"Absolutbetrag",null,{"$f":"ABS(G18)","v":0}]
[null,null,null,null,"Mx ges","Nm",{"$f":"MAX(G17,G19)","v":0}]
["Zusatzkraft Fy","N",{"$f":"'EM-LM-3'!K20","v":0},null,"Mx zul","Nm",{"$f":"G34/2","v":2.4},null,"Maximal-Werte der Momente und Kräfte nicht aus Katalog, sondern exakt berechnete Werte !!"]
["Kraftangrp. von Fy in x-Richt. (Mitte Rolle)","mm",{"$f":"'EM-LM-3'!M20+9","v":9}]
["Kraftangrp. von Fy in z-Richt.","mm",{"$f":"'EM-LM-3'!Q20","v":0},null,"My IV = V","Nm",{"$f":"J9","v":0}]
[null,null,null,null,"Absolutbetrag",null,{"$f":"ABS(G23)","v":0}]
["Zusatzkraft Fz","N",{"$f":"'EM-LM-3'!K22","v":0},null,"My ges","Nm",{"$f":"G24","v":0}]
["Kraftangrp. von Fz in x-Richt. (Mitte Rolle)","mm",{"$f":"'EM-LM-3'!M22+9","v":9},null,"My zul","Nm",{"$f":"6.1+(1.2*C7)","v":6.1}]
["Kraftangriffspunkt von Fz in y-Richtung","mm",{"$f":"'EM-LM-3'!O22","v":0}]
[]
[null,null,null,null,"Mz Summe I(II)+III","Nm",{"$f":"G10+I10","v":0}]
["Länge L (Stirnplatte zu 1. Rolle - HubN/2)","mm",25.5,null,"Absolutbetrag",null,{"$f":"ABS(G29)","v":0}]
["Nennhub/2        HubN/2","mm",{"$f":"(25+(C7*17))/2","v":12.5},null,"Mz Summe  I+V oder II+IV","Nm",{"$f":"IF(J11=TRUE,H10+J10,G10+K10)","v":0}]
["tatsächlicher gefahrener Hub/2","mm",{"$f":"C5/2","v":5},null,"Absolutbetrag",null,{"$f":"ABS(G31)","v":0}]
["Schwerpunktabstand in y-Richtung","mm",{"$f":"C14","v":0},null,"Mz ges","Nm",{"$f":"MAX(G30,G32)","v":0}]
["Wert K ( Abstand erste / letzte Rolle )","mm",{"$f":"40+(C7*8)","v":40},null,"Mz zul","Nm",{"$f":"C34/1000*120","v":4.8}]
[]
[null,null,null,null,null,null,null,null,"Belastungsgleichung stat.",{"$f":"G19/G21+G25/G26+G32/G34+G38/G39+G42/G43","v":0}]
["l1 bei eingefahrenem Hub","mm",{"$f":"C30+C31","v":38},null,"Fx ges","N",{"$f":"C17","v":0},null,"Belastungsgleichung dyn.",{"$f":"G17/G21+G30/G34","v":0}]
["l1 bei ausgefahrenem Hub","mm",{"$f":"C30+C31+C32","v":43},null,"Absolutwert",null,{"$f":"ABS(G37)","v":0},null,"Belastungsgleichung",{"$f":"MAX(J36:J37)","v":0}]
[null,null,null,null,"Fx zul","N",{"$f":"G43","v":660}]
["Stoßdämpferhub s ( Hub bis a=0 )","m",{"$f":"'Allgemeine Werte'!M34","v":4.0200000000000001E-3}]
["Verzögerung a=vxv/2xs","m/s2",{"$f":"POWER(C48,2)/(2*C40)","v":1.6666777770672143},null,"Fz ges","N",{"$f":"-C25","v":0},null,"Verfahrzeitberechnung",null,{"$f":"0.000778547*POWER(C5,2)-0.099809689*C5+5.908650519","v":4.9884083290000003}]
["Kraft zur Verzögerung der Masse","N",{"$f":"C12*C41","v":0},null,"Absolutwert",null,{"$f":"ABS(G41)","v":0},null,"Verfahrzeit berechnet ( t=Wurzel aus (2xsxm/F)",null,{"$f":"(SQRT(2*(C5/1000)*(C12+C8/2)/(C6-(C12+C8/2)*9.81)))*K41","v":4.1092333371461308E-2}]
["Kraft zur Verzög. d. Masse incl Modul/2","N",{"$f":"C47*C41","v":0.36666911095478716},null,"Fz zul","N",{"$f":"660+120*C7","v":660},null,"Mittlere Verfahrgeschwindigkeit berechnet",null,{"$f":"(C5/1000)/K42","v":0.24335439678256424}]
[null,null,null,null,null,null,null,null,"Endgeschwindigkeit berechnet",null,{"$f":"K43*'Allgemeine Werte'!E71","v":0.42587019436948742}]
["Stoßdämpferberechnung",null,null,null,"Max. Zyklenzahl / Min."]
["Anzahl Stoßdämpfer",null,1,null,"Zyklen aus Verfahrzeit",null,{"$f":"60/(2*L50)","v":198.44357976653694},null,"Endgeschwindigkeit (Eingabe)",null,{"$f":"C10","v":2.02}]
["Gesamtmasse","kg",{"$f":"C12+C8/2","v":0.22},null,null,null,null,null,"Mittlere Verfahrgeschwindigkeit (Eingabe)   m/s",null,{"$f":"C10/'Allgemeine Werte'!E71","v":1.1542857142857144}]
["Aufprallgeschwindigkeit","m/s",{"$f":"L54","v":0.11575875486381323},null,"Ezul / Stunde","Nm",{"$f":"'Allgemeine Werte'!H34*C46*0.95","v":13680},null,"Verfahrzeit (Eingabe)","s",{"$f":"(C5/1000)/K47","v":8.6633663366336624E-3},"Verfahrzeit für Berechnung"]
["W1","Nm",{"$f":"C47*POWER(C48,2)*0.5","v":1.4740098260382444E-3},null,"Ezul / Minute","Nm",{"$f":"G48/60","v":228},null,null,null,null,"( max )"]
["Hub Stoßdämpfer","m",{"$f":"'Allgemeine Werte'!L34","v":6.0000000000000001E-3},null,"Zyklen aus Ezul",null,{"$f":"G49/C53","v":583.82974464942197},null,"min. Verfahrzeit ab","gemessen",{"$f":"0.13+((C5-8)/17)*0.01","v":0.13117647058823531},{"$f":"MAX(K48,K53,K42)","v":0.1511764705882353}]
["Zylinderkraft","N",67,null,null,null,null,null,"Mittlere Verfahrgeschwindigkeit ab",null,{"$f":"(C5/1000)/K50","v":7.623318385650224E-2}]
["W2 ( Antriebsenergie )","Nm",{"$f":"MAX(C56,C57)*C50","v":0.38905080000000003},null,"Max. Zyklen",null,{"$f":"MIN(G46,G50,G55)","v":120},null,"Endgeschwindigkeit ab",null,{"$f":"K51*'Allgemeine Werte'!E71","v":0.13340807174887892},"Endgeschwindigkeit f. Ber."]
["W1+W2 ( Energie / Hub )","Nm",{"$f":"C52+C49","v":0.39052480982603827},null,null,null,null,null,"min. Verfahrzeit auf",null,{"$f":"0.15+(((C5-8)/17)*0.01)","v":0.1511764705882353},"( min )"]
["Ezul / Zyklus ( Hub )","Nm",{"$f":"'Allgemeine Werte'!G34*C50/'Allgemeine Werte'!K34*C46","v":3.0000000000000004},null,"Stoßd.-kolbenrückstellzeit",null,{"$f":"'Allgemeine Werte'!E34","v":0.5},null,"Mittlere Verfahrgeschwindigkeit auf",null,{"$f":"(C5/1000)/K53","v":6.6147859922178989E-2},{"$f":"MIN(K46,K55,K44)","v":0.11575875486381323}]
["Auslastung / Zyklus",null,{"$f":"C53/C54","v":0.1301749366086794},null,"Max. Zyklen aus Rückstellzeit",null,{"$f":"60/G54","v":120},null,"Endgeschwindigkeit auf",null,{"$f":"K54*'Allgemeine Werte'!E71","v":0.11575875486381323}]
["Antriebskraft nach oben",null,{"$f":"C6-C47*9.81","v":64.841800000000006}]
["Antriebskraft nach unten",null,{"$f":"C9+C47*9.81","v":52.158200000000001}]

{"sheet":"EM-Ber-CLM25-4","index":87,"n_rows":55,"n_cols":12,"rows_kept":55,"cut":false,"hidden":false,"merged":[]}
["Linearmodul Typ",null,"CLM 25"]
[]
["Berechnung der Führungsbelastung"]
[null,null,null,null,null,null,"Statisch auf Grund","Statisch auf Grund"]
["Hub","mm",{"$f":"'EM-LM-4'!K8","v":10},null,null,null,"Zusatzmasse m","Zusatzmasse m","Dynamisch auf Grund","Statisch auf Grund","Statisch auf Grund"]
["Zylinderkraft","N",67,null,null,null,"Modul ausgef.","Modul eingef.","Zusatzmasse m","Zusatzkraft Modul eingef.","Zusatzkraft Modul ausgef."]
["Faktor",null,{"$f":"ROUNDDOWN(((C5-8)/17.1),0)","v":0},null,null,null,"I","II","III","IV","V"]
["Modulgewicht","kg",{"$f":"0.44+(C7*0.08)","v":0.44},null,"Moment Mx=M2","Nm",{"$f":"(C12*9.81)*((C37-C32+C34/2+C33)/1000)","v":0},{"$f":"C12*9.81*((C37+C34/2+C33)/1000)","v":0},{"$f":"C42*(C15/1000)","v":0},{"$f":"(C21*C23/1000)-C25*((C27+C37+C34/2)/1000)","v":0},{"$f":"(C21*C23/1000)-C25*((C27+C37-C32+C34/2)/1000)","v":0}]
["Zylinderkraft zurück","N",50,null,"Moment My=M1","Nm",{"$f":"C12*9.81*(C13/1000)","v":0},{"$f":"C12*9.81*(C13/1000)","v":0},"-",{"$f":"C17*C19/1000-C25*(C26/1000)","v":0},{"$f":"C17*C19/1000-C25*(C26/1000)","v":0}]
["Verfahrgeschwindigkeit","m/s",{"$f":"'EM-LM-4-1'!I58","v":2.02},null,"Moment Mz=M3","Nm","-","-",{"$f":"C42*(C13/1000)","v":0},{"$f":"C21*C22/1000-C17*(C18+C37+C34/2)/1000","v":0},{"$f":"C21*C22/1000-C17*(C18+C37-C32+C34/2)/1000","v":0}]
[null,null,null,null,null,null,null,null,null,{"$f":"'EM-LM-4'!G51","v":false}]
["Zusatzmasse","kg",{"$f":"'EM-LM-4'!K14","v":0},null,"Mx Summe  I + III","Nm",{"$f":"G8+I8","v":0}]
["Schwerpunktabstand x-Richtung","mm",{"$f":"'EM-LM-4'!M14","v":0},null,"Absolutbetrag",null,{"$f":"ABS(G12)","v":0}]
["Schwerpunktabstand y-Richtung","mm",{"$f":"'EM-LM-4'!O14","v":0},null,"Mx Summe  II-III",null,{"$f":"H8-I8","v":0}]
["Schwerpunktabstand z-Richt.(Mitte Rolle)","mm",{"$f":"'EM-LM-4'!Q14+23","v":23},null,"Absolutbetrag",null,{"$f":"ABS(G14)","v":0}]
[null,null,null,null,"I ","Nm",{"$f":"ABS(G8)","v":0}]
["Zusatzkraft Fx","N",{"$f":"'EM-LM-4'!K18","v":0},null,"I oder I+III oder II-III",null,{"$f":"MAX(G16,G15,G13)","v":0}]
["Kraftangriffspunkt von Fx in y-Richtung","mm",{"$f":"'EM-LM-4'!O18","v":0},null,"Mx Summe  I+V oder II+IV","Nm",{"$f":"IF(AND(J8=0,K8=0),MAX(G8,H8),IF(J11=TRUE,H8+J8,G8+K8))","v":0}]
["Kraftangrp. von Fx in z-Richt.(Mitte Rolle)","mm",{"$f":"'EM-LM-4'!Q18+23","v":23},null,"Absolutbetrag",null,{"$f":"ABS(G18)","v":0}]
[null,null,null,null,"Mx ges","Nm",{"$f":"MAX(G17,G19)","v":0}]
["Zusatzkraft Fy","N",{"$f":"'EM-LM-4'!K20","v":0},null,"Mx zul","Nm",{"$f":"C34/1000*120","v":4.8},null,"Maximal-Werte der Momente und Kräfte nicht aus Katalog, sondern exakt berechnete Werte !!"]
["Kraftangriffspunkt von Fy in x-Richtung","mm",{"$f":"'EM-LM-4'!M20","v":0}]
["Kraftangrp. von Fy in z-Richt.(Mitte Rolle)","mm",{"$f":"'EM-LM-4'!Q20+23","v":23},null,"My Summe  I+V ( = II+IV )","Nm",{"$f":"G9+K9","v":0}]
[null,null,null,null,"Absolutbetrag",null,{"$f":"ABS(G23)","v":0}]
["Zusatzkraft Fz","N",{"$f":"'EM-LM-4'!K22","v":0},null,"My ges","Nm",{"$f":"G24","v":0}]
["Kraftangriffspunkt von Fz in x-Richtung","mm",{"$f":"'EM-LM-4'!M22","v":0},null,"My zul","Nm",{"$f":"6.1+(1.2*C7)","v":6.1}]
["Kraftangriffspunkt von Fz in y-Richtung","mm",{"$f":"'EM-LM-4'!O22","v":0}]
[]
[null,null,null,null,"Mz III","Nm",{"$f":"I10","v":0}]
["Länge L (Stirnplatte zu 1. Rolle - HubN/2)","mm",25.5,null,"Absolutbetrag",null,{"$f":"ABS(G29)","v":0}]
["Nennhub/2        HubN/2","mm",{"$f":"(25+(C7*17))/2","v":12.5},null,"Mz IV/V","Nm",{"$f":"IF(J11=TRUE,J10,K10)","v":0}]
["tatsächlicher gefahrener Hub/2","mm",{"$f":"C5/2","v":5},null,"Absolutbetrag",null,{"$f":"ABS(G31)","v":0}]
["Schwerpunktabstand in y-Richtung","mm",{"$f":"C14","v":0},null,"Mz ges","Nm",{"$f":"MAX(G30,G32)","v":0}]
["Wert K ( Abstand erste / letzte Rolle )","mm",{"$f":"40+(C7*8)","v":40},null,"Mz zul","Nm",{"$f":"G21/2","v":2.4}]
["Anfangswert (Abst. Stirnpl./Deckplatte)","mm",18]
[null,null,null,null,null,null,null,null,"Belastungsgleichung stat.",{"$f":"G19/G21+G25/G26+G32/G34+G38/G39+G42/G43","v":0}]
["l1 bei eingefahrenem Hub","mm",{"$f":"C30+C31-C35","v":20},null,"Fx ges","N",{"$f":"C17","v":0},null,"Belastungsgleichung dyn.",{"$f":"G17/G21+G30/G34+G40/G43","v":0}]
["l1 bei ausgefahrenem Hub","mm",{"$f":"C30+C31+C32-C35","v":25},null,"Absolutwert",null,{"$f":"ABS(G37)","v":0},null,"Belastungsgleichung",{"$f":"MAX(J36:J37)","v":0}]
[null,null,null,null,"Fx zul","N",{"$f":"G43","v":660}]
["Stoßdämpferhub s ( Hub bis a=0 )","m",{"$f":"'Allgemeine Werte'!M34","v":4.0200000000000001E-3},null,"Gewichtskraft","N",{"$f":"C12*9.81","v":0}]
["Verzögerung a=vxv/2xs","m/s2",{"$f":"POWER(C48,2)/(2*C40)","v":1.4662795100633013},null,"Fz ges abs","N",{"$f":"ABS(-C25+C12*9.81)","v":0},null,"Verfahrzeitberechnung",null,{"$f":"0.000709343*POWER(C5,2)-0.095761246*C5+6.100692042","v":5.2140138820000006}]
["Kraft zur Verzögerung der Masse","N",{"$f":"C12*C41","v":0},null,"Max aus E40,E41",null,{"$f":"MAX(G40,G41)","v":0},null,"Verfahrzeit berechnet ( t=Wurzel aus (2xsxm/F)",null,{"$f":"(SQRT(2*(C5/1000)*(C12+C8/2)/C9))*K41","v":4.891178576814189E-2}]
["Kraft zur Verzög. d. Masse incl Modul/2","N",{"$f":"C47*C41","v":0.32258149221392629},null,"Fz zul","N",{"$f":"660+120*C7","v":660},null,"Mittlere Verfahrgeschwindigkeit berechnet",null,{"$f":"(C5/1000)/K42","v":0.20444970149737166}]
[null,null,null,null,null,null,null,null,"Endgeschwindigkeit berechnet",null,{"$f":"K43*'Allgemeine Werte'!E71","v":0.3577869776204004}]
["Stoßdämpferberechnung",null,null,null,"Max. Zyklenzahl / Min."]
["Anzahl Stoßdämpfer",null,1,null,"Zyklen aus Verfahrzeit",null,{"$f":"60/(2*L50)","v":186.13138686131384},null,"Endgeschwindigkeit (Eingabe)",null,{"$f":"C10","v":2.02}]
["Gesamtmasse","kg",{"$f":"C12+C8/2","v":0.22},null,null,null,null,null,"Mittlere Verfahrgeschwindigkeit (Eingabe)   m/s",null,{"$f":"C10/'Allgemeine Werte'!E71","v":1.1542857142857144}]
["Aufprallgeschwindigkeit","m/s",{"$f":"L54","v":0.10857664233576642},null,"Ezul / Stunde","Nm",{"$f":"'Allgemeine Werte'!H34*C46*0.95","v":13680},null,"Verfahrzeit (Eingabe)","s",{"$f":"(C5/1000)/K47","v":8.6633663366336624E-3},"Verfahrzeit für Berechnung"]
["W1","Nm",{"$f":"C47*POWER(C48,2)*0.5","v":1.2967775986999837E-3},null,"Ezul / Minute","Nm",{"$f":"G48/60","v":228},null,null,null,null,"( max )"]
["Hub Stoßdämpfer","m",{"$f":"'Allgemeine Werte'!L34","v":6.0000000000000001E-3},null,"Zyklen aus Ezul",null,{"$f":"G49/C53","v":565.34049529865354},null,"min. Verfahrzeit vor","gemessen",{"$f":"0.14+((C5-8)/17)*0.01","v":0.14117647058823532},{"$f":"MAX(K48,K53,K42)","v":0.16117647058823531}]
["Zylinderkraft","N",67,null,null,null,null,null,"Mittlere Verfahrgeschwindigkeit vor",null,{"$f":"(C5/1000)/K50","v":7.0833333333333318E-2}]
["W2 ( Antriebsenergie )","Nm",{"$f":"C51*C50","v":0.40200000000000002},null,"Max. Zyklen",null,{"$f":"MIN(G46,G50,G55)","v":120},null,"Endgeschwindigkeit vor",null,{"$f":"K51*'Allgemeine Werte'!E71","v":0.12395833333333331},"Endgeschwindigkeit f. Ber."]
["W1+W2 ( Energie / Hub )","Nm",{"$f":"C52+C49","v":0.40329677759870003},null,null,null,null,null,"min. Verfahrzeit zurück",null,{"$f":"0.16+((C5-8)/17)*0.01","v":0.16117647058823531},"( min )"]
["Ezul / Zyklus ( Hub )","Nm",{"$f":"'Allgemeine Werte'!G34*C50/'Allgemeine Werte'!K34*C46","v":3.0000000000000004},null,"Stoßd.-kolbenrückstellzeit",null,{"$f":"'Allgemeine Werte'!E34","v":0.5},null,"Mittlere Verfahrgeschwindigkeit zurück",null,{"$f":"(C5/1000)/K53","v":6.204379562043795E-2},{"$f":"MIN(K46,K55,K44)","v":0.10857664233576642}]
["Auslastung / Zyklus",null,{"$f":"C53/C54","v":0.13443225919956667},null,"Max. Zyklen aus Rückstellzeit",null,{"$f":"60/G54","v":120},null,"Endgeschwindigkeit zurück",null,{"$f":"K54*'Allgemeine Werte'!E71","v":0.10857664233576642}]

{"sheet":"EM-Ber-CLM25-5","index":88,"n_rows":55,"n_cols":12,"rows_kept":55,"cut":false,"hidden":false,"merged":[]}
["Linearmodul Typ",null,"CLM 25"]
[]
["Berechnung der Führungsbelastung"]
[null,null,null,null,null,null,"Statisch auf Grund","Statisch auf Grund"]
["Hub","mm",{"$f":"'EM-LM-5'!K8","v":10},null,null,null,"Zusatzmasse m","Zusatzmasse m","Dynamisch auf Grund","Statisch auf Grund","Statisch auf Grund"]
["Zylinderkraft","N",67,null,null,null,"Modul ausgef.","Modul eingef.","Zusatzmasse m","Zusatzkraft Modul eingef.","Zusatzkraft Modul ausgef."]
["Faktor",null,{"$f":"ROUNDDOWN(((C5-8)/17.1),0)","v":0},null,null,null,"I","II","III","IV","V"]
["Modulgewicht","kg",{"$f":"0.44+(C7*0.08)","v":0.44},null,"Moment Mx=M3","Nm",{"$f":"(C12*9.81)*((C37-C32+C34/2+C33)/1000)","v":0},{"$f":"C12*9.81*((C37+C34/2+C33)/1000)","v":0},{"$f":"C42*(C15/1000)","v":0},{"$f":"(C21*C23/1000)-C25*((C27+C37+C34/2)/1000)","v":0},{"$f":"(C21*C23/1000)-C25*((C27+C37-C32+C34/2)/1000)","v":0}]
["Zylinderkraft zurück","N",50,null,"Moment My=M1","Nm",{"$f":"C12*9.81*((C13)/1000)","v":0},{"$f":"C12*9.81*((C13)/1000)","v":0},"-",{"$f":"C17*(C19/1000)-C25*C26/1000","v":0},{"$f":"C17*(C19/1000)-C25*C26/1000","v":0}]
["Verfahrgeschwindigkeit","m/s",{"$f":"'EM-LM-5-1'!I58","v":2.02},null,"Moment Mz=M2","Nm","-","-",{"$f":"C42*(C13/1000)","v":0},{"$f":"C21*C22/1000-C17*(C18+C37+C34/2)/1000","v":0},{"$f":"C21*C22/1000-C17*(C18+C37-C32+C34/2)/1000","v":0}]
[null,null,null,null,null,null,null,null,null,{"$f":"'EM-LM-5'!G51","v":false}]
["Zusatzmasse","kg",{"$f":"'EM-LM-5'!K14","v":0},null,"Mx Summe  I + III","Nm",{"$f":"G8+I8","v":0}]
["Schwerpunktabstand x-Richt.(Mitte Rolle)","mm",{"$f":"'EM-LM-5'!M14+23","v":23},null,"Absolutbetrag",null,{"$f":"ABS(G12)","v":0}]
["Schwerpunktabstand y-Richtung","mm",{"$f":"'EM-LM-5'!O14","v":0},null,"Mx Summe  II-III",null,{"$f":"H8-I8","v":0}]
["Schwerpunktabstand z-Richtung","mm",{"$f":"'EM-LM-5'!Q14","v":0},null,"Absolutbetrag",null,{"$f":"ABS(G14)","v":0}]
[null,null,null,null,"I ","Nm",{"$f":"ABS(G8)","v":0}]
["Zusatzkraft Fx","N",{"$f":"'EM-LM-5'!K18","v":0},null,"I oder I+III oder II-III",null,{"$f":"MAX(G16,G15,G13)","v":0}]
["Kraftangriffspunkt von Fx in y-Richtung","mm",{"$f":"'EM-LM-5'!O18","v":0},null,"Mx Summe  I+V oder II+IV","Nm",{"$f":"IF(AND(J8=0,K8=0),MAX(G8,H8),IF(J11=TRUE,H8+J8,G8+K8))","v":0}]
["Kraftangriffspunkt von Fx in z-Richtung","mm",{"$f":"'EM-LM-5'!Q18","v":0},null,"Absolutbetrag",null,{"$f":"ABS(G18)","v":0}]
[null,null,null,null,"Mx ges","Nm",{"$f":"MAX(G17,G19)","v":0}]
["Zusatzkraft Fy","N",{"$f":"'EM-LM-5'!K20","v":0},null,"Mx zul","Nm",{"$f":"G34/2","v":2.4},null,"Maximal-Werte der Momente und Kräfte nicht aus Katalog, sondern exakt berechnete Werte !!"]
["Kraftangrp. von Fy in x-Richt. (Mitte Rolle)","mm",{"$f":"'EM-LM-5'!M20+23","v":23}]
["Kraftangrp. von Fy in z-Richt.","mm",{"$f":"'EM-LM-5'!Q20","v":0},null,"My Summe  I+V ( = II+IV )","Nm",{"$f":"G9+K9","v":0}]
[null,null,null,null,"Absolutbetrag",null,{"$f":"ABS(G23)","v":0}]
["Zusatzkraft Fz","N",{"$f":"'EM-LM-5'!K22","v":0},null,"My ges","Nm",{"$f":"G24","v":0}]
["Kraftangrp. von Fz in x-Richt. (Mitte Rolle)","mm",{"$f":"'EM-LM-5'!M22+23","v":23},null,"My zul","Nm",{"$f":"6.1+(1.2*C7)","v":6.1}]
["Kraftangriffspunkt von Fz in y-Richtung","mm",{"$f":"'EM-LM-5'!O22","v":0}]
[]
[null,null,null,null,"Mz III","Nm",{"$f":"I10","v":0}]
["Länge L (Stirnplatte zu 1. Rolle - HubN/2)","mm",25.5,null,"Absolutbetrag",null,{"$f":"ABS(G29)","v":0}]
["Nennhub/2        HubN/2","mm",{"$f":"(25+(C7*17))/2","v":12.5},null,"Mz IV/V","Nm",{"$f":"IF(J11=TRUE,J10,K10)","v":0}]
["tatsächlicher gefahrener Hub/2","mm",{"$f":"C5/2","v":5},null,"Absolutbetrag",null,{"$f":"ABS(G31)","v":0}]
["Schwerpunktabstand in y-Richtung","mm",{"$f":"C14","v":0},null,"Mz ges","Nm",{"$f":"MAX(G30,G32)","v":0}]
["Wert K ( Abstand erste / letzte Rolle )","mm",{"$f":"40+(C7*8)","v":40},null,"Mz zul","Nm",{"$f":"C34/1000*120","v":4.8}]
["Anfangswert (Abst. Stirnpl./Deckplatte)","mm",18]
[null,null,null,null,null,null,null,null,"Belastungsgleichung stat.",{"$f":"G19/G21+G25/G26+G32/G34+G38/G39+G42/G43","v":0}]
["l1 bei eingefahrenem Hub","mm",{"$f":"C30+C31-C35","v":20},null,"Fx ges","N",{"$f":"C17","v":0},null,"Belastungsgleichung dyn.",{"$f":"G17/G21+G30/G34+G40/G43","v":0}]
["l1 bei ausgefahrenem Hub","mm",{"$f":"C30+C31+C32-C35","v":25},null,"Absolutwert",null,{"$f":"ABS(G37)","v":0},null,"Belastungsgleichung",{"$f":"MAX(J36:J37)","v":0}]
[null,null,null,null,"Fx zul","N",{"$f":"G43","v":660}]
["Stoßdämpferhub s ( Hub bis a=0 )","m",{"$f":"'Allgemeine Werte'!M34","v":4.0200000000000001E-3},null,"Gewichtskraft","N",{"$f":"C12*9.81","v":0}]
["Verzögerung a=vxv/2xs","m/s2",{"$f":"POWER(C48,2)/(2*C40)","v":1.4662795100633013},null,"Fz ges abs","N",{"$f":"ABS(-C25+C12*9.81)","v":0},null,"Verfahrzeitberechnung",null,{"$f":"0.000709343*POWER(C5,2)-0.095761246*C5+6.100692042","v":5.2140138820000006}]
["Kraft zur Verzögerung der Masse","N",{"$f":"C12*C41","v":0},null,"Max aus E40,E41",null,{"$f":"MAX(G40,G41)","v":0},null,"Verfahrzeit berechnet ( t=Wurzel aus (2xsxm/F)",null,{"$f":"(SQRT(2*(C5/1000)*(C12+C8/2)/C9))*K41","v":4.891178576814189E-2}]
["Kraft zur Verzög. d. Masse incl Modul/2","N",{"$f":"C47*C41","v":0.32258149221392629},null,"Fz zul","N",{"$f":"660+120*C7","v":660},null,"Mittlere Verfahrgeschwindigkeit berechnet",null,{"$f":"(C5/1000)/K42","v":0.20444970149737166}]
[null,null,null,null,null,null,null,null,"Endgeschwindigkeit berechnet",null,{"$f":"K43*'Allgemeine Werte'!E71","v":0.3577869776204004}]
["Stoßdämpferberechnung",null,null,null,"Max. Zyklenzahl / Min."]
["Anzahl Stoßdämpfer",null,1,null,"Zyklen aus Verfahrzeit",null,{"$f":"60/(2*L50)","v":186.13138686131384},null,"Endgeschwindigkeit (Eingabe)",null,{"$f":"C10","v":2.02}]
["Gesamtmasse","kg",{"$f":"C12+C8/2","v":0.22},null,null,null,null,null,"Mittlere Verfahrgeschwindigkeit (Eingabe)   m/s",null,{"$f":"C10/'Allgemeine Werte'!E71","v":1.1542857142857144}]
["Aufprallgeschwindigkeit","m/s",{"$f":"L54","v":0.10857664233576642},null,"Ezul / Stunde","Nm",{"$f":"'Allgemeine Werte'!H34*C46*0.95","v":13680},null,"Verfahrzeit (Eingabe)","s",{"$f":"(C5/1000)/K47","v":8.6633663366336624E-3},"Verfahrzeit für Berechnung"]
["W1","Nm",{"$f":"C47*POWER(C48,2)*0.5","v":1.2967775986999837E-3},null,"Ezul / Minute","Nm",{"$f":"G48/60","v":228},null,null,null,null,"( max )"]
["Hub Stoßdämpfer","m",{"$f":"'Allgemeine Werte'!L34","v":6.0000000000000001E-3},null,"Zyklen aus Ezul",null,{"$f":"G49/C53","v":565.34049529865354},null,"min. Verfahrzeit vor","gemessen",{"$f":"0.14+((C5-8)/17)*0.01","v":0.14117647058823532},{"$f":"MAX(K48,K53,K42)","v":0.16117647058823531}]
["Zylinderkraft","N",67,null,null,null,null,null,"Mittlere Verfahrgeschwindigkeit vor",null,{"$f":"(C5/1000)/K50","v":7.0833333333333318E-2}]
["W2 ( Antriebsenergie )","Nm",{"$f":"C51*C50","v":0.40200000000000002},null,"Max. Zyklen",null,{"$f":"MIN(G46,G50,G55)","v":120},null,"Endgeschwindigkeit vor",null,{"$f":"K51*'Allgemeine Werte'!E71","v":0.12395833333333331},"Endgeschwindigkeit f. Ber."]
["W1+W2 ( Energie / Hub )","Nm",{"$f":"C52+C49","v":0.40329677759870003},null,null,null,null,null,"min. Verfahrzeit zurück",null,{"$f":"0.16+((C5-8)/17)*0.01","v":0.16117647058823531},"( min )"]
["Ezul / Zyklus ( Hub )","Nm",{"$f":"'Allgemeine Werte'!G34*C50/'Allgemeine Werte'!K34*C46","v":3.0000000000000004},null,"Stoßd.-kolbenrückstellzeit",null,{"$f":"'Allgemeine Werte'!E34","v":0.5},null,"Mittlere Verfahrgeschwindigkeit zurück",null,{"$f":"(C5/1000)/K53","v":6.204379562043795E-2},{"$f":"MIN(K46,K55,K44)","v":0.10857664233576642}]
["Auslastung / Zyklus",null,{"$f":"C53/C54","v":0.13443225919956667},null,"Max. Zyklen aus Rückstellzeit",null,{"$f":"60/G54","v":120},null,"Endgeschwindigkeit zurück",null,{"$f":"K54*'Allgemeine Werte'!E71","v":0.10857664233576642}]

{"sheet":"EM-Ber-CLM25-6","index":89,"n_rows":57,"n_cols":12,"rows_kept":57,"cut":false,"hidden":false,"merged":[]}
["Linearmodul Typ",null,"CLM 25"]
[]
["Berechnung der Führungsbelastung"]
[null,null,null,null,null,null,"Statisch auf Grund","Statisch auf Grund"]
["Hub","mm",{"$f":"'EM-LM-6'!K8","v":10},null,null,null,"Zusatzmasse m","Zusatzmasse m","Dynamisch auf Grund","Statisch auf Grund","Statisch auf Grund"]
["Zylinderkraft","N",67,null,null,null,"Modul ausgef.","Modul eingef.","Zusatzmasse m","Zusatzkraft Modul eingef.","Zusatzkraft Modul ausgef."]
["Faktor",null,{"$f":"ROUNDDOWN(((C5-8)/17.1),0)","v":0},null,null,null,"I","II","III","IV","V"]
["Modulgewicht","kg",{"$f":"0.44+(C7*0.08)","v":0.44},null,"Moment Mx=M3","Nm",{"$f":"C12*9.81*((C15)/1000)","v":0},{"$f":"C12*9.81*((C15)/1000)","v":0},{"$f":"C42*(C15/1000)","v":0},{"$f":"IF(K11=TRUE,-(C21*C23/1000)+C25*((C27+C37+C34/2)/1000),(C21*C23/1000)-C25*((C27+C37+C34/2)/1000))","v":0},{"$f":"IF(K11=TRUE,-(C21*C23/1000)+C25*((C27+C37-C32+C34/2)/1000),(C21*C23/1000)-C25*((C27+C37-C32+C34/2)/1000))","v":0}]
["Zylinderkraft zurück","N",50,null,"Moment My=M1","Nm","-","-","-",{"$f":"C17*(C19/1000)-C25*C26/1000","v":0},{"$f":"C17*(C19/1000)-C25*C26/1000","v":0}]
["Verfahrgeschwindigkeit","m/s",{"$f":"'EM-LM-6-1'!I58","v":2.02},null,"Moment Mz=M2","Nm",{"$f":"C12*9.81*((C13)/1000)","v":0},{"$f":"C12*9.81*((C13)/1000)","v":0},{"$f":"C42*(C13/1000)","v":0},{"$f":"IF(K11=TRUE,-C21*C22/1000+C17*(C18+C37+C34/2)/1000,C21*C22/1000-C17*(C18+C37+C34/2)/1000)","v":0},{"$f":"IF(K11=TRUE,-C21*C22/1000+C17*(C18+C37-C32+C34/2)/1000,C21*C22/1000-C17*(C18+C37-C32+C34/2)/1000)","v":0}]
[null,null,null,null,null,null,null,null,null,{"$f":"'EM-LM-6'!G51","v":false},{"$f":"'EM-LM-6'!G52","v":true}]
["Zusatzmasse","kg",{"$f":"'EM-LM-6'!K14","v":0}]
["Schwerpunktabstand x-Richt.(Mitte Rolle)","mm",{"$f":"'EM-LM-6'!M14+23","v":23}]
["Schwerpunktabstand y-Richtung","mm",{"$f":"'EM-LM-6'!O14","v":0}]
["Schwerpunktabstand z-Richtung","mm",{"$f":"'EM-LM-6'!Q14","v":0}]
[null,null,null,null,"Mx Summe  I(II) + III","Nm",{"$f":"G8+I8","v":0}]
["Zusatzkraft Fx","N",{"$f":"'EM-LM-6'!K18","v":0},null,"Absolutbetrag",null,{"$f":"ABS(G16)","v":0}]
["Kraftangriffspunkt von Fx in y-Richtung","mm",{"$f":"'EM-LM-6'!O18","v":0},null,"Mx Summe  I+V oder II+IV","Nm",{"$f":"IF(J11=TRUE,H8+J8,G8+K8)","v":0}]
["Kraftangriffspunkt von Fx in z-Richtung","mm",{"$f":"'EM-LM-6'!Q18","v":0},null,"Absolutbetrag",null,{"$f":"ABS(G18)","v":0}]
[null,null,null,null,"Mx ges","Nm",{"$f":"MAX(G17,G19)","v":0}]
["Zusatzkraft Fy","N",{"$f":"'EM-LM-6'!K20","v":0},null,"Mx zul","Nm",{"$f":"G34/2","v":2.4},null,"Maximal-Werte der Momente und Kräfte nicht aus Katalog, sondern exakt berechnete Werte !!"]
["Kraftangrp. von Fy in x-Richt. (Mitte Rolle)","mm",{"$f":"'EM-LM-6'!M20+23","v":23}]
["Kraftangrp. von Fy in z-Richt.","mm",{"$f":"'EM-LM-6'!Q20","v":0},null,"My IV = V","Nm",{"$f":"J9","v":0}]
[null,null,null,null,"Absolutbetrag",null,{"$f":"ABS(G23)","v":0}]
["Zusatzkraft Fz","N",{"$f":"'EM-LM-6'!K22","v":0},null,"My ges","Nm",{"$f":"G24","v":0}]
["Kraftangrp. von Fz in x-Richt. (Mitte Rolle)","mm",{"$f":"'EM-LM-6'!M22+23","v":23},null,"My zul","Nm",{"$f":"6.1+(1.2*C7)","v":6.1}]
["Kraftangriffspunkt von Fz in y-Richtung","mm",{"$f":"'EM-LM-6'!O22","v":0}]
[]
[null,null,null,null,"Mz Summe I(II)+III","Nm",{"$f":"G10+I10","v":0}]
["Länge L (Stirnplatte zu 1. Rolle - HubN/2)","mm",25.5,null,"Absolutbetrag",null,{"$f":"ABS(G29)","v":0}]
["Nennhub/2        HubN/2","mm",{"$f":"(25+(C7*17))/2","v":12.5},null,"Mz Summe  I+V oder II+IV","Nm",{"$f":"IF(J11=TRUE,H10+J10,G10+K10)","v":0}]
["tatsächlicher gefahrener Hub/2","mm",{"$f":"C5/2","v":5},null,"Absolutbetrag",null,{"$f":"ABS(G31)","v":0}]
["Schwerpunktabstand in y-Richtung","mm",{"$f":"C14","v":0},null,"Mz ges","Nm",{"$f":"MAX(G30,G32)","v":0}]
["Wert K ( Abstand erste / letzte Rolle )","mm",{"$f":"40+(C7*8)","v":40},null,"Mz zul","Nm",{"$f":"C34/1000*120","v":4.8}]
["Anfangswert (Abst. Stirnpl./Deckplatte)","mm",18]
[null,null,null,null,null,null,null,null,"Belastungsgleichung stat.",{"$f":"G19/G21+G25/G26+G32/G34+G38/G39+G42/G43","v":0}]
["l1 bei eingefahrenem Hub","mm",{"$f":"C30+C31-C35","v":20},null,"Fx ges","N",{"$f":"C17","v":0},null,"Belastungsgleichung dyn.",{"$f":"G17/G21+G30/G34","v":0}]
["l1 bei ausgefahrenem Hub","mm",{"$f":"C30+C31+C32-C35","v":25},null,"Absolutwert",null,{"$f":"ABS(G37)","v":0},null,"Belastungsgleichung",{"$f":"MAX(J36:J37)","v":0}]
[null,null,null,null,"Fx zul","N",{"$f":"G43","v":660}]
["Stoßdämpferhub s ( Hub bis a=0 )","m",{"$f":"'Allgemeine Werte'!M34","v":4.0200000000000001E-3}]
["Verzögerung a=vxv/2xs","m/s2",{"$f":"POWER(C48,2)/(2*C40)","v":1.6666777770672143},null,"Fz ges","N",{"$f":"-C25","v":0},null,"Verfahrzeitberechnung",null,{"$f":"0.000778547*POWER(C5,2)-0.099809689*C5+5.908650519","v":4.9884083290000003}]
["Kraft zur Verzögerung der Masse","N",{"$f":"C12*C41","v":0},null,"Absolutwert",null,{"$f":"ABS(G41)","v":0},null,"Verfahrzeit berechnet ( t=Wurzel aus (2xsxm/F)",null,{"$f":"(SQRT(2*(C5/1000)*(C12+C8/2)/(C6-(C12+C8/2)*9.81)))*K41","v":4.1092333371461308E-2}]
["Kraft zur Verzög. d. Masse incl Modul/2","N",{"$f":"C47*C41","v":0.36666911095478716},null,"Fz zul","N",{"$f":"660+120*C7","v":660},null,"Mittlere Verfahrgeschwindigkeit berechnet",null,{"$f":"(C5/1000)/K42","v":0.24335439678256424}]
[null,null,null,null,null,null,null,null,"Endgeschwindigkeit berechnet",null,{"$f":"K43*'Allgemeine Werte'!E71","v":0.42587019436948742}]
["Stoßdämpferberechnung",null,null,null,"Max. Zyklenzahl / Min."]
["Anzahl Stoßdämpfer",null,1,null,"Zyklen aus Verfahrzeit",null,{"$f":"60/(2*L50)","v":198.44357976653694},null,"Endgeschwindigkeit (Eingabe)",null,{"$f":"C10","v":2.02}]
["Gesamtmasse","kg",{"$f":"C12+C8/2","v":0.22},null,null,null,null,null,"Mittlere Verfahrgeschwindigkeit (Eingabe)   m/s",null,{"$f":"C10/'Allgemeine Werte'!E71","v":1.1542857142857144}]
["Aufprallgeschwindigkeit","m/s",{"$f":"L54","v":0.11575875486381323},null,"Ezul / Stunde","Nm",{"$f":"'Allgemeine Werte'!H34*C46*0.95","v":13680},null,"Verfahrzeit (Eingabe)","s",{"$f":"(C5/1000)/K47","v":8.6633663366336624E-3},"Verfahrzeit für Berechnung"]
["W1","Nm",{"$f":"C47*POWER(C48,2)*0.5","v":1.4740098260382444E-3},null,"Ezul / Minute","Nm",{"$f":"G48/60","v":228},null,null,null,null,"( max )"]
["Hub Stoßdämpfer","m",{"$f":"'Allgemeine Werte'!L34","v":6.0000000000000001E-3},null,"Zyklen aus Ezul",null,{"$f":"G49/C53","v":583.82974464942197},null,"min. Verfahrzeit ab","gemessen",{"$f":"0.13+((C5-8)/17)*0.01","v":0.13117647058823531},{"$f":"MAX(K48,K53,K42)","v":0.1511764705882353}]
["Zylinderkraft","N",67,null,null,null,null,null,"Mittlere Verfahrgeschwindigkeit ab",null,{"$f":"(C5/1000)/K50","v":7.623318385650224E-2}]
["W2 ( Antriebsenergie )","Nm",{"$f":"MAX(C56,C57)*C50","v":0.38905080000000003},null,"Max. Zyklen",null,{"$f":"MIN(G46,G50,G55)","v":120},null,"Endgeschwindigkeit ab",null,{"$f":"K51*'Allgemeine Werte'!E71","v":0.13340807174887892},"Endgeschwindigkeit f. Ber."]
["W1+W2 ( Energie / Hub )","Nm",{"$f":"C52+C49","v":0.39052480982603827},null,null,null,null,null,"min. Verfahrzeit auf",null,{"$f":"0.15+(((C5-8)/17)*0.01)","v":0.1511764705882353},"( min )"]
["Ezul / Zyklus ( Hub )","Nm",{"$f":"'Allgemeine Werte'!G34*C50/'Allgemeine Werte'!K34*C46","v":3.0000000000000004},null,"Stoßd.-kolbenrückstellzeit",null,{"$f":"'Allgemeine Werte'!E34","v":0.5},null,"Mittlere Verfahrgeschwindigkeit auf",null,{"$f":"(C5/1000)/K53","v":6.6147859922178989E-2},{"$f":"MIN(K46,K55,K44)","v":0.11575875486381323}]
["Auslastung / Zyklus",null,{"$f":"C53/C54","v":0.1301749366086794},null,"Max. Zyklen aus Rückstellzeit",null,{"$f":"60/G54","v":120},null,"Endgeschwindigkeit auf",null,{"$f":"K54*'Allgemeine Werte'!E71","v":0.11575875486381323}]
["Antriebskraft nach oben",null,{"$f":"C6-C47*9.81","v":64.841800000000006}]
["Antriebskraft nach unten",null,{"$f":"C9+C47*9.81","v":52.158200000000001}]

{"sheet":"EM-Ber-CLM50-1","index":90,"n_rows":55,"n_cols":12,"rows_kept":55,"cut":false,"hidden":false,"merged":[]}
["Linearmodul Typ",null,"CLM 50"]
[]
["Berechnung der Führungsbelastung"]
[null,null,null,null,null,null,"Statisch auf Grund","Statisch auf Grund"]
["Hub","mm",{"$f":"'EM-LM-1'!K8","v":10},null,null,null,"Zusatzmasse m","Zusatzmasse m","Dynamisch auf Grund","Statisch auf Grund","Statisch auf Grund"]
["Zylinderkraft","N",120,null,null,null,"Modul ausgef.","Modul eingef.","Zusatzmasse m","Zusatzkraft Modul eingef.","Zusatzkraft Modul ausgef."]
["Faktor",null,{"$f":"ROUNDDOWN(((C5+12.5)/25.1)+0.5,0)","v":1},null,null,null,"I","II","III","IV","V"]
["Modulgewicht","kg",{"$f":"0.56+(C7*0.2)","v":0.76},null,"Moment Mx=M2","Nm",{"$f":"(C12*9.81)*((C38+C34/2+C33)/1000)","v":0},{"$f":"C12*9.81*((C37+C34/2+C33)/1000)","v":0},{"$f":"C42*(C15/1000)","v":0},{"$f":"(C21*C23/1000)-C25*((C27+C37+C34/2)/1000)","v":0},{"$f":"(C21*C23/1000)-C25*((C27+C38+C34/2)/1000)","v":0}]
["Zylinderkraft zurück","N",103,null,"Moment My=M1","Nm",{"$f":"C12*9.81*(C13/1000)","v":0},{"$f":"C12*9.81*(C13/1000)","v":0},"-",{"$f":"C17*C19/1000-C25*(C26/1000)","v":0},{"$f":"C17*C19/1000-C25*(C26/1000)","v":0}]
["Verfahrgeschwindigkeit","m/s",{"$f":"'EM-LM-1-1'!I58","v":2.02},null,"Moment Mz=M3","Nm","-","-",{"$f":"C42*(C13/1000)","v":0},{"$f":"C21*C22/1000-C17*(C18+C37+C34/2)/1000","v":0},{"$f":"C21*C22/1000-C17*(C18+C38+C34/2)/1000","v":0}]
[null,null,null,null,null,null,null,null,null,{"$f":"'EM-LM-1'!G51","v":true}]
["Zusatzmasse","kg",{"$f":"'EM-LM-1'!K14","v":0},null,"Mx Summe  I + III","Nm",{"$f":"G8+I8","v":0}]
["Schwerpunktabstand x-Richtung","mm",{"$f":"'EM-LM-1'!M14","v":0},null,"Absolutbetrag",null,{"$f":"ABS(G12)","v":0}]
["Schwerpunktabstand y-Richtung","mm",{"$f":"'EM-LM-1'!O14","v":0},null,"Mx Summe  II-III",null,{"$f":"H8-I8","v":0}]
["Schwerpunktabstand z-Richt.(Mitte Rolle)","mm",{"$f":"'EM-LM-1'!Q14+11","v":11},null,"Absolutbetrag",null,{"$f":"ABS(G14)","v":0}]
[null,null,null,null,"I ","Nm",{"$f":"ABS(G8)","v":0}]
["Zusatzkraft Fx","N",{"$f":"'EM-LM-1'!K18","v":0},null,"I oder I+III oder II-III",null,{"$f":"MAX(G16,G15,G13)","v":0}]
["Kraftangriffspunkt von Fx in y-Richtung","mm",{"$f":"'EM-LM-1'!O18","v":0},null,"Mx Summe  I+V oder II+IV","Nm",{"$f":"IF(AND(J8=0,K8=0),MAX(G8,H8),IF(J11=TRUE,H8+J8,G8+K8))","v":0}]
["Kraftangrp. von Fx in z-Richt.(Mitte Rolle)","mm",{"$f":"'EM-LM-1'!Q18+11","v":11},null,"Absolutbetrag",null,{"$f":"ABS(G18)","v":0}]
[null,null,null,null,"Mx ges","Nm",{"$f":"MAX(G17,G19)","v":0}]
["Zusatzkraft Fy","N",{"$f":"'EM-LM-1'!K20","v":0},null,"Mx zul","Nm",{"$f":"C34/1000*260","v":11.7},null,"Maximal-Werte der Momente und Kräfte nicht aus Katalog, sondern exakt berechnete Werte !!"]
["Kraftangriffspunkt von Fy in x-Richtung","mm",{"$f":"'EM-LM-1'!M20","v":0}]
["Kraftangrp. von Fy in z-Richt.(Mitte Rolle)","mm",{"$f":"'EM-LM-1'!Q20+11","v":11},null,"My Summe  I+V ( = II+IV )","Nm",{"$f":"G9+K9","v":0}]
[null,null,null,null,"Absolutbetrag",null,{"$f":"ABS(G23)","v":0}]
["Zusatzkraft Fz","N",{"$f":"'EM-LM-1'!K22","v":0},null,"My ges","Nm",{"$f":"G24","v":0}]
["Kraftangriffspunkt von Fz in x-Richtung","mm",{"$f":"'EM-LM-1'!M22","v":0},null,"My zul","Nm",{"$f":"11+(3*C7)","v":14}]
["Kraftangriffspunkt von Fz in y-Richtung","mm",{"$f":"'EM-LM-1'!O22","v":0}]
[]
[null,null,null,null,"Mz III","Nm",{"$f":"I10","v":0}]
["Länge L (Stirnplatte zu 1. Rolle - HubN/2)","mm",27.5,null,"Absolutbetrag",null,{"$f":"ABS(G29)","v":0}]
["Nennhub/2        HubN/2","mm",{"$f":"(0+(C7*25))/2","v":12.5},null,"Mz IV/V","Nm",{"$f":"IF(J11=TRUE,J10,K10)","v":0}]
["tatsächlicher gefahrener Hub/2","mm",{"$f":"C5/2","v":5},null,"Absolutbetrag",null,{"$f":"ABS(G31)","v":0}]
["Schwerpunktabstand in y-Richtung","mm",{"$f":"C14","v":0},null,"Mz ges","Nm",{"$f":"MAX(G30,G32)","v":0}]
["Wert K ( Abstand erste / letzte Rolle )","mm",{"$f":"31.7+(13.3*C7)","v":45},null,"Mz zul","Nm",{"$f":"G21/2","v":5.85}]
[]
[null,null,null,null,null,null,null,null,"Belastungsgleichung stat.",{"$f":"G19/G21+G25/G26+G32/G34+G38/G39+G42/G43","v":0}]
["l1 bei eingefahrenem Hub","mm",{"$f":"C30+C31","v":40},null,"Fx ges","N",{"$f":"C17","v":0},null,"Belastungsgleichung dyn.",{"$f":"G17/G21+G30/G34+G40/G43","v":0}]
["l1 bei ausgefahrenem Hub","mm",{"$f":"C30+C31+C32","v":45},null,"Absolutwert",null,{"$f":"ABS(G37)","v":0},null,"Belastungsgleichung",{"$f":"MAX(J36:J37)","v":0}]
[null,null,null,null,"Fx zul","N",{"$f":"G43","v":1300}]
["Stoßdämpferhub s ( Hub bis a=0 )","m",{"$f":"'Allgemeine Werte'!M36","v":4.5560000000000002E-3},null,"Gewichtskraft","N",{"$f":"C12*9.81","v":0}]
["Verzögerung a=vxv/2xs","m/s2",{"$f":"POWER(C48,2)/(2*C40)","v":3.499534142015015},null,"Fz ges abs","N",{"$f":"ABS(-C25+C12*9.81)","v":0},null,"Verfahrzeitberechnung"]
["Kraft zur Verzögerung der Masse","N",{"$f":"C12*C41","v":0},null,"Max aus E40,E41",null,{"$f":"MAX(G40,G41)","v":0},null,"Verfahrzeit berechnet ( t=Wurzel aus (2xsxm/F)",null,{"$f":"(SQRT(2*(C5/1000)*(C12+C8/2)/C9))*(2.8-C7*0.2)","v":2.2333743898076165E-2}]
["Kraft zur Verzög. d. Masse incl Modul/2","N",{"$f":"C47*C41","v":1.3298229739657057},null,"Fz zul","N",{"$f":"975+325*C7","v":1300},null,"Mittlere Verfahrgeschwindigkeit berechnet",null,{"$f":"(C5/1000)/K42","v":0.4477529627650742}]
[null,null,null,null,null,null,null,null,"Endgeschwindigkeit berechnet",null,{"$f":"K43*'Allgemeine Werte'!E71","v":0.78356768483887984}]
["Stoßdämpferberechnung",null,null,null,"Max. Zyklenzahl / Min."]
["Anzahl Stoßdämpfer",null,1,null,"Zyklen aus Verfahrzeit",null,{"$f":"60/(2*L50)","v":306.12244897959181},null,"Endgeschwindigkeit (Eingabe)",null,{"$f":"C10","v":2.02}]
["Gesamtmasse","kg",{"$f":"C12+C8/2","v":0.38},null,null,null,null,null,"Mittlere Verfahrgeschwindigkeit (Eingabe)   m/s",null,{"$f":"C10/'Allgemeine Werte'!E71","v":1.1542857142857144}]
["Aufprallgeschwindigkeit","m/s",{"$f":"L54","v":0.17857142857142858},null,"Ezul / Stunde","Nm",{"$f":"'Allgemeine Werte'!H36*C46*0.95","v":23940},null,"Verfahrzeit (Eingabe)","s",{"$f":"(C5/1000)/K47","v":8.6633663366336624E-3},"Verfahrzeit für Berechnung"]
["W1","Nm",{"$f":"C47*POWER(C48,2)*0.5","v":6.0586734693877549E-3},null,"Ezul / Minute","Nm",{"$f":"G48/60","v":399},null,null,null,null,"( max )"]
["Hub Stoßdämpfer","m",{"$f":"'Allgemeine Werte'!L36","v":6.7999999999999996E-3},null,"Zyklen aus Ezul",null,{"$f":"G49/C53","v":485.36681489664767},null,"min. Verfahrzeit vor","gemessen",{"$f":"0.07+((C5/12.5)*0.01)","v":7.8000000000000014E-2},{"$f":"MAX(K48,K53,K42)","v":9.8000000000000004E-2}]
["Zylinderkraft","N",120,null,null,null,null,null,"Mittlere Verfahrgeschwindigkeit vor",null,{"$f":"(C5/1000)/K50","v":0.12820512820512819}]
["W2 ( Antriebsenergie )","Nm",{"$f":"C51*C50","v":0.81599999999999995},null,"Max. Zyklen",null,{"$f":"MIN(G46,G50,G55)","v":120},null,"Endgeschwindigkeit vor",null,{"$f":"K51*'Allgemeine Werte'!E71","v":0.22435897435897434},"Endgeschwindigkeit f. Ber."]
["W1+W2 ( Energie / Hub )","Nm",{"$f":"C52+C49","v":0.82205867346938766},null,null,null,null,null,"min. Verfahrzeit zurück",null,{"$f":"0.09+((C5/12.5)*0.01)","v":9.8000000000000004E-2},"( min )"]
["Ezul / Zyklus ( Hub )","Nm",{"$f":"'Allgemeine Werte'!G36*C50/'Allgemeine Werte'!K36*C46","v":5.8285714285714283},null,"Stoßd.-kolbenrückstellzeit",null,{"$f":"'Allgemeine Werte'!E36","v":0.5},null,"Mittlere Verfahrgeschwindigkeit zurück",null,{"$f":"(C5/1000)/K53","v":0.10204081632653061},{"$f":"MIN(K46,K55,K44)","v":0.17857142857142858}]
["Auslastung / Zyklus",null,{"$f":"C53/C54","v":0.14103947829131652},null,"Max. Zyklen aus Rückstellzeit",null,{"$f":"60/G54","v":120},null,"Endgeschwindigkeit zurück",null,{"$f":"K54*'Allgemeine Werte'!E71","v":0.17857142857142858}]

{"sheet":"EM-Ber-CLM50-2","index":91,"n_rows":55,"n_cols":12,"rows_kept":55,"cut":false,"hidden":false,"merged":[]}
["Linearmodul Typ",null,"CLM 50"]
[]
["Berechnung der Führungsbelastung"]
[null,null,null,null,null,null,"Statisch auf Grund","Statisch auf Grund"]
["Hub","mm",{"$f":"'EM-LM-2'!K8","v":10},null,null,null,"Zusatzmasse m","Zusatzmasse m","Dynamisch auf Grund","Statisch auf Grund","Statisch auf Grund"]
["Zylinderkraft","N",120,null,null,null,"Modul ausgef.","Modul eingef.","Zusatzmasse m","Zusatzkraft Modul eingef.","Zusatzkraft Modul ausgef."]
["Faktor",null,{"$f":"ROUNDDOWN(((C5+12.5)/25.1)+0.5,0)","v":1},null,null,null,"I","II","III","IV","V"]
["Modulgewicht","kg",{"$f":"0.56+(C7*0.2)","v":0.76},null,"Moment Mx=M3","Nm",{"$f":"(C12*9.81)*((C38+C34/2+C33)/1000)","v":0},{"$f":"C12*9.81*((C37+C34/2+C33)/1000)","v":0},{"$f":"C42*(C15/1000)","v":0},{"$f":"(C21*C23/1000)-C25*((C27+C37+C34/2)/1000)","v":0},{"$f":"(C21*C23/1000)-C25*((C27+C38+C34/2)/1000)","v":0}]
["Zylinderkraft zurück","N",103,null,"Moment My=M1","Nm",{"$f":"C12*9.81*((C13)/1000)","v":0},{"$f":"C12*9.81*((C13)/1000)","v":0},"-",{"$f":"C17*(C19/1000)-C25*C26/1000","v":0},{"$f":"C17*(C19/1000)-C25*C26/1000","v":0}]
["Verfahrgeschwindigkeit","m/s",{"$f":"'EM-LM-2-1'!I58","v":2.02},null,"Moment Mz=M2","Nm","-","-",{"$f":"C42*(C13/1000)","v":0},{"$f":"C21*C22/1000-C17*(C18+C37+C34/2)/1000","v":0},{"$f":"C21*C22/1000-C17*(C18+C38+C34/2)/1000","v":0}]
[null,null,null,null,null,null,null,null,null,{"$f":"'EM-LM-2'!G51","v":true}]
["Zusatzmasse","kg",{"$f":"'EM-LM-2'!K14","v":0},null,"Mx Summe  I + III","Nm",{"$f":"G8+I8","v":0}]
["Schwerpunktabstand x-Richt.(Mitte Rolle)","mm",{"$f":"'EM-LM-2'!M14+11","v":11},null,"Absolutbetrag",null,{"$f":"ABS(G12)","v":0}]
["Schwerpunktabstand y-Richtung","mm",{"$f":"'EM-LM-2'!O14","v":0},null,"Mx Summe  II-III",null,{"$f":"H8-I8","v":0}]
["Schwerpunktabstand z-Richtung","mm",{"$f":"'EM-LM-2'!Q14","v":0},null,"Absolutbetrag",null,{"$f":"ABS(G14)","v":0}]
[null,null,null,null,"I ","Nm",{"$f":"ABS(G8)","v":0}]
["Zusatzkraft Fx","N",{"$f":"'EM-LM-2'!K18","v":0},null,"I oder I+III oder II-III",null,{"$f":"MAX(G16,G15,G13)","v":0}]
["Kraftangriffspunkt von Fx in y-Richtung","mm",{"$f":"'EM-LM-2'!O18","v":0},null,"Mx Summe  I+V oder II+IV","Nm",{"$f":"IF(AND(J8=0,K8=0),MAX(G8,H8),IF(J11=TRUE,H8+J8,G8+K8))","v":0}]
["Kraftangriffspunkt von Fx in z-Richtung","mm",{"$f":"'EM-LM-2'!Q18","v":0},null,"Absolutbetrag",null,{"$f":"ABS(G18)","v":0}]
[null,null,null,null,"Mx ges","Nm",{"$f":"MAX(G17,G19)","v":0}]
["Zusatzkraft Fy","N",{"$f":"'EM-LM-2'!K20","v":0},null,"Mx zul","Nm",{"$f":"G34/2","v":5.85},null,"Maximal-Werte der Momente und Kräfte nicht aus Katalog, sondern exakt berechnete Werte !!"]
["Kraftangrp. von Fy in x-Richt. (Mitte Rolle)","mm",{"$f":"'EM-LM-2'!M20+11","v":11}]
["Kraftangrp. von Fy in z-Richt.","mm",{"$f":"'EM-LM-2'!Q20","v":0},null,"My Summe  I+V ( = II+IV )","Nm",{"$f":"G9+K9","v":0}]
[null,null,null,null,"Absolutbetrag",null,{"$f":"ABS(G23)","v":0}]
["Zusatzkraft Fz","N",{"$f":"'EM-LM-2'!K22","v":0},null,"My ges","Nm",{"$f":"G24","v":0}]
["Kraftangrp. von Fz in x-Richt. (Mitte Rolle)","mm",{"$f":"'EM-LM-2'!M22+11","v":11},null,"My zul","Nm",{"$f":"11+(3*C7)","v":14}]
["Kraftangriffspunkt von Fz in y-Richtung","mm",{"$f":"'EM-LM-2'!O22","v":0}]
[]
[null,null,null,null,"Mz III","Nm",{"$f":"I10","v":0}]
["Länge L (Stirnplatte zu 1. Rolle - HubN/2)","mm",27.5,null,"Absolutbetrag",null,{"$f":"ABS(G29)","v":0}]
["Nennhub/2        HubN/2","mm",{"$f":"(0+(C7*25))/2","v":12.5},null,"Mz IV/V","Nm",{"$f":"IF(J11=TRUE,J10,K10)","v":0}]
["tatsächlicher gefahrener Hub/2","mm",{"$f":"C5/2","v":5},null,"Absolutbetrag",null,{"$f":"ABS(G31)","v":0}]
["Schwerpunktabstand in y-Richtung","mm",{"$f":"C14","v":0},null,"Mz ges","Nm",{"$f":"MAX(G30,G32)","v":0}]
["Wert K ( Abstand erste / letzte Rolle )","mm",{"$f":"31.7+(13.3*C7)","v":45},null,"Mz zul","Nm",{"$f":"C34/1000*260","v":11.7}]
[]
[null,null,null,null,null,null,null,null,"Belastungsgleichung stat.",{"$f":"G19/G21+G25/G26+G32/G34+G38/G39+G42/G43","v":0}]
["l1 bei eingefahrenem Hub","mm",{"$f":"C30+C31","v":40},null,"Fx ges","N",{"$f":"C17","v":0},null,"Belastungsgleichung dyn.",{"$f":"G17/G21+G30/G34+G40/G43","v":0}]
["l1 bei ausgefahrenem Hub","mm",{"$f":"C30+C31+C32","v":45},null,"Absolutwert",null,{"$f":"ABS(G37)","v":0},null,"Belastungsgleichung",{"$f":"MAX(J36:J37)","v":0}]
[null,null,null,null,"Fx zul","N",{"$f":"G43","v":1300}]
["Stoßdämpferhub s ( Hub bis a=0 )","m",{"$f":"'Allgemeine Werte'!M36","v":4.5560000000000002E-3},null,"Gewichtskraft","N",{"$f":"C12*9.81","v":0}]
["Verzögerung a=vxv/2xs","m/s2",{"$f":"POWER(C48,2)/(2*C40)","v":3.499534142015015},null,"Fz ges abs","N",{"$f":"ABS(-C25+C12*9.81)","v":0},null,"Verfahrzeitberechnung"]
["Kraft zur Verzögerung der Masse","N",{"$f":"C12*C41","v":0},null,"Max aus E40,E41",null,{"$f":"MAX(G40,G41)","v":0},null,"Verfahrzeit berechnet ( t=Wurzel aus (2xsxm/F)",null,{"$f":"(SQRT(2*(C5/1000)*(C12+C8/2)/C9))*(2.8-C7*0.2)","v":2.2333743898076165E-2}]
["Kraft zur Verzög. d. Masse incl Modul/2","N",{"$f":"C47*C41","v":1.3298229739657057},null,"Fz zul","N",{"$f":"975+325*C7","v":1300},null,"Mittlere Verfahrgeschwindigkeit berechnet",null,{"$f":"(C5/1000)/K42","v":0.4477529627650742}]
[null,null,null,null,null,null,null,null,"Endgeschwindigkeit berechnet",null,{"$f":"K43*'Allgemeine Werte'!E71","v":0.78356768483887984}]
["Stoßdämpferberechnung",null,null,null,"Max. Zyklenzahl / Min."]
["Anzahl Stoßdämpfer",null,1,null,"Zyklen aus Verfahrzeit",null,{"$f":"60/(2*L50)","v":306.12244897959181},null,"Endgeschwindigkeit (Eingabe)",null,{"$f":"C10","v":2.02}]
["Gesamtmasse","kg",{"$f":"C12+C8/2","v":0.38},null,null,null,null,null,"Mittlere Verfahrgeschwindigkeit (Eingabe)   m/s",null,{"$f":"C10/'Allgemeine Werte'!E71","v":1.1542857142857144}]
["Aufprallgeschwindigkeit","m/s",{"$f":"L54","v":0.17857142857142858},null,"Ezul / Stunde","Nm",{"$f":"'Allgemeine Werte'!H36*C46*0.95","v":23940},null,"Verfahrzeit (Eingabe)","s",{"$f":"(C5/1000)/K47","v":8.6633663366336624E-3},"Verfahrzeit für Berechnung"]
["W1","Nm",{"$f":"C47*POWER(C48,2)*0.5","v":6.0586734693877549E-3},null,"Ezul / Minute","Nm",{"$f":"G48/60","v":399},null,null,null,null,"( max )"]
["Hub Stoßdämpfer","m",{"$f":"'Allgemeine Werte'!L36","v":6.7999999999999996E-3},null,"Zyklen aus Ezul",null,{"$f":"G49/C53","v":485.36681489664767},null,"min. Verfahrzeit vor","gemessen",{"$f":"0.07+((C5/12.5)*0.01)","v":7.8000000000000014E-2},{"$f":"MAX(K48,K53,K42)","v":9.8000000000000004E-2}]
["Zylinderkraft","N",120,null,null,null,null,null,"Mittlere Verfahrgeschwindigkeit vor",null,{"$f":"(C5/1000)/K50","v":0.12820512820512819}]
["W2 ( Antriebsenergie )","Nm",{"$f":"C51*C50","v":0.81599999999999995},null,"Max. Zyklen",null,{"$f":"MIN(G46,G50,G55)","v":120},null,"Endgeschwindigkeit vor",null,{"$f":"K51*'Allgemeine Werte'!E71","v":0.22435897435897434},"Endgeschwindigkeit f. Ber."]
["W1+W2 ( Energie / Hub )","Nm",{"$f":"C52+C49","v":0.82205867346938766},null,null,null,null,null,"min. Verfahrzeit zurück",null,{"$f":"0.09+((C5/12.5)*0.01)","v":9.8000000000000004E-2},"( min )"]
["Ezul / Zyklus ( Hub )","Nm",{"$f":"'Allgemeine Werte'!G36*C50/'Allgemeine Werte'!K36*C46","v":5.8285714285714283},null,"Stoßd.-kolbenrückstellzeit",null,{"$f":"'Allgemeine Werte'!E36","v":0.5},null,"Mittlere Verfahrgeschwindigkeit zurück",null,{"$f":"(C5/1000)/K53","v":0.10204081632653061},{"$f":"MIN(K46,K55,K44)","v":0.17857142857142858}]
["Auslastung / Zyklus",null,{"$f":"C53/C54","v":0.14103947829131652},null,"Max. Zyklen aus Rückstellzeit",null,{"$f":"60/G54","v":120},null,"Endgeschwindigkeit zurück",null,{"$f":"K54*'Allgemeine Werte'!E71","v":0.17857142857142858}]

{"sheet":"EM-Ber-CLM50-3","index":92,"n_rows":57,"n_cols":12,"rows_kept":57,"cut":false,"hidden":false,"merged":[]}
["Linearmodul Typ",null,"CLM 50"]
[]
["Berechnung der Führungsbelastung"]
[null,null,null,null,null,null,"Statisch auf Grund","Statisch auf Grund"]
["Hub","mm",{"$f":"'EM-LM-3'!K8","v":10},null,null,null,"Zusatzmasse m","Zusatzmasse m","Dynamisch auf Grund","Statisch auf Grund","Statisch auf Grund"]
["Zylinderkraft","N",120,null,null,null,"Modul ausgef.","Modul eingef.","Zusatzmasse m","Zusatzkraft Modul eingef.","Zusatzkraft Modul ausgef."]
["Faktor",null,{"$f":"ROUNDDOWN(((C5+12.5)/25.1)+0.5,0)","v":1},null,null,null,"I","II","III","IV","V"]
["Modulgewicht","kg",{"$f":"0.56+(C7*0.2)","v":0.76},null,"Moment Mx=M3","Nm",{"$f":"C12*9.81*((C15)/1000)","v":0},{"$f":"C12*9.81*((C15)/1000)","v":0},{"$f":"C42*(C15/1000)","v":0},{"$f":"IF(K11=TRUE,-(C21*C23/1000)+C25*((C27+C37+C34/2)/1000),(C21*C23/1000)-C25*((C27+C37+C34/2)/1000))","v":0},{"$f":"IF(K11=TRUE,-(C21*C23/1000)+C25*((C27+C38+C34/2)/1000),(C21*C23/1000)-C25*((C27+C38+C34/2)/1000))","v":0}]
["Zylinderkraft zurück","N",103,null,"Moment My=M1","Nm","-","-","-",{"$f":"C17*(C19/1000)-C25*C26/1000","v":0},{"$f":"C17*(C19/1000)-C25*C26/1000","v":0}]
["Verfahrgeschwindigkeit","m/s",{"$f":"'EM-LM-3-1'!I58","v":2.02},null,"Moment Mz=M2","Nm",{"$f":"C12*9.81*((C13)/1000)","v":0},{"$f":"C12*9.81*((C13)/1000)","v":0},{"$f":"C42*(C13/1000)","v":0},{"$f":"IF(K11=TRUE,-C21*C22/1000+C17*(C18+C37+C34/2)/1000,C21*C22/1000-C17*(C18+C37+C34/2)/1000)","v":0},{"$f":"IF(K11=TRUE,-C21*C22/1000+C17*(C18+C38+C34/2)/1000,C21*C22/1000-C17*(C18+C38+C34/2)/1000)","v":0}]
[null,null,null,null,null,null,null,null,null,{"$f":"'EM-LM-3'!G51","v":true},{"$f":"'EM-LM-3'!G52","v":true}]
["Zusatzmasse","kg",{"$f":"'EM-LM-3'!K14","v":0}]
["Schwerpunktabstand x-Richt.(Mitte Rolle)","mm",{"$f":"'EM-LM-3'!M14+11","v":11}]
["Schwerpunktabstand y-Richtung","mm",{"$f":"'EM-LM-3'!O14","v":0}]
["Schwerpunktabstand z-Richtung","mm",{"$f":"'EM-LM-3'!Q14","v":0}]
[null,null,null,null,"Mx Summe  I(II) + III","Nm",{"$f":"G8+I8","v":0}]
["Zusatzkraft Fx","N",{"$f":"'EM-LM-3'!K18","v":0},null,"Absolutbetrag",null,{"$f":"ABS(G16)","v":0}]
["Kraftangriffspunkt von Fx in y-Richtung","mm",{"$f":"'EM-LM-3'!O18","v":0},null,"Mx Summe  I+V oder II+IV","Nm",{"$f":"IF(J11=TRUE,H8+J8,G8+K8)","v":0}]
["Kraftangriffspunkt von Fx in z-Richtung","mm",{"$f":"'EM-LM-3'!Q18","v":0},null,"Absolutbetrag",null,{"$f":"ABS(G18)","v":0}]
[null,null,null,null,"Mx ges","Nm",{"$f":"MAX(G17,G19)","v":0}]
["Zusatzkraft Fy","N",{"$f":"'EM-LM-3'!K20","v":0},null,"Mx zul","Nm",{"$f":"G34/2","v":5.85},null,"Maximal-Werte der Momente und Kräfte nicht aus Katalog, sondern exakt berechnete Werte !!"]
["Kraftangrp. von Fy in x-Richt. (Mitte Rolle)","mm",{"$f":"'EM-LM-3'!M20+11","v":11}]
["Kraftangrp. von Fy in z-Richt.","mm",{"$f":"'EM-LM-3'!Q20","v":0},null,"My IV = V","Nm",{"$f":"J9","v":0}]
[null,null,null,null,"Absolutbetrag",null,{"$f":"ABS(G23)","v":0}]
["Zusatzkraft Fz","N",{"$f":"'EM-LM-3'!K22","v":0},null,"My ges","Nm",{"$f":"G24","v":0}]
["Kraftangrp. von Fz in x-Richt. (Mitte Rolle)","mm",{"$f":"'EM-LM-3'!M22+11","v":11},null,"My zul","Nm",{"$f":"11+(3*C7)","v":14}]
["Kraftangriffspunkt von Fz in y-Richtung","mm",{"$f":"'EM-LM-3'!O22","v":0}]
[]
[null,null,null,null,"Mz Summe I(II)+III","Nm",{"$f":"G10+I10","v":0}]
["Länge L (Stirnplatte zu 1. Rolle - HubN/2)","mm",27.5,null,"Absolutbetrag",null,{"$f":"ABS(G29)","v":0}]
["Nennhub/2        HubN/2","mm",{"$f":"(0+(C7*25))/2","v":12.5},null,"Mz Summe  I+V oder II+IV","Nm",{"$f":"IF(J11=TRUE,H10+J10,G10+K10)","v":0}]
["tatsächlicher gefahrener Hub/2","mm",{"$f":"C5/2","v":5},null,"Absolutbetrag",null,{"$f":"ABS(G31)","v":0}]
["Schwerpunktabstand in y-Richtung","mm",{"$f":"C14","v":0},null,"Mz ges","Nm",{"$f":"MAX(G30,G32)","v":0}]
["Wert K ( Abstand erste / letzte Rolle )","mm",{"$f":"31.7+(13.3*C7)","v":45},null,"Mz zul","Nm",{"$f":"C34/1000*260","v":11.7}]
[]
[null,null,null,null,null,null,null,null,"Belastungsgleichung stat.",{"$f":"G19/G21+G25/G26+G32/G34+G38/G39+G42/G43","v":0}]
["l1 bei eingefahrenem Hub","mm",{"$f":"C30+C31","v":40},null,"Fx ges","N",{"$f":"C17","v":0},null,"Belastungsgleichung dyn.",{"$f":"G17/G21+G30/G34","v":0}]
["l1 bei ausgefahrenem Hub","mm",{"$f":"C30+C31+C32","v":45},null,"Absolutwert",null,{"$f":"ABS(G37)","v":0},null,"Belastungsgleichung",{"$f":"MAX(J36:J37)","v":0}]
[null,null,null,null,"Fx zul","N",{"$f":"G43","v":1300}]
["Stoßdämpferhub s ( Hub bis a=0 )","m",{"$f":"'Allgemeine Werte'!M36","v":4.5560000000000002E-3}]
["Verzögerung a=vxv/2xs","m/s2",{"$f":"POWER(C48,2)/(2*C40)","v":3.2304427047205126},null,"Fz ges","N",{"$f":"-C25","v":0},null,"Verfahrzeitberechnung"]
["Kraft zur Verzögerung der Masse","N",{"$f":"C12*C41","v":0},null,"Absolutwert",null,{"$f":"ABS(G41)","v":0},null,"Verfahrzeit berechnet ( t=Wurzel aus (2xsxm/F)",null,{"$f":"(SQRT(2*(C5/1000)*(C12+C8/2)/(C6-(C12+C8/2)*9.81)))*(3.05-C7*0.2)","v":2.3041657202412084E-2}]
["Kraft zur Verzög. d. Masse incl Modul/2","N",{"$f":"C47*C41","v":1.2275682277937949},null,"Fz zul","N",{"$f":"975+325*C7","v":1300},null,"Mittlere Verfahrgeschwindigkeit berechnet",null,{"$f":"(C5/1000)/K42","v":0.43399656162548778}]
[null,null,null,null,null,null,null,null,"Endgeschwindigkeit berechnet",null,{"$f":"K43*'Allgemeine Werte'!E71","v":0.75949398284460357}]
["Stoßdämpferberechnung",null,null,null,"Max. Zyklenzahl / Min."]
["Anzahl Stoßdämpfer",null,1,null,"Zyklen aus Verfahrzeit",null,{"$f":"60/(2*L50)","v":294.11764705882354},null,"Endgeschwindigkeit (Eingabe)",null,{"$f":"C10","v":2.02}]
["Gesamtmasse","kg",{"$f":"C12+C8/2","v":0.38},null,null,null,null,null,"Mittlere Verfahrgeschwindigkeit (Eingabe)   m/s",null,{"$f":"C10/'Allgemeine Werte'!E71","v":1.1542857142857144}]
["Aufprallgeschwindigkeit","m/s",{"$f":"L54","v":0.17156862745098042},null,"Ezul / Stunde","Nm",{"$f":"'Allgemeine Werte'!H36*C46*0.95","v":23940},null,"Verfahrzeit (Eingabe)","s",{"$f":"(C5/1000)/K47","v":8.6633663366336624E-3},"Verfahrzeit für Berechnung"]
["W1","Nm",{"$f":"C47*POWER(C48,2)*0.5","v":5.5928008458285298E-3},null,"Ezul / Minute","Nm",{"$f":"G48/60","v":399},null,null,null,null,"( max )"]
["Hub Stoßdämpfer","m",{"$f":"'Allgemeine Werte'!L36","v":6.7999999999999996E-3},null,"Zyklen aus Ezul",null,{"$f":"G49/C53","v":501.10282757651117},null,"min. Verfahrzeit ab","gemessen",{"$f":"0.05+((C5/12.5)*0.01)","v":5.8000000000000003E-2},{"$f":"MAX(K48,K53,K42)","v":0.10199999999999999}]
["Zylinderkraft","N",120,null,null,null,null,null,"Mittlere Verfahrgeschwindigkeit ab",null,{"$f":"(C5/1000)/K50","v":0.17241379310344826}]
["W2 ( Antriebsenergie )","Nm",{"$f":"MAX(C56,C57)*C50","v":0.7906509599999999},null,"Max. Zyklen",null,{"$f":"MIN(G46,G50,G55)","v":120},null,"Endgeschwindigkeit ab",null,{"$f":"K51*'Allgemeine Werte'!E71","v":0.30172413793103448},"Endgeschwindigkeit f. Ber."]
["W1+W2 ( Energie / Hub )","Nm",{"$f":"C52+C49","v":0.79624376084582849},null,null,null,null,null,"min. Verfahrzeit auf",null,{"$f":"0.09+((C5/12.5)*0.015)","v":0.10199999999999999},"( min )"]
["Ezul / Zyklus ( Hub )","Nm",{"$f":"'Allgemeine Werte'!G36*C50/'Allgemeine Werte'!K36*C46","v":5.8285714285714283},null,"Stoßd.-kolbenrückstellzeit",null,{"$f":"'Allgemeine Werte'!E36","v":0.5},null,"Mittlere Verfahrgeschwindigkeit auf",null,{"$f":"(C5/1000)/K53","v":9.8039215686274522E-2},{"$f":"MIN(K46,K55,K44)","v":0.17156862745098042}]
["Auslastung / Zyklus",null,{"$f":"C53/C54","v":0.13661044916472548},null,"Max. Zyklen aus Rückstellzeit",null,{"$f":"60/G54","v":120},null,"Endgeschwindigkeit auf",null,{"$f":"K54*'Allgemeine Werte'!E71","v":0.17156862745098042}]
["Antriebskraft nach oben",null,{"$f":"C6-C47*9.81","v":116.2722}]
["Antriebskraft nach unten",null,{"$f":"C9+C47*9.81","v":106.7278}]

{"sheet":"EM-Ber-CLM50-4","index":93,"n_rows":55,"n_cols":12,"rows_kept":55,"cut":false,"hidden":false,"merged":[]}
["Linearmodul Typ",null,"CLM 50"]
[]
["Berechnung der Führungsbelastung"]
[null,null,null,null,null,null,"Statisch auf Grund","Statisch auf Grund"]
["Hub","mm",{"$f":"'EM-LM-4'!K8","v":10},null,null,null,"Zusatzmasse m","Zusatzmasse m","Dynamisch auf Grund","Statisch auf Grund","Statisch auf Grund"]
["Zylinderkraft","N",120,null,null,null,"Modul ausgef.","Modul eingef.","Zusatzmasse m","Zusatzkraft Modul eingef.","Zusatzkraft Modul ausgef."]
["Faktor",null,{"$f":"ROUNDDOWN(((C5+12.5)/25.1)+0.5,0)","v":1},null,null,null,"I","II","III","IV","V"]
["Modulgewicht","kg",{"$f":"0.56+(C7*0.2)","v":0.76},null,"Moment Mx=M2","Nm",{"$f":"(C12*9.81)*((C37-C32+C34/2+C33)/1000)","v":0},{"$f":"C12*9.81*((C37+C34/2+C33)/1000)","v":0},{"$f":"C42*(C15/1000)","v":0},{"$f":"(C21*C23/1000)-C25*((C27+C37+C34/2)/1000)","v":0},{"$f":"(C21*C23/1000)-C25*((C27+C37-C32+C34/2)/1000)","v":0}]
["Zylinderkraft zurück","N",103,null,"Moment My=M1","Nm",{"$f":"C12*9.81*(C13/1000)","v":0},{"$f":"C12*9.81*(C13/1000)","v":0},"-",{"$f":"C17*C19/1000-C25*(C26/1000)","v":0},{"$f":"C17*C19/1000-C25*(C26/1000)","v":0}]
["Verfahrgeschwindigkeit","m/s",{"$f":"'EM-LM-4-1'!I58","v":2.02},null,"Moment Mz=M3","Nm","-","-",{"$f":"C42*(C13/1000)","v":0},{"$f":"C21*C22/1000-C17*(C18+C37+C34/2)/1000","v":0},{"$f":"C21*C22/1000-C17*(C18+C37-C32+C34/2)/1000","v":0}]
[null,null,null,null,null,null,null,null,null,{"$f":"'EM-LM-4'!G51","v":false}]
["Zusatzmasse","kg",{"$f":"'EM-LM-4'!K14","v":0},null,"Mx Summe  I + III","Nm",{"$f":"G8+I8","v":0}]
["Schwerpunktabstand x-Richtung","mm",{"$f":"'EM-LM-4'!M14","v":0},null,"Absolutbetrag",null,{"$f":"ABS(G12)","v":0}]
["Schwerpunktabstand y-Richtung","mm",{"$f":"'EM-LM-4'!O14","v":0},null,"Mx Summe  II-III",null,{"$f":"H8-I8","v":0}]
["Schwerpunktabstand z-Richt.(Mitte Rolle)","mm",{"$f":"'EM-LM-4'!Q14+34","v":34},null,"Absolutbetrag",null,{"$f":"ABS(G14)","v":0}]
[null,null,null,null,"I ","Nm",{"$f":"ABS(G8)","v":0}]
["Zusatzkraft Fx","N",{"$f":"'EM-LM-4'!K18","v":0},null,"I oder I+III oder II-III",null,{"$f":"MAX(G16,G15,G13)","v":0}]
["Kraftangriffspunkt von Fx in y-Richtung","mm",{"$f":"'EM-LM-4'!O18","v":0},null,"Mx Summe  I+V oder II+IV","Nm",{"$f":"IF(AND(J8=0,K8=0),MAX(G8,H8),IF(J11=TRUE,H8+J8,G8+K8))","v":0}]
["Kraftangrp. von Fx in z-Richt.(Mitte Rolle)","mm",{"$f":"'EM-LM-4'!Q18+34","v":34},null,"Absolutbetrag",null,{"$f":"ABS(G18)","v":0}]
[null,null,null,null,"Mx ges","Nm",{"$f":"MAX(G17,G19)","v":0}]
["Zusatzkraft Fy","N",{"$f":"'EM-LM-4'!K20","v":0},null,"Mx zul","Nm",{"$f":"C34/1000*260","v":11.7},null,"Maximal-Werte der Momente und Kräfte nicht aus Katalog, sondern exakt berechnete Werte !!"]
["Kraftangriffspunkt von Fy in x-Richtung","mm",{"$f":"'EM-LM-4'!M20","v":0}]
["Kraftangrp. von Fy in z-Richt.(Mitte Rolle)","mm",{"$f":"'EM-LM-4'!Q20+34","v":34},null,"My Summe  I+V ( = II+IV )","Nm",{"$f":"G9+K9","v":0}]
[null,null,null,null,"Absolutbetrag",null,{"$f":"ABS(G23)","v":0}]
["Zusatzkraft Fz","N",{"$f":"'EM-LM-4'!K22","v":0},null,"My ges","Nm",{"$f":"G24","v":0}]
["Kraftangriffspunkt von Fz in x-Richtung","mm",{"$f":"'EM-LM-4'!M22","v":0},null,"My zul","Nm",{"$f":"11+(3*C7)","v":14}]
["Kraftangriffspunkt von Fz in y-Richtung","mm",{"$f":"'EM-LM-4'!O22","v":0}]
[]
[null,null,null,null,"Mz III","Nm",{"$f":"I10","v":0}]
["Länge L (Stirnplatte zu 1. Rolle - HubN/2)","mm",27.5,null,"Absolutbetrag",null,{"$f":"ABS(G29)","v":0}]
["Nennhub/2        HubN/2","mm",{"$f":"(0+(C7*25))/2","v":12.5},null,"Mz IV/V","Nm",{"$f":"IF(J11=TRUE,J10,K10)","v":0}]
["tatsächlicher gefahrener Hub/2","mm",{"$f":"C5/2","v":5},null,"Absolutbetrag",null,{"$f":"ABS(G31)","v":0}]
["Schwerpunktabstand in y-Richtung","mm",{"$f":"C14","v":0},null,"Mz ges","Nm",{"$f":"MAX(G30,G32)","v":0}]
["Wert K ( Abstand erste / letzte Rolle )","mm",{"$f":"31.7+(13.3*C7)","v":45},null,"Mz zul","Nm",{"$f":"G21/2","v":5.85}]
["Anfangswert (Abst. Stirnpl./Deckplatte)","mm",21]
[null,null,null,null,null,null,null,null,"Belastungsgleichung stat.",{"$f":"G19/G21+G25/G26+G32/G34+G38/G39+G42/G43","v":0}]
["l1 bei eingefahrenem Hub","mm",{"$f":"C30+C31-C35","v":19},null,"Fx ges","N",{"$f":"C17","v":0},null,"Belastungsgleichung dyn.",{"$f":"G17/G21+G30/G34+G40/G43","v":0}]
["l1 bei ausgefahrenem Hub","mm",{"$f":"C30+C31+C32-C35","v":24},null,"Absolutwert",null,{"$f":"ABS(G37)","v":0},null,"Belastungsgleichung",{"$f":"MAX(J36:J37)","v":0}]
[null,null,null,null,"Fx zul","N",{"$f":"G43","v":1300}]
["Stoßdämpferhub s ( Hub bis a=0 )","m",{"$f":"'Allgemeine Werte'!M36","v":4.5560000000000002E-3},null,"Gewichtskraft","N",{"$f":"C12*9.81","v":0}]
["Verzögerung a=vxv/2xs","m/s2",{"$f":"POWER(C48,2)/(2*C40)","v":3.499534142015015},null,"Fz ges abs","N",{"$f":"ABS(-C25+C12*9.81)","v":0},null,"Verfahrzeitberechnung"]
["Kraft zur Verzögerung der Masse","N",{"$f":"C12*C41","v":0},null,"Max aus E40,E41",null,{"$f":"MAX(G40,G41)","v":0},null,"Verfahrzeit berechnet ( t=Wurzel aus (2xsxm/F)",null,{"$f":"(SQRT(2*(C5/1000)*(C12+C8/2)/C9))*(2.8-C7*0.2)","v":2.2333743898076165E-2}]
["Kraft zur Verzög. d. Masse incl Modul/2","N",{"$f":"C47*C41","v":1.3298229739657057},null,"Fz zul","N",{"$f":"975+325*C7","v":1300},null,"Mittlere Verfahrgeschwindigkeit berechnet",null,{"$f":"(C5/1000)/K42","v":0.4477529627650742}]
[null,null,null,null,null,null,null,null,"Endgeschwindigkeit berechnet",null,{"$f":"K43*'Allgemeine Werte'!E71","v":0.78356768483887984}]
["Stoßdämpferberechnung",null,null,null,"Max. Zyklenzahl / Min."]
["Anzahl Stoßdämpfer",null,1,null,"Zyklen aus Verfahrzeit",null,{"$f":"60/(2*L50)","v":306.12244897959181},null,"Endgeschwindigkeit (Eingabe)",null,{"$f":"C10","v":2.02}]
["Gesamtmasse","kg",{"$f":"C12+C8/2","v":0.38},null,null,null,null,null,"Mittlere Verfahrgeschwindigkeit (Eingabe)   m/s",null,{"$f":"C10/'Allgemeine Werte'!E71","v":1.1542857142857144}]
["Aufprallgeschwindigkeit","m/s",{"$f":"L54","v":0.17857142857142858},null,"Ezul / Stunde","Nm",{"$f":"'Allgemeine Werte'!H36*C46*0.95","v":23940},null,"Verfahrzeit (Eingabe)","s",{"$f":"(C5/1000)/K47","v":8.6633663366336624E-3},"Verfahrzeit für Berechnung"]
["W1","Nm",{"$f":"C47*POWER(C48,2)*0.5","v":6.0586734693877549E-3},null,"Ezul / Minute","Nm",{"$f":"G48/60","v":399},null,null,null,null,"( max )"]
["Hub Stoßdämpfer","m",{"$f":"'Allgemeine Werte'!L36","v":6.7999999999999996E-3},null,"Zyklen aus Ezul",null,{"$f":"G49/C53","v":485.36681489664767},null,"min. Verfahrzeit vor","gemessen",{"$f":"0.07+((C5/12.5)*0.01)","v":7.8000000000000014E-2},{"$f":"MAX(K48,K53,K42)","v":9.8000000000000004E-2}]
["Zylinderkraft","N",120,null,null,null,null,null,"Mittlere Verfahrgeschwindigkeit vor",null,{"$f":"(C5/1000)/K50","v":0.12820512820512819}]
["W2 ( Antriebsenergie )","Nm",{"$f":"C51*C50","v":0.81599999999999995},null,"Max. Zyklen",null,{"$f":"MIN(G46,G50,G55)","v":120},null,"Endgeschwindigkeit vor",null,{"$f":"K51*'Allgemeine Werte'!E71","v":0.22435897435897434},"Endgeschwindigkeit f. Ber."]
["W1+W2 ( Energie / Hub )","Nm",{"$f":"C52+C49","v":0.82205867346938766},null,null,null,null,null,"min. Verfahrzeit zurück",null,{"$f":"0.09+((C5/12.5)*0.01)","v":9.8000000000000004E-2},"( min )"]
["Ezul / Zyklus ( Hub )","Nm",{"$f":"'Allgemeine Werte'!G36*C50/'Allgemeine Werte'!K36*C46","v":5.8285714285714283},null,"Stoßd.-kolbenrückstellzeit",null,{"$f":"'Allgemeine Werte'!E36","v":0.5},null,"Mittlere Verfahrgeschwindigkeit zurück",null,{"$f":"(C5/1000)/K53","v":0.10204081632653061},{"$f":"MIN(K46,K55,K44)","v":0.17857142857142858}]
["Auslastung / Zyklus",null,{"$f":"C53/C54","v":0.14103947829131652},null,"Max. Zyklen aus Rückstellzeit",null,{"$f":"60/G54","v":120},null,"Endgeschwindigkeit zurück",null,{"$f":"K54*'Allgemeine Werte'!E71","v":0.17857142857142858}]

{"sheet":"EM-Ber-CLM50-5","index":94,"n_rows":55,"n_cols":12,"rows_kept":55,"cut":false,"hidden":false,"merged":[]}
["Linearmodul Typ",null,"CLM 50"]
[]
["Berechnung der Führungsbelastung"]
[null,null,null,null,null,null,"Statisch auf Grund","Statisch auf Grund"]
["Hub","mm",{"$f":"'EM-LM-5'!K8","v":10},null,null,null,"Zusatzmasse m","Zusatzmasse m","Dynamisch auf Grund","Statisch auf Grund","Statisch auf Grund"]
["Zylinderkraft","N",120,null,null,null,"Modul ausgef.","Modul eingef.","Zusatzmasse m","Zusatzkraft Modul eingef.","Zusatzkraft Modul ausgef."]
["Faktor",null,{"$f":"ROUNDDOWN(((C5+12.5)/25.1)+0.5,0)","v":1},null,null,null,"I","II","III","IV","V"]
["Modulgewicht","kg",{"$f":"0.56+(C7*0.2)","v":0.76},null,"Moment Mx=M3","Nm",{"$f":"(C12*9.81)*((C37-C32+C34/2+C33)/1000)","v":0},{"$f":"C12*9.81*((C37+C34/2+C33)/1000)","v":0},{"$f":"C42*(C15/1000)","v":0},{"$f":"(C21*C23/1000)-C25*((C27+C37+C34/2)/1000)","v":0},{"$f":"(C21*C23/1000)-C25*((C27+C37-C32+C34/2)/1000)","v":0}]
["Zylinderkraft zurück","N",103,null,"Moment My=M1","Nm",{"$f":"C12*9.81*((C13)/1000)","v":0},{"$f":"C12*9.81*((C13)/1000)","v":0},"-",{"$f":"C17*(C19/1000)-C25*C26/1000","v":0},{"$f":"C17*(C19/1000)-C25*C26/1000","v":0}]
["Verfahrgeschwindigkeit","m/s",{"$f":"'EM-LM-5-1'!I58","v":2.02},null,"Moment Mz=M2","Nm","-","-",{"$f":"C42*(C13/1000)","v":0},{"$f":"C21*C22/1000-C17*(C18+C37+C34/2)/1000","v":0},{"$f":"C21*C22/1000-C17*(C18+C37-C32+C34/2)/1000","v":0}]
[null,null,null,null,null,null,null,null,null,{"$f":"'EM-LM-5'!G51","v":false}]
["Zusatzmasse","kg",{"$f":"'EM-LM-5'!K14","v":0},null,"Mx Summe  I + III","Nm",{"$f":"G8+I8","v":0}]
["Schwerpunktabstand x-Richt.(Mitte Rolle)","mm",{"$f":"'EM-LM-5'!M14+34","v":34},null,"Absolutbetrag",null,{"$f":"ABS(G12)","v":0}]
["Schwerpunktabstand y-Richtung","mm",{"$f":"'EM-LM-5'!O14","v":0},null,"Mx Summe  II-III",null,{"$f":"H8-I8","v":0}]
["Schwerpunktabstand z-Richtung","mm",{"$f":"'EM-LM-5'!Q14","v":0},null,"Absolutbetrag",null,{"$f":"ABS(G14)","v":0}]
[null,null,null,null,"I ","Nm",{"$f":"ABS(G8)","v":0}]
["Zusatzkraft Fx","N",{"$f":"'EM-LM-5'!K18","v":0},null,"I oder I+III oder II-III",null,{"$f":"MAX(G16,G15,G13)","v":0}]
["Kraftangriffspunkt von Fx in y-Richtung","mm",{"$f":"'EM-LM-5'!O18","v":0},null,"Mx Summe  I+V oder II+IV","Nm",{"$f":"IF(AND(J8=0,K8=0),MAX(G8,H8),IF(J11=TRUE,H8+J8,G8+K8))","v":0}]
["Kraftangriffspunkt von Fx in z-Richtung","mm",{"$f":"'EM-LM-5'!Q18","v":0},null,"Absolutbetrag",null,{"$f":"ABS(G18)","v":0}]
[null,null,null,null,"Mx ges","Nm",{"$f":"MAX(G17,G19)","v":0}]
["Zusatzkraft Fy","N",{"$f":"'EM-LM-5'!K20","v":0},null,"Mx zul","Nm",{"$f":"G34/2","v":5.85},null,"Maximal-Werte der Momente und Kräfte nicht aus Katalog, sondern exakt berechnete Werte !!"]
["Kraftangrp. von Fy in x-Richt. (Mitte Rolle)","mm",{"$f":"'EM-LM-5'!M20+34","v":34}]
["Kraftangrp. von Fy in z-Richt.","mm",{"$f":"'EM-LM-5'!Q20","v":0},null,"My Summe  I+V ( = II+IV )","Nm",{"$f":"G9+K9","v":0}]
[null,null,null,null,"Absolutbetrag",null,{"$f":"ABS(G23)","v":0}]
["Zusatzkraft Fz","N",{"$f":"'EM-LM-5'!K22","v":0},null,"My ges","Nm",{"$f":"G24","v":0}]
["Kraftangrp. von Fz in x-Richt. (Mitte Rolle)","mm",{"$f":"'EM-LM-5'!M22+34","v":34},null,"My zul","Nm",{"$f":"11+(3*C7)","v":14}]
["Kraftangriffspunkt von Fz in y-Richtung","mm",{"$f":"'EM-LM-5'!O22","v":0}]
[]
[null,null,null,null,"Mz III","Nm",{"$f":"I10","v":0}]
["Länge L (Stirnplatte zu 1. Rolle - HubN/2)","mm",27.5,null,"Absolutbetrag",null,{"$f":"ABS(G29)","v":0}]
["Nennhub/2        HubN/2","mm",{"$f":"(0+(C7*25))/2","v":12.5},null,"Mz IV/V","Nm",{"$f":"IF(J11=TRUE,J10,K10)","v":0}]
["tatsächlicher gefahrener Hub/2","mm",{"$f":"C5/2","v":5},null,"Absolutbetrag",null,{"$f":"ABS(G31)","v":0}]
["Schwerpunktabstand in y-Richtung","mm",{"$f":"C14","v":0},null,"Mz ges","Nm",{"$f":"MAX(G30,G32)","v":0}]
["Wert K ( Abstand erste / letzte Rolle )","mm",{"$f":"31.7+(13.3*C7)","v":45},null,"Mz zul","Nm",{"$f":"C34/1000*260","v":11.7}]
["Anfangswert (Abst. Stirnpl./Deckplatte)","mm",21]
[null,null,null,null,null,null,null,null,"Belastungsgleichung stat.",{"$f":"G19/G21+G25/G26+G32/G34+G38/G39+G42/G43","v":0}]
["l1 bei eingefahrenem Hub","mm",{"$f":"C30+C31-C35","v":19},null,"Fx ges","N",{"$f":"C17","v":0},null,"Belastungsgleichung dyn.",{"$f":"G17/G21+G30/G34+G40/G43","v":0}]
["l1 bei ausgefahrenem Hub","mm",{"$f":"C30+C31+C32-C35","v":24},null,"Absolutwert",null,{"$f":"ABS(G37)","v":0},null,"Belastungsgleichung",{"$f":"MAX(J36:J37)","v":0}]
[null,null,null,null,"Fx zul","N",{"$f":"G43","v":1300}]
["Stoßdämpferhub s ( Hub bis a=0 )","m",{"$f":"'Allgemeine Werte'!M36","v":4.5560000000000002E-3},null,"Gewichtskraft","N",{"$f":"C12*9.81","v":0}]
["Verzögerung a=vxv/2xs","m/s2",{"$f":"POWER(C48,2)/(2*C40)","v":3.499534142015015},null,"Fz ges abs","N",{"$f":"ABS(-C25+C12*9.81)","v":0},null,"Verfahrzeitberechnung"]
["Kraft zur Verzögerung der Masse","N",{"$f":"C12*C41","v":0},null,"Max aus E40,E41",null,{"$f":"MAX(G40,G41)","v":0},null,"Verfahrzeit berechnet ( t=Wurzel aus (2xsxm/F)",null,{"$f":"(SQRT(2*(C5/1000)*(C12+C8/2)/C9))*(2.8-C7*0.2)","v":2.2333743898076165E-2}]
["Kraft zur Verzög. d. Masse incl Modul/2","N",{"$f":"C47*C41","v":1.3298229739657057},null,"Fz zul","N",{"$f":"975+325*C7","v":1300},null,"Mittlere Verfahrgeschwindigkeit berechnet",null,{"$f":"(C5/1000)/K42","v":0.4477529627650742}]
[null,null,null,null,null,null,null,null,"Endgeschwindigkeit berechnet",null,{"$f":"K43*'Allgemeine Werte'!E71","v":0.78356768483887984}]
["Stoßdämpferberechnung",null,null,null,"Max. Zyklenzahl / Min."]
["Anzahl Stoßdämpfer",null,1,null,"Zyklen aus Verfahrzeit",null,{"$f":"60/(2*L50)","v":306.12244897959181},null,"Endgeschwindigkeit (Eingabe)",null,{"$f":"C10","v":2.02}]
["Gesamtmasse","kg",{"$f":"C12+C8/2","v":0.38},null,null,null,null,null,"Mittlere Verfahrgeschwindigkeit (Eingabe)   m/s",null,{"$f":"C10/'Allgemeine Werte'!E71","v":1.1542857142857144}]
["Aufprallgeschwindigkeit","m/s",{"$f":"L54","v":0.17857142857142858},null,"Ezul / Stunde","Nm",{"$f":"'Allgemeine Werte'!H36*C46*0.95","v":23940},null,"Verfahrzeit (Eingabe)","s",{"$f":"(C5/1000)/K47","v":8.6633663366336624E-3},"Verfahrzeit für Berechnung"]
["W1","Nm",{"$f":"C47*POWER(C48,2)*0.5","v":6.0586734693877549E-3},null,"Ezul / Minute","Nm",{"$f":"G48/60","v":399},null,null,null,null,"( max )"]
["Hub Stoßdämpfer","m",{"$f":"'Allgemeine Werte'!L36","v":6.7999999999999996E-3},null,"Zyklen aus Ezul",null,{"$f":"G49/C53","v":485.36681489664767},null,"min. Verfahrzeit vor","gemessen",{"$f":"0.07+((C5/12.5)*0.01)","v":7.8000000000000014E-2},{"$f":"MAX(K48,K53,K42)","v":9.8000000000000004E-2}]
["Zylinderkraft","N",120,null,null,null,null,null,"Mittlere Verfahrgeschwindigkeit vor",null,{"$f":"(C5/1000)/K50","v":0.12820512820512819}]
["W2 ( Antriebsenergie )","Nm",{"$f":"C51*C50","v":0.81599999999999995},null,"Max. Zyklen",null,{"$f":"MIN(G46,G50,G55)","v":120},null,"Endgeschwindigkeit vor",null,{"$f":"K51*'Allgemeine Werte'!E71","v":0.22435897435897434},"Endgeschwindigkeit f. Ber."]
["W1+W2 ( Energie / Hub )","Nm",{"$f":"C52+C49","v":0.82205867346938766},null,null,null,null,null,"min. Verfahrzeit zurück",null,{"$f":"0.09+((C5/12.5)*0.01)","v":9.8000000000000004E-2},"( min )"]
["Ezul / Zyklus ( Hub )","Nm",{"$f":"'Allgemeine Werte'!G36*C50/'Allgemeine Werte'!K36*C46","v":5.8285714285714283},null,"Stoßd.-kolbenrückstellzeit",null,{"$f":"'Allgemeine Werte'!E36","v":0.5},null,"Mittlere Verfahrgeschwindigkeit zurück",null,{"$f":"(C5/1000)/K53","v":0.10204081632653061},{"$f":"MIN(K46,K55,K44)","v":0.17857142857142858}]
["Auslastung / Zyklus",null,{"$f":"C53/C54","v":0.14103947829131652},null,"Max. Zyklen aus Rückstellzeit",null,{"$f":"60/G54","v":120},null,"Endgeschwindigkeit zurück",null,{"$f":"K54*'Allgemeine Werte'!E71","v":0.17857142857142858}]

{"sheet":"EM-Ber-CLM50-6","index":95,"n_rows":57,"n_cols":12,"rows_kept":57,"cut":false,"hidden":false,"merged":[]}
["Linearmodul Typ",null,"CLM 50"]
[]
["Berechnung der Führungsbelastung"]
[null,null,null,null,null,null,"Statisch auf Grund","Statisch auf Grund"]
["Hub","mm",{"$f":"'EM-LM-6'!K8","v":10},null,null,null,"Zusatzmasse m","Zusatzmasse m","Dynamisch auf Grund","Statisch auf Grund","Statisch auf Grund"]
["Zylinderkraft","N",120,null,null,null,"Modul ausgef.","Modul eingef.","Zusatzmasse m","Zusatzkraft Modul eingef.","Zusatzkraft Modul ausgef."]
["Faktor",null,{"$f":"ROUNDDOWN(((C5+12.5)/25.1)+0.5,0)","v":1},null,null,null,"I","II","III","IV","V"]
["Modulgewicht","kg",{"$f":"0.56+(C7*0.2)","v":0.76},null,"Moment Mx=M3","Nm",{"$f":"C12*9.81*((C15)/1000)","v":0},{"$f":"C12*9.81*((C15)/1000)","v":0},{"$f":"C42*(C15/1000)","v":0},{"$f":"IF(K11=TRUE,-(C21*C23/1000)+C25*((C27+C37+C34/2)/1000),(C21*C23/1000)-C25*((C27+C37+C34/2)/1000))","v":0},{"$f":"IF(K11=TRUE,-(C21*C23/1000)+C25*((C27+C37-C32+C34/2)/1000),(C21*C23/1000)-C25*((C27+C37-C32+C34/2)/1000))","v":0}]
["Zylinderkraft zurück","N",103,null,"Moment My=M1","Nm","-","-","-",{"$f":"C17*(C19/1000)-C25*C26/1000","v":0},{"$f":"C17*(C19/1000)-C25*C26/1000","v":0}]
["Verfahrgeschwindigkeit","m/s",{"$f":"'EM-LM-6-1'!I58","v":2.02},null,"Moment Mz=M2","Nm",{"$f":"C12*9.81*((C13)/1000)","v":0},{"$f":"C12*9.81*((C13)/1000)","v":0},{"$f":"C42*(C13/1000)","v":0},{"$f":"IF(K11=TRUE,-C21*C22/1000+C17*(C18+C37+C34/2)/1000,C21*C22/1000-C17*(C18+C37+C34/2)/1000)","v":0},{"$f":"IF(K11=TRUE,-C21*C22/1000+C17*(C18+C37-C32+C34/2)/1000,C21*C22/1000-C17*(C18+C37-C32+C34/2)/1000)","v":0}]
[null,null,null,null,null,null,null,null,null,{"$f":"'EM-LM-6'!G51","v":false},{"$f":"'EM-LM-6'!G52","v":true}]
["Zusatzmasse","kg",{"$f":"'EM-LM-6'!K14","v":0}]
["Schwerpunktabstand x-Richt.(Mitte Rolle)","mm",{"$f":"'EM-LM-6'!M14+34","v":34}]
["Schwerpunktabstand y-Richtung","mm",{"$f":"'EM-LM-6'!O14","v":0}]
["Schwerpunktabstand z-Richtung","mm",{"$f":"'EM-LM-6'!Q14","v":0}]
[null,null,null,null,"Mx Summe  I(II) + III","Nm",{"$f":"G8+I8","v":0}]
["Zusatzkraft Fx","N",{"$f":"'EM-LM-6'!K18","v":0},null,"Absolutbetrag",null,{"$f":"ABS(G16)","v":0}]
["Kraftangriffspunkt von Fx in y-Richtung","mm",{"$f":"'EM-LM-6'!O18","v":0},null,"Mx Summe  I+V oder II+IV","Nm",{"$f":"IF(J11=TRUE,H8+J8,G8+K8)","v":0}]
["Kraftangriffspunkt von Fx in z-Richtung","mm",{"$f":"'EM-LM-6'!Q18","v":0},null,"Absolutbetrag",null,{"$f":"ABS(G18)","v":0}]
[null,null,null,null,"Mx ges","Nm",{"$f":"MAX(G17,G19)","v":0}]
["Zusatzkraft Fy","N",{"$f":"'EM-LM-6'!K20","v":0},null,"Mx zul","Nm",{"$f":"G34/2","v":5.85},null,"Maximal-Werte der Momente und Kräfte nicht aus Katalog, sondern exakt berechnete Werte !!"]
["Kraftangrp. von Fy in x-Richt. (Mitte Rolle)","mm",{"$f":"'EM-LM-6'!M20+34","v":34}]
["Kraftangrp. von Fy in z-Richt.","mm",{"$f":"'EM-LM-6'!Q20","v":0},null,"My IV = V","Nm",{"$f":"J9","v":0}]
[null,null,null,null,"Absolutbetrag",null,{"$f":"ABS(G23)","v":0}]
["Zusatzkraft Fz","N",{"$f":"'EM-LM-6'!K22","v":0},null,"My ges","Nm",{"$f":"G24","v":0}]
["Kraftangrp. von Fz in x-Richt. (Mitte Rolle)","mm",{"$f":"'EM-LM-6'!M22+34","v":34},null,"My zul","Nm",{"$f":"11+(3*C7)","v":14}]
["Kraftangriffspunkt von Fz in y-Richtung","mm",{"$f":"'EM-LM-6'!O22","v":0}]
[]
[null,null,null,null,"Mz Summe I(II)+III","Nm",{"$f":"G10+I10","v":0}]
["Länge L (Stirnplatte zu 1. Rolle - HubN/2)","mm",27.5,null,"Absolutbetrag",null,{"$f":"ABS(G29)","v":0}]
["Nennhub/2        HubN/2","mm",{"$f":"(0+(C7*25))/2","v":12.5},null,"Mz Summe  I+V oder II+IV","Nm",{"$f":"IF(J11=TRUE,H10+J10,G10+K10)","v":0}]
["tatsächlicher gefahrener Hub/2","mm",{"$f":"C5/2","v":5},null,"Absolutbetrag",null,{"$f":"ABS(G31)","v":0}]
["Schwerpunktabstand in y-Richtung","mm",{"$f":"C14","v":0},null,"Mz ges","Nm",{"$f":"MAX(G30,G32)","v":0}]
["Wert K ( Abstand erste / letzte Rolle )","mm",{"$f":"31.7+(13.3*C7)","v":45},null,"Mz zul","Nm",{"$f":"C34/1000*260","v":11.7}]
["Anfangswert (Abst. Stirnpl./Deckplatte)","mm",21]
[null,null,null,null,null,null,null,null,"Belastungsgleichung stat.",{"$f":"G19/G21+G25/G26+G32/G34+G38/G39+G42/G43","v":0}]
["l1 bei eingefahrenem Hub","mm",{"$f":"C30+C31-C35","v":19},null,"Fx ges","N",{"$f":"C17","v":0},null,"Belastungsgleichung dyn.",{"$f":"G17/G21+G30/G34","v":0}]
["l1 bei ausgefahrenem Hub","mm",{"$f":"C30+C31+C32-C35","v":24},null,"Absolutwert",null,{"$f":"ABS(G37)","v":0},null,"Belastungsgleichung",{"$f":"MAX(J36:J37)","v":0}]
[null,null,null,null,"Fx zul","N",{"$f":"G43","v":1300}]
["Stoßdämpferhub s ( Hub bis a=0 )","m",{"$f":"'Allgemeine Werte'!M36","v":4.5560000000000002E-3}]
["Verzögerung a=vxv/2xs","m/s2",{"$f":"POWER(C48,2)/(2*C40)","v":3.2304427047205126},null,"Fz ges","N",{"$f":"-C25","v":0},null,"Verfahrzeitberechnung"]
["Kraft zur Verzögerung der Masse","N",{"$f":"C12*C41","v":0},null,"Absolutwert",null,{"$f":"ABS(G41)","v":0},null,"Verfahrzeit berechnet ( t=Wurzel aus (2xsxm/F)",null,{"$f":"(SQRT(2*(C5/1000)*(C12+C8/2)/(C6-(C12+C8/2)*9.81)))*(3.05-C7*0.2)","v":2.3041657202412084E-2}]
["Kraft zur Verzög. d. Masse incl Modul/2","N",{"$f":"C47*C41","v":1.2275682277937949},null,"Fz zul","N",{"$f":"975+325*C7","v":1300},null,"Mittlere Verfahrgeschwindigkeit berechnet",null,{"$f":"(C5/1000)/K42","v":0.43399656162548778}]
[null,null,null,null,null,null,null,null,"Endgeschwindigkeit berechnet",null,{"$f":"K43*'Allgemeine Werte'!E71","v":0.75949398284460357}]
["Stoßdämpferberechnung",null,null,null,"Max. Zyklenzahl / Min."]
["Anzahl Stoßdämpfer",null,1,null,"Zyklen aus Verfahrzeit",null,{"$f":"60/(2*L50)","v":294.11764705882354},null,"Endgeschwindigkeit (Eingabe)",null,{"$f":"C10","v":2.02}]
["Gesamtmasse","kg",{"$f":"C12+C8/2","v":0.38},null,null,null,null,null,"Mittlere Verfahrgeschwindigkeit (Eingabe)   m/s",null,{"$f":"C10/'Allgemeine Werte'!E71","v":1.1542857142857144}]
["Aufprallgeschwindigkeit","m/s",{"$f":"L54","v":0.17156862745098042},null,"Ezul / Stunde","Nm",{"$f":"'Allgemeine Werte'!H36*C46*0.95","v":23940},null,"Verfahrzeit (Eingabe)","s",{"$f":"(C5/1000)/K47","v":8.6633663366336624E-3},"Verfahrzeit für Berechnung"]
["W1","Nm",{"$f":"C47*POWER(C48,2)*0.5","v":5.5928008458285298E-3},null,"Ezul / Minute","Nm",{"$f":"G48/60","v":399},null,null,null,null,"( max )"]
["Hub Stoßdämpfer","m",{"$f":"'Allgemeine Werte'!L36","v":6.7999999999999996E-3},null,"Zyklen aus Ezul",null,{"$f":"G49/C53","v":501.10282757651117},null,"min. Verfahrzeit ab","gemessen",{"$f":"0.05+((C5/12.5)*0.01)","v":5.8000000000000003E-2},{"$f":"MAX(K48,K53,K42)","v":0.10199999999999999}]
["Zylinderkraft","N",120,null,null,null,null,null,"Mittlere Verfahrgeschwindigkeit ab",null,{"$f":"(C5/1000)/K50","v":0.17241379310344826}]
["W2 ( Antriebsenergie )","Nm",{"$f":"MAX(C56,C57)*C50","v":0.7906509599999999},null,"Max. Zyklen",null,{"$f":"MIN(G46,G50,G55)","v":120},null,"Endgeschwindigkeit ab",null,{"$f":"K51*'Allgemeine Werte'!E71","v":0.30172413793103448},"Endgeschwindigkeit f. Ber."]
["W1+W2 ( Energie / Hub )","Nm",{"$f":"C52+C49","v":0.79624376084582849},null,null,null,null,null,"min. Verfahrzeit auf",null,{"$f":"0.09+((C5/12.5)*0.015)","v":0.10199999999999999},"( min )"]
["Ezul / Zyklus ( Hub )","Nm",{"$f":"'Allgemeine Werte'!G36*C50/'Allgemeine Werte'!K36*C46","v":5.8285714285714283},null,"Stoßd.-kolbenrückstellzeit",null,{"$f":"'Allgemeine Werte'!E36","v":0.5},null,"Mittlere Verfahrgeschwindigkeit auf",null,{"$f":"(C5/1000)/K53","v":9.8039215686274522E-2},{"$f":"MIN(K46,K55,K44)","v":0.17156862745098042}]
["Auslastung / Zyklus",null,{"$f":"C53/C54","v":0.13661044916472548},null,"Max. Zyklen aus Rückstellzeit",null,{"$f":"60/G54","v":120},null,"Endgeschwindigkeit auf",null,{"$f":"K54*'Allgemeine Werte'!E71","v":0.17156862745098042}]
["Antriebskraft nach oben",null,{"$f":"C6-C47*9.81","v":116.2722}]
["Antriebskraft nach unten",null,{"$f":"C9+C47*9.81","v":106.7278}]

{"sheet":"EM-Ber-CLM100-1","index":96,"n_rows":55,"n_cols":12,"rows_kept":55,"cut":false,"hidden":false,"merged":[]}
["Linearmodul Typ",null,"CLM 100"]
[]
["Berechnung der Führungsbelastung"]
[null,null,null,null,null,null,"Statisch auf Grund","Statisch auf Grund"]
["Hub","mm",{"$f":"'EM-LM-1'!K8","v":10},null,null,null,"Zusatzmasse m","Zusatzmasse m","Dynamisch auf Grund","Statisch auf Grund","Statisch auf Grund"]
["Zylinderkraft vor","N",294,null,null,null,"Modul ausgef.","Modul eingef.","Zusatzmasse m","Zusatzkraft Modul eingef.","Zusatzkraft Modul ausgef."]
["Faktor",null,{"$f":"ROUNDDOWN((C5/25.1),0)","v":0},null,null,null,"I","II","III","IV","V"]
["Modulgewicht","kg",{"$f":"IF(C7=4,1.8+(C7*0.3),1.5+(C7*0.3))","v":1.5},null,"Moment Mx=M2","Nm",{"$f":"(C12*9.81)*((C38+C34/2+C33)/1000)","v":0},{"$f":"C12*9.81*((C37+C34/2+C33)/1000)","v":0},{"$f":"C42*(C15/1000)","v":0},{"$f":"(C21*C23/1000)-C25*((C27+C37+C34/2)/1000)","v":0},{"$f":"(C21*C23/1000)-C25*((C27+C38+C34/2)/1000)","v":0}]
["Zylinderkraft zurück","N",247,null,"Moment My=M1","Nm",{"$f":"C12*9.81*(C13/1000)","v":0},{"$f":"C12*9.81*(C13/1000)","v":0},"-",{"$f":"C17*C19/1000-C25*(C26/1000)","v":0},{"$f":"C17*C19/1000-C25*(C26/1000)","v":0}]
["Verfahrgeschwindigkeit","m/s",{"$f":"'EM-LM-1-1'!I58","v":2.02},null,"Moment Mz=M3","Nm","-","-",{"$f":"C42*(C13/1000)","v":0},{"$f":"C21*C22/1000-C17*(C18+C37+C34/2)/1000","v":0},{"$f":"C21*C22/1000-C17*(C18+C38+C34/2)/1000","v":0}]
[null,null,null,null,null,null,null,null,null,{"$f":"'EM-LM-1'!G51","v":true}]
["Zusatzmasse","kg",{"$f":"'EM-LM-1'!K14","v":0},null,"Mx Summe  I + III","Nm",{"$f":"G8+I8","v":0}]
["Schwerpunktabstand x-Richtung","mm",{"$f":"'EM-LM-1'!M14","v":0},null,"Absolutbetrag",null,{"$f":"ABS(G12)","v":0}]
["Schwerpunktabstand y-Richtung","mm",{"$f":"'EM-LM-1'!O14","v":0},null,"Mx Summe  II-III",null,{"$f":"H8-I8","v":0}]
["Schwerpunktabstand z-Richt.(Mitte Rolle)","mm",{"$f":"'EM-LM-1'!Q14+16","v":16},null,"Absolutbetrag",null,{"$f":"ABS(G14)","v":0}]
[null,null,null,null,"I ","Nm",{"$f":"ABS(G8)","v":0}]
["Zusatzkraft Fx","N",{"$f":"'EM-LM-1'!K18","v":0},null,"I oder I+III oder II-III",null,{"$f":"MAX(G16,G15,G13)","v":0}]
["Kraftangriffspunkt von Fx in y-Richtung","mm",{"$f":"'EM-LM-1'!O18","v":0},null,"Mx Summe  I+V oder II+IV","Nm",{"$f":"IF(AND(J8=0,K8=0),MAX(G8,H8),IF(J11=TRUE,H8+J8,G8+K8))","v":0}]
["Kraftangrp. von Fx in z-Richt.(Mitte Rolle)","mm",{"$f":"'EM-LM-1'!Q18+16","v":16},null,"Absolutbetrag",null,{"$f":"ABS(G18)","v":0}]
[null,null,null,null,"Mx ges","Nm",{"$f":"MAX(G17,G19)","v":0}]
["Zusatzkraft Fy","N",{"$f":"'EM-LM-1'!K20","v":0},null,"Mx zul","Nm",{"$f":"C34/1000*530","v":26.5},null,"Maximal-Werte der Momente und Kräfte nicht aus Katalog, sondern exakt berechnete Werte !!"]
["Kraftangriffspunkt von Fy in x-Richtung","mm",{"$f":"'EM-LM-1'!M20","v":0}]
["Kraftangrp. von Fy in z-Richt.(Mitte Rolle)","mm",{"$f":"'EM-LM-1'!Q20+16","v":16},null,"My Summe  I+V ( = II+IV )","Nm",{"$f":"G9+K9","v":0}]
[null,null,null,null,"Absolutbetrag",null,{"$f":"ABS(G23)","v":0}]
["Zusatzkraft Fz","N",{"$f":"'EM-LM-1'!K22","v":0},null,"My ges","Nm",{"$f":"G24","v":0}]
["Kraftangriffspunkt von Fz in x-Richtung","mm",{"$f":"'EM-LM-1'!M22","v":0},null,"My zul","Nm",{"$f":"IF(C7=4,37+(C7*7),30+(C7*7))","v":30}]
["Kraftangriffspunkt von Fz in y-Richtung","mm",{"$f":"'EM-LM-1'!O22","v":0}]
[]
[null,null,null,null,"Mz III","Nm",{"$f":"I10","v":0}]
["Länge L (Stirnplatte zu 1. Rolle - HubN/2)","mm",{"$f":"IF(C7=4,45,32.5)","v":32.5},null,"Absolutbetrag",null,{"$f":"ABS(G29)","v":0}]
["Nennhub/2        HubN/2","mm",{"$f":"(25+(C7*25))/2","v":12.5},null,"Mz IV/V","Nm",{"$f":"IF(J11=TRUE,J10,K10)","v":0}]
["tatsächlicher gefahrener Hub/2","mm",{"$f":"C5/2","v":5},null,"Absolutbetrag",null,{"$f":"ABS(G31)","v":0}]
["Schwerpunktabstand in y-Richtung","mm",{"$f":"C14","v":0},null,"Mz ges","Nm",{"$f":"MAX(G30,G32)","v":0}]
["Wert K ( Abstand erste / letzte Rolle )","mm",{"$f":"IF(C7=4,62.5+(C7*12.5),50+(C7*12.5))","v":50},null,"Mz zul","Nm",{"$f":"G21/2","v":13.25}]
[]
[null,null,null,null,null,null,null,null,"Belastungsgleichung stat.",{"$f":"G19/G21+G25/G26+G32/G34+G38/G39+G42/G43","v":0},null,"me ="]
["l1 bei eingefahrenem Hub","mm",{"$f":"C30+C31","v":45},null,"Fx ges","N",{"$f":"C17","v":0},null,"Belastungsgleichung dyn.",{"$f":"G17/G21+G30/G34+G40/G43","v":0},null,{"$f":"2*C53/POWER(L54,2)","v":186.010032}]
["l1 bei ausgefahrenem Hub","mm",{"$f":"C30+C31+C32","v":50},null,"Absolutwert",null,{"$f":"ABS(G37)","v":0},null,"Belastungsgleichung",{"$f":"MAX(J36:J37)","v":0},null,"me max ="]
[null,null,null,null,"Fx zul","N",{"$f":"G43","v":2385},null,null,null,null,{"$f":"40*C46","v":40}]
["Stoßdämpferhub s ( Hub bis a=0 )","m",{"$f":"'Allgemeine Werte'!M38","v":7.6380000000000007E-3},null,"Gewichtskraft","N",{"$f":"C12*9.81","v":0},null,null,null,null,"me/me max ="]
["Verzögerung a=vxv/2xs","m/s2",{"$f":"POWER(C48,2)/(2*C40)","v":2.368594917166233},null,"Fz ges abs","N",{"$f":"ABS(-C25+C12*9.81)","v":0},null,"Verfahrzeitberechnung",null,null,{"$f":"L37/L39","v":4.6502508000000002}]
["Kraft zur Verzögerung der Masse","N",{"$f":"C12*C41","v":0},null,"Max aus E40,E41",null,{"$f":"MAX(G40,G41)","v":0},null,"Verfahrzeit berechnet ( t=Wurzel aus (2xsxm/F)",null,{"$f":"(SQRT(2*(C5/1000)*(C12+C8/2)/C9))*(2.7+C7*0.05)","v":2.1040735505378313E-2}]
["Kraft zur Verzög. d. Masse incl Modul/2","N",{"$f":"C47*C41","v":1.7764461878746749},null,"Fz zul","N",{"$f":"IF(C7=4,2915+(C7*530),2385+(C7*530))","v":2385},null,"Mittlere Verfahrgeschwindigkeit berechnet",null,{"$f":"(C5/1000)/K42","v":0.47526855691160874}]
[null,null,null,null,null,null,null,null,"Endgeschwindigkeit berechnet",null,{"$f":"K43*'Allgemeine Werte'!E71","v":0.83171997459531533}]
["Stoßdämpferberechnung",null,null,null,"Max. Zyklenzahl / Min."]
["Anzahl Stoßdämpfer",null,1,null,"Zyklen aus Verfahrzeit",null,{"$f":"60/(2*L50)","v":326.08695652173913},null,"Endgeschwindigkeit (Eingabe)",null,{"$f":"C10","v":2.02}]
["Gesamtmasse","kg",{"$f":"C12+C8/2","v":0.75},null,null,null,null,null,"Mittlere Verfahrgeschwindigkeit (Eingabe)   m/s",null,{"$f":"C10/'Allgemeine Werte'!E71","v":1.1542857142857144}]
["Aufprallgeschwindigkeit","m/s",{"$f":"L54","v":0.19021739130434784},null,"Ezul / Stunde","Nm",{"$f":"'Allgemeine Werte'!H38*C46*0.95","v":26790},null,"Verfahrzeit (Eingabe)","s",{"$f":"(C5/1000)/K47","v":8.6633663366336624E-3},"Verfahrzeit für Berechnung"]
["W1","Nm",{"$f":"C47*POWER(C48,2)*0.5","v":1.3568495982986768E-2},null,"Ezul / Minute","Nm",{"$f":"G48/60","v":446.5},null,null,null,null,"( max )"]
["Hub Stoßdämpfer","m",{"$f":"'Allgemeine Werte'!L38","v":1.14E-2},null,"Zyklen aus Ezul",null,{"$f":"G49/C53","v":132.68280638339166},null,"min. Verfahrzeit vor","gemessen",{"$f":"0.05+(C5/25)*0.03","v":6.2E-2},{"$f":"MAX(K48,K53,K42)","v":9.1999999999999998E-2}]
["Zylinderkraft","N",294,null,null,null,null,null,"Mittlere Verfahrgeschwindigkeit vor",null,{"$f":"(C5/1000)/K50","v":0.16129032258064516}]
["W2 ( Antriebsenergie )","Nm",{"$f":"C51*C50","v":3.3515999999999999},null,"Max. Zyklen",null,{"$f":"MIN(G46,G50,G55)","v":120},null,"Endgeschwindigkeit vor",null,{"$f":"K51*'Allgemeine Werte'!E71","v":0.282258064516129},"Endgeschwindigkeit f. Ber."]
["W1+W2 ( Energie / Hub )","Nm",{"$f":"C52+C49","v":3.3651684959829868},null,null,null,null,null,"min. Verfahrzeit zurück",null,{"$f":"0.08+((C5/25)*0.03)","v":9.1999999999999998E-2},"( min )"]
["Ezul / Zyklus ( Hub )","Nm",{"$f":"'Allgemeine Werte'!G38*C50/'Allgemeine Werte'!K38*C46","v":10.111304347826087},null,"Stoßd.-kolbenrückstellzeit",null,{"$f":"'Allgemeine Werte'!E38","v":0.5},null,"Mittlere Verfahrgeschwindigkeit zurück",null,{"$f":"(C5/1000)/K53","v":0.10869565217391305},{"$f":"MIN(K46,K55,K44)","v":0.19021739130434784}]
["Auslastung / Zyklus",null,{"$f":"C53/C54","v":0.33281250175270338},null,"Max. Zyklen aus Rückstellzeit",null,{"$f":"60/G54","v":120},null,"Endgeschwindigkeit zurück",null,{"$f":"K54*'Allgemeine Werte'!E71","v":0.19021739130434784}]

{"sheet":"EM-Ber-CLM100-2","index":97,"n_rows":55,"n_cols":12,"rows_kept":55,"cut":false,"hidden":false,"merged":[]}
["Linearmodul Typ",null,"CLM 100"]
[]
["Berechnung der Führungsbelastung"]
[null,null,null,null,null,null,"Statisch auf Grund","Statisch auf Grund"]
["Hub","mm",{"$f":"'EM-LM-2'!K8","v":10},null,null,null,"Zusatzmasse m","Zusatzmasse m","Dynamisch auf Grund","Statisch auf Grund","Statisch auf Grund"]
["Zylinderkraft vor","N",294,null,null,null,"Modul ausgef.","Modul eingef.","Zusatzmasse m","Zusatzkraft Modul eingef.","Zusatzkraft Modul ausgef."]
["Faktor",null,{"$f":"ROUNDDOWN((C5/25.1),0)","v":0},null,null,null,"I","II","III","IV","V"]
["Modulgewicht","kg",{"$f":"IF(C7=4,1.8+(C7*0.3),1.5+(C7*0.3))","v":1.5},null,"Moment Mx=M3","Nm",{"$f":"(C12*9.81)*((C38+C34/2+C33)/1000)","v":0},{"$f":"C12*9.81*((C37+C34/2+C33)/1000)","v":0},{"$f":"C42*(C15/1000)","v":0},{"$f":"(C21*C23/1000)-C25*((C27+C37+C34/2)/1000)","v":0},{"$f":"(C21*C23/1000)-C25*((C27+C38+C34/2)/1000)","v":0}]
["Zylinderkraft zurück","N",247,null,"Moment My=M1","Nm",{"$f":"C12*9.81*((C13)/1000)","v":0},{"$f":"C12*9.81*((C13)/1000)","v":0},"-",{"$f":"C17*(C19/1000)-C25*C26/1000","v":0},{"$f":"C17*(C19/1000)-C25*C26/1000","v":0}]
["Verfahrgeschwindigkeit","m/s",{"$f":"'EM-LM-2-1'!I58","v":2.02},null,"Moment Mz=M2","Nm","-","-",{"$f":"C42*(C13/1000)","v":0},{"$f":"C21*C22/1000-C17*(C18+C37+C34/2)/1000","v":0},{"$f":"C21*C22/1000-C17*(C18+C38+C34/2)/1000","v":0}]
[null,null,null,null,null,null,null,null,null,{"$f":"'EM-LM-2'!G51","v":true}]
["Zusatzmasse","kg",{"$f":"'EM-LM-2'!K14","v":0},null,"Mx Summe  I + III","Nm",{"$f":"G8+I8","v":0}]
["Schwerpunktabstand x-Richt.(Mitte Rolle)","mm",{"$f":"'EM-LM-2'!M14+16","v":16},null,"Absolutbetrag",null,{"$f":"ABS(G12)","v":0}]
["Schwerpunktabstand y-Richtung","mm",{"$f":"'EM-LM-2'!O14","v":0},null,"Mx Summe  II-III",null,{"$f":"H8-I8","v":0}]
["Schwerpunktabstand z-Richtung","mm",{"$f":"'EM-LM-2'!Q14","v":0},null,"Absolutbetrag",null,{"$f":"ABS(G14)","v":0}]
[null,null,null,null,"I ","Nm",{"$f":"ABS(G8)","v":0}]
["Zusatzkraft Fx","N",{"$f":"'EM-LM-2'!K18","v":0},null,"I oder I+III oder II-III",null,{"$f":"MAX(G16,G15,G13)","v":0}]
["Kraftangriffspunkt von Fx in y-Richtung","mm",{"$f":"'EM-LM-2'!O18","v":0},null,"Mx Summe  I+V oder II+IV","Nm",{"$f":"IF(AND(J8=0,K8=0),MAX(G8,H8),IF(J11=TRUE,H8+J8,G8+K8))","v":0}]
["Kraftangriffspunkt von Fx in z-Richtung","mm",{"$f":"'EM-LM-2'!Q18","v":0},null,"Absolutbetrag",null,{"$f":"ABS(G18)","v":0}]
[null,null,null,null,"Mx ges","Nm",{"$f":"MAX(G17,G19)","v":0}]
["Zusatzkraft Fy","N",{"$f":"'EM-LM-2'!K20","v":0},null,"Mx zul","Nm",{"$f":"G34/2","v":13.25},null,"Maximal-Werte der Momente und Kräfte nicht aus Katalog, sondern exakt berechnete Werte !!"]
["Kraftangrp. von Fy in x-Richt. (Mitte Rolle)","mm",{"$f":"'EM-LM-2'!M20+16","v":16}]
["Kraftangrp. von Fy in z-Richt.","mm",{"$f":"'EM-LM-2'!Q20","v":0},null,"My Summe  I+V ( = II+IV )","Nm",{"$f":"G9+K9","v":0}]
[null,null,null,null,"Absolutbetrag",null,{"$f":"ABS(G23)","v":0}]
["Zusatzkraft Fz","N",{"$f":"'EM-LM-2'!K22","v":0},null,"My ges","Nm",{"$f":"G24","v":0}]
["Kraftangrp. von Fz in x-Richt. (Mitte Rolle)","mm",{"$f":"'EM-LM-2'!M22+16","v":16},null,"My zul","Nm",{"$f":"IF(C7=4,37+(C7*7),30+(C7*7))","v":30}]
["Kraftangriffspunkt von Fz in y-Richtung","mm",{"$f":"'EM-LM-2'!O22","v":0}]
[]
[null,null,null,null,"Mz III","Nm",{"$f":"I10","v":0}]
["Länge L (Stirnplatte zu 1. Rolle - HubN/2)","mm",{"$f":"IF(C7=4,45,32.5)","v":32.5},null,"Absolutbetrag",null,{"$f":"ABS(G29)","v":0}]
["Nennhub/2        HubN/2","mm",{"$f":"(25+(C7*25))/2","v":12.5},null,"Mz IV/V","Nm",{"$f":"IF(J11=TRUE,J10,K10)","v":0}]
["tatsächlicher gefahrener Hub/2","mm",{"$f":"C5/2","v":5},null,"Absolutbetrag",null,{"$f":"ABS(G31)","v":0}]
["Schwerpunktabstand in y-Richtung","mm",{"$f":"C14","v":0},null,"Mz ges","Nm",{"$f":"MAX(G30,G32)","v":0}]
["Wert K ( Abstand erste / letzte Rolle )","mm",{"$f":"IF(C7=4,62.5+(C7*12.5),50+(C7*12.5))","v":50},null,"Mz zul","Nm",{"$f":"C34/1000*530","v":26.5}]
[]
[null,null,null,null,null,null,null,null,"Belastungsgleichung stat.",{"$f":"G19/G21+G25/G26+G32/G34+G38/G39+G42/G43","v":0}]
["l1 bei eingefahrenem Hub","mm",{"$f":"C30+C31","v":45},null,"Fx ges","N",{"$f":"C17","v":0},null,"Belastungsgleichung dyn.",{"$f":"G17/G21+G30/G34+G40/G43","v":0}]
["l1 bei ausgefahrenem Hub","mm",{"$f":"C30+C31+C32","v":50},null,"Absolutwert",null,{"$f":"ABS(G37)","v":0},null,"Belastungsgleichung",{"$f":"MAX(J36:J37)","v":0}]
[null,null,null,null,"Fx zul","N",{"$f":"G43","v":2385}]
["Stoßdämpferhub s ( Hub bis a=0 )","m",{"$f":"'Allgemeine Werte'!M38","v":7.6380000000000007E-3},null,"Gewichtskraft","N",{"$f":"C12*9.81","v":0}]
["Verzögerung a=vxv/2xs","m/s2",{"$f":"POWER(C48,2)/(2*C40)","v":2.368594917166233},null,"Fz ges abs","N",{"$f":"ABS(-C25+C12*9.81)","v":0},null,"Verfahrzeitberechnung"]
["Kraft zur Verzögerung der Masse","N",{"$f":"C12*C41","v":0},null,"Max aus E40,E41",null,{"$f":"MAX(G40,G41)","v":0},null,"Verfahrzeit berechnet ( t=Wurzel aus (2xsxm/F)",null,{"$f":"(SQRT(2*(C5/1000)*(C12+C8/2)/C9))*(2.7+C7*0.05)","v":2.1040735505378313E-2}]
["Kraft zur Verzög. d. Masse incl Modul/2","N",{"$f":"C47*C41","v":1.7764461878746749},null,"Fz zul","N",{"$f":"IF(C7=4,2915+(C7*530),2385+(C7*530))","v":2385},null,"Mittlere Verfahrgeschwindigkeit berechnet",null,{"$f":"(C5/1000)/K42","v":0.47526855691160874}]
[null,null,null,null,null,null,null,null,"Endgeschwindigkeit berechnet",null,{"$f":"K43*'Allgemeine Werte'!E71","v":0.83171997459531533}]
["Stoßdämpferberechnung",null,null,null,"Max. Zyklenzahl / Min."]
["Anzahl Stoßdämpfer",null,1,null,"Zyklen aus Verfahrzeit",null,{"$f":"60/(2*L50)","v":326.08695652173913},null,"Endgeschwindigkeit (Eingabe)",null,{"$f":"C10","v":2.02}]
["Gesamtmasse","kg",{"$f":"C12+C8/2","v":0.75},null,null,null,null,null,"Mittlere Verfahrgeschwindigkeit (Eingabe)   m/s",null,{"$f":"C10/'Allgemeine Werte'!E71","v":1.1542857142857144}]
["Aufprallgeschwindigkeit","m/s",{"$f":"L54","v":0.19021739130434784},null,"Ezul / Stunde","Nm",{"$f":"'Allgemeine Werte'!H38*C46*0.95","v":26790},null,"Verfahrzeit (Eingabe)","s",{"$f":"(C5/1000)/K47","v":8.6633663366336624E-3},"Verfahrzeit für Berechnung"]
["W1","Nm",{"$f":"C47*POWER(C48,2)*0.5","v":1.3568495982986768E-2},null,"Ezul / Minute","Nm",{"$f":"G48/60","v":446.5},null,null,null,null,"( max )"]
["Hub Stoßdämpfer","m",{"$f":"'Allgemeine Werte'!L38","v":1.14E-2},null,"Zyklen aus Ezul",null,{"$f":"G49/C53","v":132.68280638339166},null,"min. Verfahrzeit vor","gemessen",{"$f":"0.05+(C5/25)*0.03","v":6.2E-2},{"$f":"MAX(K48,K53,K42)","v":9.1999999999999998E-2}]
["Zylinderkraft","N",294,null,null,null,null,null,"Mittlere Verfahrgeschwindigkeit vor",null,{"$f":"(C5/1000)/K50","v":0.16129032258064516}]
["W2 ( Antriebsenergie )","Nm",{"$f":"C51*C50","v":3.3515999999999999},null,"Max. Zyklen",null,{"$f":"MIN(G46,G50,G55)","v":120},null,"Endgeschwindigkeit vor",null,{"$f":"K51*'Allgemeine Werte'!E71","v":0.282258064516129},"Endgeschwindigkeit f. Ber."]
["W1+W2 ( Energie / Hub )","Nm",{"$f":"C52+C49","v":3.3651684959829868},null,null,null,null,null,"min. Verfahrzeit zurück",null,{"$f":"0.08+((C5/25)*0.03)","v":9.1999999999999998E-2},"( min )"]
["Ezul / Zyklus ( Hub )","Nm",{"$f":"'Allgemeine Werte'!G38*C50/'Allgemeine Werte'!K38*C46","v":10.111304347826087},null,"Stoßd.-kolbenrückstellzeit",null,{"$f":"'Allgemeine Werte'!E38","v":0.5},null,"Mittlere Verfahrgeschwindigkeit zurück",null,{"$f":"(C5/1000)/K53","v":0.10869565217391305},{"$f":"MIN(K46,K55,K44)","v":0.19021739130434784}]
["Auslastung / Zyklus",null,{"$f":"C53/C54","v":0.33281250175270338},null,"Max. Zyklen aus Rückstellzeit",null,{"$f":"60/G54","v":120},null,"Endgeschwindigkeit zurück",null,{"$f":"K54*'Allgemeine Werte'!E71","v":0.19021739130434784}]

{"sheet":"EM-Ber-CLM100-3","index":98,"n_rows":57,"n_cols":12,"rows_kept":57,"cut":false,"hidden":false,"merged":[]}
["Linearmodul Typ",null,"CLM 100"]
[]
["Berechnung der Führungsbelastung"]
[null,null,null,null,null,null,"Statisch auf Grund","Statisch auf Grund"]
["Hub","mm",{"$f":"'EM-LM-3'!K8","v":10},null,null,null,"Zusatzmasse m","Zusatzmasse m","Dynamisch auf Grund","Statisch auf Grund","Statisch auf Grund"]
["Zylinderkraft vor","N",294,null,null,null,"Modul ausgef.","Modul eingef.","Zusatzmasse m","Zusatzkraft Modul eingef.","Zusatzkraft Modul ausgef."]
["Faktor",null,{"$f":"ROUNDDOWN((C5/25.1),0)","v":0},null,null,null,"I","II","III","IV","V"]
["Modulgewicht","kg",{"$f":"IF(C7=4,1.8+(C7*0.3),1.5+(C7*0.3))","v":1.5},null,"Moment Mx=M3","Nm",{"$f":"C12*9.81*((C15)/1000)","v":0},{"$f":"C12*9.81*((C15)/1000)","v":0},{"$f":"C42*(C15/1000)","v":0},{"$f":"IF(K11=TRUE,-(C21*C23/1000)+C25*((C27+C37+C34/2)/1000),(C21*C23/1000)-C25*((C27+C37+C34/2)/1000))","v":0},{"$f":"IF(K11=TRUE,-(C21*C23/1000)+C25*((C27+C38+C34/2)/1000),(C21*C23/1000)-C25*((C27+C38+C34/2)/1000))","v":0}]
["Zylinderkraft zurück","N",247,null,"Moment My=M1","Nm","-","-","-",{"$f":"C17*(C19/1000)-C25*C26/1000","v":0},{"$f":"C17*(C19/1000)-C25*C26/1000","v":0}]
["Verfahrgeschwindigkeit","m/s",{"$f":"'EM-LM-3-1'!I58","v":2.02},null,"Moment Mz=M2","Nm",{"$f":"C12*9.81*((C13)/1000)","v":0},{"$f":"C12*9.81*((C13)/1000)","v":0},{"$f":"C42*(C13/1000)","v":0},{"$f":"IF(K11=TRUE,-C21*C22/1000+C17*(C18+C37+C34/2)/1000,C21*C22/1000-C17*(C18+C37+C34/2)/1000)","v":0},{"$f":"IF(K11=TRUE,-C21*C22/1000+C17*(C18+C38+C34/2)/1000,C21*C22/1000-C17*(C18+C38+C34/2)/1000)","v":0}]
[null,null,null,null,null,null,null,null,null,{"$f":"'EM-LM-3'!G51","v":true},{"$f":"'EM-LM-3'!G52","v":true}]
["Zusatzmasse","kg",{"$f":"'EM-LM-3'!K14","v":0}]
["Schwerpunktabstand x-Richt.(Mitte Rolle)","mm",{"$f":"'EM-LM-3'!M14+16","v":16}]
["Schwerpunktabstand y-Richtung","mm",{"$f":"'EM-LM-3'!O14","v":0}]
["Schwerpunktabstand z-Richtung","mm",{"$f":"'EM-LM-3'!Q14","v":0}]
[null,null,null,null,"Mx Summe  I(II) + III","Nm",{"$f":"G8+I8","v":0}]
["Zusatzkraft Fx","N",{"$f":"'EM-LM-3'!K18","v":0},null,"Absolutbetrag",null,{"$f":"ABS(G16)","v":0}]
["Kraftangriffspunkt von Fx in y-Richtung","mm",{"$f":"'EM-LM-3'!O18","v":0},null,"Mx Summe  I+V oder II+IV","Nm",{"$f":"IF(J11=TRUE,H8+J8,G8+K8)","v":0}]
["Kraftangriffspunkt von Fx in z-Richtung","mm",{"$f":"'EM-LM-3'!Q18","v":0},null,"Absolutbetrag",null,{"$f":"ABS(G18)","v":0}]
[null,null,null,null,"Mx ges","Nm",{"$f":"MAX(G17,G19)","v":0}]
["Zusatzkraft Fy","N",{"$f":"'EM-LM-3'!K20","v":0},null,"Mx zul","Nm",{"$f":"G34/2","v":13.25},null,"Maximal-Werte der Momente und Kräfte nicht aus Katalog, sondern exakt berechnete Werte !!"]
["Kraftangrp. von Fy in x-Richt. (Mitte Rolle)","mm",{"$f":"'EM-LM-3'!M20+16","v":16}]
["Kraftangrp. von Fy in z-Richt.","mm",{"$f":"'EM-LM-3'!Q20","v":0},null,"My IV = V","Nm",{"$f":"J9","v":0}]
[null,null,null,null,"Absolutbetrag",null,{"$f":"ABS(G23)","v":0}]
["Zusatzkraft Fz","N",{"$f":"'EM-LM-3'!K22","v":0},null,"My ges","Nm",{"$f":"G24","v":0}]
["Kraftangrp. von Fz in x-Richt. (Mitte Rolle)","mm",{"$f":"'EM-LM-3'!M22+16","v":16},null,"My zul","Nm",{"$f":"IF(C7=4,37+(C7*7),30+(C7*7))","v":30}]
["Kraftangriffspunkt von Fz in y-Richtung","mm",{"$f":"'EM-LM-3'!O22","v":0}]
[]
[null,null,null,null,"Mz Summe I(II)+III","Nm",{"$f":"G10+I10","v":0}]
["Länge L (Stirnplatte zu 1. Rolle - HubN/2)","mm",{"$f":"IF(C7=4,45,32.5)","v":32.5},null,"Absolutbetrag",null,{"$f":"ABS(G29)","v":0}]
["Nennhub/2        HubN/2","mm",{"$f":"(25+(C7*25))/2","v":12.5},null,"Mz Summe  I+V oder II+IV","Nm",{"$f":"IF(J11=TRUE,H10+J10,G10+K10)","v":0}]
["tatsächlicher gefahrener Hub/2","mm",{"$f":"C5/2","v":5},null,"Absolutbetrag",null,{"$f":"ABS(G31)","v":0}]
["Schwerpunktabstand in y-Richtung","mm",{"$f":"C14","v":0},null,"Mz ges","Nm",{"$f":"MAX(G30,G32)","v":0}]
["Wert K ( Abstand erste / letzte Rolle )","mm",{"$f":"IF(C7=4,62.5+(C7*12.5),50+(C7*12.5))","v":50},null,"Mz zul","Nm",{"$f":"C34/1000*530","v":26.5}]
[]
[null,null,null,null,null,null,null,null,"Belastungsgleichung stat.",{"$f":"G19/G21+G25/G26+G32/G34+G38/G39+G42/G43","v":0}]
["l1 bei eingefahrenem Hub","mm",{"$f":"C30+C31","v":45},null,"Fx ges","N",{"$f":"C17","v":0},null,"Belastungsgleichung dyn.",{"$f":"G17/G21+G30/G34","v":0}]
["l1 bei ausgefahrenem Hub","mm",{"$f":"C30+C31+C32","v":50},null,"Absolutwert",null,{"$f":"ABS(G37)","v":0},null,"Belastungsgleichung",{"$f":"MAX(J36:J37)","v":0}]
[null,null,null,null,"Fx zul","N",{"$f":"G43","v":2385}]
["Stoßdämpferhub s ( Hub bis a=0 )","m",{"$f":"'Allgemeine Werte'!M38","v":7.6380000000000007E-3}]
["Verzögerung a=vxv/2xs","m/s2",{"$f":"POWER(C48,2)/(2*C40)","v":3.8672429357436342},null,"Fz ges","N",{"$f":"-C25","v":0},null,"Verfahrzeitberechnung"]
["Kraft zur Verzögerung der Masse","N",{"$f":"C12*C41","v":0},null,"Absolutwert",null,{"$f":"ABS(G41)","v":0},null,"Verfahrzeit berechnet ( t=Wurzel aus (2xsxm/F)",null,{"$f":"(SQRT(2*(C5/1000)*(C12+C8/2)/(C6-(C12+C8/2)*9.81)))*(2.45+C7*0.05)","v":1.77231707827647E-2}]
["Kraft zur Verzög. d. Masse incl Modul/2","N",{"$f":"C47*C41","v":2.9004322018077255},null,"Fz zul","N",{"$f":"IF(C7=4,2915+(C7*530),2385+(C7*530))","v":2385},null,"Mittlere Verfahrgeschwindigkeit berechnet",null,{"$f":"(C5/1000)/K42","v":0.56423312298749206}]
[null,null,null,null,null,null,null,null,"Endgeschwindigkeit berechnet",null,{"$f":"K43*'Allgemeine Werte'!E71","v":0.98740796522811114}]
["Stoßdämpferberechnung",null,null,null,"Max. Zyklenzahl / Min."]
["Anzahl Stoßdämpfer",null,1,null,"Zyklen aus Verfahrzeit",null,{"$f":"60/(2*L50)","v":416.66666666666669},null,"Endgeschwindigkeit (Eingabe)",null,{"$f":"C10","v":2.02}]
["Gesamtmasse","kg",{"$f":"C12+C8/2","v":0.75},null,null,null,null,null,"Mittlere Verfahrgeschwindigkeit (Eingabe)   m/s",null,{"$f":"C10/'Allgemeine Werte'!E71","v":1.1542857142857144}]
["Aufprallgeschwindigkeit","m/s",{"$f":"L54","v":0.24305555555555558},null,"Ezul / Stunde","Nm",{"$f":"'Allgemeine Werte'!H38*C46*0.95","v":26790},null,"Verfahrzeit (Eingabe)","s",{"$f":"(C5/1000)/K47","v":8.6633663366336624E-3},"Verfahrzeit für Berechnung"]
["W1","Nm",{"$f":"C47*POWER(C48,2)*0.5","v":2.2153501157407413E-2},null,"Ezul / Minute","Nm",{"$f":"G48/60","v":446.5},null,null,null,null,"( max )"]
["Hub Stoßdämpfer","m",{"$f":"'Allgemeine Werte'!L38","v":1.14E-2},null,"Zyklen aus Ezul",null,{"$f":"G49/C53","v":135.71931841938135},null,"min. Verfahrzeit ab","gemessen",{"$f":"0.045+(C5/25)*0.025","v":5.5E-2},{"$f":"MAX(K48,K53,K42)","v":7.1999999999999995E-2}]
["Zylinderkraft","N",294,null,null,null,null,null,"Mittlere Verfahrgeschwindigkeit ab",null,{"$f":"(C5/1000)/K50","v":0.18181818181818182}]
["W2 ( Antriebsenergie )","Nm",{"$f":"MAX(C56,C57)*C50","v":3.2677244999999999},null,"Max. Zyklen",null,{"$f":"MIN(G46,G50,G55)","v":120},null,"Endgeschwindigkeit ab",null,{"$f":"K51*'Allgemeine Werte'!E71","v":0.31818181818181818},"Endgeschwindigkeit f. Ber."]
["W1+W2 ( Energie / Hub )","Nm",{"$f":"C52+C49","v":3.2898780011574074},null,null,null,null,null,"min. Verfahrzeit auf",null,{"$f":"0.06+((C5/25)*0.03)","v":7.1999999999999995E-2},"( min )"]
["Ezul / Zyklus ( Hub )","Nm",{"$f":"'Allgemeine Werte'!G38*C50/'Allgemeine Werte'!K38*C46","v":10.111304347826087},null,"Stoßd.-kolbenrückstellzeit",null,{"$f":"'Allgemeine Werte'!E38","v":0.5},null,"Mittlere Verfahrgeschwindigkeit auf",null,{"$f":"(C5/1000)/K53","v":0.1388888888888889},{"$f":"MIN(K46,K55,K44)","v":0.24305555555555558}]
["Auslastung / Zyklus",null,{"$f":"C53/C54","v":0.32536633138381654},null,"Max. Zyklen aus Rückstellzeit",null,{"$f":"60/G54","v":120},null,"Endgeschwindigkeit auf",null,{"$f":"K54*'Allgemeine Werte'!E71","v":0.24305555555555558}]
["Antriebskraft nach oben",null,{"$f":"C6-C47*9.81","v":286.64249999999998}]
["Antriebskraft nach unten",null,{"$f":"C9+C47*9.81","v":254.35749999999999}]

{"sheet":"EM-Ber-CLM100-4","index":99,"n_rows":55,"n_cols":12,"rows_kept":55,"cut":false,"hidden":false,"merged":[]}
["Linearmodul Typ",null,"CLM 100"]
[]
["Berechnung der Führungsbelastung"]
[null,null,null,null,null,null,"Statisch auf Grund","Statisch auf Grund"]
["Hub","mm",{"$f":"'EM-LM-4'!K8","v":10},null,null,null,"Zusatzmasse m","Zusatzmasse m","Dynamisch auf Grund","Statisch auf Grund","Statisch auf Grund"]
["Zylinderkraft vor","N",294,null,null,null,"Modul ausgef.","Modul eingef.","Zusatzmasse m","Zusatzkraft Modul eingef.","Zusatzkraft Modul ausgef."]
["Faktor",null,{"$f":"ROUNDDOWN((C5/25.1),0)","v":0},null,null,null,"I","II","III","IV","V"]
["Modulgewicht","kg",{"$f":"IF(C7=4,1.8+(C7*0.3),1.5+(C7*0.3))","v":1.5},null,"Moment Mx=M2","Nm",{"$f":"(C12*9.81)*((C37-C32+C34/2+C33)/1000)","v":0},{"$f":"C12*9.81*((C37+C34/2+C33)/1000)","v":0},{"$f":"C42*(C15/1000)","v":0},{"$f":"(C21*C23/1000)-C25*((C27+C37+C34/2)/1000)","v":0},{"$f":"(C21*C23/1000)-C25*((C27+C37-C32+C34/2)/1000)","v":0}]
["Zylinderkraft zurück","N",247,null,"Moment My=M1","Nm",{"$f":"C12*9.81*(C13/1000)","v":0},{"$f":"C12*9.81*(C13/1000)","v":0},"-",{"$f":"C17*C19/1000-C25*(C26/1000)","v":0},{"$f":"C17*C19/1000-C25*(C26/1000)","v":0}]
["Verfahrgeschwindigkeit","m/s",{"$f":"'EM-LM-4-1'!I58","v":2.02},null,"Moment Mz=M3","Nm","-","-",{"$f":"C42*(C13/1000)","v":0},{"$f":"C21*C22/1000-C17*(C18+C37+C34/2)/1000","v":0},{"$f":"C21*C22/1000-C17*(C18+C37-C32+C34/2)/1000","v":0}]
[null,null,null,null,null,null,null,null,null,{"$f":"'EM-LM-4'!G51","v":false}]
["Zusatzmasse","kg",{"$f":"'EM-LM-4'!K14","v":0},null,"Mx Summe  I + III","Nm",{"$f":"G8+I8","v":0}]
["Schwerpunktabstand x-Richtung","mm",{"$f":"'EM-LM-4'!M14","v":0},null,"Absolutbetrag",null,{"$f":"ABS(G12)","v":0}]
["Schwerpunktabstand y-Richtung","mm",{"$f":"'EM-LM-4'!O14","v":0},null,"Mx Summe  II-III",null,{"$f":"H8-I8","v":0}]
["Schwerpunktabstand z-Richt.(Mitte Rolle)","mm",{"$f":"'EM-LM-4'!Q14+44","v":44},null,"Absolutbetrag",null,{"$f":"ABS(G14)","v":0}]
[null,null,null,null,"I ","Nm",{"$f":"ABS(G8)","v":0}]
["Zusatzkraft Fx","N",{"$f":"'EM-LM-4'!K18","v":0},null,"I oder I+III oder II-III",null,{"$f":"MAX(G16,G15,G13)","v":0}]
["Kraftangriffspunkt von Fx in y-Richtung","mm",{"$f":"'EM-LM-4'!O18","v":0},null,"Mx Summe  I+V oder II+IV","Nm",{"$f":"IF(AND(J8=0,K8=0),MAX(G8,H8),IF(J11=TRUE,H8+J8,G8+K8))","v":0}]
["Kraftangrp. von Fx in z-Richt.(Mitte Rolle)","mm",{"$f":"'EM-LM-4'!Q18+44","v":44},null,"Absolutbetrag",null,{"$f":"ABS(G18)","v":0}]
[null,null,null,null,"Mx ges","Nm",{"$f":"MAX(G17,G19)","v":0}]
["Zusatzkraft Fy","N",{"$f":"'EM-LM-4'!K20","v":0},null,"Mx zul","Nm",{"$f":"C34/1000*530","v":26.5},null,"Maximal-Werte der Momente und Kräfte nicht aus Katalog, sondern exakt berechnete Werte !!"]
["Kraftangriffspunkt von Fy in x-Richtung","mm",{"$f":"'EM-LM-4'!M20","v":0}]
["Kraftangrp. von Fy in z-Richt.(Mitte Rolle)","mm",{"$f":"'EM-LM-4'!Q20+44","v":44},null,"My Summe  I+V ( = II+IV )","Nm",{"$f":"G9+K9","v":0}]
[null,null,null,null,"Absolutbetrag",null,{"$f":"ABS(G23)","v":0}]
["Zusatzkraft Fz","N",{"$f":"'EM-LM-4'!K22","v":0},null,"My ges","Nm",{"$f":"G24","v":0}]
["Kraftangriffspunkt von Fz in x-Richtung","mm",{"$f":"'EM-LM-4'!M22","v":0},null,"My zul","Nm",{"$f":"IF(C7=4,37+(C7*7),30+(C7*7))","v":30}]
["Kraftangriffspunkt von Fz in y-Richtung","mm",{"$f":"'EM-LM-4'!O22","v":0}]
[]
[null,null,null,null,"Mz III","Nm",{"$f":"I10","v":0}]
["Länge L (Stirnplatte zu 1. Rolle - HubN/2)","mm",{"$f":"IF(C7=4,45,32.5)","v":32.5},null,"Absolutbetrag",null,{"$f":"ABS(G29)","v":0}]
["Nennhub/2        HubN/2","mm",{"$f":"(25+(C7*25))/2","v":12.5},null,"Mz IV/V","Nm",{"$f":"IF(J11=TRUE,J10,K10)","v":0}]
["tatsächlicher gefahrener Hub/2","mm",{"$f":"C5/2","v":5},null,"Absolutbetrag",null,{"$f":"ABS(G31)","v":0}]
["Schwerpunktabstand in y-Richtung","mm",{"$f":"C14","v":0},null,"Mz ges","Nm",{"$f":"MAX(G30,G32)","v":0}]
["Wert K ( Abstand erste / letzte Rolle )","mm",{"$f":"IF(C7=4,62.5+(C7*12.5),50+(C7*12.5))","v":50},null,"Mz zul","Nm",{"$f":"G21/2","v":13.25}]
["Anfangswert (Abst. Stirnpl./Deckplatte)","mm",25]
[null,null,null,null,null,null,null,null,"Belastungsgleichung stat.",{"$f":"G19/G21+G25/G26+G32/G34+G38/G39+G42/G43","v":0}]
["l1 bei eingefahrenem Hub","mm",{"$f":"C30+C31-C35","v":20},null,"Fx ges","N",{"$f":"C17","v":0},null,"Belastungsgleichung dyn.",{"$f":"G17/G21+G30/G34+G40/G43","v":0}]
["l1 bei ausgefahrenem Hub","mm",{"$f":"C30+C31+C32-C35","v":25},null,"Absolutwert",null,{"$f":"ABS(G37)","v":0},null,"Belastungsgleichung",{"$f":"MAX(J36:J37)","v":0}]
[null,null,null,null,"Fx zul","N",{"$f":"G43","v":2385}]
["Stoßdämpferhub s ( Hub bis a=0 )","m",{"$f":"'Allgemeine Werte'!M38","v":7.6380000000000007E-3},null,"Gewichtskraft","N",{"$f":"C12*9.81","v":0}]
["Verzögerung a=vxv/2xs","m/s2",{"$f":"POWER(C48,2)/(2*C40)","v":2.368594917166233},null,"Fz ges abs","N",{"$f":"ABS(-C25+C12*9.81)","v":0},null,"Verfahrzeitberechnung"]
["Kraft zur Verzögerung der Masse","N",{"$f":"C12*C41","v":0},null,"Max aus E40,E41",null,{"$f":"MAX(G40,G41)","v":0},null,"Verfahrzeit berechnet ( t=Wurzel aus (2xsxm/F)",null,{"$f":"(SQRT(2*(C5/1000)*(C12+C8/2)/C9))*(2.7+C7*0.05)","v":2.1040735505378313E-2}]
["Kraft zur Verzög. d. Masse incl Modul/2","N",{"$f":"C47*C41","v":1.7764461878746749},null,"Fz zul","N",{"$f":"IF(C7=4,2915+(C7*530),2385+(C7*530))","v":2385},null,"Mittlere Verfahrgeschwindigkeit berechnet",null,{"$f":"(C5/1000)/K42","v":0.47526855691160874}]
[null,null,null,null,null,null,null,null,"Endgeschwindigkeit berechnet",null,{"$f":"K43*'Allgemeine Werte'!E71","v":0.83171997459531533}]
["Stoßdämpferberechnung",null,null,null,"Max. Zyklenzahl / Min."]
["Anzahl Stoßdämpfer",null,1,null,"Zyklen aus Verfahrzeit",null,{"$f":"60/(2*L50)","v":326.08695652173913},null,"Endgeschwindigkeit (Eingabe)",null,{"$f":"C10","v":2.02}]
["Gesamtmasse","kg",{"$f":"C12+C8/2","v":0.75},null,null,null,null,null,"Mittlere Verfahrgeschwindigkeit (Eingabe)   m/s",null,{"$f":"C10/'Allgemeine Werte'!E71","v":1.1542857142857144}]
["Aufprallgeschwindigkeit","m/s",{"$f":"L54","v":0.19021739130434784},null,"Ezul / Stunde","Nm",{"$f":"'Allgemeine Werte'!H38*C46*0.95","v":26790},null,"Verfahrzeit (Eingabe)","s",{"$f":"(C5/1000)/K47","v":8.6633663366336624E-3},"Verfahrzeit für Berechnung"]
["W1","Nm",{"$f":"C47*POWER(C48,2)*0.5","v":1.3568495982986768E-2},null,"Ezul / Minute","Nm",{"$f":"G48/60","v":446.5},null,null,null,null,"( max )"]
["Hub Stoßdämpfer","m",{"$f":"'Allgemeine Werte'!L38","v":1.14E-2},null,"Zyklen aus Ezul",null,{"$f":"G49/C53","v":132.68280638339166},null,"min. Verfahrzeit vor","gemessen",{"$f":"0.05+(C5/25)*0.03","v":6.2E-2},{"$f":"MAX(K48,K53,K42)","v":9.1999999999999998E-2}]
["Zylinderkraft","N",294,null,null,null,null,null,"Mittlere Verfahrgeschwindigkeit vor",null,{"$f":"(C5/1000)/K50","v":0.16129032258064516}]
["W2 ( Antriebsenergie )","Nm",{"$f":"C51*C50","v":3.3515999999999999},null,"Max. Zyklen",null,{"$f":"MIN(G46,G50,G55)","v":120},null,"Endgeschwindigkeit vor",null,{"$f":"K51*'Allgemeine Werte'!E71","v":0.282258064516129},"Endgeschwindigkeit f. Ber."]
["W1+W2 ( Energie / Hub )","Nm",{"$f":"C52+C49","v":3.3651684959829868},null,null,null,null,null,"min. Verfahrzeit zurück",null,{"$f":"0.08+((C5/25)*0.03)","v":9.1999999999999998E-2},"( min )"]
["Ezul / Zyklus ( Hub )","Nm",{"$f":"'Allgemeine Werte'!G38*C50/'Allgemeine Werte'!K38*C46","v":10.111304347826087},null,"Stoßd.-kolbenrückstellzeit",null,{"$f":"'Allgemeine Werte'!E38","v":0.5},null,"Mittlere Verfahrgeschwindigkeit zurück",null,{"$f":"(C5/1000)/K53","v":0.10869565217391305},{"$f":"MIN(K46,K55,K44)","v":0.19021739130434784}]
["Auslastung / Zyklus",null,{"$f":"C53/C54","v":0.33281250175270338},null,"Max. Zyklen aus Rückstellzeit",null,{"$f":"60/G54","v":120},null,"Endgeschwindigkeit zurück",null,{"$f":"K54*'Allgemeine Werte'!E71","v":0.19021739130434784}]

{"sheet":"EM-Ber-CLM100-5","index":100,"n_rows":55,"n_cols":12,"rows_kept":55,"cut":false,"hidden":false,"merged":[]}
["Linearmodul Typ",null,"CLM 100"]
[]
["Berechnung der Führungsbelastung"]
[null,null,null,null,null,null,"Statisch auf Grund","Statisch auf Grund"]
["Hub","mm",{"$f":"'EM-LM-5'!K8","v":10},null,null,null,"Zusatzmasse m","Zusatzmasse m","Dynamisch auf Grund","Statisch auf Grund","Statisch auf Grund"]
["Zylinderkraft vor","N",294,null,null,null,"Modul ausgef.","Modul eingef.","Zusatzmasse m","Zusatzkraft Modul eingef.","Zusatzkraft Modul ausgef."]
["Faktor",null,{"$f":"ROUNDDOWN((C5/25.1),0)","v":0},null,null,null,"I","II","III","IV","V"]
["Modulgewicht","kg",{"$f":"IF(C7=4,1.8+(C7*0.3),1.5+(C7*0.3))","v":1.5},null,"Moment Mx=M3","Nm",{"$f":"(C12*9.81)*((C37-C32+C34/2+C33)/1000)","v":0},{"$f":"C12*9.81*((C37+C34/2+C33)/1000)","v":0},{"$f":"C42*(C15/1000)","v":0},{"$f":"(C21*C23/1000)-C25*((C27+C37+C34/2)/1000)","v":0},{"$f":"(C21*C23/1000)-C25*((C27+C37-C32+C34/2)/1000)","v":0}]
["Zylinderkraft zurück","N",247,null,"Moment My=M1","Nm",{"$f":"C12*9.81*((C13)/1000)","v":0},{"$f":"C12*9.81*((C13)/1000)","v":0},"-",{"$f":"C17*(C19/1000)-C25*C26/1000","v":0},{"$f":"C17*(C19/1000)-C25*C26/1000","v":0}]
["Verfahrgeschwindigkeit","m/s",{"$f":"'EM-LM-5-1'!I58","v":2.02},null,"Moment Mz=M2","Nm","-","-",{"$f":"C42*(C13/1000)","v":0},{"$f":"C21*C22/1000-C17*(C18+C37+C34/2)/1000","v":0},{"$f":"C21*C22/1000-C17*(C18+C37-C32+C34/2)/1000","v":0}]
[null,null,null,null,null,null,null,null,null,{"$f":"'EM-LM-5'!G51","v":false}]
["Zusatzmasse","kg",{"$f":"'EM-LM-5'!K14","v":0},null,"Mx Summe  I + III","Nm",{"$f":"G8+I8","v":0}]
["Schwerpunktabstand x-Richt.(Mitte Rolle)","mm",{"$f":"'EM-LM-5'!M14+44","v":44},null,"Absolutbetrag",null,{"$f":"ABS(G12)","v":0}]
["Schwerpunktabstand y-Richtung","mm",{"$f":"'EM-LM-5'!O14","v":0},null,"Mx Summe  II-III",null,{"$f":"H8-I8","v":0}]
["Schwerpunktabstand z-Richtung","mm",{"$f":"'EM-LM-5'!Q14","v":0},null,"Absolutbetrag",null,{"$f":"ABS(G14)","v":0}]
[null,null,null,null,"I ","Nm",{"$f":"ABS(G8)","v":0}]
["Zusatzkraft Fx","N",{"$f":"'EM-LM-5'!K18","v":0},null,"I oder I+III oder II-III",null,{"$f":"MAX(G16,G15,G13)","v":0}]
["Kraftangriffspunkt von Fx in y-Richtung","mm",{"$f":"'EM-LM-5'!O18","v":0},null,"Mx Summe  I+V oder II+IV","Nm",{"$f":"IF(AND(J8=0,K8=0),MAX(G8,H8),IF(J11=TRUE,H8+J8,G8+K8))","v":0}]
["Kraftangriffspunkt von Fx in z-Richtung","mm",{"$f":"'EM-LM-5'!Q18","v":0},null,"Absolutbetrag",null,{"$f":"ABS(G18)","v":0}]
[null,null,null,null,"Mx ges","Nm",{"$f":"MAX(G17,G19)","v":0}]
["Zusatzkraft Fy","N",{"$f":"'EM-LM-5'!K20","v":0},null,"Mx zul","Nm",{"$f":"G34/2","v":13.25},null,"Maximal-Werte der Momente und Kräfte nicht aus Katalog, sondern exakt berechnete Werte !!"]
["Kraftangrp. von Fy in x-Richt. (Mitte Rolle)","mm",{"$f":"'EM-LM-5'!M20+44","v":44}]
["Kraftangrp. von Fy in z-Richt.","mm",{"$f":"'EM-LM-5'!Q20","v":0},null,"My Summe  I+V ( = II+IV )","Nm",{"$f":"G9+K9","v":0}]
[null,null,null,null,"Absolutbetrag",null,{"$f":"ABS(G23)","v":0}]
["Zusatzkraft Fz","N",{"$f":"'EM-LM-5'!K22","v":0},null,"My ges","Nm",{"$f":"G24","v":0}]
["Kraftangrp. von Fz in x-Richt. (Mitte Rolle)","mm",{"$f":"'EM-LM-5'!M22+44","v":44},null,"My zul","Nm",{"$f":"IF(C7=4,37+(C7*7),30+(C7*7))","v":30}]
["Kraftangriffspunkt von Fz in y-Richtung","mm",{"$f":"'EM-LM-5'!O22","v":0}]
[]
[null,null,null,null,"Mz III","Nm",{"$f":"I10","v":0}]
["Länge L (Stirnplatte zu 1. Rolle - HubN/2)","mm",{"$f":"IF(C7=4,45,32.5)","v":32.5},null,"Absolutbetrag",null,{"$f":"ABS(G29)","v":0}]
["Nennhub/2        HubN/2","mm",{"$f":"(25+(C7*25))/2","v":12.5},null,"Mz IV/V","Nm",{"$f":"IF(J11=TRUE,J10,K10)","v":0}]
["tatsächlicher gefahrener Hub/2","mm",{"$f":"C5/2","v":5},null,"Absolutbetrag",null,{"$f":"ABS(G31)","v":0}]
["Schwerpunktabstand in y-Richtung","mm",{"$f":"C14","v":0},null,"Mz ges","Nm",{"$f":"MAX(G30,G32)","v":0}]
["Wert K ( Abstand erste / letzte Rolle )","mm",{"$f":"IF(C7=4,62.5+(C7*12.5),50+(C7*12.5))","v":50},null,"Mz zul","Nm",{"$f":"C34/1000*530","v":26.5}]
["Anfangswert (Abst. Stirnpl./Deckplatte)","mm",25]
[null,null,null,null,null,null,null,null,"Belastungsgleichung stat.",{"$f":"G19/G21+G25/G26+G32/G34+G38/G39+G42/G43","v":0}]
["l1 bei eingefahrenem Hub","mm",{"$f":"C30+C31-C35","v":20},null,"Fx ges","N",{"$f":"C17","v":0},null,"Belastungsgleichung dyn.",{"$f":"G17/G21+G30/G34+G40/G43","v":0}]
["l1 bei ausgefahrenem Hub","mm",{"$f":"C30+C31+C32-C35","v":25},null,"Absolutwert",null,{"$f":"ABS(G37)","v":0},null,"Belastungsgleichung",{"$f":"MAX(J36:J37)","v":0}]
[null,null,null,null,"Fx zul","N",{"$f":"G43","v":2385}]
["Stoßdämpferhub s ( Hub bis a=0 )","m",{"$f":"'Allgemeine Werte'!M38","v":7.6380000000000007E-3},null,"Gewichtskraft","N",{"$f":"C12*9.81","v":0}]
["Verzögerung a=vxv/2xs","m/s2",{"$f":"POWER(C48,2)/(2*C40)","v":2.368594917166233},null,"Fz ges abs","N",{"$f":"ABS(-C25+C12*9.81)","v":0},null,"Verfahrzeitberechnung"]
["Kraft zur Verzögerung der Masse","N",{"$f":"C12*C41","v":0},null,"Max aus E40,E41",null,{"$f":"MAX(G40,G41)","v":0},null,"Verfahrzeit berechnet ( t=Wurzel aus (2xsxm/F)",null,{"$f":"(SQRT(2*(C5/1000)*(C12+C8/2)/C9))*(2.7+C7*0.05)","v":2.1040735505378313E-2}]
["Kraft zur Verzög. d. Masse incl Modul/2","N",{"$f":"C47*C41","v":1.7764461878746749},null,"Fz zul","N",{"$f":"IF(C7=4,2915+(C7*530),2385+(C7*530))","v":2385},null,"Mittlere Verfahrgeschwindigkeit berechnet",null,{"$f":"(C5/1000)/K42","v":0.47526855691160874}]
[null,null,null,null,null,null,null,null,"Endgeschwindigkeit berechnet",null,{"$f":"K43*'Allgemeine Werte'!E71","v":0.83171997459531533}]
["Stoßdämpferberechnung",null,null,null,"Max. Zyklenzahl / Min."]
["Anzahl Stoßdämpfer",null,1,null,"Zyklen aus Verfahrzeit",null,{"$f":"60/(2*L50)","v":326.08695652173913},null,"Endgeschwindigkeit (Eingabe)",null,{"$f":"C10","v":2.02}]
["Gesamtmasse","kg",{"$f":"C12+C8/2","v":0.75},null,null,null,null,null,"Mittlere Verfahrgeschwindigkeit (Eingabe)   m/s",null,{"$f":"C10/'Allgemeine Werte'!E71","v":1.1542857142857144}]
["Aufprallgeschwindigkeit","m/s",{"$f":"L54","v":0.19021739130434784},null,"Ezul / Stunde","Nm",{"$f":"'Allgemeine Werte'!H38*C46*0.95","v":26790},null,"Verfahrzeit (Eingabe)","s",{"$f":"(C5/1000)/K47","v":8.6633663366336624E-3},"Verfahrzeit für Berechnung"]
["W1","Nm",{"$f":"C47*POWER(C48,2)*0.5","v":1.3568495982986768E-2},null,"Ezul / Minute","Nm",{"$f":"G48/60","v":446.5},null,null,null,null,"( max )"]
["Hub Stoßdämpfer","m",{"$f":"'Allgemeine Werte'!L38","v":1.14E-2},null,"Zyklen aus Ezul",null,{"$f":"G49/C53","v":132.68280638339166},null,"min. Verfahrzeit vor","gemessen",{"$f":"0.05+(C5/25)*0.03","v":6.2E-2},{"$f":"MAX(K48,K53,K42)","v":9.1999999999999998E-2}]
["Zylinderkraft","N",294,null,null,null,null,null,"Mittlere Verfahrgeschwindigkeit vor",null,{"$f":"(C5/1000)/K50","v":0.16129032258064516}]
["W2 ( Antriebsenergie )","Nm",{"$f":"C51*C50","v":3.3515999999999999},null,"Max. Zyklen",null,{"$f":"MIN(G46,G50,G55)","v":120},null,"Endgeschwindigkeit vor",null,{"$f":"K51*'Allgemeine Werte'!E71","v":0.282258064516129},"Endgeschwindigkeit f. Ber."]
["W1+W2 ( Energie / Hub )","Nm",{"$f":"C52+C49","v":3.3651684959829868},null,null,null,null,null,"min. Verfahrzeit zurück",null,{"$f":"0.08+((C5/25)*0.03)","v":9.1999999999999998E-2},"( min )"]
["Ezul / Zyklus ( Hub )","Nm",{"$f":"'Allgemeine Werte'!G38*C50/'Allgemeine Werte'!K38*C46","v":10.111304347826087},null,"Stoßd.-kolbenrückstellzeit",null,{"$f":"'Allgemeine Werte'!E38","v":0.5},null,"Mittlere Verfahrgeschwindigkeit zurück",null,{"$f":"(C5/1000)/K53","v":0.10869565217391305},{"$f":"MIN(K46,K55,K44)","v":0.19021739130434784}]
["Auslastung / Zyklus",null,{"$f":"C53/C54","v":0.33281250175270338},null,"Max. Zyklen aus Rückstellzeit",null,{"$f":"60/G54","v":120},null,"Endgeschwindigkeit zurück",null,{"$f":"K54*'Allgemeine Werte'!E71","v":0.19021739130434784}]

{"sheet":"EM-Ber-CLM100-6","index":101,"n_rows":57,"n_cols":12,"rows_kept":57,"cut":false,"hidden":false,"merged":[]}
["Linearmodul Typ",null,"CLM 100"]
[]
["Berechnung der Führungsbelastung"]
[null,null,null,null,null,null,"Statisch auf Grund","Statisch auf Grund"]
["Hub","mm",{"$f":"'EM-LM-6'!K8","v":10},null,null,null,"Zusatzmasse m","Zusatzmasse m","Dynamisch auf Grund","Statisch auf Grund","Statisch auf Grund"]
["Zylinderkraft vor","N",294,null,null,null,"Modul ausgef.","Modul eingef.","Zusatzmasse m","Zusatzkraft Modul eingef.","Zusatzkraft Modul ausgef."]
["Faktor",null,{"$f":"ROUNDDOWN((C5/25.1),0)","v":0},null,null,null,"I","II","III","IV","V"]
["Modulgewicht","kg",{"$f":"IF(C7=4,1.8+(C7*0.3),1.5+(C7*0.3))","v":1.5},null,"Moment Mx=M3","Nm",{"$f":"C12*9.81*((C15)/1000)","v":0},{"$f":"C12*9.81*((C15)/1000)","v":0},{"$f":"C42*(C15/1000)","v":0},{"$f":"IF(K11=TRUE,-(C21*C23/1000)+C25*((C27+C37+C34/2)/1000),(C21*C23/1000)-C25*((C27+C37+C34/2)/1000))","v":0},{"$f":"IF(K11=TRUE,-(C21*C23/1000)+C25*((C27+C37-C32+C34/2)/1000),(C21*C23/1000)-C25*((C27+C37-C32+C34/2)/1000))","v":0}]
["Zylinderkraft zurück","N",247,null,"Moment My=M1","Nm","-","-","-",{"$f":"C17*(C19/1000)-C25*C26/1000","v":0},{"$f":"C17*(C19/1000)-C25*C26/1000","v":0}]
["Verfahrgeschwindigkeit","m/s",{"$f":"'EM-LM-6-1'!I58","v":2.02},null,"Moment Mz=M2","Nm",{"$f":"C12*9.81*((C13)/1000)","v":0},{"$f":"C12*9.81*((C13)/1000)","v":0},{"$f":"C42*(C13/1000)","v":0},{"$f":"IF(K11=TRUE,-C21*C22/1000+C17*(C18+C37+C34/2)/1000,C21*C22/1000-C17*(C18+C37+C34/2)/1000)","v":0},{"$f":"IF(K11=TRUE,-C21*C22/1000+C17*(C18+C37-C32+C34/2)/1000,C21*C22/1000-C17*(C18+C37-C32+C34/2)/1000)","v":0}]
[null,null,null,null,null,null,null,null,null,{"$f":"'EM-LM-6'!G51","v":false},{"$f":"'EM-LM-6'!G52","v":true}]
["Zusatzmasse","kg",{"$f":"'EM-LM-6'!K14","v":0}]
["Schwerpunktabstand x-Richt.(Mitte Rolle)","mm",{"$f":"'EM-LM-6'!M14+44","v":44}]
["Schwerpunktabstand y-Richtung","mm",{"$f":"'EM-LM-6'!O14","v":0}]
["Schwerpunktabstand z-Richtung","mm",{"$f":"'EM-LM-6'!Q14","v":0}]
[null,null,null,null,"Mx Summe  I(II) + III","Nm",{"$f":"G8+I8","v":0}]
["Zusatzkraft Fx","N",{"$f":"'EM-LM-6'!K18","v":0},null,"Absolutbetrag",null,{"$f":"ABS(G16)","v":0}]
["Kraftangriffspunkt von Fx in y-Richtung","mm",{"$f":"'EM-LM-6'!O18","v":0},null,"Mx Summe  I+V oder II+IV","Nm",{"$f":"IF(J11=TRUE,H8+J8,G8+K8)","v":0}]
["Kraftangriffspunkt von Fx in z-Richtung","mm",{"$f":"'EM-LM-6'!Q18","v":0},null,"Absolutbetrag",null,{"$f":"ABS(G18)","v":0}]
[null,null,null,null,"Mx ges","Nm",{"$f":"MAX(G17,G19)","v":0}]
["Zusatzkraft Fy","N",{"$f":"'EM-LM-6'!K20","v":0},null,"Mx zul","Nm",{"$f":"G34/2","v":13.25},null,"Maximal-Werte der Momente und Kräfte nicht aus Katalog, sondern exakt berechnete Werte !!"]
["Kraftangrp. von Fy in x-Richt. (Mitte Rolle)","mm",{"$f":"'EM-LM-6'!M20+44","v":44}]
["Kraftangrp. von Fy in z-Richt.","mm",{"$f":"'EM-LM-6'!Q20","v":0},null,"My IV = V","Nm",{"$f":"J9","v":0}]
[null,null,null,null,"Absolutbetrag",null,{"$f":"ABS(G23)","v":0}]
["Zusatzkraft Fz","N",{"$f":"'EM-LM-6'!K22","v":0},null,"My ges","Nm",{"$f":"G24","v":0}]
["Kraftangrp. von Fz in x-Richt. (Mitte Rolle)","mm",{"$f":"'EM-LM-6'!M22+44","v":44},null,"My zul","Nm",{"$f":"IF(C7=4,37+(C7*7),30+(C7*7))","v":30}]
["Kraftangriffspunkt von Fz in y-Richtung","mm",{"$f":"'EM-LM-6'!O22","v":0}]
[]
[null,null,null,null,"Mz Summe I(II)+III","Nm",{"$f":"G10+I10","v":0}]
["Länge L (Stirnplatte zu 1. Rolle - HubN/2)","mm",{"$f":"IF(C7=4,45,32.5)","v":32.5},null,"Absolutbetrag",null,{"$f":"ABS(G29)","v":0}]
["Nennhub/2        HubN/2","mm",{"$f":"(25+(C7*25))/2","v":12.5},null,"Mz Summe  I+V oder II+IV","Nm",{"$f":"IF(J11=TRUE,H10+J10,G10+K10)","v":0}]
["tatsächlicher gefahrener Hub/2","mm",{"$f":"C5/2","v":5},null,"Absolutbetrag",null,{"$f":"ABS(G31)","v":0}]
["Schwerpunktabstand in y-Richtung","mm",{"$f":"C14","v":0},null,"Mz ges","Nm",{"$f":"MAX(G30,G32)","v":0}]
["Wert K ( Abstand erste / letzte Rolle )","mm",{"$f":"IF(C7=4,62.5+(C7*12.5),50+(C7*12.5))","v":50},null,"Mz zul","Nm",{"$f":"C34/1000*530","v":26.5}]
["Anfangswert (Abst. Stirnpl./Deckplatte)","mm",25]
[null,null,null,null,null,null,null,null,"Belastungsgleichung stat.",{"$f":"G19/G21+G25/G26+G32/G34+G38/G39+G42/G43","v":0}]
["l1 bei eingefahrenem Hub","mm",{"$f":"C30+C31-C35","v":20},null,"Fx ges","N",{"$f":"C17","v":0},null,"Belastungsgleichung dyn.",{"$f":"G17/G21+G30/G34","v":0}]
["l1 bei ausgefahrenem Hub","mm",{"$f":"C30+C31+C32-C35","v":25},null,"Absolutwert",null,{"$f":"ABS(G37)","v":0},null,"Belastungsgleichung",{"$f":"MAX(J36:J37)","v":0}]
[null,null,null,null,"Fx zul","N",{"$f":"G43","v":2385}]
["Stoßdämpferhub s ( Hub bis a=0 )","m",{"$f":"'Allgemeine Werte'!M38","v":7.6380000000000007E-3}]
["Verzögerung a=vxv/2xs","m/s2",{"$f":"POWER(C48,2)/(2*C40)","v":3.8672429357436342},null,"Fz ges","N",{"$f":"-C25","v":0},null,"Verfahrzeitberechnung"]
["Kraft zur Verzögerung der Masse","N",{"$f":"C12*C41","v":0},null,"Absolutwert",null,{"$f":"ABS(G41)","v":0},null,"Verfahrzeit berechnet ( t=Wurzel aus (2xsxm/F)",null,{"$f":"(SQRT(2*(C5/1000)*(C12+C8/2)/(C6-(C12+C8/2)*9.81)))*(2.45+C7*0.05)","v":1.77231707827647E-2}]
["Kraft zur Verzög. d. Masse incl Modul/2","N",{"$f":"C47*C41","v":2.9004322018077255},null,"Fz zul","N",{"$f":"IF(C7=4,2915+(C7*530),2385+(C7*530))","v":2385},null,"Mittlere Verfahrgeschwindigkeit berechnet",null,{"$f":"(C5/1000)/K42","v":0.56423312298749206}]
[null,null,null,null,null,null,null,null,"Endgeschwindigkeit berechnet",null,{"$f":"K43*'Allgemeine Werte'!E71","v":0.98740796522811114}]
["Stoßdämpferberechnung",null,null,null,"Max. Zyklenzahl / Min."]
["Anzahl Stoßdämpfer",null,1,null,"Zyklen aus Verfahrzeit",null,{"$f":"60/(2*L50)","v":416.66666666666669},null,"Endgeschwindigkeit (Eingabe)",null,{"$f":"C10","v":2.02}]
["Gesamtmasse","kg",{"$f":"C12+C8/2","v":0.75},null,null,null,null,null,"Mittlere Verfahrgeschwindigkeit (Eingabe)   m/s",null,{"$f":"C10/'Allgemeine Werte'!E71","v":1.1542857142857144}]
["Aufprallgeschwindigkeit","m/s",{"$f":"L54","v":0.24305555555555558},null,"Ezul / Stunde","Nm",{"$f":"'Allgemeine Werte'!H38*C46*0.95","v":26790},null,"Verfahrzeit (Eingabe)","s",{"$f":"(C5/1000)/K47","v":8.6633663366336624E-3},"Verfahrzeit für Berechnung"]
["W1","Nm",{"$f":"C47*POWER(C48,2)*0.5","v":2.2153501157407413E-2},null,"Ezul / Minute","Nm",{"$f":"G48/60","v":446.5},null,null,null,null,"( max )"]
["Hub Stoßdämpfer","m",{"$f":"'Allgemeine Werte'!L38","v":1.14E-2},null,"Zyklen aus Ezul",null,{"$f":"G49/C53","v":135.71931841938135},null,"min. Verfahrzeit ab","gemessen",{"$f":"0.045+(C5/25)*0.025","v":5.5E-2},{"$f":"MAX(K48,K53,K42)","v":7.1999999999999995E-2}]
["Zylinderkraft","N",294,null,null,null,null,null,"Mittlere Verfahrgeschwindigkeit ab",null,{"$f":"(C5/1000)/K50","v":0.18181818181818182}]
["W2 ( Antriebsenergie )","Nm",{"$f":"MAX(C56,C57)*C50","v":3.2677244999999999},null,"Max. Zyklen",null,{"$f":"MIN(G46,G50,G55)","v":120},null,"Endgeschwindigkeit ab",null,{"$f":"K51*'Allgemeine Werte'!E71","v":0.31818181818181818},"Endgeschwindigkeit f. Ber."]
["W1+W2 ( Energie / Hub )","Nm",{"$f":"C52+C49","v":3.2898780011574074},null,null,null,null,null,"min. Verfahrzeit auf",null,{"$f":"0.06+((C5/25)*0.03)","v":7.1999999999999995E-2},"( min )"]
["Ezul / Zyklus ( Hub )","Nm",{"$f":"'Allgemeine Werte'!G38*C50/'Allgemeine Werte'!K38*C46","v":10.111304347826087},null,"Stoßd.-kolbenrückstellzeit",null,{"$f":"'Allgemeine Werte'!E38","v":0.5},null,"Mittlere Verfahrgeschwindigkeit auf",null,{"$f":"(C5/1000)/K53","v":0.1388888888888889},{"$f":"MIN(K46,K55,K44)","v":0.24305555555555558}]
["Auslastung / Zyklus",null,{"$f":"C53/C54","v":0.32536633138381654},null,"Max. Zyklen aus Rückstellzeit",null,{"$f":"60/G54","v":120},null,"Endgeschwindigkeit auf",null,{"$f":"K54*'Allgemeine Werte'!E71","v":0.24305555555555558}]
["Antriebskraft nach oben",null,{"$f":"C6-C47*9.81","v":286.64249999999998}]
["Antriebskraft nach unten",null,{"$f":"C9+C47*9.81","v":254.35749999999999}]

{"sheet":"EM-Ber-CLM200-1","index":102,"n_rows":55,"n_cols":12,"rows_kept":55,"cut":false,"hidden":false,"merged":[]}
["Linearmodul Typ",null,"CLM 200"]
[]
["Berechnung der Führungsbelastung"]
[null,null,null,null,null,null,"Statisch auf Grund","Statisch auf Grund"]
["Hub","mm",{"$f":"'EM-LM-1'!K8","v":10},null,null,null,"Zusatzmasse m","Zusatzmasse m","Dynamisch auf Grund","Statisch auf Grund","Statisch auf Grund"]
["Zylinderkraft","N",482,null,null,null,"Modul ausgef.","Modul eingef.","Zusatzmasse m","Zusatzkraft Modul eingef.","Zusatzkraft Modul ausgef."]
["Faktor",null,{"$f":"ROUNDDOWN(((C5+25)/50.1)+0.5,0)","v":1},null,null,null,"I","II","III","IV","V"]
["Modulgewicht","kg",{"$f":"2+(C7*1.1)","v":3.1},null,"Moment Mx=M2","Nm",{"$f":"(C12*9.81)*((C38+C34/2+C33)/1000)","v":0},{"$f":"C12*9.81*((C37+C34/2+C33)/1000)","v":0},{"$f":"C42*(C15/1000)","v":0},{"$f":"(C21*C23/1000)-C25*((C27+C37+C34/2)/1000)","v":0},{"$f":"(C21*C23/1000)-C25*((C27+C38+C34/2)/1000)","v":0}]
["Zylinderkraft zurück","N",415,null,"Moment My=M1","Nm",{"$f":"C12*9.81*(C13/1000)","v":0},{"$f":"C12*9.81*(C13/1000)","v":0},"-",{"$f":"C17*C19/1000-C25*(C26/1000)","v":0},{"$f":"C17*C19/1000-C25*(C26/1000)","v":0}]
["Verfahrgeschwindigkeit","m/s",{"$f":"'EM-LM-1-1'!I58","v":2.02},null,"Moment Mz=M3","Nm","-","-",{"$f":"C42*(C13/1000)","v":0},{"$f":"C21*C22/1000-C17*(C18+C37+C34/2)/1000","v":0},{"$f":"C21*C22/1000-C17*(C18+C38+C34/2)/1000","v":0}]
[null,null,null,null,null,null,null,null,null,{"$f":"'EM-LM-1'!G51","v":true}]
["Zusatzmasse","kg",{"$f":"'EM-LM-1'!K14","v":0},null,"Mx Summe  I + III","Nm",{"$f":"G8+I8","v":0}]
["Schwerpunktabstand x-Richtung","mm",{"$f":"'EM-LM-1'!M14","v":0},null,"Absolutbetrag",null,{"$f":"ABS(G12)","v":0}]
["Schwerpunktabstand y-Richtung","mm",{"$f":"'EM-LM-1'!O14","v":0},null,"Mx Summe  II-III",null,{"$f":"H8-I8","v":0}]
["Schwerpunktabstand z-Richt.(Mitte Rolle)","mm",{"$f":"'EM-LM-1'!Q14+18.5","v":18.5},null,"Absolutbetrag",null,{"$f":"ABS(G14)","v":0}]
[null,null,null,null,"I ","Nm",{"$f":"ABS(G8)","v":0}]
["Zusatzkraft Fx","N",{"$f":"'EM-LM-1'!K18","v":0},null,"I oder I+III oder II-III",null,{"$f":"MAX(G16,G15,G13)","v":0}]
["Kraftangriffspunkt von Fx in y-Richtung","mm",{"$f":"'EM-LM-1'!O18","v":0},null,"Mx Summe  I+V oder II+IV","Nm",{"$f":"IF(AND(J8=0,K8=0),MAX(G8,H8),IF(J11=TRUE,H8+J8,G8+K8))","v":0}]
["Kraftangrp. von Fx in z-Richt.(Mitte Rolle)","mm",{"$f":"'EM-LM-1'!Q18+18.5","v":18.5},null,"Absolutbetrag",null,{"$f":"ABS(G18)","v":0}]
[null,null,null,null,"Mx ges","Nm",{"$f":"MAX(G17,G19)","v":0}]
["Zusatzkraft Fy","N",{"$f":"'EM-LM-1'!K20","v":0},null,"Mx zul","Nm",{"$f":"C34/1000*1060","v":63.07},null,"Maximal-Werte der Momente und Kräfte nicht aus Katalog, sondern exakt berechnete Werte !!"]
["Kraftangriffspunkt von Fy in x-Richtung","mm",{"$f":"'EM-LM-1'!M20","v":0}]
["Kraftangrp. von Fy in z-Richt.(Mitte Rolle)","mm",{"$f":"'EM-LM-1'!Q20+18.5","v":18.5},null,"My Summe  I+V ( = II+IV )","Nm",{"$f":"G9+K9","v":0}]
[null,null,null,null,"Absolutbetrag",null,{"$f":"ABS(G23)","v":0}]
["Zusatzkraft Fz","N",{"$f":"'EM-LM-1'!K22","v":0},null,"My ges","Nm",{"$f":"G24","v":0}]
["Kraftangriffspunkt von Fz in x-Richtung","mm",{"$f":"'EM-LM-1'!M22","v":0},null,"My zul","Nm",{"$f":"28+(22*C7)","v":50}]
["Kraftangriffspunkt von Fz in y-Richtung","mm",{"$f":"'EM-LM-1'!O22","v":0}]
[]
[null,null,null,null,"Mz III","Nm",{"$f":"I10","v":0}]
["Länge L (Stirnplatte zu 1. Rolle - HubN/2)","mm",39,null,"Absolutbetrag",null,{"$f":"ABS(G29)","v":0}]
["Nennhub/2        HubN/2","mm",{"$f":"(0+(C7*50))/2","v":25},null,"Mz IV/V","Nm",{"$f":"IF(J11=TRUE,J10,K10)","v":0}]
["tatsächlicher gefahrener Hub/2","mm",{"$f":"C5/2","v":5},null,"Absolutbetrag",null,{"$f":"ABS(G31)","v":0}]
["Schwerpunktabstand in y-Richtung","mm",{"$f":"C14","v":0},null,"Mz ges","Nm",{"$f":"MAX(G30,G32)","v":0}]
["Wert K ( Abstand erste / letzte Rolle )","mm",{"$f":"34+(C7*25.5)","v":59.5},null,"Mz zul","Nm",{"$f":"G21/2","v":31.535}]
[]
[null,null,null,null,null,null,null,null,"Belastungsgleichung stat.",{"$f":"G19/G21+G25/G26+G32/G34+G38/G39+G42/G43","v":0}]
["l1 bei eingefahrenem Hub","mm",{"$f":"C30+C31","v":64},null,"Fx ges","N",{"$f":"C17","v":0},null,"Belastungsgleichung dyn.",{"$f":"G17/G21+G30/G34+G40/G43","v":0}]
["l1 bei ausgefahrenem Hub","mm",{"$f":"C30+C31+C32","v":69},null,"Absolutwert",null,{"$f":"ABS(G37)","v":0},null,"Belastungsgleichung",{"$f":"MAX(J36:J37)","v":0}]
[null,null,null,null,"Fx zul","N",{"$f":"G43","v":3710}]
["Stoßdämpferhub s ( Hub bis a=0 )","m",{"$f":"'Allgemeine Werte'!M41","v":1.0586000000000002E-2},null,"Gewichtskraft","N",{"$f":"C12*9.81","v":0}]
["Verzögerung a=vxv/2xs","m/s2",{"$f":"POWER(C48,2)/(2*C40)","v":2.5715305329890614},null,"Fz ges abs","N",{"$f":"ABS(-C25+C12*9.81)","v":0},null,"Verfahrzeitberechnung"]
["Kraft zur Verzögerung der Masse","N",{"$f":"C12*C41","v":0},null,"Max aus E40,E41",null,{"$f":"MAX(G40,G41)","v":0},null,"Verfahrzeit berechnet ( t=Wurzel aus (2xsxm/F)",null,{"$f":"(SQRT(2*(C5/1000)*(C12+C8/2)/C9))*(2.25+C7*0.05)","v":1.9878546891209731E-2}]
["Kraft zur Verzög. d. Masse incl Modul/2","N",{"$f":"C47*C41","v":3.9858723261330455},null,"Fz zul","N",{"$f":"2120+1590*C7","v":3710},null,"Mittlere Verfahrgeschwindigkeit berechnet",null,{"$f":"(C5/1000)/K42","v":0.5030548789470114}]
[null,null,null,null,null,null,null,null,"Endgeschwindigkeit berechnet",null,{"$f":"K43*'Allgemeine Werte'!E71","v":0.88034603815726997}]
["Stoßdämpferberechnung",null,null,null,"Max. Zyklenzahl / Min."]
["Anzahl Stoßdämpfer",null,1,null,"Zyklen aus Verfahrzeit",null,{"$f":"60/(2*L50)","v":399.99999999999994},null,"Endgeschwindigkeit (Eingabe)",null,{"$f":"C10","v":2.02}]
["Gesamtmasse","kg",{"$f":"C12+C8/2","v":1.55},null,null,null,null,null,"Mittlere Verfahrgeschwindigkeit (Eingabe)   m/s",null,{"$f":"C10/'Allgemeine Werte'!E71","v":1.1542857142857144}]
["Aufprallgeschwindigkeit","m/s",{"$f":"L54","v":0.23333333333333328},null,"Ezul / Stunde","Nm",{"$f":"'Allgemeine Werte'!H41*C46*0.95","v":32300},null,"Verfahrzeit (Eingabe)","s",{"$f":"(C5/1000)/K47","v":8.6633663366336624E-3},"Verfahrzeit für Berechnung"]
["W1","Nm",{"$f":"C47*POWER(C48,2)*0.5","v":4.219444444444443E-2},null,"Ezul / Minute","Nm",{"$f":"G48/60","v":538.33333333333337},null,null,null,null,"( max )"]
["Hub Stoßdämpfer","m",{"$f":"'Allgemeine Werte'!L41","v":1.5800000000000002E-2},null,"Zyklen aus Ezul",null,{"$f":"G49/C53","v":70.298744271450374},null,"min. Verfahrzeit vor","gemessen",{"$f":"0.06+(C5/25)*0.02","v":6.8000000000000005E-2},{"$f":"MAX(K48,K53,K42)","v":7.5000000000000011E-2}]
["Zylinderkraft","N",482,null,null,null,null,null,"Mittlere Verfahrgeschwindigkeit vor",null,{"$f":"(C5/1000)/K50","v":0.14705882352941177}]
["W2 ( Antriebsenergie )","Nm",{"$f":"C51*C50","v":7.6156000000000006},null,"Max. Zyklen",null,{"$f":"MIN(G46,G50,G55)","v":70.298744271450374},null,"Endgeschwindigkeit vor",null,{"$f":"K51*'Allgemeine Werte'!E71","v":0.25735294117647062},"Endgeschwindigkeit f. Ber."]
["W1+W2 ( Energie / Hub )","Nm",{"$f":"C52+C49","v":7.6577944444444448},null,null,null,null,null,"min. Verfahrzeit zurück",null,{"$f":"0.065+((C5/25)*0.025)","v":7.5000000000000011E-2},"( min )"]
["Ezul / Zyklus ( Hub )","Nm",{"$f":"'Allgemeine Werte'!G41*C50/'Allgemeine Werte'!K41*C46","v":25.675000000000004},null,"Stoßd.-kolbenrückstellzeit",null,{"$f":"'Allgemeine Werte'!E41","v":0.75},null,"Mittlere Verfahrgeschwindigkeit zurück",null,{"$f":"(C5/1000)/K53","v":0.1333333333333333},{"$f":"MIN(K46,K55,K44)","v":0.23333333333333328}]
["Auslastung / Zyklus",null,{"$f":"C53/C54","v":0.29825879043600562},null,"Max. Zyklen aus Rückstellzeit",null,{"$f":"60/G54","v":80},null,"Endgeschwindigkeit zurück",null,{"$f":"K54*'Allgemeine Werte'!E71","v":0.23333333333333328}]

{"sheet":"EM-Ber-CLM200-2","index":103,"n_rows":55,"n_cols":12,"rows_kept":55,"cut":false,"hidden":false,"merged":[]}
["Linearmodul Typ",null,"CLM 200"]
[]
["Berechnung der Führungsbelastung"]
[null,null,null,null,null,null,"Statisch auf Grund","Statisch auf Grund"]
["Hub","mm",{"$f":"'EM-LM-2'!K8","v":10},null,null,null,"Zusatzmasse m","Zusatzmasse m","Dynamisch auf Grund","Statisch auf Grund","Statisch auf Grund"]
["Zylinderkraft","N",482,null,null,null,"Modul ausgef.","Modul eingef.","Zusatzmasse m","Zusatzkraft Modul eingef.","Zusatzkraft Modul ausgef."]
["Faktor",null,{"$f":"ROUNDDOWN(((C5+25)/50.1)+0.5,0)","v":1},null,null,null,"I","II","III","IV","V"]
["Modulgewicht","kg",{"$f":"2+(C7*1.1)","v":3.1},null,"Moment Mx=M3","Nm",{"$f":"(C12*9.81)*((C38+C34/2+C33)/1000)","v":0},{"$f":"C12*9.81*((C37+C34/2+C33)/1000)","v":0},{"$f":"C42*(C15/1000)","v":0},{"$f":"(C21*C23/1000)-C25*((C27+C37+C34/2)/1000)","v":0},{"$f":"(C21*C23/1000)-C25*((C27+C38+C34/2)/1000)","v":0}]
["Zylinderkraft zurück","N",415,null,"Moment My=M1","Nm",{"$f":"C12*9.81*((C13)/1000)","v":0},{"$f":"C12*9.81*((C13)/1000)","v":0},"-",{"$f":"C17*(C19/1000)-C25*C26/1000","v":0},{"$f":"C17*(C19/1000)-C25*C26/1000","v":0}]
["Verfahrgeschwindigkeit","m/s",{"$f":"'EM-LM-2-1'!I58","v":2.02},null,"Moment Mz=M2","Nm","-","-",{"$f":"C42*(C13/1000)","v":0},{"$f":"C21*C22/1000-C17*(C18+C37+C34/2)/1000","v":0},{"$f":"C21*C22/1000-C17*(C18+C38+C34/2)/1000","v":0}]
[null,null,null,null,null,null,null,null,null,{"$f":"'EM-LM-2'!G51","v":true}]
["Zusatzmasse","kg",{"$f":"'EM-LM-2'!K14","v":0},null,"Mx Summe  I + III","Nm",{"$f":"G8+I8","v":0}]
["Schwerpunktabstand x-Richt.(Mitte Rolle)","mm",{"$f":"'EM-LM-2'!M14+18.5","v":18.5},null,"Absolutbetrag",null,{"$f":"ABS(G12)","v":0}]
["Schwerpunktabstand y-Richtung","mm",{"$f":"'EM-LM-2'!O14","v":0},null,"Mx Summe  II-III",null,{"$f":"H8-I8","v":0}]
["Schwerpunktabstand z-Richtung","mm",{"$f":"'EM-LM-2'!Q14","v":0},null,"Absolutbetrag",null,{"$f":"ABS(G14)","v":0}]
[null,null,null,null,"I ","Nm",{"$f":"ABS(G8)","v":0}]
["Zusatzkraft Fx","N",{"$f":"'EM-LM-2'!K18","v":0},null,"I oder I+III oder II-III",null,{"$f":"MAX(G16,G15,G13)","v":0}]
["Kraftangriffspunkt von Fx in y-Richtung","mm",{"$f":"'EM-LM-2'!O18","v":0},null,"Mx Summe  I+V oder II+IV","Nm",{"$f":"IF(AND(J8=0,K8=0),MAX(G8,H8),IF(J11=TRUE,H8+J8,G8+K8))","v":0}]
["Kraftangriffspunkt von Fx in z-Richtung","mm",{"$f":"'EM-LM-2'!Q18","v":0},null,"Absolutbetrag",null,{"$f":"ABS(G18)","v":0}]
[null,null,null,null,"Mx ges","Nm",{"$f":"MAX(G17,G19)","v":0}]
["Zusatzkraft Fy","N",{"$f":"'EM-LM-2'!K20","v":0},null,"Mx zul","Nm",{"$f":"G34/2","v":31.535},null,"Maximal-Werte der Momente und Kräfte nicht aus Katalog, sondern exakt berechnete Werte !!"]
["Kraftangrp. von Fy in x-Richt. (Mitte Rolle)","mm",{"$f":"'EM-LM-2'!M20+18.5","v":18.5}]
["Kraftangrp. von Fy in z-Richt.","mm",{"$f":"'EM-LM-2'!Q20","v":0},null,"My Summe  I+V ( = II+IV )","Nm",{"$f":"G9+K9","v":0}]
[null,null,null,null,"Absolutbetrag",null,{"$f":"ABS(G23)","v":0}]
["Zusatzkraft Fz","N",{"$f":"'EM-LM-2'!K22","v":0},null,"My ges","Nm",{"$f":"G24","v":0}]
["Kraftangrp. von Fz in x-Richt. (Mitte Rolle)","mm",{"$f":"'EM-LM-2'!M22+18.5","v":18.5},null,"My zul","Nm",{"$f":"28+(22*C7)","v":50}]
["Kraftangriffspunkt von Fz in y-Richtung","mm",{"$f":"'EM-LM-2'!O22","v":0}]
[]
[null,null,null,null,"Mz III","Nm",{"$f":"I10","v":0}]
["Länge L (Stirnplatte zu 1. Rolle - HubN/2)","mm",39,null,"Absolutbetrag",null,{"$f":"ABS(G29)","v":0}]
["Nennhub/2        HubN/2","mm",{"$f":"(0+(C7*50))/2","v":25},null,"Mz IV/V","Nm",{"$f":"IF(J11=TRUE,J10,K10)","v":0}]
["tatsächlicher gefahrener Hub/2","mm",{"$f":"C5/2","v":5},null,"Absolutbetrag",null,{"$f":"ABS(G31)","v":0}]
["Schwerpunktabstand in y-Richtung","mm",{"$f":"C14","v":0},null,"Mz ges","Nm",{"$f":"MAX(G30,G32)","v":0}]
["Wert K ( Abstand erste / letzte Rolle )","mm",{"$f":"34+(C7*25.5)","v":59.5},null,"Mz zul","Nm",{"$f":"C34/1000*1060","v":63.07}]
[]
[null,null,null,null,null,null,null,null,"Belastungsgleichung stat.",{"$f":"G19/G21+G25/G26+G32/G34+G38/G39+G42/G43","v":0}]
["l1 bei eingefahrenem Hub","mm",{"$f":"C30+C31","v":64},null,"Fx ges","N",{"$f":"C17","v":0},null,"Belastungsgleichung dyn.",{"$f":"G17/G21+G30/G34+G40/G43","v":0}]
["l1 bei ausgefahrenem Hub","mm",{"$f":"C30+C31+C32","v":69},null,"Absolutwert",null,{"$f":"ABS(G37)","v":0},null,"Belastungsgleichung",{"$f":"MAX(J36:J37)","v":0}]
[null,null,null,null,"Fx zul","N",{"$f":"G43","v":3710}]
["Stoßdämpferhub s ( Hub bis a=0 )","m",{"$f":"'Allgemeine Werte'!M41","v":1.0586000000000002E-2},null,"Gewichtskraft","N",{"$f":"C12*9.81","v":0}]
["Verzögerung a=vxv/2xs","m/s2",{"$f":"POWER(C48,2)/(2*C40)","v":2.5715305329890614},null,"Fz ges abs","N",{"$f":"ABS(-C25+C12*9.81)","v":0},null,"Verfahrzeitberechnung"]
["Kraft zur Verzögerung der Masse","N",{"$f":"C12*C41","v":0},null,"Max aus E40,E41",null,{"$f":"MAX(G40,G41)","v":0},null,"Verfahrzeit berechnet ( t=Wurzel aus (2xsxm/F)",null,{"$f":"(SQRT(2*(C5/1000)*(C12+C8/2)/C9))*(2.25+C7*0.05)","v":1.9878546891209731E-2}]
["Kraft zur Verzög. d. Masse incl Modul/2","N",{"$f":"C47*C41","v":3.9858723261330455},null,"Fz zul","N",{"$f":"2120+1590*C7","v":3710},null,"Mittlere Verfahrgeschwindigkeit berechnet",null,{"$f":"(C5/1000)/K42","v":0.5030548789470114}]
[null,null,null,null,null,null,null,null,"Endgeschwindigkeit berechnet",null,{"$f":"K43*'Allgemeine Werte'!E71","v":0.88034603815726997}]
["Stoßdämpferberechnung",null,null,null,"Max. Zyklenzahl / Min."]
["Anzahl Stoßdämpfer",null,1,null,"Zyklen aus Verfahrzeit",null,{"$f":"60/(2*L50)","v":399.99999999999994},null,"Endgeschwindigkeit (Eingabe)",null,{"$f":"C10","v":2.02}]
["Gesamtmasse","kg",{"$f":"C12+C8/2","v":1.55},null,null,null,null,null,"Mittlere Verfahrgeschwindigkeit (Eingabe)   m/s",null,{"$f":"C10/'Allgemeine Werte'!E71","v":1.1542857142857144}]
["Aufprallgeschwindigkeit","m/s",{"$f":"L54","v":0.23333333333333328},null,"Ezul / Stunde","Nm",{"$f":"'Allgemeine Werte'!H41*C46*0.95","v":32300},null,"Verfahrzeit (Eingabe)","s",{"$f":"(C5/1000)/K47","v":8.6633663366336624E-3},"Verfahrzeit für Berechnung"]
["W1","Nm",{"$f":"C47*POWER(C48,2)*0.5","v":4.219444444444443E-2},null,"Ezul / Minute","Nm",{"$f":"G48/60","v":538.33333333333337},null,null,null,null,"( max )"]
["Hub Stoßdämpfer","m",{"$f":"'Allgemeine Werte'!L41","v":1.5800000000000002E-2},null,"Zyklen aus Ezul",null,{"$f":"G49/C53","v":70.298744271450374},null,"min. Verfahrzeit vor","gemessen",{"$f":"0.06+(C5/25)*0.02","v":6.8000000000000005E-2},{"$f":"MAX(K48,K53,K42)","v":7.5000000000000011E-2}]
["Zylinderkraft","N",482,null,null,null,null,null,"Mittlere Verfahrgeschwindigkeit vor",null,{"$f":"(C5/1000)/K50","v":0.14705882352941177}]
["W2 ( Antriebsenergie )","Nm",{"$f":"C51*C50","v":7.6156000000000006},null,"Max. Zyklen",null,{"$f":"MIN(G46,G50,G55)","v":70.298744271450374},null,"Endgeschwindigkeit vor",null,{"$f":"K51*'Allgemeine Werte'!E71","v":0.25735294117647062},"Endgeschwindigkeit f. Ber."]
["W1+W2 ( Energie / Hub )","Nm",{"$f":"C52+C49","v":7.6577944444444448},null,null,null,null,null,"min. Verfahrzeit zurück",null,{"$f":"0.065+((C5/25)*0.025)","v":7.5000000000000011E-2},"( min )"]
["Ezul / Zyklus ( Hub )","Nm",{"$f":"'Allgemeine Werte'!G41*C50/'Allgemeine Werte'!K41*C46","v":25.675000000000004},null,"Stoßd.-kolbenrückstellzeit",null,{"$f":"'Allgemeine Werte'!E41","v":0.75},null,"Mittlere Verfahrgeschwindigkeit zurück",null,{"$f":"(C5/1000)/K53","v":0.1333333333333333},{"$f":"MIN(K46,K55,K44)","v":0.23333333333333328}]
["Auslastung / Zyklus",null,{"$f":"C53/C54","v":0.29825879043600562},null,"Max. Zyklen aus Rückstellzeit",null,{"$f":"60/G54","v":80},null,"Endgeschwindigkeit zurück",null,{"$f":"K54*'Allgemeine Werte'!E71","v":0.23333333333333328}]

{"sheet":"EM-Ber-CLM200-3","index":104,"n_rows":57,"n_cols":12,"rows_kept":57,"cut":false,"hidden":false,"merged":[]}
["Linearmodul Typ",null,"CLM 200"]
[]
["Berechnung der Führungsbelastung"]
[null,null,null,null,null,null,"Statisch auf Grund","Statisch auf Grund"]
["Hub","mm",{"$f":"'EM-LM-3'!K8","v":10},null,null,null,"Zusatzmasse m","Zusatzmasse m","Dynamisch auf Grund","Statisch auf Grund","Statisch auf Grund"]
["Zylinderkraft","N",482,null,null,null,"Modul ausgef.","Modul eingef.","Zusatzmasse m","Zusatzkraft Modul eingef.","Zusatzkraft Modul ausgef."]
["Faktor",null,{"$f":"ROUNDDOWN(((C5+25)/50.1)+0.5,0)","v":1},null,null,null,"I","II","III","IV","V"]
["Modulgewicht","kg",{"$f":"2+(C7*1.1)","v":3.1},null,"Moment Mx=M3","Nm",{"$f":"C12*9.81*((C15)/1000)","v":0},{"$f":"C12*9.81*((C15)/1000)","v":0},{"$f":"C42*(C15/1000)","v":0},{"$f":"IF(K11=TRUE,-(C21*C23/1000)+C25*((C27+C37+C34/2)/1000),(C21*C23/1000)-C25*((C27+C37+C34/2)/1000))","v":0},{"$f":"IF(K11=TRUE,-(C21*C23/1000)+C25*((C27+C38+C34/2)/1000),(C21*C23/1000)-C25*((C27+C38+C34/2)/1000))","v":0}]
["Zylinderkraft zurück","N",415,null,"Moment My=M1","Nm","-","-","-",{"$f":"C17*(C19/1000)-C25*C26/1000","v":0},{"$f":"C17*(C19/1000)-C25*C26/1000","v":0}]
["Verfahrgeschwindigkeit","m/s",{"$f":"'EM-LM-3-1'!I58","v":2.02},null,"Moment Mz=M2","Nm",{"$f":"C12*9.81*((C13)/1000)","v":0},{"$f":"C12*9.81*((C13)/1000)","v":0},{"$f":"C42*(C13/1000)","v":0},{"$f":"IF(K11=TRUE,-C21*C22/1000+C17*(C18+C37+C34/2)/1000,C21*C22/1000-C17*(C18+C37+C34/2)/1000)","v":0},{"$f":"IF(K11=TRUE,-C21*C22/1000+C17*(C18+C38+C34/2)/1000,C21*C22/1000-C17*(C18+C38+C34/2)/1000)","v":0}]
[null,null,null,null,null,null,null,null,null,{"$f":"'EM-LM-3'!G51","v":true},{"$f":"'EM-LM-3'!G52","v":true}]
["Zusatzmasse","kg",{"$f":"'EM-LM-3'!K14","v":0}]
["Schwerpunktabstand x-Richt.(Mitte Rolle)","mm",{"$f":"'EM-LM-3'!M14+18.5","v":18.5}]
["Schwerpunktabstand y-Richtung","mm",{"$f":"'EM-LM-3'!O14","v":0}]
["Schwerpunktabstand z-Richtung","mm",{"$f":"'EM-LM-3'!Q14","v":0}]
[null,null,null,null,"Mx Summe  I(II) + III","Nm",{"$f":"G8+I8","v":0}]
["Zusatzkraft Fx","N",{"$f":"'EM-LM-3'!K18","v":0},null,"Absolutbetrag",null,{"$f":"ABS(G16)","v":0}]
["Kraftangriffspunkt von Fx in y-Richtung","mm",{"$f":"'EM-LM-3'!O18","v":0},null,"Mx Summe  I+V oder II+IV","Nm",{"$f":"IF(J11=TRUE,H8+J8,G8+K8)","v":0}]
["Kraftangriffspunkt von Fx in z-Richtung","mm",{"$f":"'EM-LM-3'!Q18","v":0},null,"Absolutbetrag",null,{"$f":"ABS(G18)","v":0}]
[null,null,null,null,"Mx ges","Nm",{"$f":"MAX(G17,G19)","v":0}]
["Zusatzkraft Fy","N",{"$f":"'EM-LM-3'!K20","v":0},null,"Mx zul","Nm",{"$f":"G34/2","v":31.535},null,"Maximal-Werte der Momente und Kräfte nicht aus Katalog, sondern exakt berechnete Werte !!"]
["Kraftangrp. von Fy in x-Richt. (Mitte Rolle)","mm",{"$f":"'EM-LM-3'!M20+18.5","v":18.5}]
["Kraftangrp. von Fy in z-Richt.","mm",{"$f":"'EM-LM-3'!Q20","v":0},null,"My IV = V","Nm",{"$f":"J9","v":0}]
[null,null,null,null,"Absolutbetrag",null,{"$f":"ABS(G23)","v":0}]
["Zusatzkraft Fz","N",{"$f":"'EM-LM-3'!K22","v":0},null,"My ges","Nm",{"$f":"G24","v":0}]
["Kraftangrp. von Fz in x-Richt. (Mitte Rolle)","mm",{"$f":"'EM-LM-3'!M22+18.5","v":18.5},null,"My zul","Nm",{"$f":"28+(22*C7)","v":50}]
["Kraftangriffspunkt von Fz in y-Richtung","mm",{"$f":"'EM-LM-3'!O22","v":0}]
[]
[null,null,null,null,"Mz Summe I(II)+III","Nm",{"$f":"G10+I10","v":0}]
["Länge L (Stirnplatte zu 1. Rolle - HubN/2)","mm",39,null,"Absolutbetrag",null,{"$f":"ABS(G29)","v":0}]
["Nennhub/2        HubN/2","mm",{"$f":"(0+(C7*50))/2","v":25},null,"Mz Summe  I+V oder II+IV","Nm",{"$f":"IF(J11=TRUE,H10+J10,G10+K10)","v":0}]
["tatsächlicher gefahrener Hub/2","mm",{"$f":"C5/2","v":5},null,"Absolutbetrag",null,{"$f":"ABS(G31)","v":0}]
["Schwerpunktabstand in y-Richtung","mm",{"$f":"C14","v":0},null,"Mz ges","Nm",{"$f":"MAX(G30,G32)","v":0}]
["Wert K ( Abstand erste / letzte Rolle )","mm",{"$f":"34+(C7*25.5)","v":59.5},null,"Mz zul","Nm",{"$f":"C34/1000*1060","v":63.07}]
[]
[null,null,null,null,null,null,null,null,"Belastungsgleichung stat.",{"$f":"G19/G21+G25/G26+G32/G34+G38/G39+G42/G43","v":0}]
["l1 bei eingefahrenem Hub","mm",{"$f":"C30+C31","v":64},null,"Fx ges","N",{"$f":"C17","v":0},null,"Belastungsgleichung dyn.",{"$f":"G17/G21+G30/G34","v":0}]
["l1 bei ausgefahrenem Hub","mm",{"$f":"C30+C31+C32","v":69},null,"Absolutwert",null,{"$f":"ABS(G37)","v":0},null,"Belastungsgleichung",{"$f":"MAX(J36:J37)","v":0}]
[null,null,null,null,"Fx zul","N",{"$f":"G43","v":3710}]
["Stoßdämpferhub s ( Hub bis a=0 )","m",{"$f":"'Allgemeine Werte'!M41","v":1.0586000000000002E-2}]
["Verzögerung a=vxv/2xs","m/s2",{"$f":"POWER(C48,2)/(2*C40)","v":2.790289206802369},null,"Fz ges","N",{"$f":"-C25","v":0},null,"Verfahrzeitberechnung"]
["Kraft zur Verzögerung der Masse","N",{"$f":"C12*C41","v":0},null,"Absolutwert",null,{"$f":"ABS(G41)","v":0},null,"Verfahrzeit berechnet ( t=Wurzel aus (2xsxm/F)",null,{"$f":"(SQRT(2*(C5/1000)*(C12+C8/2)/(C6-(C12+C8/2)*9.81)))*(2+C7*0.1)","v":1.7113438421340964E-2}]
["Kraft zur Verzög. d. Masse incl Modul/2","N",{"$f":"C47*C41","v":4.3249482705436719},null,"Fz zul","N",{"$f":"2120+1590*C7","v":3710},null,"Mittlere Verfahrgeschwindigkeit berechnet",null,{"$f":"(C5/1000)/K42","v":0.58433610790510138}]
[null,null,null,null,null,null,null,null,"Endgeschwindigkeit berechnet",null,{"$f":"K43*'Allgemeine Werte'!E71","v":1.0225881888339274}]
["Stoßdämpferberechnung",null,null,null,"Max. Zyklenzahl / Min."]
["Anzahl Stoßdämpfer",null,1,null,"Zyklen aus Verfahrzeit",null,{"$f":"60/(2*L50)","v":416.66666666666669},null,"Endgeschwindigkeit (Eingabe)",null,{"$f":"C10","v":2.02}]
["Gesamtmasse","kg",{"$f":"C12+C8/2","v":1.55},null,null,null,null,null,"Mittlere Verfahrgeschwindigkeit (Eingabe)   m/s",null,{"$f":"C10/'Allgemeine Werte'!E71","v":1.1542857142857144}]
["Aufprallgeschwindigkeit","m/s",{"$f":"L54","v":0.24305555555555558},null,"Ezul / Stunde","Nm",{"$f":"'Allgemeine Werte'!H41*C46*0.95","v":32300},null,"Verfahrzeit (Eingabe)","s",{"$f":"(C5/1000)/K47","v":8.6633663366336624E-3},"Verfahrzeit für Berechnung"]
["W1","Nm",{"$f":"C47*POWER(C48,2)*0.5","v":4.5783902391975315E-2},null,"Ezul / Minute","Nm",{"$f":"G48/60","v":538.33333333333337},null,null,null,null,"( max )"]
["Hub Stoßdämpfer","m",{"$f":"'Allgemeine Werte'!L41","v":1.5800000000000002E-2},null,"Zyklen aus Ezul",null,{"$f":"G49/C53","v":72.540546436458214},null,"min. Verfahrzeit ab","gemessen",{"$f":"0.05+(C5/25)*0.02","v":5.8000000000000003E-2},{"$f":"MAX(K48,K53,K42)","v":7.1999999999999995E-2}]
["Zylinderkraft","N",482,null,null,null,null,null,"Mittlere Verfahrgeschwindigkeit ab",null,{"$f":"(C5/1000)/K50","v":0.17241379310344826}]
["W2 ( Antriebsenergie )","Nm",{"$f":"MAX(C56,C57)*C50","v":7.3753530999999999},null,"Max. Zyklen",null,{"$f":"MIN(G46,G50,G55)","v":72.540546436458214},null,"Endgeschwindigkeit ab",null,{"$f":"K51*'Allgemeine Werte'!E71","v":0.30172413793103448},"Endgeschwindigkeit f. Ber."]
["W1+W2 ( Energie / Hub )","Nm",{"$f":"C52+C49","v":7.4211370023919754},null,null,null,null,null,"min. Verfahrzeit auf",null,{"$f":"0.06+((C5/25)*0.03)","v":7.1999999999999995E-2},"( min )"]
["Ezul / Zyklus ( Hub )","Nm",{"$f":"'Allgemeine Werte'!G41*C50/'Allgemeine Werte'!K41*C46","v":25.675000000000004},null,"Stoßd.-kolbenrückstellzeit",null,{"$f":"'Allgemeine Werte'!E41","v":0.75},null,"Mittlere Verfahrgeschwindigkeit auf",null,{"$f":"(C5/1000)/K53","v":0.1388888888888889},{"$f":"MIN(K46,K55,K44)","v":0.24305555555555558}]
["Auslastung / Zyklus",null,{"$f":"C53/C54","v":0.28904136328693181},null,"Max. Zyklen aus Rückstellzeit",null,{"$f":"60/G54","v":80},null,"Endgeschwindigkeit auf",null,{"$f":"K54*'Allgemeine Werte'!E71","v":0.24305555555555558}]
["Antriebskraft nach oben",null,{"$f":"C6-C47*9.81","v":466.79449999999997}]
["Antriebskraft nach unten",null,{"$f":"C9+C47*9.81","v":430.20550000000003}]

{"sheet":"EM-Ber-CLM200-4","index":105,"n_rows":55,"n_cols":12,"rows_kept":55,"cut":false,"hidden":false,"merged":[]}
["Linearmodul Typ",null,"CLM 200"]
[]
["Berechnung der Führungsbelastung"]
[null,null,null,null,null,null,"Statisch auf Grund","Statisch auf Grund"]
["Hub","mm",{"$f":"'EM-LM-4'!K8","v":10},null,null,null,"Zusatzmasse m","Zusatzmasse m","Dynamisch auf Grund","Statisch auf Grund","Statisch auf Grund"]
["Zylinderkraft","N",482,null,null,null,"Modul ausgef.","Modul eingef.","Zusatzmasse m","Zusatzkraft Modul eingef.","Zusatzkraft Modul ausgef."]
["Faktor",null,{"$f":"ROUNDDOWN(((C5+25)/50.1)+0.5,0)","v":1},null,null,null,"I","II","III","IV","V"]
["Modulgewicht","kg",{"$f":"2+(C7*1.1)","v":3.1},null,"Moment Mx=M2","Nm",{"$f":"(C12*9.81)*((C37-C32+C34/2+C33)/1000)","v":0},{"$f":"C12*9.81*((C37+C34/2+C33)/1000)","v":0},{"$f":"C42*(C15/1000)","v":0},{"$f":"(C21*C23/1000)-C25*((C27+C37+C34/2)/1000)","v":0},{"$f":"(C21*C23/1000)-C25*((C27+C37-C32+C34/2)/1000)","v":0}]
["Zylinderkraft zurück","N",415,null,"Moment My=M1","Nm",{"$f":"C12*9.81*(C13/1000)","v":0},{"$f":"C12*9.81*(C13/1000)","v":0},"-",{"$f":"C17*C19/1000-C25*(C26/1000)","v":0},{"$f":"C17*C19/1000-C25*(C26/1000)","v":0}]
["Verfahrgeschwindigkeit","m/s",{"$f":"'EM-LM-4-1'!I58","v":2.02},null,"Moment Mz=M3","Nm","-","-",{"$f":"C42*(C13/1000)","v":0},{"$f":"C21*C22/1000-C17*(C18+C37+C34/2)/1000","v":0},{"$f":"C21*C22/1000-C17*(C18+C37-C32+C34/2)/1000","v":0}]
[null,null,null,null,null,null,null,null,null,{"$f":"'EM-LM-4'!G51","v":false}]
["Zusatzmasse","kg",{"$f":"'EM-LM-4'!K14","v":0},null,"Mx Summe  I + III","Nm",{"$f":"G8+I8","v":0}]
["Schwerpunktabstand x-Richtung","mm",{"$f":"'EM-LM-4'!M14","v":0},null,"Absolutbetrag",null,{"$f":"ABS(G12)","v":0}]
["Schwerpunktabstand y-Richtung","mm",{"$f":"'EM-LM-4'!O14","v":0},null,"Mx Summe  II-III",null,{"$f":"H8-I8","v":0}]
["Schwerpunktabstand z-Richt.(Mitte Rolle)","mm",{"$f":"'EM-LM-4'!Q14+56.5","v":56.5},null,"Absolutbetrag",null,{"$f":"ABS(G14)","v":0}]
[null,null,null,null,"I ","Nm",{"$f":"ABS(G8)","v":0}]
["Zusatzkraft Fx","N",{"$f":"'EM-LM-4'!K18","v":0},null,"I oder I+III oder II-III",null,{"$f":"MAX(G16,G15,G13)","v":0}]
["Kraftangriffspunkt von Fx in y-Richtung","mm",{"$f":"'EM-LM-4'!O18","v":0},null,"Mx Summe  I+V oder II+IV","Nm",{"$f":"IF(AND(J8=0,K8=0),MAX(G8,H8),IF(J11=TRUE,H8+J8,G8+K8))","v":0}]
["Kraftangrp. von Fx in z-Richt.(Mitte Rolle)","mm",{"$f":"'EM-LM-4'!Q18+56.5","v":56.5},null,"Absolutbetrag",null,{"$f":"ABS(G18)","v":0}]
[null,null,null,null,"Mx ges","Nm",{"$f":"MAX(G17,G19)","v":0}]
["Zusatzkraft Fy","N",{"$f":"'EM-LM-4'!K20","v":0},null,"Mx zul","Nm",{"$f":"C34/1000*1060","v":63.07},null,"Maximal-Werte der Momente und Kräfte nicht aus Katalog, sondern exakt berechnete Werte !!"]
["Kraftangriffspunkt von Fy in x-Richtung","mm",{"$f":"'EM-LM-4'!M20","v":0}]
["Kraftangrp. von Fy in z-Richt.(Mitte Rolle)","mm",{"$f":"'EM-LM-4'!Q20+56.5","v":56.5},null,"My Summe  I+V ( = II+IV )","Nm",{"$f":"G9+K9","v":0}]
[null,null,null,null,"Absolutbetrag",null,{"$f":"ABS(G23)","v":0}]
["Zusatzkraft Fz","N",{"$f":"'EM-LM-4'!K22","v":0},null,"My ges","Nm",{"$f":"G24","v":0}]
["Kraftangriffspunkt von Fz in x-Richtung","mm",{"$f":"'EM-LM-4'!M22","v":0},null,"My zul","Nm",{"$f":"28+(22*C7)","v":50}]
["Kraftangriffspunkt von Fz in y-Richtung","mm",{"$f":"'EM-LM-4'!O22","v":0}]
[]
[null,null,null,null,"Mz III","Nm",{"$f":"I10","v":0}]
["Länge L (Stirnplatte zu 1. Rolle - HubN/2)","mm",39,null,"Absolutbetrag",null,{"$f":"ABS(G29)","v":0}]
["Nennhub/2        HubN/2","mm",{"$f":"(0+(C7*50))/2","v":25},null,"Mz IV/V","Nm",{"$f":"IF(J11=TRUE,J10,K10)","v":0}]
["tatsächlicher gefahrener Hub/2","mm",{"$f":"C5/2","v":5},null,"Absolutbetrag",null,{"$f":"ABS(G31)","v":0}]
["Schwerpunktabstand in y-Richtung","mm",{"$f":"C14","v":0},null,"Mz ges","Nm",{"$f":"MAX(G30,G32)","v":0}]
["Wert K ( Abstand erste / letzte Rolle )","mm",{"$f":"34+(C7*25.5)","v":59.5},null,"Mz zul","Nm",{"$f":"G21/2","v":31.535}]
["Anfangswert (Abst. Stirnpl./Deckplatte)","mm",27]
[null,null,null,null,null,null,null,null,"Belastungsgleichung stat.",{"$f":"G19/G21+G25/G26+G32/G34+G38/G39+G42/G43","v":0}]
["l1 bei eingefahrenem Hub","mm",{"$f":"C30+C31-C35","v":37},null,"Fx ges","N",{"$f":"C17","v":0},null,"Belastungsgleichung dyn.",{"$f":"G17/G21+G30/G34+G40/G43","v":0}]
["l1 bei ausgefahrenem Hub","mm",{"$f":"C30+C31+C32-C35","v":42},null,"Absolutwert",null,{"$f":"ABS(G37)","v":0},null,"Belastungsgleichung",{"$f":"MAX(J36:J37)","v":0}]
[null,null,null,null,"Fx zul","N",{"$f":"G43","v":3710}]
["Stoßdämpferhub s ( Hub bis a=0 )","m",{"$f":"'Allgemeine Werte'!M41","v":1.0586000000000002E-2},null,"Gewichtskraft","N",{"$f":"C12*9.81","v":0}]
["Verzögerung a=vxv/2xs","m/s2",{"$f":"POWER(C48,2)/(2*C40)","v":2.5715305329890614},null,"Fz ges abs","N",{"$f":"ABS(-C25+C12*9.81)","v":0},null,"Verfahrzeitberechnung"]
["Kraft zur Verzögerung der Masse","N",{"$f":"C12*C41","v":0},null,"Max aus E40,E41",null,{"$f":"MAX(G40,G41)","v":0},null,"Verfahrzeit berechnet ( t=Wurzel aus (2xsxm/F)",null,{"$f":"(SQRT(2*(C5/1000)*(C12+C8/2)/C9))*(2.25+C7*0.05)","v":1.9878546891209731E-2}]
["Kraft zur Verzög. d. Masse incl Modul/2","N",{"$f":"C47*C41","v":3.9858723261330455},null,"Fz zul","N",{"$f":"2120+1590*C7","v":3710},null,"Mittlere Verfahrgeschwindigkeit berechnet",null,{"$f":"(C5/1000)/K42","v":0.5030548789470114}]
[null,null,null,null,null,null,null,null,"Endgeschwindigkeit berechnet",null,{"$f":"K43*'Allgemeine Werte'!E71","v":0.88034603815726997}]
["Stoßdämpferberechnung",null,null,null,"Max. Zyklenzahl / Min."]
["Anzahl Stoßdämpfer",null,1,null,"Zyklen aus Verfahrzeit",null,{"$f":"60/(2*L50)","v":399.99999999999994},null,"Endgeschwindigkeit (Eingabe)",null,{"$f":"C10","v":2.02}]
["Gesamtmasse","kg",{"$f":"C12+C8/2","v":1.55},null,null,null,null,null,"Mittlere Verfahrgeschwindigkeit (Eingabe)   m/s",null,{"$f":"C10/'Allgemeine Werte'!E71","v":1.1542857142857144}]
["Aufprallgeschwindigkeit","m/s",{"$f":"L54","v":0.23333333333333328},null,"Ezul / Stunde","Nm",{"$f":"'Allgemeine Werte'!H41*C46*0.95","v":32300},null,"Verfahrzeit (Eingabe)","s",{"$f":"(C5/1000)/K47","v":8.6633663366336624E-3},"Verfahrzeit für Berechnung"]
["W1","Nm",{"$f":"C47*POWER(C48,2)*0.5","v":4.219444444444443E-2},null,"Ezul / Minute","Nm",{"$f":"G48/60","v":538.33333333333337},null,null,null,null,"( max )"]
["Hub Stoßdämpfer","m",{"$f":"'Allgemeine Werte'!L41","v":1.5800000000000002E-2},null,"Zyklen aus Ezul",null,{"$f":"G49/C53","v":70.298744271450374},null,"min. Verfahrzeit vor","gemessen",{"$f":"0.06+(C5/25)*0.02","v":6.8000000000000005E-2},{"$f":"MAX(K48,K53,K42)","v":7.5000000000000011E-2}]
["Zylinderkraft","N",482,null,null,null,null,null,"Mittlere Verfahrgeschwindigkeit vor",null,{"$f":"(C5/1000)/K50","v":0.14705882352941177}]
["W2 ( Antriebsenergie )","Nm",{"$f":"C51*C50","v":7.6156000000000006},null,"Max. Zyklen",null,{"$f":"MIN(G46,G50,G55)","v":70.298744271450374},null,"Endgeschwindigkeit vor",null,{"$f":"K51*'Allgemeine Werte'!E71","v":0.25735294117647062},"Endgeschwindigkeit f. Ber."]
["W1+W2 ( Energie / Hub )","Nm",{"$f":"C52+C49","v":7.6577944444444448},null,null,null,null,null,"min. Verfahrzeit zurück",null,{"$f":"0.065+((C5/25)*0.025)","v":7.5000000000000011E-2},"( min )"]
["Ezul / Zyklus ( Hub )","Nm",{"$f":"'Allgemeine Werte'!G41*C50/'Allgemeine Werte'!K41*C46","v":25.675000000000004},null,"Stoßd.-kolbenrückstellzeit",null,{"$f":"'Allgemeine Werte'!E41","v":0.75},null,"Mittlere Verfahrgeschwindigkeit zurück",null,{"$f":"(C5/1000)/K53","v":0.1333333333333333},{"$f":"MIN(K46,K55,K44)","v":0.23333333333333328}]
["Auslastung / Zyklus",null,{"$f":"C53/C54","v":0.29825879043600562},null,"Max. Zyklen aus Rückstellzeit",null,{"$f":"60/G54","v":80},null,"Endgeschwindigkeit zurück",null,{"$f":"K54*'Allgemeine Werte'!E71","v":0.23333333333333328}]

{"sheet":"EM-Ber-CLM200-5","index":106,"n_rows":55,"n_cols":12,"rows_kept":55,"cut":false,"hidden":false,"merged":[]}
["Linearmodul Typ",null,"CLM 200"]
[]
["Berechnung der Führungsbelastung"]
[null,null,null,null,null,null,"Statisch auf Grund","Statisch auf Grund"]
["Hub","mm",{"$f":"'EM-LM-5'!K8","v":10},null,null,null,"Zusatzmasse m","Zusatzmasse m","Dynamisch auf Grund","Statisch auf Grund","Statisch auf Grund"]
["Zylinderkraft","N",482,null,null,null,"Modul ausgef.","Modul eingef.","Zusatzmasse m","Zusatzkraft Modul eingef.","Zusatzkraft Modul ausgef."]
["Faktor",null,{"$f":"ROUNDDOWN(((C5+25)/50.1)+0.5,0)","v":1},null,null,null,"I","II","III","IV","V"]
["Modulgewicht","kg",{"$f":"2+(C7*1.1)","v":3.1},null,"Moment Mx=M3","Nm",{"$f":"(C12*9.81)*((C37-C32+C34/2+C33)/1000)","v":0},{"$f":"C12*9.81*((C37+C34/2+C33)/1000)","v":0},{"$f":"C42*(C15/1000)","v":0},{"$f":"(C21*C23/1000)-C25*((C27+C37+C34/2)/1000)","v":0},{"$f":"(C21*C23/1000)-C25*((C27+C37-C32+C34/2)/1000)","v":0}]
["Zylinderkraft zurück","N",415,null,"Moment My=M1","Nm",{"$f":"C12*9.81*((C13)/1000)","v":0},{"$f":"C12*9.81*((C13)/1000)","v":0},"-",{"$f":"C17*(C19/1000)-C25*C26/1000","v":0},{"$f":"C17*(C19/1000)-C25*C26/1000","v":0}]
["Verfahrgeschwindigkeit","m/s",{"$f":"'EM-LM-5-1'!I58","v":2.02},null,"Moment Mz=M2","Nm","-","-",{"$f":"C42*(C13/1000)","v":0},{"$f":"C21*C22/1000-C17*(C18+C37+C34/2)/1000","v":0},{"$f":"C21*C22/1000-C17*(C18+C37-C32+C34/2)/1000","v":0}]
[null,null,null,null,null,null,null,null,null,{"$f":"'EM-LM-5'!G51","v":false}]
["Zusatzmasse","kg",{"$f":"'EM-LM-5'!K14","v":0},null,"Mx Summe  I + III","Nm",{"$f":"G8+I8","v":0}]
["Schwerpunktabstand x-Richt.(Mitte Rolle)","mm",{"$f":"'EM-LM-5'!M14+56.5","v":56.5},null,"Absolutbetrag",null,{"$f":"ABS(G12)","v":0}]
["Schwerpunktabstand y-Richtung","mm",{"$f":"'EM-LM-5'!O14","v":0},null,"Mx Summe  II-III",null,{"$f":"H8-I8","v":0}]
["Schwerpunktabstand z-Richtung","mm",{"$f":"'EM-LM-5'!Q14","v":0},null,"Absolutbetrag",null,{"$f":"ABS(G14)","v":0}]
[null,null,null,null,"I ","Nm",{"$f":"ABS(G8)","v":0}]
["Zusatzkraft Fx","N",{"$f":"'EM-LM-5'!K18","v":0},null,"I oder I+III oder II-III",null,{"$f":"MAX(G16,G15,G13)","v":0}]
["Kraftangriffspunkt von Fx in y-Richtung","mm",{"$f":"'EM-LM-5'!O18","v":0},null,"Mx Summe  I+V oder II+IV","Nm",{"$f":"IF(AND(J8=0,K8=0),MAX(G8,H8),IF(J11=TRUE,H8+J8,G8+K8))","v":0}]
["Kraftangriffspunkt von Fx in z-Richtung","mm",{"$f":"'EM-LM-5'!Q18","v":0},null,"Absolutbetrag",null,{"$f":"ABS(G18)","v":0}]
[null,null,null,null,"Mx ges","Nm",{"$f":"MAX(G17,G19)","v":0}]
["Zusatzkraft Fy","N",{"$f":"'EM-LM-5'!K20","v":0},null,"Mx zul","Nm",{"$f":"G34/2","v":31.535},null,"Maximal-Werte der Momente und Kräfte nicht aus Katalog, sondern exakt berechnete Werte !!"]
["Kraftangrp. von Fy in x-Richt. (Mitte Rolle)","mm",{"$f":"'EM-LM-5'!M20+56.5","v":56.5}]
["Kraftangrp. von Fy in z-Richt.","mm",{"$f":"'EM-LM-5'!Q20","v":0},null,"My Summe  I+V ( = II+IV )","Nm",{"$f":"G9+K9","v":0}]
[null,null,null,null,"Absolutbetrag",null,{"$f":"ABS(G23)","v":0}]
["Zusatzkraft Fz","N",{"$f":"'EM-LM-5'!K22","v":0},null,"My ges","Nm",{"$f":"G24","v":0}]
["Kraftangrp. von Fz in x-Richt. (Mitte Rolle)","mm",{"$f":"'EM-LM-5'!M22+56.5","v":56.5},null,"My zul","Nm",{"$f":"28+(22*C7)","v":50}]
["Kraftangriffspunkt von Fz in y-Richtung","mm",{"$f":"'EM-LM-5'!O22","v":0}]
[]
[null,null,null,null,"Mz III","Nm",{"$f":"I10","v":0}]
["Länge L (Stirnplatte zu 1. Rolle - HubN/2)","mm",39,null,"Absolutbetrag",null,{"$f":"ABS(G29)","v":0}]
["Nennhub/2        HubN/2","mm",{"$f":"(0+(C7*50))/2","v":25},null,"Mz IV/V","Nm",{"$f":"IF(J11=TRUE,J10,K10)","v":0}]
["tatsächlicher gefahrener Hub/2","mm",{"$f":"C5/2","v":5},null,"Absolutbetrag",null,{"$f":"ABS(G31)","v":0}]
["Schwerpunktabstand in y-Richtung","mm",{"$f":"C14","v":0},null,"Mz ges","Nm",{"$f":"MAX(G30,G32)","v":0}]
["Wert K ( Abstand erste / letzte Rolle )","mm",{"$f":"34+(C7*25.5)","v":59.5},null,"Mz zul","Nm",{"$f":"C34/1000*1060","v":63.07}]
["Anfangswert (Abst. Stirnpl./Deckplatte)","mm",27]
[null,null,null,null,null,null,null,null,"Belastungsgleichung stat.",{"$f":"G19/G21+G25/G26+G32/G34+G38/G39+G42/G43","v":0}]
["l1 bei eingefahrenem Hub","mm",{"$f":"C30+C31-C35","v":37},null,"Fx ges","N",{"$f":"C17","v":0},null,"Belastungsgleichung dyn.",{"$f":"G17/G21+G30/G34+G40/G43","v":0}]
["l1 bei ausgefahrenem Hub","mm",{"$f":"C30+C31+C32-C35","v":42},null,"Absolutwert",null,{"$f":"ABS(G37)","v":0},null,"Belastungsgleichung",{"$f":"MAX(J36:J37)","v":0}]
[null,null,null,null,"Fx zul","N",{"$f":"G43","v":3710}]
["Stoßdämpferhub s ( Hub bis a=0 )","m",{"$f":"'Allgemeine Werte'!M41","v":1.0586000000000002E-2},null,"Gewichtskraft","N",{"$f":"C12*9.81","v":0}]
["Verzögerung a=vxv/2xs","m/s2",{"$f":"POWER(C48,2)/(2*C40)","v":2.5715305329890614},null,"Fz ges abs","N",{"$f":"ABS(-C25+C12*9.81)","v":0},null,"Verfahrzeitberechnung"]
["Kraft zur Verzögerung der Masse","N",{"$f":"C12*C41","v":0},null,"Max aus E40,E41",null,{"$f":"MAX(G40,G41)","v":0},null,"Verfahrzeit berechnet ( t=Wurzel aus (2xsxm/F)",null,{"$f":"(SQRT(2*(C5/1000)*(C12+C8/2)/C9))*(2.25+C7*0.05)","v":1.9878546891209731E-2}]
["Kraft zur Verzög. d. Masse incl Modul/2","N",{"$f":"C47*C41","v":3.9858723261330455},null,"Fz zul","N",{"$f":"2120+1590*C7","v":3710},null,"Mittlere Verfahrgeschwindigkeit berechnet",null,{"$f":"(C5/1000)/K42","v":0.5030548789470114}]
[null,null,null,null,null,null,null,null,"Endgeschwindigkeit berechnet",null,{"$f":"K43*'Allgemeine Werte'!E71","v":0.88034603815726997}]
["Stoßdämpferberechnung",null,null,null,"Max. Zyklenzahl / Min."]
["Anzahl Stoßdämpfer",null,1,null,"Zyklen aus Verfahrzeit",null,{"$f":"60/(2*L50)","v":399.99999999999994},null,"Endgeschwindigkeit (Eingabe)",null,{"$f":"C10","v":2.02}]
["Gesamtmasse","kg",{"$f":"C12+C8/2","v":1.55},null,null,null,null,null,"Mittlere Verfahrgeschwindigkeit (Eingabe)   m/s",null,{"$f":"C10/'Allgemeine Werte'!E71","v":1.1542857142857144}]
["Aufprallgeschwindigkeit","m/s",{"$f":"L54","v":0.23333333333333328},null,"Ezul / Stunde","Nm",{"$f":"'Allgemeine Werte'!H41*C46*0.95","v":32300},null,"Verfahrzeit (Eingabe)","s",{"$f":"(C5/1000)/K47","v":8.6633663366336624E-3},"Verfahrzeit für Berechnung"]
["W1","Nm",{"$f":"C47*POWER(C48,2)*0.5","v":4.219444444444443E-2},null,"Ezul / Minute","Nm",{"$f":"G48/60","v":538.33333333333337},null,null,null,null,"( max )"]
["Hub Stoßdämpfer","m",{"$f":"'Allgemeine Werte'!L41","v":1.5800000000000002E-2},null,"Zyklen aus Ezul",null,{"$f":"G49/C53","v":70.298744271450374},null,"min. Verfahrzeit vor","gemessen",{"$f":"0.06+(C5/25)*0.02","v":6.8000000000000005E-2},{"$f":"MAX(K48,K53,K42)","v":7.5000000000000011E-2}]
["Zylinderkraft","N",482,null,null,null,null,null,"Mittlere Verfahrgeschwindigkeit vor",null,{"$f":"(C5/1000)/K50","v":0.14705882352941177}]
["W2 ( Antriebsenergie )","Nm",{"$f":"C51*C50","v":7.6156000000000006},null,"Max. Zyklen",null,{"$f":"MIN(G46,G50,G55)","v":70.298744271450374},null,"Endgeschwindigkeit vor",null,{"$f":"K51*'Allgemeine Werte'!E71","v":0.25735294117647062},"Endgeschwindigkeit f. Ber."]
["W1+W2 ( Energie / Hub )","Nm",{"$f":"C52+C49","v":7.6577944444444448},null,null,null,null,null,"min. Verfahrzeit zurück",null,{"$f":"0.065+((C5/25)*0.025)","v":7.5000000000000011E-2},"( min )"]
["Ezul / Zyklus ( Hub )","Nm",{"$f":"'Allgemeine Werte'!G41*C50/'Allgemeine Werte'!K41*C46","v":25.675000000000004},null,"Stoßd.-kolbenrückstellzeit",null,{"$f":"'Allgemeine Werte'!E41","v":0.75},null,"Mittlere Verfahrgeschwindigkeit zurück",null,{"$f":"(C5/1000)/K53","v":0.1333333333333333},{"$f":"MIN(K46,K55,K44)","v":0.23333333333333328}]
["Auslastung / Zyklus",null,{"$f":"C53/C54","v":0.29825879043600562},null,"Max. Zyklen aus Rückstellzeit",null,{"$f":"60/G54","v":80},null,"Endgeschwindigkeit zurück",null,{"$f":"K54*'Allgemeine Werte'!E71","v":0.23333333333333328}]

{"sheet":"EM-Ber-CLM200-6","index":107,"n_rows":57,"n_cols":12,"rows_kept":57,"cut":false,"hidden":false,"merged":[]}
["Linearmodul Typ",null,"CLM 200"]
[]
["Berechnung der Führungsbelastung"]
[null,null,null,null,null,null,"Statisch auf Grund","Statisch auf Grund"]
["Hub","mm",{"$f":"'EM-LM-6'!K8","v":10},null,null,null,"Zusatzmasse m","Zusatzmasse m","Dynamisch auf Grund","Statisch auf Grund","Statisch auf Grund"]
["Zylinderkraft","N",482,null,null,null,"Modul ausgef.","Modul eingef.","Zusatzmasse m","Zusatzkraft Modul eingef.","Zusatzkraft Modul ausgef."]
["Faktor",null,{"$f":"ROUNDDOWN(((C5+25)/50.1)+0.5,0)","v":1},null,null,null,"I","II","III","IV","V"]
["Modulgewicht","kg",{"$f":"2+(C7*1.1)","v":3.1},null,"Moment Mx=M3","Nm",{"$f":"C12*9.81*((C15)/1000)","v":0},{"$f":"C12*9.81*((C15)/1000)","v":0},{"$f":"C42*(C15/1000)","v":0},{"$f":"IF(K11=TRUE,-(C21*C23/1000)+C25*((C27+C37+C34/2)/1000),(C21*C23/1000)-C25*((C27+C37+C34/2)/1000))","v":0},{"$f":"IF(K11=TRUE,-(C21*C23/1000)+C25*((C27+C37-C32+C34/2)/1000),(C21*C23/1000)-C25*((C27+C37-C32+C34/2)/1000))","v":0}]
["Zylinderkraft zurück","N",415,null,"Moment My=M1","Nm","-","-","-",{"$f":"C17*(C19/1000)-C25*C26/1000","v":0},{"$f":"C17*(C19/1000)-C25*C26/1000","v":0}]
["Verfahrgeschwindigkeit","m/s",{"$f":"'EM-LM-6-1'!I58","v":2.02},null,"Moment Mz=M2","Nm",{"$f":"C12*9.81*((C13)/1000)","v":0},{"$f":"C12*9.81*((C13)/1000)","v":0},{"$f":"C42*(C13/1000)","v":0},{"$f":"IF(K11=TRUE,-C21*C22/1000+C17*(C18+C37+C34/2)/1000,C21*C22/1000-C17*(C18+C37+C34/2)/1000)","v":0},{"$f":"IF(K11=TRUE,-C21*C22/1000+C17*(C18+C37-C32+C34/2)/1000,C21*C22/1000-C17*(C18+C37-C32+C34/2)/1000)","v":0}]
[null,null,null,null,null,null,null,null,null,{"$f":"'EM-LM-6'!G51","v":false},{"$f":"'EM-LM-6'!G52","v":true}]
["Zusatzmasse","kg",{"$f":"'EM-LM-6'!K14","v":0}]
["Schwerpunktabstand x-Richt.(Mitte Rolle)","mm",{"$f":"'EM-LM-6'!M14+56.5","v":56.5}]
["Schwerpunktabstand y-Richtung","mm",{"$f":"'EM-LM-6'!O14","v":0}]
["Schwerpunktabstand z-Richtung","mm",{"$f":"'EM-LM-6'!Q14","v":0}]
[null,null,null,null,"Mx Summe  I(II) + III","Nm",{"$f":"G8+I8","v":0}]
["Zusatzkraft Fx","N",{"$f":"'EM-LM-6'!K18","v":0},null,"Absolutbetrag",null,{"$f":"ABS(G16)","v":0}]
["Kraftangriffspunkt von Fx in y-Richtung","mm",{"$f":"'EM-LM-6'!O18","v":0},null,"Mx Summe  I+V oder II+IV","Nm",{"$f":"IF(J11=TRUE,H8+J8,G8+K8)","v":0}]
["Kraftangriffspunkt von Fx in z-Richtung","mm",{"$f":"'EM-LM-6'!Q18","v":0},null,"Absolutbetrag",null,{"$f":"ABS(G18)","v":0}]
[null,null,null,null,"Mx ges","Nm",{"$f":"MAX(G17,G19)","v":0}]
["Zusatzkraft Fy","N",{"$f":"'EM-LM-6'!K20","v":0},null,"Mx zul","Nm",{"$f":"G34/2","v":31.535},null,"Maximal-Werte der Momente und Kräfte nicht aus Katalog, sondern exakt berechnete Werte !!"]
["Kraftangrp. von Fy in x-Richt. (Mitte Rolle)","mm",{"$f":"'EM-LM-6'!M20+56.5","v":56.5}]
["Kraftangrp. von Fy in z-Richt.","mm",{"$f":"'EM-LM-6'!Q20","v":0},null,"My IV = V","Nm",{"$f":"J9","v":0}]
[null,null,null,null,"Absolutbetrag",null,{"$f":"ABS(G23)","v":0}]
["Zusatzkraft Fz","N",{"$f":"'EM-LM-6'!K22","v":0},null,"My ges","Nm",{"$f":"G24","v":0}]
["Kraftangrp. von Fz in x-Richt. (Mitte Rolle)","mm",{"$f":"'EM-LM-6'!M22+56.5","v":56.5},null,"My zul","Nm",{"$f":"28+(22*C7)","v":50}]
["Kraftangriffspunkt von Fz in y-Richtung","mm",{"$f":"'EM-LM-6'!O22","v":0}]
[]
[null,null,null,null,"Mz Summe I(II)+III","Nm",{"$f":"G10+I10","v":0}]
["Länge L (Stirnplatte zu 1. Rolle - HubN/2)","mm",39,null,"Absolutbetrag",null,{"$f":"ABS(G29)","v":0}]
["Nennhub/2        HubN/2","mm",{"$f":"(0+(C7*50))/2","v":25},null,"Mz Summe  I+V oder II+IV","Nm",{"$f":"IF(J11=TRUE,H10+J10,G10+K10)","v":0}]
["tatsächlicher gefahrener Hub/2","mm",{"$f":"C5/2","v":5},null,"Absolutbetrag",null,{"$f":"ABS(G31)","v":0}]
["Schwerpunktabstand in y-Richtung","mm",{"$f":"C14","v":0},null,"Mz ges","Nm",{"$f":"MAX(G30,G32)","v":0}]
["Wert K ( Abstand erste / letzte Rolle )","mm",{"$f":"34+(C7*25.5)","v":59.5},null,"Mz zul","Nm",{"$f":"C34/1000*1060","v":63.07}]
["Anfangswert (Abst. Stirnpl./Deckplatte)","mm",27]
[null,null,null,null,null,null,null,null,"Belastungsgleichung stat.",{"$f":"G19/G21+G25/G26+G32/G34+G38/G39+G42/G43","v":0}]
["l1 bei eingefahrenem Hub","mm",{"$f":"C30+C31-C35","v":37},null,"Fx ges","N",{"$f":"C17","v":0},null,"Belastungsgleichung dyn.",{"$f":"G17/G21+G30/G34","v":0}]
["l1 bei ausgefahrenem Hub","mm",{"$f":"C30+C31+C32-C35","v":42},null,"Absolutwert",null,{"$f":"ABS(G37)","v":0},null,"Belastungsgleichung",{"$f":"MAX(J36:J37)","v":0}]
[null,null,null,null,"Fx zul","N",{"$f":"G43","v":3710}]
["Stoßdämpferhub s ( Hub bis a=0 )","m",{"$f":"'Allgemeine Werte'!M41","v":1.0586000000000002E-2}]
["Verzögerung a=vxv/2xs","m/s2",{"$f":"POWER(C48,2)/(2*C40)","v":2.790289206802369},null,"Fz ges","N",{"$f":"-C25","v":0},null,"Verfahrzeitberechnung"]
["Kraft zur Verzögerung der Masse","N",{"$f":"C12*C41","v":0},null,"Absolutwert",null,{"$f":"ABS(G41)","v":0},null,"Verfahrzeit berechnet ( t=Wurzel aus (2xsxm/F)",null,{"$f":"(SQRT(2*(C5/1000)*(C12+C8/2)/(C6-(C12+C8/2)*9.81)))*(2+C7*0.1)","v":1.7113438421340964E-2}]
["Kraft zur Verzög. d. Masse incl Modul/2","N",{"$f":"C47*C41","v":4.3249482705436719},null,"Fz zul","N",{"$f":"2120+1590*C7","v":3710},null,"Mittlere Verfahrgeschwindigkeit berechnet",null,{"$f":"(C5/1000)/K42","v":0.58433610790510138}]
[null,null,null,null,null,null,null,null,"Endgeschwindigkeit berechnet",null,{"$f":"K43*'Allgemeine Werte'!E71","v":1.0225881888339274}]
["Stoßdämpferberechnung",null,null,null,"Max. Zyklenzahl / Min."]
["Anzahl Stoßdämpfer",null,1,null,"Zyklen aus Verfahrzeit",null,{"$f":"60/(2*L50)","v":416.66666666666669},null,"Endgeschwindigkeit (Eingabe)",null,{"$f":"C10","v":2.02}]
["Gesamtmasse","kg",{"$f":"C12+C8/2","v":1.55},null,null,null,null,null,"Mittlere Verfahrgeschwindigkeit (Eingabe)   m/s",null,{"$f":"C10/'Allgemeine Werte'!E71","v":1.1542857142857144}]
["Aufprallgeschwindigkeit","m/s",{"$f":"L54","v":0.24305555555555558},null,"Ezul / Stunde","Nm",{"$f":"'Allgemeine Werte'!H41*C46*0.95","v":32300},null,"Verfahrzeit (Eingabe)","s",{"$f":"(C5/1000)/K47","v":8.6633663366336624E-3},"Verfahrzeit für Berechnung"]
["W1","Nm",{"$f":"C47*POWER(C48,2)*0.5","v":4.5783902391975315E-2},null,"Ezul / Minute","Nm",{"$f":"G48/60","v":538.33333333333337},null,null,null,null,"( max )"]
["Hub Stoßdämpfer","m",{"$f":"'Allgemeine Werte'!L41","v":1.5800000000000002E-2},null,"Zyklen aus Ezul",null,{"$f":"G49/C53","v":72.540546436458214},null,"min. Verfahrzeit ab","gemessen",{"$f":"0.05+(C5/25)*0.02","v":5.8000000000000003E-2},{"$f":"MAX(K48,K53,K42)","v":7.1999999999999995E-2}]
["Zylinderkraft","N",482,null,null,null,null,null,"Mittlere Verfahrgeschwindigkeit ab",null,{"$f":"(C5/1000)/K50","v":0.17241379310344826}]
["W2 ( Antriebsenergie )","Nm",{"$f":"MAX(C56,C57)*C50","v":7.3753530999999999},null,"Max. Zyklen",null,{"$f":"MIN(G46,G50,G55)","v":72.540546436458214},null,"Endgeschwindigkeit ab",null,{"$f":"K51*'Allgemeine Werte'!E71","v":0.30172413793103448},"Endgeschwindigkeit f. Ber."]
["W1+W2 ( Energie / Hub )","Nm",{"$f":"C52+C49","v":7.4211370023919754},null,null,null,null,null,"min. Verfahrzeit auf",null,{"$f":"0.06+((C5/25)*0.03)","v":7.1999999999999995E-2},"( min )"]
["Ezul / Zyklus ( Hub )","Nm",{"$f":"'Allgemeine Werte'!G41*C50/'Allgemeine Werte'!K41*C46","v":25.675000000000004},null,"Stoßd.-kolbenrückstellzeit",null,{"$f":"'Allgemeine Werte'!E41","v":0.75},null,"Mittlere Verfahrgeschwindigkeit auf",null,{"$f":"(C5/1000)/K53","v":0.1388888888888889},{"$f":"MIN(K46,K55,K44)","v":0.24305555555555558}]
["Auslastung / Zyklus",null,{"$f":"C53/C54","v":0.28904136328693181},null,"Max. Zyklen aus Rückstellzeit",null,{"$f":"60/G54","v":80},null,"Endgeschwindigkeit auf",null,{"$f":"K54*'Allgemeine Werte'!E71","v":0.24305555555555558}]
["Antriebskraft nach oben",null,{"$f":"C6-C47*9.81","v":466.79449999999997}]
["Antriebskraft nach unten",null,{"$f":"C9+C47*9.81","v":430.20550000000003}]

{"sheet":"EM-Ber-PMP16-1","index":108,"n_rows":55,"n_cols":12,"rows_kept":55,"cut":false,"hidden":false,"merged":[]}
["Portalmodul Typ",null,"PMP 16"]
[]
["Berechnung der Führungsbelastung"]
[]
["Hub","mm",{"$f":"'EM-PMP-1'!K8","v":10},null,null,null,"Statisch auf Grund",null,"Dynamisch auf Grund",null,"Statisch auf Grund"]
["Zylinderkraft vor","N",100,null,null,null,"Zusatzmasse m",null,"Zusatzmasse m",null,"Zusatzkraft"]
[null,null,null,null,null,null,"I",null,"III",null,"V"]
["Schlittengewicht","kg",1.2,null,"Moment Mx=My(kat)","Nm",{"$f":"(C12*9.81)*(C14/1000)","v":0},null,{"$f":"C42*(C15/1000)","v":0},null,{"$f":"(C21*C23/1000)-C25*(C27/1000)","v":0}]
["Zylinderkraft zurück","N",100,null,"Moment My=Mx(Kat)","Nm",{"$f":"C12*9.81*(C13/1000)","v":0},null,"-",null,{"$f":"C17*C19/1000-C25*(C26/1000)","v":0}]
["Verfahrgeschwindigkeit","m/s",{"$f":"'EM-PMP-1'!I49","v":2.02},null,"Moment Mz=Mz(Kat)","Nm","-",null,{"$f":"C42*(C13/1000)","v":0},null,{"$f":"C21*C22/1000-C17*C18/1000","v":0}]
[]
["Zusatzmasse","kg",{"$f":"'EM-PMP-1'!K14","v":0}]
["Schwerpunktabstand x-Richtung","mm",{"$f":"'EM-PMP-1'!M14","v":0}]
["Schwerpunktabstand y-Richtung","mm",{"$f":"'EM-PMP-1'!O14","v":0}]
["Schwerpunktabstand z-Richtung","mm",{"$f":"'EM-PMP-1'!Q14","v":0}]
[]
["Zusatzkraft Fx","N",{"$f":"'EM-PMP-1'!K18","v":0},null,"Mx Summe  I + III","Nm",{"$f":"ABS(G8)+ABS(I8)","v":0}]
["Kraftangriffspunkt von Fx in y-Richtung","mm",{"$f":"'EM-PMP-1'!O18","v":0},null,"Mx Summe  I +V","Nm",{"$f":"G8+K8","v":0}]
["Kraftangrp. von Fx in z-Richtung","mm",{"$f":"'EM-PMP-1'!Q18","v":0},null,"Absolutbetrag",null,{"$f":"ABS(G18)","v":0}]
[null,null,null,null,"Max",null,{"$f":"MAX(G19,G17)","v":0}]
["Zusatzkraft Fy","N",{"$f":"'EM-PMP-1'!K20","v":0},null,"Mx zul","Nm",300]
["Kraftangriffspunkt von Fy in x-Richtung","mm",{"$f":"'EM-PMP-1'!M20","v":0}]
["Kraftangrp. von Fy in z-Richtung","mm",{"$f":"'EM-PMP-1'!Q20","v":0},null,"My Summe  I+V","Nm",{"$f":"G9+K9","v":0}]
[null,null,null,null,"Absolutbetrag",null,{"$f":"ABS(G23)","v":0}]
["Zusatzkraft Fz","N",{"$f":"'EM-PMP-1'!K22","v":0},null,"My ges","Nm",{"$f":"G24","v":0}]
["Kraftangriffspunkt von Fz in x-Richtung","mm",{"$f":"'EM-PMP-1'!M22","v":0},null,"My zul","Nm",80]
["Kraftangriffspunkt von Fz in y-Richtung","mm",{"$f":"'EM-PMP-1'!O22","v":0},null,null,null,null,null,"Massenabhängiger Korrekturfaktor für die Verfahrzeit",null,"f="]
[null,null,null,null,null,null,null,null,"0 bis 5 kg",null,1]
[null,null,null,null,"Mz III","Nm",{"$f":"I10","v":0},null,"5 bis 10 kg",null,{"$f":"0.008*POWER(C12,2)-0.06*C12+1.1","v":1.1000000000000001}]
[null,null,null,null,"Absolutbetrag",null,{"$f":"ABS(G29)","v":0},null,"10 bis 20 kg",null,{"$f":"0.01*(C12-10)+1.3","v":1.2}]
[null,null,null,null,"Mz V","Nm",{"$f":"K10","v":0},null,null,null,{"$f":"IF(AND(0<=C12,C12<=5),K28,IF(AND(5<C12,C12<=10),K29,K30))","v":1}]
[null,null,null,null,"Absolutbetrag",null,{"$f":"ABS(G31)","v":0}]
[null,null,null,null,"Mz ges","Nm",{"$f":"MAX(G30,G32)","v":0}]
[null,null,null,null,"Mz zul","Nm",300]
[null,null,null,null,null,null,null,null,"Faktor zur Berechnung von vd",null,{"$f":"IF(C5<413,2.07004*POWER(10,-6)*POWER(C5,2)-0.002677384*C5+1.752675314,1)","v":1.726108478}]
[null,null,null,null,null,null,null,null,"Belastungsgleichung stat.",{"$f":"G19/G21+G25/G26+G32/G34+G38/G39+G42/G43","v":0}]
[null,null,null,null,"Fx ges","N",{"$f":"C17","v":0},null,"Belastungsgleichung dyn.",{"$f":"G17/G21+G30/G34+G40/G43","v":0}]
[null,null,null,null,"Absolutwert",null,{"$f":"ABS(G37)","v":0},null,"Belastungsgleichung",{"$f":"MAX(J36:J37)","v":0}]
[null,null,null,null,"Fx zul","N",3000,null,null,"Faktor bis Hub 400",{"$f":"7.83333*POWER(10,-6)*POWER(C5,2)-0.005983333*C5+2.92","v":2.8609500030000001}]
["Stoßdämpferhub s ( Hub bis a=0 )","m",{"$f":"'Allgemeine Werte'!M38","v":7.6380000000000007E-3},null,"Gewichtskraft","N",{"$f":"C12*9.81","v":0},null,null,"Faktor ab Hub 400",{"$f":"-1.81649*POWER(10,-7)*POWER(C5,2)+0.001887642*C5+1.054006969","v":1.0728652241000001}]
["Verzögerung a=vxv/2xs","m/s2",{"$f":"POWER(C48,2)/(2*C40)","v":0.42589150240624996},null,"Fz ges abs","N",{"$f":"ABS(-C25+C12*9.81)","v":0},null,"Verfahrzeitberechnung",null,{"$f":"IF(C5<=400,K39,K40)","v":2.8609500030000001}]
["Kraft zur Verzögerung der Masse","N",{"$f":"C12*C41","v":0},null,"Max aus E40,E41",null,{"$f":"MAX(G40,G41)","v":0},null,"Verfahrzeit berechnet ( t=Wurzel aus (2xsxm/F)",null,{"$f":"(SQRT((2*(C5/1000)*(C12+C8))/C9))*K41*K31","v":4.4321646863804243E-2}]
["Kraft zur Verzög. d. Masse incl Schlitten","N",{"$f":"C47*C41","v":0.51106980288749992},null,"Fz zul","N",3000,null,"Mittlere Verfahrgeschwindigkeit berechnet",null,{"$f":"(C5/1000)/K42","v":0.22562338513117411}]
[null,null,null,null,null,null,null,null,"Endgeschwindigkeit berechnet",null,{"$f":"K43*K35","v":0.3894504379099788}]
["Stoßdämpferberechnung",null,null,null,"Max. Zyklenzahl / Min."]
["Anzahl Stoßdämpfer",null,1,null,"Zyklen aus Verfahrzeit",null,{"$f":"60/(2*'EM-PMP-1'!K40)","v":140.18691588785046},null,"Endgeschwindigkeit (Eingabe)",null,{"$f":"C10","v":2.02}]
["Gesamtmasse","kg",{"$f":"C12+C8","v":1.2},null,null,null,null,null,"Mittlere Verfahrgeschwindigkeit (Eingabe)   m/s",null,{"$f":"C10/K35","v":1.1702624868284786}]
["Aufprallgeschwindigkeit","m/s",{"$f":"L54","v":8.0659274672897199E-2},null,"Ezul / Stunde","Nm",{"$f":"'Allgemeine Werte'!H38*C46*0.95","v":26790},null,"Verfahrzeit (Eingabe)","s",{"$f":"(C5/1000)/K47","v":8.5450914752475248E-3},"Verfahrzeit für Berechnung"]
["W1","Nm",{"$f":"C47*POWER(C48,2)*0.5","v":3.9035511544547249E-3},null,"Ezul / Minute","Nm",{"$f":"G48/60","v":446.5},null,null,null,null,"( max )"]
["Hub Stoßdämpfer","m",{"$f":"'Allgemeine Werte'!L38","v":1.14E-2},null,"Zyklen aus Ezul",null,{"$f":"G49/C53","v":390.3301109165904},null,"min. Verfahrzeit vor","gemessen",{"$f":"IF(C5<413,0.21+(C5/100)*0.04,(C5/1000)/1.1)","v":0.214},{"$f":"MAX(K48,K53,K42)","v":0.214}]
["Zylinderkraft","N",100,null,null,null,null,null,"Mittlere Verfahrgeschwindigkeit vor",null,{"$f":"(C5/1000)/K50","v":4.6728971962616828E-2}]
["W2 ( Antriebsenergie )","Nm",{"$f":"C51*C50","v":1.1400000000000001},null,"Max. Zyklen",null,{"$f":"MIN(G46,G50,G55)","v":120},null,"Endgeschwindigkeit vor",null,{"$f":"K51*K35","v":8.0659274672897199E-2},"Endgeschwindigkeit f. Ber."]
["W1+W2 ( Energie / Hub )","Nm",{"$f":"C52+C49","v":1.1439035511544549},null,null,null,null,null,"min. Verfahrzeit zurück",null,{"$f":"K50","v":0.214},"( min )"]
["Ezul / Zyklus ( Hub )","Nm",{"$f":"'Allgemeine Werte'!G38*C50/'Allgemeine Werte'!K38*C46","v":10.111304347826087},null,"Stoßd.-kolbenrückstellzeit",null,{"$f":"'Allgemeine Werte'!E38","v":0.5},null,"Mittlere Verfahrgeschwindigkeit zurück",null,{"$f":"(C5/1000)/K53","v":4.6728971962616828E-2},{"$f":"MIN(K46,K55,K44)","v":8.0659274672897199E-2}]
["Auslastung / Zyklus",null,{"$f":"C53/C54","v":0.1131311561599263},null,"Max. Zyklen aus Rückstellzeit",null,{"$f":"60/G54","v":120},null,"Endgeschwindigkeit zurück",null,{"$f":"K54*K35","v":8.0659274672897199E-2}]

{"sheet":"EM-Ber-PMP25-1","index":109,"n_rows":55,"n_cols":12,"rows_kept":55,"cut":false,"hidden":false,"merged":[]}
["Portalmodul Typ",null,"PMP 25"]
[]
["Berechnung der Führungsbelastung"]
[]
["Hub","mm",{"$f":"'EM-PMP-1'!K8","v":10},null,null,null,"Statisch auf Grund",null,"Dynamisch auf Grund",null,"Statisch auf Grund"]
["Zylinderkraft vor","N",250,null,null,null,"Zusatzmasse m",null,"Zusatzmasse m",null,"Zusatzkraft"]
[null,null,null,null,null,null,"I",null,"III",null,"V"]
["Schlittengewicht","kg",2.4,null,"Moment Mx=My(kat)","Nm",{"$f":"(C12*9.81)*(C14/1000)","v":0},null,{"$f":"C42*(C15/1000)","v":0},null,{"$f":"(C21*C23/1000)-C25*(C27/1000)","v":0}]
["Zylinderkraft zurück","N",250,null,"Moment My=Mx(Kat)","Nm",{"$f":"C12*9.81*(C13/1000)","v":0},null,"-",null,{"$f":"C17*C19/1000-C25*(C26/1000)","v":0}]
["Verfahrgeschwindigkeit","m/s",{"$f":"'EM-PMP-1'!I49","v":2.02},null,"Moment Mz=Mz(Kat)","Nm","-",null,{"$f":"C42*(C13/1000)","v":0},null,{"$f":"C21*C22/1000-C17*C18/1000","v":0}]
[]
["Zusatzmasse","kg",{"$f":"'EM-PMP-1'!K14","v":0}]
["Schwerpunktabstand x-Richtung","mm",{"$f":"'EM-PMP-1'!M14","v":0}]
["Schwerpunktabstand y-Richtung","mm",{"$f":"'EM-PMP-1'!O14","v":0}]
["Schwerpunktabstand z-Richtung","mm",{"$f":"'EM-PMP-1'!Q14","v":0}]
[]
["Zusatzkraft Fx","N",{"$f":"'EM-PMP-1'!K18","v":0},null,"Mx Summe  I + III","Nm",{"$f":"ABS(G8)+ABS(I8)","v":0}]
["Kraftangriffspunkt von Fx in y-Richtung","mm",{"$f":"'EM-PMP-1'!O18","v":0},null,"Mx Summe  I +V","Nm",{"$f":"G8+K8","v":0}]
["Kraftangrp. von Fx in z-Richtung","mm",{"$f":"'EM-PMP-1'!Q18","v":0},null,"Absolutbetrag",null,{"$f":"ABS(G18)","v":0}]
[null,null,null,null,"Max",null,{"$f":"MAX(G19,G17)","v":0}]
["Zusatzkraft Fy","N",{"$f":"'EM-PMP-1'!K20","v":0},null,"Mx zul","Nm",500]
["Kraftangriffspunkt von Fy in x-Richtung","mm",{"$f":"'EM-PMP-1'!M20","v":0}]
["Kraftangrp. von Fy in z-Richtung","mm",{"$f":"'EM-PMP-1'!Q20","v":0},null,"My Summe  I+V","Nm",{"$f":"G9+K9","v":0}]
[null,null,null,null,"Absolutbetrag",null,{"$f":"ABS(G23)","v":0}]
["Zusatzkraft Fz","N",{"$f":"'EM-PMP-1'!K22","v":0},null,"My ges","Nm",{"$f":"G24","v":0}]
["Kraftangriffspunkt von Fz in x-Richtung","mm",{"$f":"'EM-PMP-1'!M22","v":0},null,"My zul","Nm",250]
["Kraftangriffspunkt von Fz in y-Richtung","mm",{"$f":"'EM-PMP-1'!O22","v":0},null,null,null,null,null,"Massenabhängiger Korrekturfaktor für die Verfahrzeit",null,"f="]
[null,null,null,null,null,null,null,null,"0 bis 10 kg",null,1]
[null,null,null,null,"Mz III","Nm",{"$f":"I10","v":0},null,"10 bis 20 kg",null,{"$f":"0.02*(C12-10)+1","v":0.8}]
[null,null,null,null,"Absolutbetrag",null,{"$f":"ABS(G29)","v":0},null,"20 bis 40 kg",null,1.2]
[null,null,null,null,"Mz V","Nm",{"$f":"K10","v":0},null,null,null,{"$f":"IF(AND(0<=C12,C12<=10),K28,IF(AND(10<C12,C12<=20),K29,K30))","v":1}]
[null,null,null,null,"Absolutbetrag",null,{"$f":"ABS(G31)","v":0}]
[null,null,null,null,"Mz ges","Nm",{"$f":"MAX(G30,G32)","v":0}]
[null,null,null,null,"Mz zul","Nm",500]
[null,null,null,null,null,null,null,null,"Faktor zur Berechnung von vd",null,{"$f":"IF(C5<563,6.48278*POWER(10,-7)*POWER(C5,2)-0.001700148*C5+1.7516995,1)","v":1.7347628477999999}]
[null,null,null,null,null,null,null,null,"Belastungsgleichung stat.",{"$f":"G19/G21+G25/G26+G32/G34+G38/G39+G42/G43","v":0}]
[null,null,null,null,"Fx ges","N",{"$f":"C17","v":0},null,"Belastungsgleichung dyn.",{"$f":"G17/G21+G30/G34+G40/G43","v":0}]
[null,null,null,null,"Absolutwert",null,{"$f":"ABS(G37)","v":0},null,"Belastungsgleichung",{"$f":"MAX(J36:J37)","v":0}]
[null,null,null,null,"Fx zul","N",4200,null,null,"Faktor bis Hub 400",{"$f":"8.33333*POWER(10,-6)*POWER(C5,2)-0.006333333*C5+3.35","v":3.2875000029999999}]
["Stoßdämpferhub s ( Hub bis a=0 )","m",{"$f":"'Allgemeine Werte'!M41","v":1.0586000000000002E-2},null,"Gewichtskraft","N",{"$f":"C12*9.81","v":0},null,null,"Faktor ab Hub 400",{"$f":"-9.76829*POWER(10,-8)*POWER(C5,2)+0.001446939*C5+1.586853659","v":1.6013132807099999}]
["Verzögerung a=vxv/2xs","m/s2",{"$f":"POWER(C48,2)/(2*C40)","v":0.25738463376231296},null,"Fz ges abs","N",{"$f":"ABS(-C25+C12*9.81)","v":0},null,"Verfahrzeitberechnung",null,{"$f":"IF(C5<=400,K39,K40)","v":3.2875000029999999}]
["Kraft zur Verzögerung der Masse","N",{"$f":"C12*C41","v":0},null,"Max aus E40,E41",null,{"$f":"MAX(G40,G41)","v":0},null,"Verfahrzeit berechnet ( t=Wurzel aus (2xsxm/F)",null,{"$f":"(SQRT(2*(C5/1000)*(C12+C8)/C9))*K41*K31","v":4.5552936280630694E-2}]
["Kraft zur Verzög. d. Masse incl Schlitten","N",{"$f":"C47*C41","v":0.61772312102955107},null,"Fz zul","N",4200,null,"Mittlere Verfahrgeschwindigkeit berechnet",null,{"$f":"(C5/1000)/K42","v":0.21952481698204038}]
[null,null,null,null,null,null,null,null,"Endgeschwindigkeit berechnet",null,{"$f":"K43*K35","v":0.38082349667053816}]
["Stoßdämpferberechnung",null,null,null,"Max. Zyklenzahl / Min."]
["Anzahl Stoßdämpfer",null,{"$f":"'EM-PMP-1'!O43","v":1},null,"Zyklen aus Verfahrzeit",null,{"$f":"60/(2*'EM-PMP-1'!O40)","v":127.6595744680851},null,"Endgeschwindigkeit (Eingabe)",null,{"$f":"C10","v":2.02}]
["Gesamtmasse","kg",{"$f":"C12+C8","v":2.4},null,null,null,null,null,"Mittlere Verfahrgeschwindigkeit (Eingabe)   m/s",null,{"$f":"C10/K35","v":1.164424291517272}]
["Aufprallgeschwindigkeit","m/s",{"$f":"L54","v":7.3819695651063819E-2},null,"Ezul / Stunde","Nm",{"$f":"'Allgemeine Werte'!H41*C46*0.95","v":32300},null,"Verfahrzeit (Eingabe)","s",{"$f":"(C5/1000)/K47","v":8.5879348900990086E-3},"Verfahrzeit für Berechnung"]
["W1","Nm",{"$f":"C47*POWER(C48,2)*0.5","v":6.539216959218829E-3},null,"Ezul / Minute","Nm",{"$f":"G48/60","v":538.33333333333337},null,null,null,null,"( max )"]
["Hub Stoßdämpfer","m",{"$f":"'Allgemeine Werte'!L41","v":1.5800000000000002E-2},null,"Zyklen aus Ezul",null,{"$f":"G49/C53","v":136.06167001348899},null,"min. Verfahrzeit vor","gemessen",{"$f":"IF(C5<563,0.23+(C5/100)*0.05,(C5/1000)/1.1)","v":0.23500000000000001},{"$f":"MAX(K48,K53,K42)","v":0.23500000000000001}]
["Zylinderkraft","N",250,null,null,null,null,null,"Mittlere Verfahrgeschwindigkeit vor",null,{"$f":"(C5/1000)/K50","v":4.2553191489361701E-2}]
["W2 ( Antriebsenergie )","Nm",{"$f":"C51*C50","v":3.95},null,"Max. Zyklen",null,{"$f":"MIN(G46,G50,G55)","v":80},null,"Endgeschwindigkeit vor",null,{"$f":"K51*K35","v":7.3819695651063819E-2},"Endgeschwindigkeit f. Ber."]
["W1+W2 ( Energie / Hub )","Nm",{"$f":"C52+C49","v":3.9565392169592188},null,null,null,null,null,"min. Verfahrzeit zurück",null,{"$f":"K50","v":0.23500000000000001},"( min )"]
["Ezul / Zyklus ( Hub )","Nm",{"$f":"'Allgemeine Werte'!G41*C50/'Allgemeine Werte'!K41*C46","v":25.675000000000004},null,"Stoßd.-kolbenrückstellzeit",null,{"$f":"'Allgemeine Werte'!E41","v":0.75},null,"Mittlere Verfahrgeschwindigkeit zurück",null,{"$f":"(C5/1000)/K53","v":4.2553191489361701E-2},{"$f":"MIN(K46,K55,K44)","v":7.3819695651063819E-2}]
["Auslastung / Zyklus",null,{"$f":"C53/C54","v":0.15410084584067063},null,"Max. Zyklen aus Rückstellzeit",null,{"$f":"60/G54","v":80},null,"Endgeschwindigkeit zurück",null,{"$f":"K54*K35","v":7.3819695651063819E-2}]

{"sheet":"EM-Ber-PMP16-2","index":110,"n_rows":55,"n_cols":12,"rows_kept":55,"cut":false,"hidden":false,"merged":[]}
["Portalmodul Typ",null,"PMP 16"]
[]
["Berechnung der Führungsbelastung"]
[]
["Hub","mm",{"$f":"'EM-PMP-2'!K8","v":10},null,null,null,"Statisch auf Grund",null,"Dynamisch auf Grund",null,"Statisch auf Grund"]
["Zylinderkraft vor","N",100,null,null,null,"Zusatzmasse m",null,"Zusatzmasse m",null,"Zusatzkraft"]
[null,null,null,null,null,null,"I",null,"III",null,"V"]
["Schlittengewicht","kg",1.2,null,"Moment Mx=Mz(Kat)","Nm",{"$f":"(C12*9.81)*(C14/1000)","v":0},null,{"$f":"C42*(C15/1000)","v":0},null,{"$f":"(C21*C23/1000)-C25*(C27/1000)","v":0}]
["Zylinderkraft zurück","N",100,null,"Moment My=Mx(Kat)","Nm",{"$f":"C12*9.81*(C13/1000)","v":0},null,"-",null,{"$f":"C17*C19/1000-C25*(C26/1000)","v":0}]
["Verfahrgeschwindigkeit","m/s",{"$f":"'EM-PMP-2'!I49","v":2.02},null,"Moment Mz=My(Kat)","Nm","-",null,{"$f":"C42*(C13/1000)","v":0},null,{"$f":"C21*C22/1000-C17*C18/1000","v":0}]
[]
["Zusatzmasse","kg",{"$f":"'EM-PMP-2'!K14","v":0}]
["Schwerpunktabstand x-Richtung","mm",{"$f":"'EM-PMP-2'!M14","v":0}]
["Schwerpunktabstand y-Richtung","mm",{"$f":"'EM-PMP-2'!O14","v":0}]
["Schwerpunktabstand z-Richtung","mm",{"$f":"'EM-PMP-2'!Q14","v":0}]
[]
["Zusatzkraft Fx","N",{"$f":"'EM-PMP-2'!K18","v":0},null,"Mx Summe  I + III","Nm",{"$f":"ABS(G8)+ABS(I8)","v":0}]
["Kraftangriffspunkt von Fx in y-Richtung","mm",{"$f":"'EM-PMP-2'!O18","v":0},null,"Mx Summe  I +V","Nm",{"$f":"G8+K8","v":0}]
["Kraftangrp. von Fx in z-Richtung","mm",{"$f":"'EM-PMP-2'!Q18","v":0},null,"Absolutbetrag",null,{"$f":"ABS(G18)","v":0}]
[null,null,null,null,"Max",null,{"$f":"MAX(G19,G17)","v":0}]
["Zusatzkraft Fy","N",{"$f":"'EM-PMP-2'!K20","v":0},null,"Mx zul","Nm",300]
["Kraftangriffspunkt von Fy in x-Richtung","mm",{"$f":"'EM-PMP-2'!M20","v":0}]
["Kraftangrp. von Fy in z-Richtung","mm",{"$f":"'EM-PMP-2'!Q20","v":0},null,"My Summe  I+V","Nm",{"$f":"G9+K9","v":0}]
[null,null,null,null,"Absolutbetrag",null,{"$f":"ABS(G23)","v":0}]
["Zusatzkraft Fz","N",{"$f":"'EM-PMP-2'!K22","v":0},null,"My ges","Nm",{"$f":"G24","v":0}]
["Kraftangriffspunkt von Fz in x-Richtung","mm",{"$f":"'EM-PMP-2'!M22","v":0},null,"My zul","Nm",80]
["Kraftangriffspunkt von Fz in y-Richtung","mm",{"$f":"'EM-PMP-2'!O22","v":0},null,null,null,null,null,"Massenabhängiger Korrekturfaktor für die Verfahrzeit",null,"f="]
[null,null,null,null,null,null,null,null,"0 bis 5 kg",null,1]
[null,null,null,null,"Mz III","Nm",{"$f":"I10","v":0},null,"5 bis 10 kg",null,{"$f":"0.008*POWER(C12,2)-0.06*C12+1.1","v":1.1000000000000001}]
[null,null,null,null,"Absolutbetrag",null,{"$f":"ABS(G29)","v":0},null,"10 bis 20 kg",null,{"$f":"0.01*(C12-10)+1.3","v":1.2}]
[null,null,null,null,"Mz V","Nm",{"$f":"K10","v":0},null,null,null,{"$f":"IF(AND(0<=C12,C12<=5),K28,IF(AND(5<C12,C12<=10),K29,K30))","v":1}]
[null,null,null,null,"Absolutbetrag",null,{"$f":"ABS(G31)","v":0}]
[null,null,null,null,"Mz ges","Nm",{"$f":"MAX(G30,G32)","v":0}]
[null,null,null,null,"Mz zul","Nm",300]
[null,null,null,null,null,null,null,null,"Faktor zur Berechnung von vd",null,{"$f":"IF(C5<413,2.07004*POWER(10,-6)*POWER(C5,2)-0.002677384*C5+1.752675314,1)","v":1.726108478}]
[null,null,null,null,null,null,null,null,"Belastungsgleichung stat.",{"$f":"G19/G21+G25/G26+G32/G34+G38/G39+G42/G43","v":0}]
[null,null,null,null,"Fx ges","N",{"$f":"C17","v":0},null,"Belastungsgleichung dyn.",{"$f":"G17/G21+G30/G34+G40/G43","v":0}]
[null,null,null,null,"Absolutwert",null,{"$f":"ABS(G37)","v":0},null,"Belastungsgleichung",{"$f":"MAX(J36:J37)","v":0}]
[null,null,null,null,"Fx zul","N",3000,null,null,"Faktor bis Hub 400",{"$f":"7.83333*POWER(10,-6)*POWER(C5,2)-0.005983333*C5+2.92","v":2.8609500030000001}]
["Stoßdämpferhub s ( Hub bis a=0 )","m",{"$f":"'Allgemeine Werte'!M38","v":7.6380000000000007E-3},null,"Gewichtskraft","N",{"$f":"C12*9.81","v":0},null,null,"Faktor ab Hub 400",{"$f":"-1.81649*POWER(10,-7)*POWER(C5,2)+0.001887642*C5+1.054006969","v":1.0728652241000001}]
["Verzögerung a=vxv/2xs","m/s2",{"$f":"POWER(C48,2)/(2*C40)","v":0.42589150240624996},null,"Fz ges abs","N",{"$f":"ABS(-C25+C12*9.81)","v":0},null,"Verfahrzeitberechnung",null,{"$f":"IF(C5<=400,K39,K40)","v":2.8609500030000001}]
["Kraft zur Verzögerung der Masse","N",{"$f":"C12*C41","v":0},null,"Max aus E40,E41",null,{"$f":"MAX(G40,G41)","v":0},null,"Verfahrzeit berechnet ( t=Wurzel aus (2xsxm/F)",null,{"$f":"(SQRT(2*(C5/1000)*(C12+C8)/C9))*K41*K31","v":4.4321646863804243E-2}]
["Kraft zur Verzög. d. Masse incl Schlitten","N",{"$f":"C47*C41","v":0.51106980288749992},null,"Fz zul","N",3000,null,"Mittlere Verfahrgeschwindigkeit berechnet",null,{"$f":"(C5/1000)/K42","v":0.22562338513117411}]
[null,null,null,null,null,null,null,null,"Endgeschwindigkeit berechnet",null,{"$f":"K43*K35","v":0.3894504379099788}]
["Stoßdämpferberechnung",null,null,null,"Max. Zyklenzahl / Min."]
["Anzahl Stoßdämpfer",null,1,null,"Zyklen aus Verfahrzeit",null,{"$f":"60/(2*'EM-PMP-2'!K40)","v":140.18691588785046},null,"Endgeschwindigkeit (Eingabe)",null,{"$f":"C10","v":2.02}]
["Gesamtmasse","kg",{"$f":"C12+C8","v":1.2},null,null,null,null,null,"Mittlere Verfahrgeschwindigkeit (Eingabe)   m/s",null,{"$f":"C10/K35","v":1.1702624868284786}]
["Aufprallgeschwindigkeit","m/s",{"$f":"L54","v":8.0659274672897199E-2},null,"Ezul / Stunde","Nm",{"$f":"'Allgemeine Werte'!H38*C46*0.95","v":26790},null,"Verfahrzeit (Eingabe)","s",{"$f":"(C5/1000)/K47","v":8.5450914752475248E-3},"Verfahrzeit für Berechnung"]
["W1","Nm",{"$f":"C47*POWER(C48,2)*0.5","v":3.9035511544547249E-3},null,"Ezul / Minute","Nm",{"$f":"G48/60","v":446.5},null,null,null,null,"( max )"]
["Hub Stoßdämpfer","m",{"$f":"'Allgemeine Werte'!L38","v":1.14E-2},null,"Zyklen aus Ezul",null,{"$f":"G49/C53","v":390.3301109165904},null,"min. Verfahrzeit vor","gemessen",{"$f":"IF(C5<413,0.21+(C5/100)*0.04,(C5/1000)/1.1)","v":0.214},{"$f":"MAX(K48,K53,K42)","v":0.214}]
["Zylinderkraft","N",100,null,null,null,null,null,"Mittlere Verfahrgeschwindigkeit vor",null,{"$f":"(C5/1000)/K50","v":4.6728971962616828E-2}]
["W2 ( Antriebsenergie )","Nm",{"$f":"C51*C50","v":1.1400000000000001},null,"Max. Zyklen",null,{"$f":"MIN(G46,G50,G55)","v":120},null,"Endgeschwindigkeit vor",null,{"$f":"K51*K35","v":8.0659274672897199E-2},"Endgeschwindigkeit f. Ber."]
["W1+W2 ( Energie / Hub )","Nm",{"$f":"C52+C49","v":1.1439035511544549},null,null,null,null,null,"min. Verfahrzeit zurück",null,{"$f":"K50","v":0.214},"( min )"]
["Ezul / Zyklus ( Hub )","Nm",{"$f":"'Allgemeine Werte'!G38*C50/'Allgemeine Werte'!K38*C46","v":10.111304347826087},null,"Stoßd.-kolbenrückstellzeit",null,{"$f":"'Allgemeine Werte'!E38","v":0.5},null,"Mittlere Verfahrgeschwindigkeit zurück",null,{"$f":"(C5/1000)/K53","v":4.6728971962616828E-2},{"$f":"MIN(K46,K55,K44)","v":8.0659274672897199E-2}]
["Auslastung / Zyklus",null,{"$f":"C53/C54","v":0.1131311561599263},null,"Max. Zyklen aus Rückstellzeit",null,{"$f":"60/G54","v":120},null,"Endgeschwindigkeit zurück",null,{"$f":"K54*K35","v":8.0659274672897199E-2}]

{"sheet":"EM-Ber-PMP25-2","index":111,"n_rows":55,"n_cols":12,"rows_kept":55,"cut":false,"hidden":false,"merged":[]}
["Portalmodul Typ",null,"PMP 25"]
[]
["Berechnung der Führungsbelastung"]
[]
["Hub","mm",{"$f":"'EM-PMP-2'!K8","v":10},null,null,null,"Statisch auf Grund",null,"Dynamisch auf Grund",null,"Statisch auf Grund"]
["Zylinderkraft vor","N",250,null,null,null,"Zusatzmasse m",null,"Zusatzmasse m",null,"Zusatzkraft"]
[null,null,null,null,null,null,"I",null,"III",null,"V"]
["Schlittengewicht","kg",2.4,null,"Moment Mx=Mz(Kat)","Nm",{"$f":"(C12*9.81)*(C14/1000)","v":0},null,{"$f":"C42*(C15/1000)","v":0},null,{"$f":"(C21*C23/1000)-C25*(C27/1000)","v":0}]
["Zylinderkraft zurück","N",250,null,"Moment My=Mx(Kat)","Nm",{"$f":"C12*9.81*(C13/1000)","v":0},null,"-",null,{"$f":"C17*C19/1000-C25*(C26/1000)","v":0}]
["Verfahrgeschwindigkeit","m/s",{"$f":"'EM-PMP-2'!I49","v":2.02},null,"Moment Mz=My(Kat)","Nm","-",null,{"$f":"C42*(C13/1000)","v":0},null,{"$f":"C21*C22/1000-C17*C18/1000","v":0}]
[]
["Zusatzmasse","kg",{"$f":"'EM-PMP-2'!K14","v":0}]
["Schwerpunktabstand x-Richtung","mm",{"$f":"'EM-PMP-2'!M14","v":0}]
["Schwerpunktabstand y-Richtung","mm",{"$f":"'EM-PMP-2'!O14","v":0}]
["Schwerpunktabstand z-Richtung","mm",{"$f":"'EM-PMP-2'!Q14","v":0}]
[]
["Zusatzkraft Fx","N",{"$f":"'EM-PMP-2'!K18","v":0},null,"Mx Summe  I + III","Nm",{"$f":"ABS(G8)+ABS(I8)","v":0}]
["Kraftangriffspunkt von Fx in y-Richtung","mm",{"$f":"'EM-PMP-2'!O18","v":0},null,"Mx Summe  I +V","Nm",{"$f":"G8+K8","v":0}]
["Kraftangrp. von Fx in z-Richtung","mm",{"$f":"'EM-PMP-2'!Q18","v":0},null,"Absolutbetrag",null,{"$f":"ABS(G18)","v":0}]
[null,null,null,null,"Max",null,{"$f":"MAX(G19,G17)","v":0}]
["Zusatzkraft Fy","N",{"$f":"'EM-PMP-2'!K20","v":0},null,"Mx zul","Nm",500]
["Kraftangriffspunkt von Fy in x-Richtung","mm",{"$f":"'EM-PMP-2'!M20","v":0}]
["Kraftangrp. von Fy in z-Richtung","mm",{"$f":"'EM-PMP-2'!Q20","v":0},null,"My Summe  I+V","Nm",{"$f":"G9+K9","v":0}]
[null,null,null,null,"Absolutbetrag",null,{"$f":"ABS(G23)","v":0}]
["Zusatzkraft Fz","N",{"$f":"'EM-PMP-2'!K22","v":0},null,"My ges","Nm",{"$f":"G24","v":0}]
["Kraftangriffspunkt von Fz in x-Richtung","mm",{"$f":"'EM-PMP-2'!M22","v":0},null,"My zul","Nm",250]
["Kraftangriffspunkt von Fz in y-Richtung","mm",{"$f":"'EM-PMP-2'!O22","v":0},null,null,null,null,null,"Massenabhängiger Korrekturfaktor für die Verfahrzeit",null,"f="]
[null,null,null,null,null,null,null,null,"0 bis 10 kg",null,1]
[null,null,null,null,"Mz III","Nm",{"$f":"I10","v":0},null,"10 bis 20 kg",null,{"$f":"0.02*(C12-10)+1","v":0.8}]
[null,null,null,null,"Absolutbetrag",null,{"$f":"ABS(G29)","v":0},null,"20 bis 40 kg",null,1.2]
[null,null,null,null,"Mz V","Nm",{"$f":"K10","v":0},null,null,null,{"$f":"IF(AND(0<=C12,C12<=10),K28,IF(AND(10<C12,C12<=20),K29,K30))","v":1}]
[null,null,null,null,"Absolutbetrag",null,{"$f":"ABS(G31)","v":0}]
[null,null,null,null,"Mz ges","Nm",{"$f":"MAX(G30,G32)","v":0}]
[null,null,null,null,"Mz zul","Nm",500]
[null,null,null,null,null,null,null,null,"Faktor zur Berechnung von vd",null,{"$f":"IF(C5<563,6.48278*POWER(10,-7)*POWER(C5,2)-0.001700148*C5+1.7516995,1)","v":1.7347628477999999}]
[null,null,null,null,null,null,null,null,"Belastungsgleichung stat.",{"$f":"G19/G21+G25/G26+G32/G34+G38/G39+G42/G43","v":0}]
[null,null,null,null,"Fx ges","N",{"$f":"C17","v":0},null,"Belastungsgleichung dyn.",{"$f":"G17/G21+G30/G34+G40/G43","v":0}]
[null,null,null,null,"Absolutwert",null,{"$f":"ABS(G37)","v":0},null,"Belastungsgleichung",{"$f":"MAX(J36:J37)","v":0}]
[null,null,null,null,"Fx zul","N",4200,null,null,"Faktor bis Hub 400",{"$f":"8.33333*POWER(10,-6)*POWER(C5,2)-0.006333333*C5+3.35","v":3.2875000029999999}]
["Stoßdämpferhub s ( Hub bis a=0 )","m",{"$f":"'Allgemeine Werte'!M41","v":1.0586000000000002E-2},null,"Gewichtskraft","N",{"$f":"C12*9.81","v":0},null,null,"Faktor ab Hub 400",{"$f":"-9.76829*POWER(10,-8)*POWER(C5,2)+0.001446939*C5+1.586853659","v":1.6013132807099999}]
["Verzögerung a=vxv/2xs","m/s2",{"$f":"POWER(C48,2)/(2*C40)","v":0.25738463376231296},null,"Fz ges abs","N",{"$f":"ABS(-C25+C12*9.81)","v":0},null,"Verfahrzeitberechnung",null,{"$f":"IF(C5<=400,K39,K40)","v":3.2875000029999999}]
["Kraft zur Verzögerung der Masse","N",{"$f":"C12*C41","v":0},null,"Max aus E40,E41",null,{"$f":"MAX(G40,G41)","v":0},null,"Verfahrzeit berechnet ( t=Wurzel aus (2xsxm/F)",null,{"$f":"(SQRT(2*(C5/1000)*(C12+C8)/C9))*K41*K31","v":4.5552936280630694E-2}]
["Kraft zur Verzög. d. Masse incl Schlitten","N",{"$f":"C47*C41","v":0.61772312102955107},null,"Fz zul","N",4200,null,"Mittlere Verfahrgeschwindigkeit berechnet",null,{"$f":"(C5/1000)/K42","v":0.21952481698204038}]
[null,null,null,null,null,null,null,null,"Endgeschwindigkeit berechnet",null,{"$f":"K43*K35","v":0.38082349667053816}]
["Stoßdämpferberechnung",null,null,null,"Max. Zyklenzahl / Min."]
["Anzahl Stoßdämpfer",null,{"$f":"'EM-PMP-2'!O43","v":1},null,"Zyklen aus Verfahrzeit",null,{"$f":"60/(2*'EM-PMP-2'!O40)","v":127.6595744680851},null,"Endgeschwindigkeit (Eingabe)",null,{"$f":"C10","v":2.02}]
["Gesamtmasse","kg",{"$f":"C12+C8","v":2.4},null,null,null,null,null,"Mittlere Verfahrgeschwindigkeit (Eingabe)   m/s",null,{"$f":"C10/K35","v":1.164424291517272}]
["Aufprallgeschwindigkeit","m/s",{"$f":"L54","v":7.3819695651063819E-2},null,"Ezul / Stunde","Nm",{"$f":"'Allgemeine Werte'!H41*C46*0.95","v":32300},null,"Verfahrzeit (Eingabe)","s",{"$f":"(C5/1000)/K47","v":8.5879348900990086E-3},"Verfahrzeit für Berechnung"]
["W1","Nm",{"$f":"C47*POWER(C48,2)*0.5","v":6.539216959218829E-3},null,"Ezul / Minute","Nm",{"$f":"G48/60","v":538.33333333333337},null,null,null,null,"( max )"]
["Hub Stoßdämpfer","m",{"$f":"'Allgemeine Werte'!L41","v":1.5800000000000002E-2},null,"Zyklen aus Ezul",null,{"$f":"G49/C53","v":136.06167001348899},null,"min. Verfahrzeit vor","gemessen",{"$f":"IF(C5<563,0.23+(C5/100)*0.05,(C5/1000)/1.1)","v":0.23500000000000001},{"$f":"MAX(K48,K53,K42)","v":0.23500000000000001}]
["Zylinderkraft","N",250,null,null,null,null,null,"Mittlere Verfahrgeschwindigkeit vor",null,{"$f":"(C5/1000)/K50","v":4.2553191489361701E-2}]
["W2 ( Antriebsenergie )","Nm",{"$f":"C51*C50","v":3.95},null,"Max. Zyklen",null,{"$f":"MIN(G46,G50,G55)","v":80},null,"Endgeschwindigkeit vor",null,{"$f":"K51*K35","v":7.3819695651063819E-2},"Endgeschwindigkeit f. Ber."]
["W1+W2 ( Energie / Hub )","Nm",{"$f":"C52+C49","v":3.9565392169592188},null,null,null,null,null,"min. Verfahrzeit zurück",null,{"$f":"K50","v":0.23500000000000001},"( min )"]
["Ezul / Zyklus ( Hub )","Nm",{"$f":"'Allgemeine Werte'!G41*C50/'Allgemeine Werte'!K41*C46","v":25.675000000000004},null,"Stoßd.-kolbenrückstellzeit",null,{"$f":"'Allgemeine Werte'!E41","v":0.75},null,"Mittlere Verfahrgeschwindigkeit zurück",null,{"$f":"(C5/1000)/K53","v":4.2553191489361701E-2},{"$f":"MIN(K46,K55,K44)","v":7.3819695651063819E-2}]
["Auslastung / Zyklus",null,{"$f":"C53/C54","v":0.15410084584067063},null,"Max. Zyklen aus Rückstellzeit",null,{"$f":"60/G54","v":80},null,"Endgeschwindigkeit zurück",null,{"$f":"K54*K35","v":7.3819695651063819E-2}]

{"sheet":"EM-Ber-PMP16-3","index":112,"n_rows":55,"n_cols":12,"rows_kept":55,"cut":false,"hidden":false,"merged":[]}
["Portalmodul Typ",null,"PMP 16"]
[]
["Berechnung der Führungsbelastung"]
[]
["Hub","mm",{"$f":"'EM-PMP-3'!K8","v":10},null,null,null,"Statisch auf Grund",null,"Dynamisch auf Grund",null,"Statisch auf Grund"]
["Zylinderkraft vor","N",100,null,null,null,"Zusatzmasse m",null,"Zusatzmasse m",null,"Zusatzkraft"]
[null,null,null,null,null,null,"I",null,"III",null,"V"]
["Schlittengewicht","kg",1.2,null,"Moment Mx=Mz(Kat)","Nm",{"$f":"(C12*9.81)*(C15/1000)","v":0},null,{"$f":"C42*(C15/1000)","v":0},null,{"$f":"-(C21*C23/1000)+C25*(C27/1000)","v":0}]
["Zylinderkraft zurück","N",100,null,"Moment My=Mx(Kat)","Nm","-",null,"-",null,{"$f":"C17*C19/1000-C25*(C26/1000)","v":0}]
["Verfahrgeschwindigkeit","m/s",{"$f":"'EM-PMP-3'!I49","v":2.02},null,"Moment Mz=My(Kat)","Nm",{"$f":"(C12*9.81)*(C13/1000)","v":0},null,{"$f":"C42*(C13/1000)","v":0},null,{"$f":"-C21*C22/1000+C17*C18/1000","v":0}]
[]
["Zusatzmasse","kg",{"$f":"'EM-PMP-3'!K14","v":0}]
["Schwerpunktabstand x-Richtung","mm",{"$f":"'EM-PMP-3'!M14","v":0}]
["Schwerpunktabstand y-Richtung","mm",{"$f":"'EM-PMP-3'!O14","v":0}]
["Schwerpunktabstand z-Richtung","mm",{"$f":"'EM-PMP-3'!Q14","v":0}]
[]
["Zusatzkraft Fx","N",{"$f":"'EM-PMP-3'!K18","v":0},null,"Mx Summe  I + III","Nm",{"$f":"ABS(G8)+ABS(I8)","v":0}]
["Kraftangriffspunkt von Fx in y-Richtung","mm",{"$f":"'EM-PMP-3'!O18","v":0},null,"Mx Summe  I +V","Nm",{"$f":"G8+K8","v":0}]
["Kraftangrp. von Fx in z-Richtung","mm",{"$f":"'EM-PMP-3'!Q18","v":0},null,"Absolutbetrag",null,{"$f":"ABS(G18)","v":0}]
[null,null,null,null,"Max",null,{"$f":"MAX(G19,G17)","v":0}]
["Zusatzkraft Fy","N",{"$f":"'EM-PMP-3'!K20","v":0},null,"Mx zul","Nm",300]
["Kraftangriffspunkt von Fy in x-Richtung","mm",{"$f":"'EM-PMP-3'!M20","v":0}]
["Kraftangrp. von Fy in z-Richtung","mm",{"$f":"'EM-PMP-3'!Q20","v":0},null,"My V","Nm",{"$f":"K9","v":0}]
[null,null,null,null,"Absolutbetrag",null,{"$f":"ABS(G23)","v":0}]
["Zusatzkraft Fz","N",{"$f":"'EM-PMP-3'!K22","v":0},null,"My ges","Nm",{"$f":"G24","v":0}]
["Kraftangriffspunkt von Fz in x-Richtung","mm",{"$f":"'EM-PMP-3'!M22","v":0},null,"My zul","Nm",80]
["Kraftangriffspunkt von Fz in y-Richtung","mm",{"$f":"'EM-PMP-3'!O22","v":0},null,null,null,null,null,"Massenabhängiger Korrekturfaktor für die Verfahrzeit",null,"f="]
[null,null,null,null,null,null,null,null,"0 bis 5 kg",null,1]
[null,null,null,null,null,null,null,null,"5 bis 10 kg",null,{"$f":"0.008*POWER(C12,2)-0.06*C12+1.1","v":1.1000000000000001}]
[null,null,null,null,"Mz Summe  I + III","Nm",{"$f":"ABS(G10)+ABS(I10)","v":0},null,"10 bis 20 kg",null,{"$f":"0.01*(C12-10)+1.3","v":1.2}]
[null,null,null,null,"Mz Summe  I +V","Nm",{"$f":"G10+K10","v":0},null,null,null,{"$f":"IF(AND(0<=C12,C12<=5),K28,IF(AND(5<C12,C12<=10),K29,K30))","v":1}]
[null,null,null,null,"Absolutbetrag","Nm",{"$f":"ABS(G31)","v":0}]
[null,null,null,null,"Mz ges","Nm",{"$f":"MAX(G32,G30)","v":0}]
[null,null,null,null,"Mz zul","Nm",300]
[null,null,null,null,null,null,null,null,"Faktor zur Berechnung von vd",null,{"$f":"IF(C5<443,2.32294*POWER(10,-6)*POWER(C5,2)-0.00272817*C5+1.752725894,1)","v":1.725676488}]
[null,null,null,null,null,null,null,null,"Belastungsgleichung stat.",{"$f":"G19/G21+G25/G26+G32/G34+G38/G39+G42/G43","v":0}]
[null,null,null,null,"Fx ges","N",{"$f":"C17","v":0},null,"Belastungsgleichung dyn.",{"$f":"G17/G21+G30/G34","v":0}]
[null,null,null,null,"Absolutwert",null,{"$f":"ABS(G37)","v":0},null,"Belastungsgleichung",{"$f":"MAX(J36:J37)","v":0}]
[null,null,null,null,"Fx zul","N",3000,null,null,"Faktor bis Hub 400",{"$f":"(2.36667*POWER(10,-5)*POWER(C5,2)-0.0173*C5+6.183333333)/1.45","v":4.1466896572413798}]
["Stoßdämpferhub s ( Hub bis a=0 )","m",{"$f":"'Allgemeine Werte'!M38","v":7.6380000000000007E-3},null,null,null,null,null,null,"Faktor ab Hub 400",{"$f":"(-2.40999*POWER(10,-7)*POWER(C5,2)+0.002754065*C5+1.986933798)/1.45","v":1.3892761021379312}]
["Verzögerung a=vxv/2xs","m/s2",{"$f":"POWER(C48,2)/(2*C40)","v":0.26156752326720667},null,"Fz ges","N",{"$f":"-C25","v":0},null,"Verfahrzeitberechnung",null,{"$f":"IF(C5<=400,K39,K40)","v":4.1466896572413798}]
["Kraft zur Verzögerung der Masse","N",{"$f":"C12*C41","v":0},null,"Absolutwert",null,{"$f":"ABS(G41)","v":0},null,"Verfahrzeit berechnet ( t=Wurzel aus (2xsxm/F)",null,{"$f":"(SQRT(2*(C5/1000)*(C12+C8)/(C9-(C12+C8)*9.81)))*K41*K31","v":6.8391784732709821E-2}]
["Kraft zur Verzög. d. Masse incl Schlitten","N",{"$f":"C47*C41","v":0.31388102792064798},null,"Fz zul","N",3000,null,"Mittlere Verfahrgeschwindigkeit berechnet",null,{"$f":"(C5/1000)/K42","v":0.14621639191142921}]
[null,null,null,null,null,null,null,null,"Endgeschwindigkeit berechnet",null,{"$f":"K43*K35","v":0.25232218968174674}]
["Stoßdämpferberechnung",null,null,null,"Max. Zyklenzahl / Min."]
["Anzahl Stoßdämpfer",null,1,null,"Zyklen aus Verfahrzeit",null,{"$f":"60/(2*'EM-PMP-3'!K40)","v":109.89010989010988},null,"Endgeschwindigkeit (Eingabe)",null,{"$f":"C10","v":2.02}]
["Gesamtmasse","kg",{"$f":"C12+C8","v":1.2},null,null,null,null,null,"Mittlere Verfahrgeschwindigkeit (Eingabe)   m/s",null,{"$f":"C10/K35","v":1.1705554395894395}]
["Aufprallgeschwindigkeit","m/s",{"$f":"L54","v":6.3211592967032951E-2},null,"Ezul / Stunde","Nm",{"$f":"'Allgemeine Werte'!H38*C46*0.95","v":26790},null,"Verfahrzeit (Eingabe)","s",{"$f":"(C5/1000)/K47","v":8.5429529108910877E-3},"Verfahrzeit für Berechnung"]
["W1","Nm",{"$f":"C47*POWER(C48,2)*0.5","v":2.3974232912579098E-3},null,"Ezul / Minute","Nm",{"$f":"G48/60","v":446.5},null,null,null,null,"( max )"]
["Hub Stoßdämpfer","m",{"$f":"'Allgemeine Werte'!L38","v":1.14E-2},null,"Zyklen aus Ezul",null,{"$f":"G49/C53","v":349.75765425151337},null,"min. Verfahrzeit ab","gemessen",null,{"$f":"MAX(K48,K53,K42)","v":0.27300000000000002}]
["Zylinderkraft","N",100,null,null,null,null,null,"Mittlere Verfahrgeschwindigkeit ab"]
["W2 ( Antriebsenergie )","Nm",{"$f":"(C51+C47*9.81)*C50","v":1.2742008},null,"Max. Zyklen",null,{"$f":"MIN(G46,G50,G55)","v":109.89010989010988},null,"Endgeschwindigkeit ab",null,null,"Endgeschwindigkeit f. Ber."]
["W1+W2 ( Energie / Hub )","Nm",{"$f":"C52+C49","v":1.2765982232912578},null,null,null,null,null,"min. Verfahrzeit auf",null,{"$f":"IF(C5<443,0.27+(C5/100)*0.03,(C5/1000)/1.1)","v":0.27300000000000002},"( min )"]
["Ezul / Zyklus ( Hub )","Nm",{"$f":"'Allgemeine Werte'!G38*C50/'Allgemeine Werte'!K38*C46","v":10.111304347826087},null,"Stoßd.-kolbenrückstellzeit",null,{"$f":"'Allgemeine Werte'!E38","v":0.5},null,"Mittlere Verfahrgeschwindigkeit auf",null,{"$f":"(C5/1000)/K53","v":3.6630036630036625E-2},{"$f":"MIN(K46,K55,K44)","v":6.3211592967032951E-2}]
["Auslastung / Zyklus",null,{"$f":"C53/C54","v":0.12625455424707144},null,"Max. Zyklen aus Rückstellzeit",null,{"$f":"60/G54","v":120},null,"Endgeschwindigkeit auf",null,{"$f":"K54*K35","v":6.3211592967032951E-2}]

{"sheet":"EM-Ber-PMP25-3","index":113,"n_rows":55,"n_cols":12,"rows_kept":55,"cut":false,"hidden":false,"merged":[]}
["Portalmodul Typ",null,"PMP 25"]
[]
["Berechnung der Führungsbelastung"]
[]
["Hub","mm",{"$f":"'EM-PMP-3'!K8","v":10},null,null,null,"Statisch auf Grund",null,"Dynamisch auf Grund",null,"Statisch auf Grund"]
["Zylinderkraft vor","N",250,null,null,null,"Zusatzmasse m",null,"Zusatzmasse m",null,"Zusatzkraft"]
[null,null,null,null,null,null,"I",null,"III",null,"V"]
["Schlittengewicht","kg",2.4,null,"Moment Mx=Mz(Kat)","Nm",{"$f":"(C12*9.81)*(C15/1000)","v":0},null,{"$f":"C42*(C15/1000)","v":0},null,{"$f":"-(C21*C23/1000)+C25*(C27/1000)","v":0}]
["Zylinderkraft zurück","N",250,null,"Moment My=Mx(Kat)","Nm","-",null,"-",null,{"$f":"C17*C19/1000-C25*(C26/1000)","v":0}]
["Verfahrgeschwindigkeit","m/s",{"$f":"'EM-PMP-3'!I49","v":2.02},null,"Moment Mz=My(Kat)","Nm",{"$f":"(C12*9.81)*(C13/1000)","v":0},null,{"$f":"C42*(C13/1000)","v":0},null,{"$f":"-C21*C22/1000+C17*C18/1000","v":0}]
[]
["Zusatzmasse","kg",{"$f":"'EM-PMP-3'!K14","v":0}]
["Schwerpunktabstand x-Richtung","mm",{"$f":"'EM-PMP-3'!M14","v":0}]
["Schwerpunktabstand y-Richtung","mm",{"$f":"'EM-PMP-3'!O14","v":0}]
["Schwerpunktabstand z-Richtung","mm",{"$f":"'EM-PMP-3'!Q14","v":0}]
[]
["Zusatzkraft Fx","N",{"$f":"'EM-PMP-3'!K18","v":0},null,"Mx Summe  I + III","Nm",{"$f":"ABS(G8)+ABS(I8)","v":0}]
["Kraftangriffspunkt von Fx in y-Richtung","mm",{"$f":"'EM-PMP-3'!O18","v":0},null,"Mx Summe  I +V","Nm",{"$f":"G8+K8","v":0}]
["Kraftangrp. von Fx in z-Richtung","mm",{"$f":"'EM-PMP-3'!Q18","v":0},null,"Absolutbetrag",null,{"$f":"ABS(G18)","v":0}]
[null,null,null,null,"Max",null,{"$f":"MAX(G19,G17)","v":0}]
["Zusatzkraft Fy","N",{"$f":"'EM-PMP-3'!K20","v":0},null,"Mx zul","Nm",500]
["Kraftangriffspunkt von Fy in x-Richtung","mm",{"$f":"'EM-PMP-3'!M20","v":0}]
["Kraftangrp. von Fy in z-Richtung","mm",{"$f":"'EM-PMP-3'!Q20","v":0},null,"My V","Nm",{"$f":"K9","v":0}]
[null,null,null,null,"Absolutbetrag",null,{"$f":"ABS(G23)","v":0}]
["Zusatzkraft Fz","N",{"$f":"'EM-PMP-3'!K22","v":0},null,"My ges","Nm",{"$f":"G24","v":0}]
["Kraftangriffspunkt von Fz in x-Richtung","mm",{"$f":"'EM-PMP-3'!M22","v":0},null,"My zul","Nm",250]
["Kraftangriffspunkt von Fz in y-Richtung","mm",{"$f":"'EM-PMP-3'!O22","v":0},null,null,null,null,null,"Massenabhängiger Korrekturfaktor für die Verfahrzeit",null,"f="]
[null,null,null,null,null,null,null,null,"0 bis 10 kg",null,1]
[null,null,null,null,null,null,null,null,"10 bis 20 kg",null,{"$f":"0.02*(C12-10)+1","v":0.8}]
[null,null,null,null,"Mz Summe  I + III","Nm",{"$f":"ABS(G10)+ABS(I10)","v":0},null,"20 bis 40 kg",null,1.2]
[null,null,null,null,"Mx Summe  I +V","Nm",{"$f":"G10+K10","v":0},null,null,null,{"$f":"IF(AND(0<=C12,C12<=10),K28,IF(AND(10<C12,C12<=20),K29,K30))","v":1}]
[null,null,null,null,"Absolutbetrag","Nm",{"$f":"ABS(G31)","v":0}]
[null,null,null,null,"Mz ges","Nm",{"$f":"MAX(G30,G32)","v":0}]
[null,null,null,null,"Mz zul","Nm",500]
[null,null,null,null,null,null,null,null,"Faktor zur Berechnung von vd",null,{"$f":"IF(C5<777,4.89926*POWER(10,-7)*POWER(C5,2)-0.001347657*C5+1.751347168,1)","v":1.7379195906}]
[null,null,null,null,null,null,null,null,"Belastungsgleichung stat.",{"$f":"G19/G21+G25/G26+G32/G34+G38/G39+G42/G43","v":0}]
[null,null,null,null,"Fx ges","N",{"$f":"C17","v":0},null,"Belastungsgleichung dyn.",{"$f":"G17/G21+G30/G34","v":0}]
[null,null,null,null,"Absolutwert",null,{"$f":"ABS(G37)","v":0},null,"Belastungsgleichung",{"$f":"MAX(J36:J37)","v":0}]
[null,null,null,null,"Fx zul","N",4200,null,null,"Faktor bis Hub 400",{"$f":"(1.71667*POWER(10,-5)*POWER(C5,2)-0.012316667*C5+6.62)/1.5","v":4.3323666666666663}]
["Stoßdämpferhub s ( Hub bis a=0 )","m",{"$f":"'Allgemeine Werte'!M41","v":1.0586000000000002E-2},null,null,null,null,null,null,"Faktor ab Hub 400",{"$f":"(-1.07256*POWER(10,-7)*POWER(C5,2)+0.002201165*C5+3.536695122)/1.5","v":2.3724640309333331}]
["Verzögerung a=vxv/2xs","m/s2",{"$f":"POWER(C48,2)/(2*C40)","v":0.23573673169599615},null,"Fz ges","N",{"$f":"-C25","v":0},null,"Verfahrzeitberechnung",null,{"$f":"IF(C5<=400,K39,K40)","v":4.3323666666666663}]
["Kraft zur Verzögerung der Masse","N",{"$f":"C12*C41","v":0},null,"Absolutwert",null,{"$f":"ABS(G41)","v":0},null,"Verfahrzeit berechnet ( t=Wurzel aus (2xsxm/F)",null,{"$f":"(SQRT(2*(C5/1000)*(C12+C8)/(C9-(C12+C8)*9.81)))*K41*K31","v":6.3074513354263159E-2}]
["Kraft zur Verzög. d. Masse incl Schlitten","N",{"$f":"C47*C41","v":0.56576815607039077},null,"Fz zul","N",4200,null,"Mittlere Verfahrgeschwindigkeit berechnet",null,{"$f":"(C5/1000)/K42","v":0.1585426421577632}]
[null,null,null,null,null,null,null,null,"Endgeschwindigkeit berechnet",null,{"$f":"K43*K35","v":0.27553436375146212}]
["Stoßdämpferberechnung",null,null,null,"Max. Zyklenzahl / Min."]
["Anzahl Stoßdämpfer",null,{"$f":"'EM-PMP-3'!O43","v":1},null,"Zyklen aus Verfahrzeit",null,{"$f":"60/(2*'EM-PMP-3'!O40)","v":121.95121951219512},null,"Endgeschwindigkeit (Eingabe)",null,{"$f":"C10","v":2.02}]
["Gesamtmasse","kg",{"$f":"C12+C8","v":2.4},null,null,null,null,null,"Mittlere Verfahrgeschwindigkeit (Eingabe)   m/s",null,{"$f":"C10/K35","v":1.1623092408450351}]
["Aufprallgeschwindigkeit","m/s",{"$f":"L54","v":7.0647137829268292E-2},null,"Ezul / Stunde","Nm",{"$f":"'Allgemeine Werte'!H41*C46*0.95","v":32300},null,"Verfahrzeit (Eingabe)","s",{"$f":"(C5/1000)/K47","v":8.6035623297029701E-3},"Verfahrzeit für Berechnung"]
["W1","Nm",{"$f":"C47*POWER(C48,2)*0.5","v":5.9892217001611568E-3},null,"Ezul / Minute","Nm",{"$f":"G48/60","v":538.33333333333337},null,null,null,null,"( max )"]
["Hub Stoßdämpfer","m",{"$f":"'Allgemeine Werte'!L41","v":1.5800000000000002E-2},null,"Zyklen aus Ezul",null,{"$f":"G49/C53","v":124.38430476648067},null,"min. Verfahrzeit ab","gemessen",null,{"$f":"MAX(K48,K53,K42)","v":0.246}]
["Zylinderkraft","N",250,null,null,null,null,null,"Mittlere Verfahrgeschwindigkeit ab"]
["W2 ( Antriebsenergie )","Nm",{"$f":"(C51+C47*9.81)*C50","v":4.3219951999999999},null,"Max. Zyklen",null,{"$f":"MIN(G46,G50,G55)","v":80},null,"Endgeschwindigkeit ab",null,null,"Endgeschwindigkeit f. Ber."]
["W1+W2 ( Energie / Hub )","Nm",{"$f":"C52+C49","v":4.3279844217001608},null,null,null,null,null,"min. Verfahrzeit zurück",null,{"$f":"IF(C5<777,0.24+(C5/100)*0.06,(C5/1000)/1.1)","v":0.246},"( min )"]
["Ezul / Zyklus ( Hub )","Nm",{"$f":"'Allgemeine Werte'!G41*C50/'Allgemeine Werte'!K41*C46","v":25.675000000000004},null,"Stoßd.-kolbenrückstellzeit",null,{"$f":"'Allgemeine Werte'!E41","v":0.75},null,"Mittlere Verfahrgeschwindigkeit zurück",null,{"$f":"(C5/1000)/K53","v":4.065040650406504E-2},{"$f":"MIN(K46,K55,K44)","v":7.0647137829268292E-2}]
["Auslastung / Zyklus",null,{"$f":"C53/C54","v":0.16856803979357976},null,"Max. Zyklen aus Rückstellzeit",null,{"$f":"60/G54","v":80},null,"Endgeschwindigkeit zurück",null,{"$f":"K54*K35","v":7.0647137829268292E-2}]

{"sheet":"Translation","index":114,"n_rows":132,"n_cols":6,"rows_kept":132,"cut":false,"hidden":false,"merged":[]}
[]
[{"$f":"STARTSEITE!A50","v":1},"Deutsch","Englisch","Französisch","Italienisch","Spanisch"]
[]
["Startseite"]
[]
[{"$f":"IF($A$2=1,B6,IF($A$2=2,C6,IF($A$2=3,D6,IF($A$2=4,E6,IF($A$2=5,F6)))))","v":"Modul-Berechnungsprogramm"},"Modul-Berechnungsprogramm","Actuator Calculation Program","Programme de calcul de module","Programma di calcolo dei moduli","Programa de cálculo para el módulo"]
["Mit diesem Software-Tool werden für Linearmodule die zulässigen Belastungen und Taktzeiten berechnet","Mit diesem Software-Tool werden für Linearmodule die zulässigen Belastungen und Taktzeiten berechnet","This software tool is used to calculate permissible loads and cycle times for linear actuators","Cet outil logiciel permet de calculer les charges admises et les temps de cycles pour les modules linéaires","Con questo software tool si calcolano i moduli lineari dei carichi ammissibili e i tempi ciclo","Esta herramienta de software sirve para calcular las cargas admisibles y los tiempos de ciclo para los módulos lineales"]
["Software: MS Excel 2007","Software: MS Excel 2007","Software: MS Excel 2007","Software: MS Excel 2007","Software: MS Excel 2007","Software: MS Excel 2007"]
["Start","Start","Start","Démarrage","Avvio","Inicio"]
["Info","Info","Info","Info","Informazioni","Información"]
["ActiveX Steuerelemente müssen aktiviert sein !","ActiveX Steuerelemente müssen aktiviert sein !","ActiveX control must be activated !","Le contrôle ActiveX doit être activé !","Il controllo ActiveX deve essere attivato !","El control ActiveX tiene que esta activado !"]
["MAKROS müssen aktiviert sein !","MAKROS müssen aktiviert sein !","MACROS must be activated !","Les macros doivent être activées !","Le MACRO devono essere attivate !","Las MACROS deben estar activadas."]
[{"$f":"IF($A$2=1,B13,IF($A$2=2,C13,IF($A$2=3,D13,IF($A$2=4,E13,IF($A$2=5,F13)))))","v":"Version 04/15"},"Version 04/15","Version 04/15","Version 04/15","Versione 04/15","Versión 04/15"]
[{"$f":"IF($A$2=1,B14,IF($A$2=2,C14,IF($A$2=3,D14,IF($A$2=4,E14,IF($A$2=5,F14)))))","v":"Toolbox-Translation - MODULARE MONTAGEAUTOMATION"},"Toolbox-Translation - MODULARE MONTAGEAUTOMATION","Toolbox-Translation - MODULARE MONTAGEAUTOMATION","Toolbox-Translation - MODULARE MONTAGEAUTOMATION","Toolbox-Translation - MODULARE MONTAGEAUTOMATION","Toolbox-Translation - MODULARE MONTAGEAUTOMATION"]
[{"$f":"IF($A$2=1,B15,IF($A$2=2,C15,IF($A$2=3,D15,IF($A$2=4,E15,IF($A$2=5,F15)))))","v":"Zoom (%)"},"Zoom (%)","Zoom (%)","Zoom (%)","Zoom (%)","Zoom (%)"]
[{"$f":"IF($A$2=1,B16,IF($A$2=2,C16,IF($A$2=3,D16,IF($A$2=4,E16,IF($A$2=5,F16)))))","v":"Bitte überprüfen Sie regelmäßig die Aktualität dieses Berechnungsprogramms im \"Download-Bereich\" unserer Homepage !"},"Bitte überprüfen Sie regelmäßig die Aktualität dieses Berechnungsprogramms im \"Download-Bereich\" unserer Homepage !","Please check regularly for the latest update to this calculation program in the “Download” area of our website!","Veuillez régulièrement vérifier l'actualité de ce programme de calcul dans \"Zone de téléchargement\" de notre page d'accueil !","Si raccomanda di verificare regolarmente lo stato di aggiornamento di questo programma di calcolo nell\"Area download\" della nostra homepage!","Compruebe periódicamente las actualizaciones disponibles para este programa de cálculo en la \"Zona de descargas\" de nuestra página web."]
[{"$f":"IF($A$2=1,B17,IF($A$2=2,C17,IF($A$2=3,D17,IF($A$2=4,E17,IF($A$2=5,F17)))))","v":"Achtung:"},"Achtung:","Note:","Attention:","Attenzione:","Atención:"]
[]
[]
[]
[]
[]
["Linearmodul-Übersicht"]
[]
[{"$f":"IF($A$2=1,B25,IF($A$2=2,C25,IF($A$2=3,D25,IF($A$2=4,E25,IF($A$2=5,F25)))))","v":"Berechnung von Linear- und Portalmodulen"},"Berechnung von Linear- und Portalmodulen","Calculation of linear and portal actuators","Calcul des modules linéaires et portiques","Calcolo di moduli lineari e moduli portali","Cálculo de módulos lineales y módulos pórtico"]
[{"$f":"IF($A$2=1,B26,IF($A$2=2,C26,IF($A$2=3,D26,IF($A$2=4,E26,IF($A$2=5,F26)))))","v":"Startseite"},"Startseite","Start page","Page d`accueil","Pagina iniziale","Página de inicio"]
[{"$f":"IF($A$2=1,B27,IF($A$2=2,C27,IF($A$2=3,D27,IF($A$2=4,E27,IF($A$2=5,F27)))))","v":"Auswahltabelle"},"Auswahltabelle","Selection table","Tableau de sélection","Tabella di selezione","Tabla de selección"]
["Belastungsart 1","Belastungsart 1","Loading Type 1","Type de charge 1","Tipo di carico 1","Tipo de carga 1"]
["Belastungsart 2","Belastungsart 2","Loading Type 2","Type de charge 2","Tipo di carico 2","Tipo de carga 2"]
["Belastungsart 3","Belastungsart 3","Loading Type 3","Type de charge 3","Tipo di carico 3","Tipo de carga 3"]
["Belastungsart 4","Belastungsart 4","Loading Type 4","Type de charge 4","Tipo di carico 4","Tipo de carga 4"]
["Belastungsart 5","Belastungsart 5","Loading Type 5","Type de charge 5","Tipo di carico 5","Tipo de carga 5"]
["Belastungsart 6","Belastungsart 6","Loading Type 6","Type de charge 6","Tipo di carico 6","Tipo de carga 6"]
["LM/KLM/CLM-Module","LM/KLM/CLM-Module","LM/KLM/CLM actuators","Module LM/KLM/CLM","Moduli LM/KLM/CLM","Módulos LM/KLM/CLM"]
["PMP-Module","PMP-Module","PMP actuators","Module - PMP","Moduli PMP","Módulos PMP"]
["LM / KLM / CLM-Maximalhub = 450","LM / KLM / CLM-Maximalhub = 450","LM / KLM / CLM max. stroke = 450","Course maximale LM / KLM / CLM = 450","Corsa massima LM / KLM / CLM= 450","Carrera máxima LM / KLM / CLM = 450"]
["PMP-Maximalhub = 3700","PMP-Maximalhub = 3700","PMP max. stroke = 3700","Course maximale PMP = 3700","Corsa massima PMP = 3700","Carrera máxima PMP = 3700"]
[]
[]
[]
[]
[]
[]
[]
[]
[]
[]
["EM-LM-1 / EM-LM-2 / EM-LM-3 / EM-LM-4 / EM-LM-5 / EM-LM-6",null,"EM-LM-1-1 / EM-LM-2-1 / EM-LM-3-1 / EM-LM-4-1 / EM-LM-5-1 / EM-LM-6-1"]
[]
[{"$f":"IF($A$2=1,B50,IF($A$2=2,C50,IF($A$2=3,D50,IF($A$2=4,E50,IF($A$2=5,F50)))))","v":"Berechnung Linearmodule"},"Berechnung Linearmodule","Calculation of linear actuators","Calcul des molules linéaires","Calcolo moduli lineari","Cálculo de módulos lineales"]
["Info","Info","Info","Page d`info","Informazioni","Información"]
["Startseite","Startseite","Start page","Page d`accueil","Pagina iniziale","Página de inicio"]
["Übersicht","Übersicht","Overview","Sommaire","Panoramica","Vista global"]
["LM / KLM / CLM - Linearmodule","LM / KLM / CLM - Linearmodule","LM / KLM / CLM linear actuators","Module linéaires LM / KLM / CLM","Moduli lineari LM/KLM/CLM","Módulos lineales LM / KLM / CLM"]
["Zusatzmasse m","Zusatzmasse m","Additional mass m","Masse supplémentaire m","Massa supplementare m","Masa adicional m"]
["Zyklus","Zyklus","Cycle","Cycle","Ciclo","Ciclo"]
["Achtung: Kräfte und Koordinaten mit Vorzeichen !","Achtung: Kräfte und Koordinaten mit Vorzeichen !","Note: Enter forces and co-ordinates with correct sign !","Attention : Forces et coordonnées avec signes +/- !","Attenzione: forze e coordinate con segno !","Atención: fuerzas y coordenadas con signos matemáticos."]
["Geben Sie Ihre Werte mit -Enter- ein !","Geben Sie Ihre Werte mit -Enter- ein !","Enter your values using -Enter- !","Confirmez vos valeurs par -Entrée- !","Immettere i propri valori con -Enter- !","Confirme los valores introducidos pulsando la tecla Intro."]
["H = Hub ( max. 450 )","H = Hub ( max. 450 )","H = Stroke ( max. 450 )","H = Course ( max. 450 )","H = corsa ( max. 450 )","H = carrera (máx. 450)"]
["Masse (m)","Masse (m)","Mass (m)","Masse (m)","Massa (m)","Masa (m)"]
["Kraft (F)","Kraft (F)","Force (F)","Force (F)","Forza (F)","Fuerza (F)"]
["Koordinaten Massenschwerpunkt / Kraftangriff","Koordinaten Massenschwerpunkt / Kraftangriff","Co-ordinates for centre of gravity / loading point","Coord. cent. d. gravité d. l. masse/appl. d. l. force","Coordinate baric. massa/punto applic. forza","Coord. centro gravedad de masa/aplicac. fuerza"]
["Extern wirkende Kraft (F) in Hubendlage  -Y ","Extern wirkende Kraft (F) in Hubendlage  -Y ","Externally acting force at the stroke end position  -Y","Force externe influente en position fin de course  -Y","Forza (F) applicata dall'esterno in posizione di finecorsa  -Y ","Fuerza externa (F) que actúa en la posición final de carrera  -Y "]
["Extern wirkende Kraft (F) in Hubendlage  +Y ","Extern wirkende Kraft (F) in Hubendlage  +Y ","Externally acting force at the stroke end position  +Y","Force externe influente en position fin de course  +Y","Forza (F) applicata dall'esterno in posizione di finecorsa  +Y ","Fuerza externa (F) que actúa en la posición final de carrera  +Y "]
["Hier ändern Sie die Verfahrzeit","Hier ändern Sie die Verfahrzeit","Change the travel time here","Ici vous modifiez le temps d`avance","Qui si modifica il tempo di traslazione","Aquí puede modificar el tiempo de desplazamiento"]
["LM - Linearmodule","LM - Linearmodule","LM linear actuators","Module linéaires LM","Moduli lineari LM","Módulos lineales LM"]
["Katalogseite","Katalogseite","Catalogue page","Page de catalogue","Pagina del catalogo","Página del catálogo"]
["Zyl.-kraft bei 6 bar ( N )","Zyl.-kraft bei 6 bar ( N )","Cyl. force at 6 bar ( N )","Force de cycle à 6 bar (N)","Forza cil. a 6 bar ( N )","Fuerza de cil. a 6 bar ( N )"]
["Hubbereich ( mm )","Hubbereich ( mm )","Stroke range ( mm )","Zone de course (mm)","Campo della corsa ( mm )","Margen de carrera ( mm )"]
["Führungssystem","Führungssystem","Guidance system","Système de guidage","Sistema di guide","Sistema de guía"]
["Auslastung Führung","Auslastung Führung","Utilisation of guidance","Degré d'utilisation du guidage","Distrib. carico guida","Grado de utiliz. de la guía"]
["Auslastung Dämpfer/Hub","Auslastung Dämpfer/Hub","Utilis. of damper/stroke","Degré d'utilis. amort./course","Distrib. cari. ammort./corsa","Gr. utiliz. amortig./carrera"]
["Verfahrzeit / Hub ( s )","Verfahrzeit / Hub ( s )","Travel time / stroke ( s )","Temps d'avance/course (s)","Tempo traslaz./corsa ( s )","Tiempo desplaz./carr. (s)"]
["Max. Zyklenzahl / Min.","Max. Zyklenzahl / Min.","Max. cycles per min","Nombre de cycles max./min.","Max. numero cicli/min.","Núm. de ciclos máx./mín."]
["Anzahl der Stoßdämpfer pro Endlage","Anzahl der Stoßdämpfer pro Endlage","Number of shock absorbers per end position","Nombre d'amortisseurs par fin de course","Numero di ammortizzatori per posizione finale","Número de amortiguadores por posición final"]
["Kreuzrollenführung für Anwendungen mit höheren Anforderungen","Kreuzrollenführung für Anwendungen mit höheren Anforderungen","Crossed roller guidance for demanding applications","Système de guidage à roulements à billes pour l'utilisation lors d'exigences plus élevées","Guida a rulli incrociati per applicazioni con elevati requisiti","Guía de rodillos transversales para aplicaciones exigentes"]
["Kugelumlaufführung für Standardanwendungen","Kugelumlaufführung für Standardanwendungen","Recirculating ball guidance for standard applications","Guidage de recirculation de billes pour utilisations standard","Guida con circolazione di sfere per applicazioni standard","Guía de bolas circulantes para aplicaciones estándar"]
["UNZULÄSSIG","UNZULÄSSIG","IMPERMISSIBLE","NON ADMIS","NON AMMESSO","INADMISIBLE"]
[]
["LM / KLM / CLM - Linearmodule","LM / KLM / CLM - Linearmodule","LM / KLM / CLM linear actuators","Module linéaires LM / KLM / CLM","Moduli lineari LM/KLM/CLM","Módulos lineales LM / KLM / CLM"]
["LM / KLM / CLM - Linearmodule","LM / KLM / CLM - Linearmodule","LM / KLM / CLM linear actuators","Module linéaires LM / KLM / CLM","Moduli lineari LM/KLM/CLM","Módulos lineales LM / KLM / CLM"]
["KLM - Linearmodule","KLM - Linearmodule","KLM linear actuators","Module linéaires KLM","Moduli lineari KLM","Módulos lineales KLM"]
["CLM - Linearmodule","CLM - Linearmodule","CLM linear actuators","Module linéaires CLM","Moduli lineari CLM","Módulos lineales CLM"]
["ACHTUNG:","ACHTUNG:","NOTE:","ATTENTION:","ATTENZIONE:","ATENCIÓN:"]
["Die auf der Berechnungsseite angegebenen Verfahrzeiten sind reine Verfahrzeiten von einer Endlage in die andere Endlage.\nVentilschaltzeiten, Schlauchbefüllungszeiten oder SPS-Reaktionszeiten sind nicht enthalten und bei der Ermittlung von Zykluszeiten zu berücksichtigen.\nBitte beachten Sie, dass zum Erreichen der minimal möglichen Verfahrzeit die kundenseitige Stützkonstruktion der resultierenden Dynamik angepasst werden muss !","Die auf der Berechnungsseite angegebenen Verfahrzeiten sind reine Verfahrzeiten von einer Endlage in die andere Endlage.\nVentilschaltzeiten, Schlauchbefüllungszeiten oder SPS-Reaktionszeiten sind nicht enthalten und bei der Ermittlung von Zykluszeiten zu berücksichtigen.\nBitte beachten Sie, dass zum Erreichen der minimal möglichen Verfahrzeit die kundenseitige Stützkonstruktion der resultierenden Dynamik angepasst werden muss !","The travel times shown on the calculation page, are the absolute travel times from one end position to the other.\nValve switching times, hose filling times or PLC reaction times are not included and have to be considered for the determination of cycle times.\nPlease note, that for achieving the minimum possible traverse time, the supporting structure supplied by the customer, has to be adjusted to the resulting dynamics !","Les temps de déplacement saisis sur cette page de dimensionnement sont les temps de déplacement d'une position fin de course à une autre position fin de course.\nLes temps de commutation des clapets, les temps de remplissage des flexibles et temps de réaction du SPS ne sont pas inclus et sont à prendre en compte dans la détermination des temps de cycle.\nVeuillez noter que pour atteindre les temps de déplacement minimum possible, la structure supportant les axes doit être dimmensionée en accord avec les sollicitations dynamiques correspondantes !","I tempi di traslazione indicati nella pagina di calcolo rappresentano semplicemente i tempi di traslazione da una posizione finale ad un'altra.\nI tempi di commutazione valvole, i tempi di riempimento del tubo flessibile o i tempi di reazione PLC non sono indicati e vanno perciò considerati per il calcolo dei tempi ciclo.\nPrego notare, per raggiungere i tempi minimi di translazione, la struttura di sostegno fornita dal cliente deve essere adeguata alle dinamiche che si vengono a creare !","Los tiempos de desplazamiento señalados en la página de cálculo se refieren a meros tiempos de desplazamiento desde una posición final a otra posición final.\nLos tiempos de conmutación de las válvulas, los tiempos de llenado de las mangueras o los tiempos de reacción SPS no están incluidos y deben tomarse en consideración para el cálculo de los tiempos de ciclo.\nTenga en cuenta, que para conseguir el minimo tiempo de proceso posible, la estructura de soporte que suministre el cliente, debe ajustarse a la dinámica resultante !"]
["Zur Berechnung von LM- / KLM- und CLM- Linearmodulen","Zur Berechnung von LM- / KLM- und CLM- Linearmodulen","To calculation page of LM- / KLM- and CLM linear actuators","Page de dimensionnement des modules linéaires LM, KLM et CLM","Per il calcolo di moduli lineari LM/KLM e di moduli lineari CLM","Ir a la página de cálculo de los módulos lineales LM / KLM y CLM"]
["Auf der Berechnungsseite der Linearmodule können Sie die Verfahrzeit ändern !","Auf der Berechnungsseite der Linearmodule können Sie die Verfahrzeit ändern !","On the calculation page for linear actuators you can change the travel times!","Sur la page de dimensionnement des modules linéaires, vous pouvez modifier le temps de déplacement","Nella pagina di calcolo è possibile modificare il tempo di traslazione dei moduli lineari !","En la página de cálculo de los módulos lineales se puede modificar el tiempo de desplazamiento."]
["Zurück zu den Anwendungs- daten","Zurück zu den Anwendungs- daten","Back to the application data","Retour aux données de l'application","Ritorna ai dati di applicazione","Volver a los datos de la aplicación"]
["Einbau - Hubendlage +Y \"oben\" ","Einbau - Hubendlage +Y \"oben\" ","Installation - Stroke end position +Y \"top\"","Intégration - position fin de course +Y \"haut\"","Montaggio - posizione di finecorsa +Y \"in alto\" ","Integración - posición final de carrera +Y \"arriba\" "]
["Einbau - Hubendlage +Y \"unten\" ","Einbau - Hubendlage +Y \"unten\" ","Installation - Stroke end position +Y \"bottom\"","Intégration - position fin de course +Y \"bas\"","Montaggio - posizione di finecorsa +Y \"in basso\" ","Integración - posición final de carrera +Y \"abajo\" "]
["Extern wirkende Kraft (F) in Hubendlage  +Y ","Extern wirkende Kraft (F) in Hubendlage  +Y ","Externally acting force at the stroke end position  +Y","Force externe influente en position fin de course  +Y","Forza (F) applicata dall'esterno in posizione di finecorsa  +Y ","Fuerza externa (F) que actúa en la posición final de carrera  +Y "]
["Extern wirkende Kraft (F) in Hubendlage  -Y","Extern wirkende Kraft (F) in Hubendlage  -Y","Externally acting force at the stroke end position  -Y","Force externe influente en position fin de course  -Y","Forza (F) applicata dall'esterno in posizione di finecorsa  -Y","Fuerza externa (F) que actúa en la posición final de carrera  -Y"]
["Verzögerungskraft ( N )","Verzögerungskraft ( N )","Retarding force (N)","Force de retenue (N)","Forza frenante (N)","Fuerza de frenado (N)"]
[]
[]
[]
[]
[]
[]
[]
[]
["EM-PMP-1 / EM-PMP-2 / EM-PMP-3"]
[]
[{"$f":"IF($A$2=1,B104,IF($A$2=2,C104,IF($A$2=3,D104,IF($A$2=4,E104,IF($A$2=5,F104)))))","v":"Berechnung Portalmodule"},"Berechnung Portalmodule","Calculation of portal actuators","Calcul des modules portiques","Calcolo dei moduli portali","Cálculo de módulos pórtico"]
["Startseite","Startseite","Start page","Page d`accueil","Pagina iniziale","Página de inicio"]
["Übersicht","Übersicht","Overview","Sommaire","Panoramica","Vista global"]
["PMP - Portalmodule","PMP - Portalmodule","PMP portal actuators","Modules portiques PMP","Moduli portali PMP","Módulos pórtico PMP"]
["Zusatzmasse m","Zusatzmasse m","Additional mass m","Masse supplémentaire m","Massa supplementare m","Masa adicional m"]
["Zyklus","Zyklus","Cycle","Cycle","Ciclo","Ciclo"]
["Achtung: Kräfte und Koordinaten mit Vorzeichen !","Achtung: Kräfte und Koordinaten mit Vorzeichen !","Note: Enter forces and co-ordinates with correct sign !","Attention : Forces et coordonnées avec signes +/- !","Attenzione: forze e coordinate con segno !","Atención: fuerzas y coordenadas con signos matemáticos."]
["Geben Sie Ihre Werte mit -Enter- ein !","Geben Sie Ihre Werte mit -Enter- ein !","Enter your values using -Enter- !","Confirmez vos valeurs par -Entrée- !","Immettere i propri valori con -Enter- !","Confirme los valores introducidos pulsando la tecla Intro."]
["H = Hub ( max. 3700 )","H = Hub ( max. 3700 )","H = Stroke ( max. 3700 )","H = Course ( max. 3700 )","H = corsa ( max. 3700 )","H = carrera (máx. 3700)"]
["Masse (m)","Masse (m)","Mass (m)","Masse (m)","Massa (m)","Masa (m)"]
["Kraft (F)","Kraft (F)","Force (F)","Force (F)","Forza (F)","Fuerza (F)"]
["Koordinaten Massenschwerpunkt / Kraftangriff","Koordinaten Massenschwerpunkt / Kraftangriff","Co-ordinates for centre of gravity / loading point","Coord. cent. d. gravité d. l. masse/appl. d. l. force","Coordinate baric. massa/punto applic. forza","Coord. centro gravedad de masa/aplicac. fuerza"]
["Kraftangriff in Ruheposition !","Kraftangriff in Ruheposition !","Loading point in static position !","Application de la force en position de repos !","Punto di applicazione della forza in posizione di riposo !","Aplicación de fuerza en posición de reposo."]
["Hier ändern Sie die Verfahrzeit","Hier ändern Sie die Verfahrzeit","Change the travel time here","Ici vous modifiez le temps d`avance","Qui si modifica il tempo di traslazione","Aquí puede modificar el tiempo de desplazamiento"]
["Module","Module","Actuators","Module","Moduli","Módulos"]
["Katalogseite","Katalogseite","Catalogue page","Page de catalogue","Pagina del catalogo","Página del catálogo"]
["Zyl.-kraft bei 6 bar ( N )","Zyl.-kraft bei 6 bar ( N )","Cyl. force at 6 bar ( N )","Force de cycle à 6 bar (N)","Forza cil. a 6 bar ( N )","Fuerza de cil. a 6 bar ( N )"]
["Hubbereich ( mm )","Hubbereich ( mm )","Stroke range ( mm )","Zone de course (mm)","Campo della corsa ( mm )","Margen de carrera ( mm )"]
["Führungssystem","Führungssystem","Guidance system","Système de guidage","Sistema di guide","Sistema de guía"]
["Auslastung Führung","Auslastung Führung","Utilisation of guidance","Degré d'utilisation du guidage","Distribuzione del carico su guida","Grado de utilización de la guía"]
["Auslastung Dämpfer/Hub","Auslastung Dämpfer/Hub","Utilisation of damper/stroke","Degré d'utilisation amortiss./course","Distrib. carico ammort./corsa","Gr. utiliz. amortig./carrera"]
["Verfahrzeit / Hub ( s )","Verfahrzeit / Hub ( s )","Travel time / stroke ( s )","Temps d'avance / course (s)","Tempo di traslazione / corsa ( s )","Tiempo desplaz./carr. (s)"]
["Max. Zyklenzahl / Min.","Max. Zyklenzahl / Min.","Max. cycles per min","Nombre de cycles max. / min.","Max. numero cicli / min.","Número de ciclos máx. / mín."]
["Anzahl der Stoßdämpfer pro Endlage","Anzahl der Stoßdämpfer pro Endlage","Number of shock absorbers per end position","Nombre d'amortisseurs par fin de course","Numero di ammortizzatori per posizione finale","Número de amortiguadores por posición final"]
["Profilschienenführung","Profilschienenführung","Monorail guidance","Système de guidage à rails profilés","Guida a rotaia profilata","Guía sobre carriles perfilados"]
["UNZULÄSSIG","UNZULÄSSIG","IMPERMISSIBLE","NON ADMIS","NON AMMESSO","INADMISIBLE"]
["ACHTUNG:","ACHTUNG:","NOTE:","ATTENTION:","ATTENZIONE:","ATENCIÓN:"]
["Die angegebenen Verfahrzeiten sind reine Verfahrzeiten von einer Endlage in die andere Endlage.\nVentilschaltzeiten, Schlauchbefüllungszeiten oder SPS-Reaktionszeiten sind nicht enthalten und bei der Ermittlung von Zykluszeiten zu berücksichtigen.\nBitte beachten Sie, dass zum Erreichen der minimal möglichen Verfahrzeit die kundenseitige Stützkonstruktion der resultierenden Dynamik angepasst werden muss !","Die angegebenen Verfahrzeiten sind reine Verfahrzeiten von einer Endlage in die andere Endlage.\nVentilschaltzeiten, Schlauchbefüllungszeiten oder SPS-Reaktionszeiten sind nicht enthalten und bei der Ermittlung von Zykluszeiten zu berücksichtigen.\nBitte beachten Sie, dass zum Erreichen der minimal möglichen Verfahrzeit die kundenseitige Stützkonstruktion der resultierenden Dynamik angepasst werden muss !","The travel times shown, are the absolute travel times from one end position to the other.\nValve switching times, hose filling times or PLC reaction times are not included and have to be considered for the determination of cycle times.\nPlease note, that for achieving the minimum possible traverse time, the supporting structure supplied by the customer, has to be adjusted to the resulting dynamics !","Les temps de déplacement saisis sont les temps de déplacement d'une position fin de course à une autre position fin de course.\nLes temps de commutation des clapets, les temps de remplissage des flexibles et temps de réaction du SPS ne sont pas inclus et sont à prendre en compte dans la détermination des temps de cycle.\nVeuillez noter que pour atteindre les temps de déplacement minimum possible, la structure supportant les axes doit être dimmensionée en accord avec les sollicitations dynamiques correspondantes !","I tempi di traslazione indicati rappresentano semplicemente i tempi di traslazione da una posizione finale ad un'altra.\nI tempi di commutazione valvole, i tempi di riempimento del tubo flessibile o i tempi di reazione PLC non sono indicati e vanno perciò considerati per il calcolo dei tempi ciclo.\nPrego notare, per raggiungere i tempi minimi di translazione, la struttura di sostegno fornita dal cliente deve essere adeguata alle dinamiche che si vengono a creare !","Los tiempos de desplazamiento señalados se refieren a meros tiempos de desplazamiento desde una posición final a otra posición final.\nLos tiempos de conmutación de las válvulas, los tiempos de llenado de las mangueras o los tiempos de reacción SPS no están incluidos y deben tomarse en consideración para el cálculo de los tiempos de ciclo.\nTenga en cuenta, que para conseguir el minimo tiempo de proceso posible, la estructura de soporte que suministre el cliente, debe ajustarse a la dinámica resultante !"]
["Verzögerungskraft ( N )","Verzögerungskraft ( N )","Retarding force (N)","Force de retenue (N)","Forza frenante (N)","Fuerza de frenado (N)"]

{"sheet":"Info-Translation","index":115,"n_rows":99,"n_cols":6,"rows_kept":99,"cut":false,"hidden":false,"merged":[]}
[]
[{"$f":"STARTSEITE!A50","v":1},"Deutsch","Englisch","Französisch","Italienisch","Spanisch"]
[]
[{"$f":"IF($A$2=1,B4,IF($A$2=2,C4,IF($A$2=3,D4,IF($A$2=4,E4,IF($A$2=5,F4)))))","v":"Startseite"},"Startseite","Start page","Page d'accueil","Pagina iniziale","Página de inicio"]
[{"$f":"IF($A$2=1,B5,IF($A$2=2,C5,IF($A$2=3,D5,IF($A$2=4,E5,IF($A$2=5,F5)))))","v":"Zum Anfang"},"Zum Anfang","To Start","Haut de page","Torna all'inizio","Principio"]
["Infos zur Toolbox-Translation","Infos zur Toolbox-Translation","Info on Toolbox-Translation","Info`s relatives à la Toolbox-Translation","Informazioni sulla traslazione TOOLBOX","Información relativa a la TOOLBOX-Translation"]
["Klicken Sie hier...","Klicken Sie hier...","Click here...","Cliquez ici ...","Clicca qui...","Haga clic aquí..."]
["Linearmodule","Linearmodule","Linear actuators","Modules linéaires","Moduli lineari","Módulos lineales"]
["Rotationsmodule","Rotationsmodule","Rotary actuators","Modules rotatifs","Moduli di rotazione","Módulos rotatorios"]
["Mehrachssysteme","Mehrachssysteme","Multi-axis systems","Systèmes multiaxes","Sistemi multiasse","Sistemas de ejes múltiples"]
["Allgemeine Infos","Allgemeine Infos","General info","Info`s générales","Informazioni generali","Información general"]
["Berechnung der Taktzeiten und Belastungen","Berechnung der Taktzeiten und Belastungen","Calculation of cycle times and loads","Calcul des temps de cycle et des charges","Calcolo dei tempi ciclo e dei carichi","Cálculo de los tiempos de ciclo y de las cargas"]
["Berechnung der Taktzeiten und Massenträgheitsmomente","Berechnung der Taktzeiten und Massenträgheitsmomente","Calculation of cycle times and moments of inertia","Calcul des temps de cycle et des couples d'inertie","Calcolo dei tempi ciclo e dei momenti di inerzia della massa","Cálculo de los tiempos de ciclo y de los momentos de inercia de la masa"]
["Berechnung der Taktzeiten und Belastungen","Berechnung der Taktzeiten und Belastungen","Calculation of cycle times and loads","Calcul des temps de cycle et des charges","Calcolo dei tempi ciclo e dei carichi","Cálculo de los tiempos de ciclo y de las cargas"]
["Informationen","Informationen","Information","Information","Informazioni","Información"]
[]
["Linearmodule"]
[]
[{"$f":"IF($A$2=1,B19,IF($A$2=2,C19,IF($A$2=3,D19,IF($A$2=4,E19,IF($A$2=5,F19)))))","v":"SCHUNK bietet Ihnen Produkte und Dienstleistungen mit zukunftsgerichtetem technischen Niveau. Um Ihnen die geforderte Planungssicherheit zu garantieren wurde diese Software entwickelt mit der Linear- und Portalmodule berechnet werden können. Nachfolgend ist die Funktion und Bedienung kurz beschrieben."},"SCHUNK bietet Ihnen Produkte und Dienstleistungen mit zukunftsgerichtetem technischen Niveau. Um Ihnen die geforderte Planungssicherheit zu garantieren wurde diese Software entwickelt mit der Linear- und Portalmodule berechnet werden können. Nachfolgend ist die Funktion und Bedienung kurz beschrieben.","SCHUNK offers products and services of a forward-looking technical character. In order to guarantee the required security of planning, this software was developed for calculation of linear and portal actuators. Here is a brief description of its function and use.","SCHUNK vous propose des produits et des services d'un niveau technique orienté vers l'avenir. Pour vous garantir la sécurité de planification exigée, nous avons développé ce logiciel qui permet de calculer les modules linéaires et les modules portiques. Le fonctionnement et les commandes sont décrits brièvement ci-dessous.","SCHUNK offre prodotti e servizi con un livello tecnico orientato al futuro. Per garantire la sicurezza di progettazione necessaria è stato sviluppato questo software con cui è possibile calcolare i moduli lineari e portali. Di seguito sono descritti brevemente funzionamento e comando.","SCHUNK le ofrece unos productos y servicios cuyo nivel técnico presenta una clara orientación de futuro. Con el fin de garantizarle el grado de seguridad requerido en la planificación, hemos desarrollado este software, con el que podrá calcular los módulos lineales y los módulos pórtico. A continuación, describimos brevemente su funcionamiento y su manejo."]
["Unter folgenden Belastungen können Linear- und Portalmodule berechnet werden:","Unter folgenden Belastungen können Linear- und Portalmodule berechnet werden:","Linear and portal actuators can be calculated under the following loads:","Les modules linéaires et les modules portiques peuvent être calculés avec les charges suivantes :","È possibile calcolare i moduli lineari e portali sotto i seguenti carichi:","Es posible calcular los módulos lineales y los módulos pórtico con las siguientes cargas:"]
["Belastungsart 1","Belastungsart 1","Load type 1","Type de charge 1","Tipo di carico 1","Tipo de carga 1"]
["Belastungsart 2","Belastungsart 2","Load type 2","Type de charge 2","Tipo di carico 2","Tipo de carga 2"]
["Belastungsart 3","Belastungsart 3","Load type 3","Type de charge 3","Tipo di carico 3","Tipo de carga 3"]
["Belastungsart 4","Belastungsart 4","Load type 4","Type de charge 4","Tipo di carico 4","Tipo de carga 4"]
["Belastungsart 5","Belastungsart 5","Load type 5","Type de charge 5","Tipo di carico 5","Tipo de carga 5"]
["Belastungsart 6","Belastungsart 6","Load type 6","Type de charge 6","Tipo di carico 6","Tipo de carga 6"]
["Einbaulage horizontal","Einbaulage horizontal","Mounting: horizontal","Position de montage horizontale","Posizione orizzontale di montaggio","Posición de montaje horizontal"]
["Einbaulage vertikal","Einbaulage vertikal","Mounting: vertical","Position de montage verticale","Posizione verticale di montaggio","Posición de montaje vertical"]
["Berechnungen für die Belastungsfälle 1 bis 6 gelten auch bei um 180 Grad gedrehter Einbaulage","Berechnungen für die Belastungsfälle 1 bis 6 gelten auch bei um 180 Grad gedrehter Einbaulage","Calculations for load cases 1 to 6 are also valid for a mounting position rotated by 180 degrees","Les calculs des cas de charges 1 à 6 sont valables également lorsque la position de montage subit une rotation de 180°.","I calcoli relativi ai tipi di carico da 1 a 6 valgono anche per la posizione di montaggio ruotata di 180 gradi","Los cálculos para los tipos de carga 1 a 6 son igualmente válidos con una posición de montaje girada 180 grados"]
["Berechnungsgrundlagen für Linear- und Portalmodule","Berechnungsgrundlagen für Linear- und Portalmodule","Calculation principles for linear and portal actuators","Bases de calcul pour les modules linéaires et modules portiques","Condizioni di calcolo per i moduli lineari e portali","Bases de cálculo para módulos lineales y módulos pórtico"]
["Anwendungsdaten:","Anwendungsdaten:","Application data:","Données d'application :","Dati di applicazione:","Datos de la aplicación:"]
["Kundenanforderungen","Kundenanforderungen","Customer requirements","Exigences du client","Richieste del cliente","Necesidades del cliente"]
["Hub","Hub","Stroke","Course","Corsa","Carrera"]
["Gewicht der Zusatzmasse","Gewicht der Zusatzmasse","Additional mass","Poids de la masse supplémentaire","Peso della massa supplementare","Peso de la masa adicional"]
["Koordinaten des Zusatzmassenschwerpunktes","Koordinaten des Zusatzmassenschwerpunktes","Co-ordinates of additional mass centre of gravity","Coordonnées du centre de gravité de la masse supplémentaire","Coordinate del baricentro della massa supplementare","Coordenadas del centro de gravedad de la masa adicional"]
["Extern einwirkende Kräfte im Ruhezustand ","Extern einwirkende Kräfte im Ruhezustand ","Externally acting forces in static condition","Forces externes influentes à l'état de repos ","Forza agente dall'esterno allo stato di riposo ","Fuerzas externas que actúan en estado de reposo "]
["Koordinaten der externen Kraftangriffspunkte","Koordinaten der externen Kraftangriffspunkte","Co-ordinates of external loading points","Coordonnées des points d'application des forces externes","Coordinate dei punti di applicazione della forza esterni","Coordenadas de los puntos externos de aplicación de fuerzas"]
["Eine Belastung kann durch eine Zusatzmasse und/oder durch extern einwirkende Kräfte entstehen. Die Zusatzmasse ist angebaut und wird somit mit bewegt. Externe Kräfte dürfen nur im Ruhezustand einwirken.","Eine Belastung kann durch eine Zusatzmasse und/oder durch extern einwirkende Kräfte entstehen. Die Zusatzmasse ist angebaut und wird somit mit bewegt. Externe Kräfte dürfen nur im Ruhezustand einwirken.","A load may be induced by an additional mass and/or externally acting forces. The additional mass is mounted and therefore moved. External forces can only act in the static condition.","Une charge peut être générée par une masse supplémentaire et/ou par une force externe influente. La masse supplémentaire est solidaire du montage ; elle est donc également déplacée. Les forces externes ne doivent agir qu'à l'état de repos.","Un carico può essere generato da una massa supplementare e/o da una forza agente dall'esterno. La massa supplementare è montata esternamente perciò viene spostata insieme. Forze esterne devono essere applicate solo allo stato di riposo.","Una carga puede estar generada por una masa adicional y/o por la influencia de fuerzas externas. La masa adicional está integrada y, por tanto, se mueve. Las fuerzas externas deben actuar exclusivamente en estado de reposo."]
["Eine extern einwirkende Kraft kann auch eine Belastung durch Beschleunigung oder Verzögerung darstellen. Dies ist der Fall wenn das mit dieser Software zu berechnende Linear- oder Portalmodul auf einer weiteren Bewegungsachse aufgebaut ist und somit einer dynamischen Belastung ausgsetzt wird.","Eine extern einwirkende Kraft kann auch eine Belastung durch Beschleunigung oder Verzögerung darstellen. Dies ist der Fall wenn das mit dieser Software zu berechnende Linear- oder Portalmodul auf einer weiteren Bewegungsachse aufgebaut ist und somit einer dynamischen Belastung ausgsetzt wird.","An externally acting force can also represent a load due to acceleration or deceleration. This is the case where the linear or portal actuator to be calculated using the software is mounted on a further motion axis and is therefore subjected to a dynamic load.","Une force externe influente peut également représenter une charge par son accélération ou sa décélération. Ceci est le cas lorsque le module linéaire ou le module portique à calculer avec ce logiciel est installé sur un axe de déplacement supplémentaire, car il est de ce fait soumis à une charge dynamique.","Una forza esterna che interviene può anche rappresentare un carico dovuto ad accelerazione o ritardo. Questo si verifica se il modulo lineare o portale da calcolare con questo software è montato su un ulteriore asse di spostamento ed è quindi sottoposto a un carico dinamico.","La influencia de una carga externa puede suponer igualmente una carga debido a la aceleración o la desaceleración. Ése es el caso cuando el módulo lineal o el módulo pórtico que se desea calcular con este software se encuentra montado sobre un eje de movimiento distinto y, por tanto, está sometido a una carga dinámica."]
["Moduldaten:","Moduldaten:","Actuator data:","Données des modules :","Dati del modulo:","Datos del módulo:"]
["Betriebsdruck 6 bar und Anschluß beider Luftanschlüsse pro Zylinderseite bei LM100, LM200 und LM300","Betriebsdruck 6 bar und Anschluß beider Luftanschlüsse pro Zylinderseite bei LM100, LM200 und LM300","Op. pressure 6 bar and connection of both air connectors on each cylinder side in LM100, LM200 and LM300","Pression de service 6 bars et raccordement des deux connexions d'air par côté de vérin sur LM100, LM200 et LM300","Pressione d'esercizio 6 bar e allacciamento di entrambi i collegamenti dell'aria per ogni lato cilindro con LM100, LM200 e LM300","Presión de trabajo de 6 bar y conexión de las dos conexiones neumáticas en cada lado del cilindro con LM100, LM200 y LM300"]
["Stoßdämpferauslastung pro Hub und Stunde max. 95%","Stoßdämpferauslastung pro Hub und Stunde max. 95%","Shock absorber utilisation per stroke and hour max. 95%","Taux d'utilisation des amortisseurs par course et par heure 95% maximum","Distribuzione del carico sull'ammortizzatore per ogni corsa e all'ora max. 95%","Grado de utilización del amortiguador por carrera y hora: máx. 95 %"]
["Führungsbelastung durch Beschleunigung und Verzögerung unter Berücksichtigung aller auftretenden Kräfte und Momente","Führungsbelastung durch Beschleunigung und Verzögerung unter Berücksichtigung aller auftretenden Kräfte und Momente","Guidance system load by acceleration and deceleration taking account of all forces and moments","Charge de guidage par accélération et par décélération en tenant compte de toutes les forces et de tous les couples présents","Carico sulla guida mediante accelerazione e decelerazione, considerando tutti le coppie e le forze che si verificano","Carga de la guía debido a la aceleración y a la desaceleración considerando todas las fuerzas y momentos existentes"]
["Modultyp","Modultyp","Actuator type","Type de module","Tipo di modulo","Tipo de módulo"]
["Geschwindigkeit beim Beginn der Verzögerung (m/sek.)","Geschwindigkeit beim Beginn der Verzögerung (m/sek.)","Speed at start of deceleration (m/sec.)","Vitesse en début de décélération (m/sec)","Velocità all'inizio della decelerazione (m/sec)","Velocidad al inicio de la desaceleración (m/seg.)"]
["Verzögerungsweg (mm)","Verzögerungsweg (mm)","Deceleration distance (mm)","Course de décélération (mm)","Corsa di decelerazione (mm)","Recorrido de desaceleración (mm)"]
["V-mittel x 1.75","V-mittel x 1.75","V-avg x 1.75","V-moyenne x 1.75","V-media x 1.75","V-media x 1,75"]
["wird berechnet (max. 1.1m/sek.)","wird berechnet (max. 1.1m/sek.)","is calculated (max. 1.1m/sec.)","est calculée (max. 1.1m/sec)","viene calcolata (max. 1.1m/sec.)","se calculará (máx. 1,1 m/seg.)"]
["Stoßdämpferhub","Stoßdämpferhub","Shock absorber stroke","Course d'amortisseur","Corsa dell'ammortiz.","Carrera del amortig."]
["Die mittlere Verfahrgeschwindigkeit V-mittel errechnet sich aus dem Hub und der Verfahrzeit. Die Beschleunigung ist geringer als die Verzögerung und muß deshalb nicht berücksichtigt werden.","Die mittlere Verfahrgeschwindigkeit V-mittel errechnet sich aus dem Hub und der Verfahrzeit. Die Beschleunigung ist geringer als die Verzögerung und muß deshalb nicht berücksichtigt werden.","The mean travel speed V-avg is calculated from the stroke and travel time. Acceleration is lower than deceleration and need not be taken into account.","La vitesse de déplacement moyenne V-moyenne est calculée à partir de la course et du temps de déplacement. L'accélération est inférieure à la décélération et ne doit donc pas être prise en compte.","La velocità media di traslazione V-media si calcola dalla corsa e dal tempo di traslazione. L'accelerazione non va considerata perché inferiore alla decelerazione.","La velocidad media de desplazamiento V-media se calcula a partir de la carrera y del tiempo de desplazamiento. La aceleración es menor que la desaceleración y, por tanto, no debe tenerse en cuenta."]
["Nach Auswahl der gewünschten Belastungsart (im Beispiel Belastungsart 1) gelangen Sie in die Eingabemaske in der Sie bitte Ihre Daten eingeben. Dabei sind bei allen Koordinaten und extern einwirkenden Kräften die VORZEICHEN anzugeben.","Nach Auswahl der gewünschten Belastungsart (im Beispiel Belastungsart 1) gelangen Sie in die Eingabemaske in der Sie bitte Ihre Daten eingeben. Dabei sind bei allen Koordinaten und extern einwirkenden Kräften die VORZEICHEN anzugeben.","After selecting the required load type (in the example Load type 1), you will see an input mask for entering your data. All co-ordinates and externally acting forces should be stated including the MATHEMATICAL SIGN.","Après la sélection du type de charge souhaité (dans le cas de cet exemple le type de charge 1) un masque de saisie s'ouvre dans lequel vos données doivent être saisies. Les SIGNES + / - doivent être indiqués pour toutes les coordonnées et forces externes.","Dopo aver selezionato il tipo di carico desiderato (nell'esempio Tipo di carico 1) si accede alla maschera di immissione in cui digitare i dati. Si devono indicare i SEGNI INIZIALI per tutte le coordinate e le forze agenti dall'esterno.","Tras seleccionar el tipo de carga deseado (en el ejemplo, tipo de carga 1), se abrirá la máscara en la que debe introducir sus datos. Es imprescindible que indique los SIGNOS matemáticos correspondientes en todas las coordenadas y todas las fuerzas externas de influencia."]
["Hier können von den ursprünglich aufgezeigten Modulen aus folgenden Gründen einige Typen entfallen sein:","Hier können von den ursprünglich aufgezeigten Modulen aus folgenden Gründen einige Typen entfallen sein:","Some of the originally indicated modules will not be listed due to the following reasons:","Certains types de modules existant à l'origine ont pu être supprimés de la gamme pour les raisons suivantes:","Alcuni tipi indicati tra i moduli visualizzati all'inizio potrebbero non essere più disponibili per i seguenti motivi:","Es posible que se hayan suprimido ciertos tipos de los módulos indicados originalmente por las siguientes causas:"]
["Der eingebene Hub übersteigt den Maximalhub dieses Typs","Der eingebene Hub übersteigt den Maximalhub dieses Typs","The stroke entered exceeds the max. stroke of this type","La course saisie dépasse la course maximale de ce type de module.","la corsa indicata supera la corsa massima di questo tipo","La carrera introducida es superior a la carrera máxima de ese tipo"]
["Die eingebene Zusatzmasse übersteigt den Maximalwert dieses Typs","Die eingebene Zusatzmasse übersteigt den Maximalwert dieses Typs","The additional mass entered exceeds the max. value of this type","La masse supplémentaire saisie dépasse la valeur maximale de ce type de module.","la massa supplementare indicata supera il valore massimo di questo tipo","La masa adicional introducida es superior al valor máximo de ese tipo"]
["Die eingebene Kraft übersteigt den Maximalwert dieses Typs","Die eingebene Kraft übersteigt den Maximalwert dieses Typs","The force entered exceeds the max. value of this type","La force saisie dépasse la valeur maximale de ce type de module.","la forza indicata supera il valore massimo di questo tipo","La fuerza introducida es superior al valor máximo de ese tipo"]
["Mit allen verbliebenen Typen ist Ihr Anwendungsfall grundsätzlich realisierbar. Verändern Sie nun die Verfahrzeit bis ein Typ die von Ihnen gewünschte Verfahrzeit erreicht hat. Dabei werden alle Werte laufend neu berechnet, bei Überlastung werden die entsprechenden Werte rot markiert.","Mit allen verbliebenen Typen ist Ihr Anwendungsfall grundsätzlich realisierbar. Verändern Sie nun die Verfahrzeit bis ein Typ die von Ihnen gewünschte Verfahrzeit erreicht hat. Dabei werden alle Werte laufend neu berechnet, bei Überlastung werden die entsprechenden Werte rot markiert.","Your application can in principle be realised using any of the remaining types. Change the travel time until one type achieves the required travel time. All values will be recalculated continuously, if overload is predicted the corresponding values will be marked in red.","Tous les modules restants permettent par principe de réaliser votre cas d'application. Modifiez maintenant le temps d`avance jusqu'à ce qu'un type de module ait atteint le temps d`avance souhaitée. Lors de ce processus toutes les valeurs sont recalculées en temps réel, et en cas de surcharge les valeurs correspondantes sont indiquées en rouge.","Con tutti i tipi restanti è possibile realizzare il proprio tipo di applicazione. Modificare il tempo di traslazione finché un tipo non raggiunge il tempo di traslazione desiderato. Tutti i valori vengono continuamente ricalcolati, in caso di sovraccarico i rispettivi valori vengono contrassegnati in rosso.","En principio, podrá realizar el modelo de aplicación que ha elegido con el resto de tipos. Modifique ahora el tiempo de desplazamiento hasta que uno de los tipos alcance el tiempo de desplazamiento deseado. Durante ese proceso, se recalculan en tiempo real todos los valores; en caso de sobrecarga, los valores pertinentes aparecerán marcados en rojo."]
["Berechnungsergebnisse","Berechnungsergebnisse","Calculation results","Résultats de calcul","Risultati del calcolo","Resultados del cálculo"]
["Auslastung des Führungssystems","Auslastung des Führungssystems","Utilisation of guidance system","Taux d'utilisation maximal du système de guidage","Distribuzione del carico del sistema di guide","Grado de utilización del sistema de guía"]
["Stoßdämpferauslastung pro Hub","Stoßdämpferauslastung pro Hub","Shock absorber utilisation per stroke","Taux d'utilisation maximal des amortisseurs par course","Distribuzione del carico sull'ammortizzatore per ogni corsa","Grado de utilización del amortiguador por carrera"]
["Verfahrzeit pro Hubbewegung (gültig für Vor- und Rückhub)","Verfahrzeit pro Hubbewegung (gültig für Vor- und Rückhub)","Travel time per stroke movement (for forward and reverse stroke)","Temps de déplacement par mouvement de course (valable pour la course avant et arrière)","Tempo di traslazione per ogni spostamento (valido per corsa in avanti e corsa all'indietro)","Tiempo de desplazamiento por movimiento de carrera (válido para carrera de avance y de retroceso)"]
["Maximal mögliche Zykluszahl pro Minute","Maximal mögliche Zykluszahl pro Minute","Max. possible number of cycles per minute","Nombre maximal possible de cycles par minute","Numero massimo possibile di cicli al minuto","Número máximo de ciclos posibles por minuto"]
["Beispiel","Beispiel","Example","Exemple","Esempio","Ejemplo"]
["ACHTUNG:","ACHTUNG:","NOTE:","ATTENTION :","ATTENZIONE:","ATENCIÓN:"]
["Die berechneten Werte dürfen nicht über- bzw. unterschritten werden !","Die berechneten Werte dürfen nicht über- bzw. unterschritten werden !","Actual values must not be higher or lower than calculated values !","Les valeurs calculées ne doivent être dépassées ni vers le haut, ni vers le bas !","I valori calcolati devono sempre essere raggiunti e non devono essere superati !","Los valores calculados no deben ser sobrepasados ni por exceso ni por defecto."]
["Wegen der vielfältigen Gestaltungsmöglichkeiten sind in den Verfahrzeiten und Zykluszahlen keine Ansteuerungs- und Ventilschaltzeiten berücksichtigt. Je nach Aufbau und Art der verwendeten Steuerungen und Ventile sind Ansteuerungs- und Schaltzeiten von 0,05 sek. pro Bewegung realisierbar. Diese sind zu den berechneten Zeiten zu addieren.","Wegen der vielfältigen Gestaltungsmöglichkeiten sind in den Verfahrzeiten und Zykluszahlen keine Ansteuerungs- und Ventilschaltzeiten berücksichtigt. Je nach Aufbau und Art der verwendeten Steuerungen und Ventile sind Ansteuerungs- und Schaltzeiten von 0,05 sek. pro Bewegung realisierbar. Diese sind zu den berechneten Zeiten zu addieren.","Due to the versatile design possibilities, the travel times and cycle numbers do not take account of control and valve switching times. Depending on the design and type of controllers and valves used, control and switching times of 0,05 sec. per movement can be achieved. These must be added to the calculated times.","Compte tenu du grand nombre de configurations possibles, les temps de déplacement et les nombres de cycles ne prennent pas en considération les temps de commande et de commutation des soupapes. En fonction de la conception et du type des commandes et soupapes utilisées, des temps de commande et de commutation de 0,05 secondes par mouvement sont réalisables. Ces temps doivent être ajoutés aux temps calculés.","A causa delle molteplici possibilità di realizzazione, nei tempi di traslazione e nei numeri di ciclo non sono considerati i tempi di commutazione comando e valvole. A seconda della struttura e del tipo di sistema di comando e valvole sono realizzabili tempi di comando e commutazione di 0,05 sec. per ogni movimento. Essi devono essere sommati ai tempi calcolati.","Dadas las múltiples posibilidades de configuración, en los tiempos de desplazamiento y en los números de ciclos no se tienen en cuenta los tiempos de activación ni los tiempos de conmutación de las válvulas. Dependiendo de cuál sea la estructura y el tipo de los sistemas de control y las válvulas empleados, se pueden alcanzar unos tiempos de activación y unos tiempos de conmutación de 0,05 seg. por movimiento. Dichos tiempos se deben sumar a los tiempos calculados."]
["Bei einer Stoßdämpferauslastung > 95%  kann bei einigen Typen die Stoßdämpferstückzahl auf 2 pro Endlage erhöht werden. Dadurch erhöht sich das Einsatzspektrum.","Bei einer Stoßdämpferauslastung > 95%  kann bei einigen Typen die Stoßdämpferstückzahl auf 2 pro Endlage erhöht werden. Dadurch erhöht sich das Einsatzspektrum.","For a shock absorber utilisation > 95%, the number of shock absorbers can be increased to 2 per end position. This increases the application range.","Pour un taux d'utilisation des amortisseurs > 95%, il est possible pour certains types d'augmenter le nombre des amortisseurs à 2 par fin de course. Ceci permet d'augmenter les possibilités d'application.","In caso di una distribuzione del carico sull'ammortizzatore > 95%, per alcuni tipi si può aumentare il numero di ammortizzatori a 2 per ogni posizione finale. In questo modo si aumenta lo spettro d'impiego.","Si el grado de utilización del amortiguador es > 95 %, en algunos tipos es posible elevar el número de amortiguadores a 2 por posición final. De ese modo se amplían las posibilidades de aplicación."]
["Sind alle Anwendungsdaten eingegeben, gelangen Sie auf die Modulberechnungsseite.","Sind alle Anwendungsdaten eingegeben, gelangen Sie auf die Modulberechnungsseite.","When all the application data are entered, you will get to the module calculation page","Une fois tous les paramètres de l'application saisis, vous arrivez sur une page de dimensionnement des modules.","Dopo aver immesso tutti i dati di applicazione si accede alla pagine di calcolo dei moduli.","Cuando se hayan introducido todos los datos de la aplicación, se abrirá la página de cálculo de los módulos."]
["Verzögerungskraft, resultierend aus Zusatzmasse + Masse von Schlitten/Grundkörper beim Abbremsen in der Endlage","Verzögerungskraft, resultierend aus Zusatzmasse + Masse von Schlitten/Grundkörper beim Abbremsen in der Endlage","The retarding force results from the extra mass + the mass of the slide/base body during slow down in the end position","La force de retenue découle  de la masse additionnelle + la masse d'ensemble chariot/corps de base durant le ralentissement en fin du course","La Forza frenante risulta dalla massa aggiuntiva + la massa della slitta/corpo base durante il rallentamento a fine corsa","La fuerza de retención, es la suma resultante de la masa pieza + la masa de la base/carro en el momento del frenado hacía la posición final"]
[]
[]
[]
[]
[]
[]
[]
[]
[]
[]
[]
[]
[]
[]
["Allgemeine Infos"]
[]
[{"$f":"IF($A$2=1,B85,IF($A$2=2,C85,IF($A$2=3,D85,IF($A$2=4,E85,IF($A$2=5,F85)))))","v":"Systemvorraussetzungen"},"Systemvorraussetzungen","System requirements","Config. de base du système","Requisiti di sistema","Requisitos del sistema"]
["Diese Software muss nicht auf Ihrem Rechner installiert werden da es sich um eine Excel-Datei mit Anwendungen in Visual Basic handelt. Unter Umständen muß Ihr Virenschutz für Excel-Makros auf eine mittlere Sicherheitsstufe gesetzt werden. Im Zweifelsfall wenden Sie sich bitte an Ihren Systemadministrator. Folgende MINDESTVORAUSSETZUNGEN müssen auf Ihrem Arbeitsplatz erfüllt sein: ","Diese Software muss nicht auf Ihrem Rechner installiert werden da es sich um eine Excel-Datei mit Anwendungen in Visual Basic handelt. Unter Umständen muß Ihr Virenschutz für Excel-Makros auf eine mittlere Sicherheitsstufe gesetzt werden. Im Zweifelsfall wenden Sie sich bitte an Ihren Systemadministrator. Folgende MINDESTVORAUSSETZUNGEN müssen auf Ihrem Arbeitsplatz erfüllt sein: ","This software does not require installation on your computer, since itis an Excel file with applications in Visual Basic. In certain circumstances, your virus protection for Excel macros will require setting to a moderate safety level. If in doubt, please consult your system administrator. Your workstation must fulfil the following MINIMUM REQUIREMENTS: ","Ce logiciel ne doit pas être installé sur votre ordinateur, puisqu'il s'agît simplement d'un fichier Excell avec applications en Visual Basic. Il sera éventuellement nécessaire de régler votre anti-virus pour les macros Excel sur un niveau de protection moyen. En cas de doute adressez-vous à votre administrateur système. Les CONFIGURATIONS MINIMALES suivantes doivent être disponibles sur votre lieu de travail : ","Questo software non deve essere installato sul vostro computer, dato che si tratta di un file Excel con applicazioni in Visual Basic. È possibile che il vostro antivirus per macro Excel debba essere impostato su un grado di sicurezza medio. In caso di dubbio rivolgersi al proprio amministratore di sistema. Le risorse del computer devono soddisfare i seguenti REQUISITI MINIMI: ","No es necesario instalar este software en su ordenador, dado que se trata de un archivo de Excel con aplicaciones en Visual Basic. En determinadas circunstancias, es posible que tenga que ajustar en su antivirus un nivel de seguridad medio para las macros de Excel. En caso de duda, le rogamos que consulte al administrador de su sistema. Su puesto de trabajo debe cumplir los siguientes REQUISITOS MÍNIMOS: "]
["Hardware:","Hardware:","Hardware:","Matériel informatique :","Hardware:","Hardware:"]
["Software:","Software:","Software:","Logiciels :","Software:","Software:"]
["Prozessor:","Prozessor:","Processor:","Processeur :","Processore:","Procesador:"]
["Freier Arbeitsspeicher:","Freier Arbeitsspeicher:","Free space:","Mémoire vive disponible :","Memoria di lavoro libera:","Espacio disponible en el disco:"]
["Betriebssystem:","Betriebssystem:","Operating system:","Système d'exploitation :","Sistema operativo:","Sistema operativo:"]
["Software:","Software:","Software:","Logiciels :","Software:","Software:"]
["Pentium III - 500MHz","Pentium III - 500MHz","Pentium III - 500MHz","Pentium III - 500MHz","Pentium III - 500MHz","Pentium III - 500 MHz"]
["min. 35MB","min. 35MB","min. 35MB","min. 35MO","min. 35MB","mín. 35 MB"]
["Microsoft Windows 98","Microsoft Windows 98","Microsoft Windows 98","Microsoft Windows 98","Microsoft Windows 98","Microsoft Windows 98"]
["MS-Excel 2000-2003 ","MS-Excel 2000-2003 ","MS-Excel 2000-2003 ","MS-Excel 2000-2003 ","MS-Excel 2000-2003 ","MS-Excel 2000-2003 "]
["Je nach Hardwarevoraussetzung kann das Öffnen der umfangreichen Datei bis zu einer Minute in Anspruch nehmen. Bei der Anwendung der geöffneten Datei entstehen keine langen Wartezeiten.","Je nach Hardwarevoraussetzung kann das Öffnen der umfangreichen Datei bis zu einer Minute in Anspruch nehmen. Bei der Anwendung der geöffneten Datei entstehen keine langen Wartezeiten.","Depending on the hardward configuration, opening the extensive file may take up to one minute. Use of the file once opened does not involve long waiting times.","L'ouverture de ce fichier volumineux peut prendre jusqu'à une minute selon votre configuration matérielle. Ensuite, lorsque vous travaillez sur le fichier, il n'y aura plus de temps d'attente prolongés.","A seconda dei requisiti hardware è possibile che l'apertura del file molto esteso richieda fino a un minuto. L'applicazione del file aperto non richiede tempi di attesa lunghi.","Dependiendo de la configuración del hardware, es posible que tarde hasta un minuto en abrir el voluminoso archivo. Una vez abierto, no experimentará largos tiempos de espera durante su utilización."]
["Haftung","Haftung","Liability","Garantie","Garanzia","Responsabilidad"]
["Alle Angaben und technische Werte wurden nach bestem Wissen und Gewissen zusammengestellt. Eine Rechtsverbindlichkeit besteht nur dann, wenn Ihnen diese Daten, bezogen auf Ihren Anwendungsfall, schriftlich durch uns direkt zugesichert wurden. Änderungen und Abweichungen in der Ausführung eines in Auftrag gegebenen Produkts sind zulässig, insbesondere wenn sie qualitätsfördernd sind oder dem technischen Fortschritt dienen, also eine Produktverbesserung beinhalten. Sie sind aber immer so ausgelegt, daß sie den berechtigten Interessen des Verwenders zumutbar sind.","Alle Angaben und technische Werte wurden nach bestem Wissen und Gewissen zusammengestellt. Eine Rechtsverbindlichkeit besteht nur dann, wenn Ihnen diese Daten, bezogen auf Ihren Anwendungsfall, schriftlich durch uns direkt zugesichert wurden. Änderungen und Abweichungen in der Ausführung eines in Auftrag gegebenen Produkts sind zulässig, insbesondere wenn sie qualitätsfördernd sind oder dem technischen Fortschritt dienen, also eine Produktverbesserung beinhalten. Sie sind aber immer so ausgelegt, daß sie den berechtigten Interessen des Verwenders zumutbar sind.","All data and technical values were compiled to the best of our knowledge and in good faith. No legal liability can be accepted unless these data are directly confirmed to you in writing in specific relation to your application. Changes and deviations in the design of a product stated in an order are permitted, especially where these serve to improve quality or aid technical progress and thus constitute an improvement in the product. These will always be carried out, however, such that they correspond to the justified interests of the user.","Toutes les données et valeurs techniques ont été rassemblées à partir des meilleures connaissanes et savoir-faire. Une obligation juridique existe seulement si nous vous avons assuré ces données relatives à votre cas d’application directement par écrit. Des modifications et des écarts lors de la fabrication d’un produit commandé sont autorisées, en particulier lorsqu’elles contribuent à la qualité ou au progès technique, et donc à une amélioration du produit. Toutefois celle-ci doivent toujours servir l'intérêt légitime de l'utilisateur.","Tutte le indicazioni e i valori tecnici sono stati riportati secondo scienza e coscienza. Il vincolo giuridico sussiste solo qualora tali dati siano stati confermati direttamente per iscritto da parte nostra, in riferimento al vostro tipo di impiego. Sono ammesse modifiche e variazioni nella realizzazione di un prodotto ordinato, soprattutto se incentivano la qualità o favoriscono il progresso tecnico, con una conseguente ottimizzazione del prodotto. Esse sono sempre realizzate compatibilmente ai legittimi interessi dell'utente.","Todos los datos y valores técnicos han sido recopilados a conciencia y conforme a nuestro leal saber. Serán de carácter jurídicamente vinculante exclusivamente cuando nosotros le hayamos confirmado directamente y por escrito dichos datos en relación con el modelo de aplicación que haya elegido. Está permitido realizar modificaciones y variaciones respecto a la ejecución de un producto señalado en un pedido, en particular cuando sirvan para mejorar la calidad o el nivel técnico del mismo; en definitiva y por tanto, cuando supongan una mejora del producto. No obstante, deberán ejecutarse siempre de tal manera que sirvan a los intereses legítimos del usuario."]

{"sheet":"Allgemeine Werte","index":116,"n_rows":97,"n_cols":14,"rows_kept":97,"cut":false,"hidden":false,"merged":[]}
["Kolbenrückstellzeiten von Stoßdämpfer",null,null,null,null,null,"Energieaufnahmen von Stoßdämpfer",null,null,null,"Stoßdämpferhübe"]
[]
["Rote Werte in Toolbox-Berechnungen !"]
[]
[]
[]
["Bemerkungen:"]
["Faktor a und b am 18.04.07 von Hr. Geith und Hr. Nebl festgelegt !"]
["Kolbenrückstellzeiten am 18.04.07 neu festgelegt"]
[]
["Hub bei a=0 ( Hub für Berechnung der Führungsbelastung) = 0,67 x Maximalhub Gemotec "]
["( Verringerung des Stoßdämpferhubes mit Faktor 0,67 bedeutet Erhöhung der Verzögerung um Faktor 1,5 ( wie Berechnung bei ACE ))"]
["festgelegt durch Hr. Nebl am 08.12.08 "]
[]
["Hub bei a=0 bei CLM 08: Faktor 0,67 entfernt !  28.07.11 (Nebl)"]
[]
[]
[]
[]
[]
[]
[]
[]
[]
[]
[]
["Modultyp","Stoßdämpfertyp","Zeit ","Quelle","Zeit in Toolbox",null,"E zul. pro Hub","E zul. pro Stunde",null,null,"Maximalhub","Maximalhub","Hub a=0","Sicherheit"]
[null,null,null,null,null,null,null,null,null,null,null,"Gemotec"]
[]
["CLM 08","Elastomerscheibe",0,"Annahme",0.5,null,0,0,null,null,1E-4,1E-4,{"$f":"L30","v":1E-4},"0 mm"]
[]
["CLM 10","WS M6x5-1",0.3,"Annahme",0.5,null,1,3000,null,null,5.0000000000000001E-3,5.0000000000000001E-3,{"$f":"L32*0.67","v":3.3500000000000001E-3},"0 mm Sich."]
[]
["LM/KLM/CLM 25","RB 0806",0.3,"Annahme",0.5,null,3,14400,null,null,6.0000000000000001E-3,6.0000000000000001E-3,{"$f":"L34*0.67","v":4.0200000000000001E-3},"0 mm Sich."]
[]
["LM/KLM/CLM 50","RB 1007",0.3,"Annahme",0.5,null,6,25200,null,null,7.0000000000000001E-3,6.7999999999999996E-3,{"$f":"L36*0.67","v":4.5560000000000002E-3},"0,2 mm Sich."]
[]
["LM/KLM/CLM 100","MC 75 M2-NB-2173",0.3,"Katalog",0.5,null,10.199999999999999,28200,null,null,1.15E-2,1.14E-2,{"$f":"L38*0.67","v":7.6380000000000007E-3},"0,1 mm Sich."]
["PMP 16","MC 75 M3-NB-2173"]
["LM/CLM 200 LM 300","PRO25MF3SP21693",0.75,"Hr. Lang",0.75]
["PMP 25/KLM 300","mit Normalöl","0,45 - 0,5","Hr. Lang",0.75,null,26,34000,null,null,1.6E-2,1.5800000000000002E-2,{"$f":"L41*0.67","v":1.0586000000000002E-2},"0,2 mm Sich."]
[]
[]
[]
[]
[]
["Wegfallkriterium wegen Kraft in Y-Richtung"]
[]
[null,null,null,"Kraftreduzierungsfaktor a:",null,0.7,"Maximalwert für ext.Kraft Y","Faktor b :",1]
["Zylinderkräfte","Als Wegfallkriterium","Fzurück",null,"Fzurück red.",null,"Ziehen in Endlage in Anschlagrichtung"]
[null,"wird nur die kleinere Kraft",null,null,"(Fzurück x Fak. a)",null,"( Fzurück x Faktor b )"]
["LM/KLM/CLM 25","berücksichtigt",50,null,{"$f":"C52*F49","v":35},null,{"$f":"C52*I49","v":50}]
["LM/KLM/CLM 50",null,103,null,{"$f":"C53*F49","v":72.099999999999994},null,{"$f":"C53*I49","v":103}]
["LM/KLM 100",null,226,null,{"$f":"C54*F49","v":158.19999999999999},null,{"$f":"C54*I49","v":226}]
["CLM 100",null,247,null,{"$f":"C55*F49","v":172.89999999999998},null,{"$f":"C55*I49","v":247}]
["LM/CLM 200",null,415,null,{"$f":"C56*F49","v":290.5},null,{"$f":"C56*I49","v":415}]
["LM/KLM 300",null,633,null,{"$f":"C57*F49","v":443.09999999999997},null,{"$f":"C57*I49","v":633}]
["PMP 16",null,100,null,{"$f":"C58*F49","v":70},null,{"$f":"C58*I49","v":100}]
["PMP 25",null,250,null,{"$f":"C59*F49","v":175},null,{"$f":"C59*I49","v":250}]
["CLM 08",null,25,null,{"$f":"C60*F49","v":17.5},null,{"$f":"C60*I49","v":25}]
["CLM 10 ",null,39,null,{"$f":"C61*F49","v":27.299999999999997},null,{"$f":"C61*I49","v":39}]
[]
[]
[]
[]
[]
[]
["Geschwindigkeitsfaktor Va"]
[]
["Faktor Va zur Berechnung der Aufparallgeschindigkeit in den Endlagen",null,null,null,"Va="]
["( Aufprallgeschindigkeit = Durchschnittsgeschwindigkeit x Va )",null,null,null,1.75]
[]
[]
["Maximalwerte für Mx,My,Mz,Fz von KLM-Modulen"]
["( My zul errechnet sich aus Fz )"]
[]
["Modultyp","Mxzul=Mzzul","Fz"]
[]
["KLM 25-H25",10.5,224]
["KLM 25-H42",9.5,143]
["KLM 25-H59",8.5,98]
[]
["KLM 50-H25",23,570]
["KLM 50-H50",30.5,462]
["KLM 50-H75",29,325]
["KLM 50-H100",26.5,225]
["KLM 50-H125",23.5,165]
[]
["KLM 100-H25",32.5,1000]
["KLM 100-H75",57.5,530]
["KLM 100-H125",58.5,450]
["KLM 100-H175",52,285]
["KLM 100-H225",44.5,195]
[]
["KLM 300-H100",200,3120]
["KLM 300-H200",350,2490]
["KLM 300-H300",415,1870]