{"text_format":"1","workbook":"xlsx","n_sheets":2,"sheets":["Katalogdaten","Technische_Daten"],"not_rendered":{"charts":1,"images":1,"macros":0,"external_links":0,"defined_names":1,"comments":1,"pivot_tables":0},"unopened":[],"bounds":{"document_bytes":16777216,"sheet_cells":100000,"rows_first":2000,"rows_last":500,"rows_between":2000,"halvings":0,"cell_chars":16384,"cell_head_chars":4096},"cells_cut":0,"cells_raw":0,"read":"whole","date_system":"1900"}

{"sheet":"Katalogdaten","index":0,"n_rows":34,"n_cols":13,"rows_kept":34,"cut":false,"hidden":false,"merged":[[24,9,24,14],[3,9,3,14]]}
[]
[]
[]
[null,"Input box LOG nominal value",null,30,60,80,99,null,null,"Values count for chosen LOG version in first column"]
[null,"Description",null,{"$f":"VLOOKUP(D6,Technische_Daten!10:89,8,FALSE)","v":"LOG 30,0-M16x1-M5"},{"$f":"VLOOKUP(E6,Technische_Daten!10:89,8,FALSE)","v":"LOG 60,0-M16x1-M5"},{"$f":"VLOOKUP(F6,Technische_Daten!10:89,8,FALSE)","v":"LOG 80,0-M20x1,5-G1/8"},{"$f":"VLOOKUP(G6,Technische_Daten!10:89,8,FALSE)","v":"LOG 99,0-M20x1,5-G1/8"}]
[null,"Ident.-no.",null,{"$f":"CONCATENATE(\"03989\",D4)","v":"0398930"},{"$f":"CONCATENATE(\"03989\",E4)","v":"0398960"},{"$f":"CONCATENATE(\"03989\",F4)","v":"0398980"},"0398999"]
[null,"Gripper-Ø D +/- 0.1","[mm]",{"$f":"VLOOKUP(D6,Technische_Daten!10:89,4,FALSE)","v":29.7},{"$f":"VLOOKUP(E6,Technische_Daten!10:89,4,FALSE)","v":59.4},{"$f":"VLOOKUP(F6,Technische_Daten!10:89,4,FALSE)","v":79.2},{"$f":"VLOOKUP(G6,Technische_Daten!10:89,4,FALSE)","v":98.01}]
[null,"Height H","[mm]",{"$f":"VLOOKUP(D6,Technische_Daten!10:89,5,FALSE)","v":43.499999999999993},{"$f":"VLOOKUP(E6,Technische_Daten!10:89,5,FALSE)","v":70.499999999999972},{"$f":"VLOOKUP(F6,Technische_Daten!10:89,5,FALSE)","v":93.999999999999943},{"$f":"VLOOKUP(G6,Technische_Daten!10:89,5,FALSE)","v":116.32499999999992}]
[null,"Mounting thread A","[]",{"$f":"VLOOKUP(D6,Technische_Daten!10:89,6,FALSE)","v":"M16x1"},{"$f":"VLOOKUP(E6,Technische_Daten!10:89,6,FALSE)","v":"M16x1"},{"$f":"VLOOKUP(F6,Technische_Daten!10:89,6,FALSE)","v":"M20x1,5"},{"$f":"VLOOKUP(G6,Technische_Daten!10:89,6,FALSE)","v":"M20x1,5"}]
[null,"Air connection thread B","[]",{"$f":"VLOOKUP(D6,Technische_Daten!10:89,7,FALSE)","v":"M5"},{"$f":"VLOOKUP(E6,Technische_Daten!10:89,7,FALSE)","v":"M5"},{"$f":"VLOOKUP(F6,Technische_Daten!10:89,7,FALSE)","v":"G1/8"},{"$f":"VLOOKUP(G6,Technische_Daten!10:89,7,FALSE)","v":"G1/8"}]
[null,"Workpiece-Ø D min *","[mm]",{"$f":"VLOOKUP(D6,Technische_Daten!10:89,20,FALSE)","v":30},{"$f":"VLOOKUP(E6,Technische_Daten!10:89,20,FALSE)","v":60},{"$f":"VLOOKUP(F6,Technische_Daten!10:89,20,FALSE)","v":80},{"$f":"VLOOKUP(G6,Technische_Daten!10:89,20,FALSE)","v":99}]
[null,"Workpiece-Ø D max","[mm]",{"$f":"VLOOKUP(D6,Technische_Daten!10:89,21,FALSE)","v":31.787499999999998},{"$f":"VLOOKUP(E6,Technische_Daten!10:89,21,FALSE)","v":66.128571428571433},{"$f":"VLOOKUP(F6,Technische_Daten!10:89,21,FALSE)","v":88.7},{"$f":"VLOOKUP(G6,Technische_Daten!10:89,21,FALSE)","v":110.7}]
[null,"Opening force Ø D min **","[N]",{"$f":"VLOOKUP(D6,Technische_Daten!10:89,22,FALSE)","v":136.86274509803911},{"$f":"VLOOKUP(E6,Technische_Daten!10:89,22,FALSE)","v":596.6904761904766},{"$f":"VLOOKUP(F6,Technische_Daten!10:89,22,FALSE)","v":972.73333333333267},{"$f":"VLOOKUP(G6,Technische_Daten!10:89,22,FALSE)","v":2516.6666666666679}]
[null,"Opening force Ø D max **","[N]",{"$f":"VLOOKUP(D6,Technische_Daten!10:89,23,FALSE)","v":40},{"$f":"VLOOKUP(E6,Technische_Daten!10:89,23,FALSE)","v":190.47619047619048},{"$f":"VLOOKUP(F6,Technische_Daten!10:89,23,FALSE)","v":433.33333333333337},{"$f":"VLOOKUP(G6,Technische_Daten!10:89,23,FALSE)","v":1166.6666666666667}]
[null,"Weight","[kg]",{"$f":"VLOOKUP(D6,Technische_Daten!10:89,11,FALSE)","v":0.02},{"$f":"VLOOKUP(E6,Technische_Daten!10:89,11,FALSE)","v":0.10842857142857143},{"$f":"VLOOKUP(F6,Technische_Daten!10:89,11,FALSE)","v":0.23799999999999999},{"$f":"VLOOKUP(G6,Technische_Daten!10:89,11,FALSE)","v":0.44}]
[null,"Recommended workpiece weight","[kg]",{"$f":"VLOOKUP(D6,Technische_Daten!10:89,12,FALSE)","v":0.69756750814494961},{"$f":"VLOOKUP(E6,Technische_Daten!10:89,12,FALSE)","v":3.0412358623367819},{"$f":"VLOOKUP(F6,Technische_Daten!10:89,12,FALSE)","v":4.9578661230037344},{"$f":"VLOOKUP(G6,Technische_Daten!10:89,12,FALSE)","v":12.827047230716962}]
[null,"Air consumption per double stroke","[cm3]",{"$f":"VLOOKUP(D6,Technische_Daten!10:89,14,FALSE)","v":8.6},{"$f":"VLOOKUP(E6,Technische_Daten!10:89,14,FALSE)","v":28.823571428571427},{"$f":"VLOOKUP(F6,Technische_Daten!10:89,14,FALSE)","v":65.339699999999993},{"$f":"VLOOKUP(G6,Technische_Daten!10:89,14,FALSE)","v":122.79900000000001}]
[null,"Max. operating pressure **","[bar]",{"$f":"VLOOKUP(D6,Technische_Daten!10:89,15,FALSE)","v":6},{"$f":"VLOOKUP(E6,Technische_Daten!10:89,15,FALSE)","v":6},{"$f":"VLOOKUP(F6,Technische_Daten!10:89,15,FALSE)","v":6},{"$f":"VLOOKUP(G6,Technische_Daten!10:89,15,FALSE)","v":6}]
[null,"Nominal operating pressure","[bar]",{"$f":"VLOOKUP(D6,Technische_Daten!10:89,16,FALSE)","v":6},{"$f":"VLOOKUP(E6,Technische_Daten!10:89,16,FALSE)","v":6},{"$f":"VLOOKUP(F6,Technische_Daten!10:89,16,FALSE)","v":6},{"$f":"VLOOKUP(G6,Technische_Daten!10:89,16,FALSE)","v":6}]
[null,"Closing / opening time","[s]",{"$f":"VLOOKUP(D6,Technische_Daten!10:89,18,FALSE)","v":"0,06/0,06"},{"$f":"VLOOKUP(E6,Technische_Daten!10:89,18,FALSE)","v":"0,14/0,14"},{"$f":"VLOOKUP(F6,Technische_Daten!10:89,18,FALSE)","v":"0,22/0,22"},{"$f":"VLOOKUP(G6,Technische_Daten!10:89,18,FALSE)","v":"0,44/0,44"}]
[null,"Min./max. ambient temperature","[°C]",{"$f":"VLOOKUP(D6,Technische_Daten!10:89,19,FALSE)","v":"-40/80"},{"$f":"VLOOKUP(E6,Technische_Daten!10:89,19,FALSE)","v":"-40/80"},{"$f":"VLOOKUP(F6,Technische_Daten!10:89,19,FALSE)","v":"-40/80"},{"$f":"VLOOKUP(G6,Technische_Daten!10:89,19,FALSE)","v":"-40/80"}]
[null,"Housing material","[]","PA12","PA12","PA12","PA12"]
[null,"IP class ","[]",27,27,27,27]
[]
[null,null,null,null,null,null,null,null,null,"Auslegungshilfe für LOG"]
[null,"* Note reference creep",null,null,null,null,null,null,null,"m",{"$f":"(D14-D13)/(D12-D11)","v":-54.188948306595371},"Steigung"]
[null,"** The gripping force can be set directly by the operating pressure. At a lower pressure than the nominal working pressure the full stroke cannot be achieved .",null,null,null,null,null,null,null,"x",31,"Workpiece-Ø",{"$f":"CONCATENATE(\"permitted values: Ø\",ROUND(D11,2),\" bis Ø\",ROUND(D12,2))","v":"permitted values: Ø30 bis Ø31,79"}]
[null,null,null,null,null,null,null,null,null,"b",{"$f":"D14-K26*D12","v":1762.5311942959001},"Y-Achsenschnitt"]
[null,"The LOG hole gripper may not be actuated with compressed air over time (> 1 hour).  (eg. machine breakdown or overnight).",null,null,null,null,null,null,null,"y",{"$f":"K26*K27+K28","v":82.673796791443692},"calculate opening force at given Ø"]
[null,"In addition, idle strokes should be avoided (Opening of the gripper without workpiece).",null,null,null,null,null,null,null,"µ",0.1,"Input adhesion factor"]
[null,null,null,null,null,null,null,null,null,"S",2,"Input safety"]
[null,null,null,null,null,null,null,null,null,"g",9.81,"Input acceleration"]
[]
[null,null,null,null,null,null,null,null,null,"m",{"$f":"K29*K30/(K32*K31)","v":0.42137511106750097},"calculated workpiece weight at given Ø"]

{"sheet":"Technische_Daten","index":1,"n_rows":187,"n_cols":23,"rows_kept":187,"cut":false,"hidden":true,"merged":[]}
[]
[]
[]
[null,null,null,null,null,null,null,null,null,null,null,"PA2200/Alu (0,15)"]
[null,null,null,null,null,null,null,null,null,null,"ermittelter Reibwert",0.15]
[]
["PIM",null,null,"PIM","PIM","PIM","PIM","PIM",null,null,"PIM","PIM",null,"PIM","PIM","PIM",null,"PIM","PIM","PIM","PIM","PIM","PIM"]
[1,2,3,4,5,6,7,8,9,10,11,12,13,14,15,16,17,18,19,20,21,22,23]
["Ident-\nnummer","NennØ","Art","ØD","H","A","B","Bezeichnung","Eigen-\nmasse\naus Pro/E\n[kg]","Eigen-\nmasse\ngemessen\n[kg]","Eigen-\nmasse\nangegeben\n[kg]","empfohlenes\nWerkstück-\ngewicht berechnet\n[kg]","Fluidverbrauch pro Doppelhub (Volumen Pro/E)\n[cm^3]","Fluidverbrauch pro Doppelhub angegeben\n[cm^3]","max\nBetriebsdruck\n[bar]","Nenn-betriebsdruck\n[bar]","Schließ-/\nÖffnungszeit\ngemessen\n[s]","Schließ-/\nÖffnungszeit\nangegeben\n[s]","min/max\nUmgebungs-\ntemperatur\n[°C]","dmin\n(6 bar)","dmax \nKatalog\nangegeben\n(6 bar)","F(dmin)\nberechnete Greifkraft \n6 bar","F(dmax)\nberechnete Greifkraft\n6 bar"]
["0398920",20,"Schnappscheibe",{"$f":"0.99*B10","v":19.8},29,{"$f":"IF(AND(B10<=25,B10>=20),\"M14x1,5\",IF(B10<=63,\"M16x1\",IF(B10<=99,\"M20x1,5\",\"???\")))","v":"M14x1,5"},"M5",{"$f":"CONCATENATE(\"LOG \",FIXED(Tabelle1[[#This Row],[NennØ]],1),\"-\",Tabelle1[[#This Row],[A]],\"-\",Tabelle1[[#This Row],[B]])","v":"LOG 20,0-M14x1,5-M5"},7.7844468399999997E-3,8.0000000000000002E-3,{"$f":"Tabelle1[[#This Row],[Eigen-\nmasse\ngemessen\n'[kg']]]","v":8.0000000000000002E-3},{"$f":"0.1*Tabelle1[[#This Row],[F(dmin)\nberechnete Greifkraft \n6 bar]]/9.81/2","v":0.54662112365961812},2.35,{"$f":"Tabelle1[[#This Row],[Fluidverbrauch pro Doppelhub (Volumen Pro/E)\n'[cm^3']]]","v":2.35},6,6,"0,05/0,05",{"$f":"Tabelle1[[#This Row],[Schließ-/\nÖffnungszeit\ngemessen\n'[s']]]","v":"0,05/0,05"},"-40/80",{"$f":"Tabelle1[[#This Row],[NennØ]]","v":20},20.297749999999997,107.24706446201708,27.333333333333332]
["0398921",21,"Schnappscheibe",20.79,{"$f":"E10*Tabelle1[[#This Row],[NennØ]]/B10","v":30.45},"M14x1,5","M5",{"$f":"CONCATENATE(\"LOG \",FIXED(Tabelle1[[#This Row],[NennØ]],1),\"-\",Tabelle1[[#This Row],[A]],\"-\",Tabelle1[[#This Row],[B]])","v":"LOG 21,0-M14x1,5-M5"},"keine Messung","keine Messung",{"$f":"(($K$15-$K$10)/($B$15-$B$10))*Tabelle1[[#This Row],[NennØ]]+$K$15-$B$15*(($K$15-$K$10)/($B$15-$B$10))","v":8.8000000000000023E-3},{"$f":"0.1*Tabelle1[[#This Row],[F(dmin)\nberechnete Greifkraft \n6 bar]]/9.81/2","v":0.55007850202224118},"keine Messung",{"$f":"(($N$15-$N$10)/($B$15-$B$10))*Tabelle1[[#This Row],[NennØ]]+$N$15-$B$15*(($N$15-$N$10)/($B$15-$B$10))","v":2.8400000000000016},6,6,"keine Messung","0,05/0,05","-40/80",{"$f":"Tabelle1[[#This Row],[NennØ]]","v":21},21.411899999999999,107.92540209676372,28.533333333333331]
["0398922",22,"Schnappscheibe",21.78,{"$f":"E11*Tabelle1[[#This Row],[NennØ]]/B11","v":31.9},"M14x1,5","M5",{"$f":"CONCATENATE(\"LOG \",FIXED(Tabelle1[[#This Row],[NennØ]],1),\"-\",Tabelle1[[#This Row],[A]],\"-\",Tabelle1[[#This Row],[B]])","v":"LOG 22,0-M14x1,5-M5"},"keine Messung","keine Messung",{"$f":"(($K$15-$K$10)/($B$15-$B$10))*Tabelle1[[#This Row],[NennØ]]+$K$15-$B$15*(($K$15-$K$10)/($B$15-$B$10))","v":9.6000000000000009E-3},{"$f":"0.1*Tabelle1[[#This Row],[F(dmin)\nberechnete Greifkraft \n6 bar]]/9.81/2","v":0.56400671255443657},"keine Messung",{"$f":"(($N$15-$N$10)/($B$15-$B$10))*Tabelle1[[#This Row],[NennØ]]+$N$15-$B$15*(($N$15-$N$10)/($B$15-$B$10))","v":3.33},6,6,"keine Messung","0,05/0,05","-40/80",{"$f":"Tabelle1[[#This Row],[NennØ]]","v":22},22.526050000000001,110.65811700318045,29.733333333333334]
["0398923",23,"Schnappscheibe",22.77,{"$f":"E12*Tabelle1[[#This Row],[NennØ]]/B12","v":33.349999999999994},"M14x1,5","M5",{"$f":"CONCATENATE(\"LOG \",FIXED(Tabelle1[[#This Row],[NennØ]],1),\"-\",Tabelle1[[#This Row],[A]],\"-\",Tabelle1[[#This Row],[B]])","v":"LOG 23,0-M14x1,5-M5"},"keine Messung","keine Messung",{"$f":"(($K$15-$K$10)/($B$15-$B$10))*Tabelle1[[#This Row],[NennØ]]+$K$15-$B$15*(($K$15-$K$10)/($B$15-$B$10))","v":1.04E-2},{"$f":"0.1*Tabelle1[[#This Row],[F(dmin)\nberechnete Greifkraft \n6 bar]]/9.81/2","v":0.58226869110254353},"keine Messung",{"$f":"(($N$15-$N$10)/($B$15-$B$10))*Tabelle1[[#This Row],[NennØ]]+$N$15-$B$15*(($N$15-$N$10)/($B$15-$B$10))","v":3.8199999999999985},6,6,"keine Messung","0,05/0,05","-40/80",{"$f":"Tabelle1[[#This Row],[NennØ]]","v":23},23.640200000000004,114.24111719431903,30.933333333333334]
["0398924",24,"Schnappscheibe",23.759999999999998,{"$f":"E13*Tabelle1[[#This Row],[NennØ]]/B13","v":34.799999999999997},"M14x1,5","M5",{"$f":"CONCATENATE(\"LOG \",FIXED(Tabelle1[[#This Row],[NennØ]],1),\"-\",Tabelle1[[#This Row],[A]],\"-\",Tabelle1[[#This Row],[B]])","v":"LOG 24,0-M14x1,5-M5"},"keine Messung","keine Messung",{"$f":"(($K$15-$K$10)/($B$15-$B$10))*Tabelle1[[#This Row],[NennØ]]+$K$15-$B$15*(($K$15-$K$10)/($B$15-$B$10))","v":1.1200000000000002E-2},{"$f":"0.1*Tabelle1[[#This Row],[F(dmin)\nberechnete Greifkraft \n6 bar]]/9.81/2","v":0.60273951701197381},"keine Messung",{"$f":"(($N$15-$N$10)/($B$15-$B$10))*Tabelle1[[#This Row],[NennØ]]+$N$15-$B$15*(($N$15-$N$10)/($B$15-$B$10))","v":4.3100000000000005},6,6,"keine Messung","0,05/0,05","-40/80",{"$f":"Tabelle1[[#This Row],[NennØ]]","v":24},24.754350000000002,118.25749323774926,32.13333333333334]
["0398925",25,"Schnappscheibe",24.75,{"$f":"E14*Tabelle1[[#This Row],[NennØ]]/B14","v":36.249999999999993},"M14x1,5","M5",{"$f":"CONCATENATE(\"LOG \",FIXED(Tabelle1[[#This Row],[NennØ]],1),\"-\",Tabelle1[[#This Row],[A]],\"-\",Tabelle1[[#This Row],[B]])","v":"LOG 25,0-M14x1,5-M5"},1.1936234E-2,1.2E-2,{"$f":"Tabelle1[[#This Row],[Eigen-\nmasse\ngemessen\n'[kg']]]","v":1.2E-2},{"$f":"0.1*Tabelle1[[#This Row],[F(dmin)\nberechnete Greifkraft \n6 bar]]/9.81/2","v":0.62448829864123645},4.8,{"$f":"Tabelle1[[#This Row],[Fluidverbrauch pro Doppelhub (Volumen Pro/E)\n'[cm^3']]]","v":4.8},6,6,"0,05/0,05",{"$f":"Tabelle1[[#This Row],[Schließ-/\nÖffnungszeit\ngemessen\n'[s']]]","v":"0,05/0,05"},"-40/80",{"$f":"Tabelle1[[#This Row],[NennØ]]","v":25},25.868500000000001,122.5246041934106,33.333333333333336]
["0398926",26,"Schnappscheibe",25.74,{"$f":"E15*Tabelle1[[#This Row],[NennØ]]/B15","v":37.699999999999989},"M16x1","M5",{"$f":"CONCATENATE(\"LOG \",FIXED(Tabelle1[[#This Row],[NennØ]],1),\"-\",Tabelle1[[#This Row],[A]],\"-\",Tabelle1[[#This Row],[B]])","v":"LOG 26,0-M16x1-M5"},"keine Messung","keine Messung",{"$f":"(($K$20-$K$15)/($B$20-$B$15))*Tabelle1[[#This Row],[NennØ]]+$K$20-$B$20*(($K$20-$K$15)/($B$20-$B$15))","v":1.3600000000000001E-2},{"$f":"0.1*Tabelle1[[#This Row],[F(dmin)\nberechnete Greifkraft \n6 bar]]/9.81/2","v":0.6407564641449055},"keine Messung",{"$f":"(($N$20-$N$15)/($B$20-$B$15))*Tabelle1[[#This Row],[NennØ]]+$N$20-$B$20*(($N$20-$N$15)/($B$20-$B$15))","v":5.5599999999999987},6,6,"keine Messung","0,05/0,05","-40/80",{"$f":"Tabelle1[[#This Row],[NennØ]]","v":26},27.052299999999995,125.71641826523046,34.666666666666671]
["0398927",27,"Schnappscheibe",26.73,{"$f":"E16*Tabelle1[[#This Row],[NennØ]]/B16","v":39.149999999999984},"M16x1","M5",{"$f":"CONCATENATE(\"LOG \",FIXED(Tabelle1[[#This Row],[NennØ]],1),\"-\",Tabelle1[[#This Row],[A]],\"-\",Tabelle1[[#This Row],[B]])","v":"LOG 27,0-M16x1-M5"},"keine Messung","keine Messung",{"$f":"(($K$20-$K$15)/($B$20-$B$15))*Tabelle1[[#This Row],[NennØ]]+$K$20-$B$20*(($K$20-$K$15)/($B$20-$B$15))","v":1.5200000000000005E-2},{"$f":"0.1*Tabelle1[[#This Row],[F(dmin)\nberechnete Greifkraft \n6 bar]]/9.81/2","v":0.65584429029834335},"keine Messung",{"$f":"(($N$20-$N$15)/($B$20-$B$15))*Tabelle1[[#This Row],[NennØ]]+$N$20-$B$20*(($N$20-$N$15)/($B$20-$B$15))","v":6.3199999999999967},6,6,"keine Messung","0,06/0,06","-40/80",{"$f":"Tabelle1[[#This Row],[NennØ]]","v":27},28.2361,128.67664975653497,36.000000000000007]
["0398928",28,"Schnappscheibe",27.72,{"$f":"E17*Tabelle1[[#This Row],[NennØ]]/B17","v":40.599999999999987},"M16x1","M5",{"$f":"CONCATENATE(\"LOG \",FIXED(Tabelle1[[#This Row],[NennØ]],1),\"-\",Tabelle1[[#This Row],[A]],\"-\",Tabelle1[[#This Row],[B]])","v":"LOG 28,0-M16x1-M5"},"keine Messung","keine Messung",{"$f":"(($K$20-$K$15)/($B$20-$B$15))*Tabelle1[[#This Row],[NennØ]]+$K$20-$B$20*(($K$20-$K$15)/($B$20-$B$15))","v":1.6799999999999995E-2},{"$f":"0.1*Tabelle1[[#This Row],[F(dmin)\nberechnete Greifkraft \n6 bar]]/9.81/2","v":0.67019452271374269},"keine Messung",{"$f":"(($N$20-$N$15)/($B$20-$B$15))*Tabelle1[[#This Row],[NennØ]]+$N$20-$B$20*(($N$20-$N$15)/($B$20-$B$15))","v":7.0800000000000018},6,6,"keine Messung","0,06/0,06","-40/80",{"$f":"Tabelle1[[#This Row],[NennØ]]","v":28},29.419900000000002,131.49216535643632,37.333333333333336]
["0398929",29,"Schnappscheibe",28.71,{"$f":"E18*Tabelle1[[#This Row],[NennØ]]/B18","v":42.04999999999999},"M16x1","M5",{"$f":"CONCATENATE(\"LOG \",FIXED(Tabelle1[[#This Row],[NennØ]],1),\"-\",Tabelle1[[#This Row],[A]],\"-\",Tabelle1[[#This Row],[B]])","v":"LOG 29,0-M16x1-M5"},"keine Messung","keine Messung",{"$f":"(($K$20-$K$15)/($B$20-$B$15))*Tabelle1[[#This Row],[NennØ]]+$K$20-$B$20*(($K$20-$K$15)/($B$20-$B$15))","v":1.84E-2},{"$f":"0.1*Tabelle1[[#This Row],[F(dmin)\nberechnete Greifkraft \n6 bar]]/9.81/2","v":0.68405308440667789},"keine Messung",{"$f":"(($N$20-$N$15)/($B$20-$B$15))*Tabelle1[[#This Row],[NennØ]]+$N$20-$B$20*(($N$20-$N$15)/($B$20-$B$15))","v":7.84},6,6,"keine Messung","0,06/0,06","-40/80",{"$f":"Tabelle1[[#This Row],[NennØ]]","v":29},30.603699999999996,134.2112151605902,38.666666666666671]
["0398930",30,"Schnappscheibe",29.7,{"$f":"E19*Tabelle1[[#This Row],[NennØ]]/B19","v":43.499999999999993},"M16x1","M5",{"$f":"CONCATENATE(\"LOG \",FIXED(Tabelle1[[#This Row],[NennØ]],1),\"-\",Tabelle1[[#This Row],[A]],\"-\",Tabelle1[[#This Row],[B]])","v":"LOG 30,0-M16x1-M5"},1.8530765000000001E-2,0.02,{"$f":"Tabelle1[[#This Row],[Eigen-\nmasse\ngemessen\n'[kg']]]","v":0.02},{"$f":"0.1*Tabelle1[[#This Row],[F(dmin)\nberechnete Greifkraft \n6 bar]]/9.81/2","v":0.69756750814494961},8.6,{"$f":"Tabelle1[[#This Row],[Fluidverbrauch pro Doppelhub (Volumen Pro/E)\n'[cm^3']]]","v":8.6},6,6,"keine Messung","0,06/0,06","-40/80",{"$f":"Tabelle1[[#This Row],[NennØ]]","v":30},31.787499999999998,136.86274509803911,40]
["0398931",31,"Schnappscheibe",30.69,{"$f":"E20*Tabelle1[[#This Row],[NennØ]]/B20","v":44.949999999999996},"M16x1","M5",{"$f":"CONCATENATE(\"LOG \",FIXED(Tabelle1[[#This Row],[NennØ]],1),\"-\",Tabelle1[[#This Row],[A]],\"-\",Tabelle1[[#This Row],[B]])","v":"LOG 31,0-M16x1-M5"},"keine Messung","keine Messung",{"$f":"(($K$20-$K$15)/($B$20-$B$15))*Tabelle1[[#This Row],[NennØ]]+$K$20-$B$20*(($K$20-$K$15)/($B$20-$B$15))","v":2.1600000000000008E-2},{"$f":"0.1*Tabelle1[[#This Row],[F(dmin)\nberechnete Greifkraft \n6 bar]]/9.81/2","v":0.71083166798502984},"keine Messung",{"$f":"(($N$20-$N$15)/($B$20-$B$15))*Tabelle1[[#This Row],[NennØ]]+$N$20-$B$20*(($N$20-$N$15)/($B$20-$B$15))","v":9.3599999999999959},6,6,"keine Messung","0,06/0,06","-40/80",{"$f":"Tabelle1[[#This Row],[NennØ]]","v":31},32.971299999999992,139.46517325866284,41.333333333333336]
["0398932",32,"Faltenbalg",{"$f":"0.99*B22","v":31.68},37.6,"M16x1","M5",{"$f":"CONCATENATE(\"LOG \",FIXED(Tabelle1[[#This Row],[NennØ]],1),\"-\",Tabelle1[[#This Row],[A]],\"-\",Tabelle1[[#This Row],[B]])","v":"LOG 32,0-M16x1-M5"},1.8111387E-2,0.02,{"$f":"Tabelle1[[#This Row],[Eigen-\nmasse\ngemessen\n'[kg']]]","v":0.02},{"$f":"0.1*Tabelle1[[#This Row],[F(dmin)\nberechnete Greifkraft \n6 bar]]/9.81/2","v":0.68068829556258803},3.95,{"$f":"Tabelle1[[#This Row],[Fluidverbrauch pro Doppelhub (Volumen Pro/E)\n'[cm^3']]]","v":3.95},6,6,"0,06/0,06",{"$f":"Tabelle1[[#This Row],[Schließ-/\nÖffnungszeit\ngemessen\n'[s']]]","v":"0,06/0,06"},"-40/80",{"$f":"Tabelle1[[#This Row],[NennØ]]","v":32},34.221500000000006,133.55104358937979,20]
["0398933",33,"Faltenbalg",32.67,{"$f":"E22*Tabelle1[[#This Row],[NennØ]]/B22","v":38.774999999999999},"M16x1","M5",{"$f":"CONCATENATE(\"LOG \",FIXED(Tabelle1[[#This Row],[NennØ]],1),\"-\",Tabelle1[[#This Row],[A]],\"-\",Tabelle1[[#This Row],[B]])","v":"LOG 33,0-M16x1-M5"},"keine Messung","keine Messung",{"$f":"(($K$30-$K$22)/($B$30-$B$22))*Tabelle1[[#This Row],[NennØ]]+$K$30-$B$30*(($K$30-$K$22)/($B$30-$B$22))","v":2.1750000000000005E-2},{"$f":"0.1*Tabelle1[[#This Row],[F(dmin)\nberechnete Greifkraft \n6 bar]]/9.81/2","v":0.75395751583327464},"keine Messung",{"$f":"(($N$30-$N$22)/($B$30-$B$22))*Tabelle1[[#This Row],[NennØ]]+$N$30-$B$30*(($N$30-$N$22)/($B$30-$B$22))","v":4.4824999999999982},6,6,"keine Messung","0,06/0,06","-40/80",{"$f":"Tabelle1[[#This Row],[NennØ]]","v":33},35.490125000000006,147.92646460648848,25.833333333333336]
["0398934",34,"Faltenbalg",33.659999999999997,{"$f":"E23*Tabelle1[[#This Row],[NennØ]]/B23","v":39.949999999999996},"M16x1","M5",{"$f":"CONCATENATE(\"LOG \",FIXED(Tabelle1[[#This Row],[NennØ]],1),\"-\",Tabelle1[[#This Row],[A]],\"-\",Tabelle1[[#This Row],[B]])","v":"LOG 34,0-M16x1-M5"},"keine Messung","keine Messung",{"$f":"(($K$30-$K$22)/($B$30-$B$22))*Tabelle1[[#This Row],[NennØ]]+$K$30-$B$30*(($K$30-$K$22)/($B$30-$B$22))","v":2.3500000000000007E-2},{"$f":"0.1*Tabelle1[[#This Row],[F(dmin)\nberechnete Greifkraft \n6 bar]]/9.81/2","v":0.82539924723111557},"keine Messung",{"$f":"(($N$30-$N$22)/($B$30-$B$22))*Tabelle1[[#This Row],[NennØ]]+$N$30-$B$30*(($N$30-$N$22)/($B$30-$B$22))","v":5.0150000000000006},6,6,"keine Messung","0,06/0,06","-40/80",{"$f":"Tabelle1[[#This Row],[NennØ]]","v":34},36.758750000000006,161.94333230674488,31.666666666666668]
["0398935",35,"Faltenbalg",34.65,{"$f":"E24*Tabelle1[[#This Row],[NennØ]]/B24","v":41.124999999999993},"M16x1","M5",{"$f":"CONCATENATE(\"LOG \",FIXED(Tabelle1[[#This Row],[NennØ]],1),\"-\",Tabelle1[[#This Row],[A]],\"-\",Tabelle1[[#This Row],[B]])","v":"LOG 35,0-M16x1-M5"},"keine Messung","keine Messung",{"$f":"(($K$30-$K$22)/($B$30-$B$22))*Tabelle1[[#This Row],[NennØ]]+$K$30-$B$30*(($K$30-$K$22)/($B$30-$B$22))","v":2.5249999999999995E-2},{"$f":"0.1*Tabelle1[[#This Row],[F(dmin)\nberechnete Greifkraft \n6 bar]]/9.81/2","v":0.89535381792166191},"keine Messung",{"$f":"(($N$30-$N$22)/($B$30-$B$22))*Tabelle1[[#This Row],[NennØ]]+$N$30-$B$30*(($N$30-$N$22)/($B$30-$B$22))","v":5.5474999999999994},6,6,"keine Messung","0,07/0,07","-40/80",{"$f":"Tabelle1[[#This Row],[NennØ]]","v":35},38.027375000000006,175.66841907623007,37.5]
["0398936",36,"Faltenbalg",35.64,{"$f":"E25*Tabelle1[[#This Row],[NennØ]]/B25","v":42.29999999999999},"M16x1","M5",{"$f":"CONCATENATE(\"LOG \",FIXED(Tabelle1[[#This Row],[NennØ]],1),\"-\",Tabelle1[[#This Row],[A]],\"-\",Tabelle1[[#This Row],[B]])","v":"LOG 36,0-M16x1-M5"},"keine Messung","keine Messung",{"$f":"(($K$30-$K$22)/($B$30-$B$22))*Tabelle1[[#This Row],[NennØ]]+$K$30-$B$30*(($K$30-$K$22)/($B$30-$B$22))","v":2.700000000000001E-2},{"$f":"0.1*Tabelle1[[#This Row],[F(dmin)\nberechnete Greifkraft \n6 bar]]/9.81/2","v":0.96408199066274336},"keine Messung",{"$f":"(($N$30-$N$22)/($B$30-$B$22))*Tabelle1[[#This Row],[NennØ]]+$N$30-$B$30*(($N$30-$N$22)/($B$30-$B$22))","v":6.0799999999999983},6,6,"keine Messung","0,07/0,07","-40/80",{"$f":"Tabelle1[[#This Row],[NennØ]]","v":36},39.296000000000006,189.15288656803023,43.333333333333336]
["0398937",37,"Faltenbalg",36.630000000000003,{"$f":"E26*Tabelle1[[#This Row],[NennØ]]/B26","v":43.474999999999994},"M16x1","M5",{"$f":"CONCATENATE(\"LOG \",FIXED(Tabelle1[[#This Row],[NennØ]],1),\"-\",Tabelle1[[#This Row],[A]],\"-\",Tabelle1[[#This Row],[B]])","v":"LOG 37,0-M16x1-M5"},"keine Messung","keine Messung",{"$f":"(($K$30-$K$22)/($B$30-$B$22))*Tabelle1[[#This Row],[NennØ]]+$K$30-$B$30*(($K$30-$K$22)/($B$30-$B$22))","v":2.8750000000000012E-2},{"$f":"0.1*Tabelle1[[#This Row],[F(dmin)\nberechnete Greifkraft \n6 bar]]/9.81/2","v":1.0317869308468703},"keine Messung",{"$f":"(($N$30-$N$22)/($B$30-$B$22))*Tabelle1[[#This Row],[NennØ]]+$N$30-$B$30*(($N$30-$N$22)/($B$30-$B$22))","v":6.6125000000000007},6,6,"keine Messung","0,07/0,07","-40/80",{"$f":"Tabelle1[[#This Row],[NennØ]]","v":37},40.564624999999999,202.43659583215594,49.166666666666671]
["0398938",38,"Faltenbalg",37.619999999999997,{"$f":"E27*Tabelle1[[#This Row],[NennØ]]/B27","v":44.649999999999991},"M16x1","M5",{"$f":"CONCATENATE(\"LOG \",FIXED(Tabelle1[[#This Row],[NennØ]],1),\"-\",Tabelle1[[#This Row],[A]],\"-\",Tabelle1[[#This Row],[B]])","v":"LOG 38,0-M16x1-M5"},"keine Messung","keine Messung",{"$f":"(($K$30-$K$22)/($B$30-$B$22))*Tabelle1[[#This Row],[NennØ]]+$K$30-$B$30*(($K$30-$K$22)/($B$30-$B$22))","v":3.0499999999999999E-2},{"$f":"0.1*Tabelle1[[#This Row],[F(dmin)\nberechnete Greifkraft \n6 bar]]/9.81/2","v":1.0986292769656054},"keine Messung",{"$f":"(($N$30-$N$22)/($B$30-$B$22))*Tabelle1[[#This Row],[NennØ]]+$N$30-$B$30*(($N$30-$N$22)/($B$30-$B$22))","v":7.1449999999999996},6,6,"keine Messung","0,08/0,08","-40/80",{"$f":"Tabelle1[[#This Row],[NennØ]]","v":38},41.83325,215.55106414065176,55]
["0398939",39,"Faltenbalg",38.61,{"$f":"E28*Tabelle1[[#This Row],[NennØ]]/B28","v":45.824999999999989},"M16x1","M5",{"$f":"CONCATENATE(\"LOG \",FIXED(Tabelle1[[#This Row],[NennØ]],1),\"-\",Tabelle1[[#This Row],[A]],\"-\",Tabelle1[[#This Row],[B]])","v":"LOG 39,0-M16x1-M5"},"keine Messung","keine Messung",{"$f":"(($K$30-$K$22)/($B$30-$B$22))*Tabelle1[[#This Row],[NennØ]]+$K$30-$B$30*(($K$30-$K$22)/($B$30-$B$22))","v":3.2250000000000001E-2},{"$f":"0.1*Tabelle1[[#This Row],[F(dmin)\nberechnete Greifkraft \n6 bar]]/9.81/2","v":1.1647377145202724},"keine Messung",{"$f":"(($N$30-$N$22)/($B$30-$B$22))*Tabelle1[[#This Row],[NennØ]]+$N$30-$B$30*(($N$30-$N$22)/($B$30-$B$22))","v":7.6774999999999984},6,6,"keine Messung","0,08/0,08","-40/80",{"$f":"Tabelle1[[#This Row],[NennØ]]","v":39},43.101875,228.52153958887743,60.833333333333336]
["0398940",40,"Faltenbalg",39.6,{"$f":"E29*Tabelle1[[#This Row],[NennØ]]/B29","v":46.999999999999986},"M16x1","M5",{"$f":"CONCATENATE(\"LOG \",FIXED(Tabelle1[[#This Row],[NennØ]],1),\"-\",Tabelle1[[#This Row],[A]],\"-\",Tabelle1[[#This Row],[B]])","v":"LOG 40,0-M16x1-M5"},3.1305567999999999E-2,3.4000000000000002E-2,{"$f":"Tabelle1[[#This Row],[Eigen-\nmasse\ngemessen\n'[kg']]]","v":3.4000000000000002E-2},{"$f":"0.1*Tabelle1[[#This Row],[F(dmin)\nberechnete Greifkraft \n6 bar]]/9.81/2","v":1.2302165444656492},8.2100000000000009,{"$f":"Tabelle1[[#This Row],[Fluidverbrauch pro Doppelhub (Volumen Pro/E)\n'[cm^3']]]","v":8.2100000000000009},6,6,"0,08/0,08",{"$f":"Tabelle1[[#This Row],[Schließ-/\nÖffnungszeit\ngemessen\n'[s']]]","v":"0,08/0,08"},"-40/80",{"$f":"Tabelle1[[#This Row],[NennØ]]","v":40},44.3705,241.36848602416035,66.666666666666671]
["0398941",41,"Faltenbalg",{"$f":"0.99*B31","v":40.589999999999996},{"$f":"E30*Tabelle1[[#This Row],[NennØ]]/B30","v":48.174999999999983},"M16x1","M5",{"$f":"CONCATENATE(\"LOG \",FIXED(Tabelle1[[#This Row],[NennØ]],1),\"-\",Tabelle1[[#This Row],[A]],\"-\",Tabelle1[[#This Row],[B]])","v":"LOG 41,0-M16x1-M5"},"keine Messung","keine Messung",{"$f":"(($K$40-$K$30)/($B$40-$B$30))*Tabelle1[[#This Row],[NennØ]]+$K$40-$B$40*(($K$40-$K$30)/($B$40-$B$30))","v":3.6799999999999999E-2},{"$f":"0.1*Tabelle1[[#This Row],[F(dmin)\nberechnete Greifkraft \n6 bar]]/9.81/2","v":1.3273129416304004},"keine Messung",{"$f":"(($N$40-$N$30)/($B$40-$B$30))*Tabelle1[[#This Row],[NennØ]]+$N$40-$B$40*(($N$40-$N$30)/($B$40-$B$30))","v":8.9750000000000014},6,6,"keine Messung","0,08/0,08","-40/80",{"$f":"Tabelle1[[#This Row],[NennØ]]","v":41},45.403449999999999,260.41879914788456,76.666666666666671]
["0398942",42,"Faltenbalg",41.58,{"$f":"E31*Tabelle1[[#This Row],[NennØ]]/B31","v":49.34999999999998},"M16x1","M5",{"$f":"CONCATENATE(\"LOG \",FIXED(Tabelle1[[#This Row],[NennØ]],1),\"-\",Tabelle1[[#This Row],[A]],\"-\",Tabelle1[[#This Row],[B]])","v":"LOG 42,0-M16x1-M5"},"keine Messung","keine Messung",{"$f":"(($K$40-$K$30)/($B$40-$B$30))*Tabelle1[[#This Row],[NennØ]]+$K$40-$B$40*(($K$40-$K$30)/($B$40-$B$30))","v":3.9599999999999996E-2},{"$f":"0.1*Tabelle1[[#This Row],[F(dmin)\nberechnete Greifkraft \n6 bar]]/9.81/2","v":1.424543015810499},"keine Messung",{"$f":"(($N$40-$N$30)/($B$40-$B$30))*Tabelle1[[#This Row],[NennØ]]+$N$40-$B$40*(($N$40-$N$30)/($B$40-$B$30))","v":9.740000000000002},6,6,"keine Messung","0,08/0,08","-40/80",{"$f":"Tabelle1[[#This Row],[NennØ]]","v":42},46.436399999999999,279.49533970201992,86.666666666666671]
["0398943",43,"Faltenbalg",42.57,{"$f":"E32*Tabelle1[[#This Row],[NennØ]]/B32","v":50.524999999999984},"M16x1","M5",{"$f":"CONCATENATE(\"LOG \",FIXED(Tabelle1[[#This Row],[NennØ]],1),\"-\",Tabelle1[[#This Row],[A]],\"-\",Tabelle1[[#This Row],[B]])","v":"LOG 43,0-M16x1-M5"},"keine Messung","keine Messung",{"$f":"(($K$40-$K$30)/($B$40-$B$30))*Tabelle1[[#This Row],[NennØ]]+$K$40-$B$40*(($K$40-$K$30)/($B$40-$B$30))","v":4.2399999999999993E-2},{"$f":"0.1*Tabelle1[[#This Row],[F(dmin)\nberechnete Greifkraft \n6 bar]]/9.81/2","v":1.5219044766313006},"keine Messung",{"$f":"(($N$40-$N$30)/($B$40-$B$30))*Tabelle1[[#This Row],[NennØ]]+$N$40-$B$40*(($N$40-$N$30)/($B$40-$B$30))","v":10.505000000000003},6,6,"keine Messung","0,08/0,08","-40/80",{"$f":"Tabelle1[[#This Row],[NennØ]]","v":43},47.469349999999999,298.59765831506115,96.666666666666671]
["0398944",44,"Faltenbalg",43.56,{"$f":"E33*Tabelle1[[#This Row],[NennØ]]/B33","v":51.699999999999989},"M16x1","M5",{"$f":"CONCATENATE(\"LOG \",FIXED(Tabelle1[[#This Row],[NennØ]],1),\"-\",Tabelle1[[#This Row],[A]],\"-\",Tabelle1[[#This Row],[B]])","v":"LOG 44,0-M16x1-M5"},"keine Messung","keine Messung",{"$f":"(($K$40-$K$30)/($B$40-$B$30))*Tabelle1[[#This Row],[NennØ]]+$K$40-$B$40*(($K$40-$K$30)/($B$40-$B$30))","v":4.519999999999999E-2},{"$f":"0.1*Tabelle1[[#This Row],[F(dmin)\nberechnete Greifkraft \n6 bar]]/9.81/2","v":1.6193950857443198},"keine Messung",{"$f":"(($N$40-$N$30)/($B$40-$B$30))*Tabelle1[[#This Row],[NennØ]]+$N$40-$B$40*(($N$40-$N$30)/($B$40-$B$30))","v":11.270000000000003},6,6,"keine Messung","0,09/0,09","-40/80",{"$f":"Tabelle1[[#This Row],[NennØ]]","v":44},48.502299999999998,317.72531582303554,106.66666666666667]
["0398945",45,"Faltenbalg",44.55,{"$f":"E34*Tabelle1[[#This Row],[NennØ]]/B34","v":52.874999999999993},"M16x1","M5",{"$f":"CONCATENATE(\"LOG \",FIXED(Tabelle1[[#This Row],[NennØ]],1),\"-\",Tabelle1[[#This Row],[A]],\"-\",Tabelle1[[#This Row],[B]])","v":"LOG 45,0-M16x1-M5"},"keine Messung","keine Messung",{"$f":"(($K$40-$K$30)/($B$40-$B$30))*Tabelle1[[#This Row],[NennØ]]+$K$40-$B$40*(($K$40-$K$30)/($B$40-$B$30))","v":4.7999999999999987E-2},{"$f":"0.1*Tabelle1[[#This Row],[F(dmin)\nberechnete Greifkraft \n6 bar]]/9.81/2","v":1.71701265535834},"keine Messung",{"$f":"(($N$40-$N$30)/($B$40-$B$30))*Tabelle1[[#This Row],[NennØ]]+$N$40-$B$40*(($N$40-$N$30)/($B$40-$B$30))","v":12.035000000000004},6,6,"keine Messung","0,09/0,09","-40/80",{"$f":"Tabelle1[[#This Row],[NennØ]]","v":45},49.535249999999998,336.87788298130636,116.66666666666667]
["0398946",46,"Faltenbalg",45.54,{"$f":"E35*Tabelle1[[#This Row],[NennØ]]/B35","v":54.04999999999999},"M16x1","M5",{"$f":"CONCATENATE(\"LOG \",FIXED(Tabelle1[[#This Row],[NennØ]],1),\"-\",Tabelle1[[#This Row],[A]],\"-\",Tabelle1[[#This Row],[B]])","v":"LOG 46,0-M16x1-M5"},"keine Messung","keine Messung",{"$f":"(($K$40-$K$30)/($B$40-$B$30))*Tabelle1[[#This Row],[NennØ]]+$K$40-$B$40*(($K$40-$K$30)/($B$40-$B$30))","v":5.0799999999999984E-2},{"$f":"0.1*Tabelle1[[#This Row],[F(dmin)\nberechnete Greifkraft \n6 bar]]/9.81/2","v":1.8147550468200206},"keine Messung",{"$f":"(($N$40-$N$30)/($B$40-$B$30))*Tabelle1[[#This Row],[NennØ]]+$N$40-$B$40*(($N$40-$N$30)/($B$40-$B$30))","v":12.800000000000004},6,6,"keine Messung","0,09/0,09","-40/80",{"$f":"Tabelle1[[#This Row],[NennØ]]","v":46},50.568199999999997,356.05494018608806,126.66666666666667]
["0398947",47,"Faltenbalg",46.53,{"$f":"E36*Tabelle1[[#This Row],[NennØ]]/B36","v":55.224999999999987},"M16x1","M5",{"$f":"CONCATENATE(\"LOG \",FIXED(Tabelle1[[#This Row],[NennØ]],1),\"-\",Tabelle1[[#This Row],[A]],\"-\",Tabelle1[[#This Row],[B]])","v":"LOG 47,0-M16x1-M5"},"keine Messung","keine Messung",{"$f":"(($K$40-$K$30)/($B$40-$B$30))*Tabelle1[[#This Row],[NennØ]]+$K$40-$B$40*(($K$40-$K$30)/($B$40-$B$30))","v":5.3599999999999981E-2},{"$f":"0.1*Tabelle1[[#This Row],[F(dmin)\nberechnete Greifkraft \n6 bar]]/9.81/2","v":1.9126201692420526},"keine Messung",{"$f":"(($N$40-$N$30)/($B$40-$B$30))*Tabelle1[[#This Row],[NennØ]]+$N$40-$B$40*(($N$40-$N$30)/($B$40-$B$30))","v":13.565000000000005},6,6,"keine Messung","0,10/0,10","-40/80",{"$f":"Tabelle1[[#This Row],[NennØ]]","v":47},51.601149999999997,375.25607720529069,136.66666666666669]
["0398948",48,"Faltenbalg",47.519999999999996,{"$f":"E37*Tabelle1[[#This Row],[NennØ]]/B37","v":56.399999999999984},{"$f":"IF(AND(B38<=25,B38>=20),\"M14x1,5\",IF(B38<=63,\"M16x1\",IF(B38<=99,\"M20x1,5\",\"???\")))","v":"M16x1"},"M5",{"$f":"CONCATENATE(\"LOG \",FIXED(Tabelle1[[#This Row],[NennØ]],1),\"-\",Tabelle1[[#This Row],[A]],\"-\",Tabelle1[[#This Row],[B]])","v":"LOG 48,0-M16x1-M5"},"keine Messung","keine Messung",{"$f":"(($K$40-$K$30)/($B$40-$B$30))*Tabelle1[[#This Row],[NennØ]]+$K$40-$B$40*(($K$40-$K$30)/($B$40-$B$30))","v":5.6399999999999978E-2},{"$f":"0.1*Tabelle1[[#This Row],[F(dmin)\nberechnete Greifkraft \n6 bar]]/9.81/2","v":2.0106059781770158},"keine Messung",{"$f":"(($N$40-$N$30)/($B$40-$B$30))*Tabelle1[[#This Row],[NennØ]]+$N$40-$B$40*(($N$40-$N$30)/($B$40-$B$30))","v":14.330000000000005},6,6,"keine Messung","0,10/0,10","-40/80",{"$f":"Tabelle1[[#This Row],[NennØ]]","v":48},52.634099999999997,394.48089291833048,146.66666666666669]
["0398949",49,"Faltenbalg",48.51,{"$f":"E38*Tabelle1[[#This Row],[NennØ]]/B38","v":57.574999999999989},"M16x1","M5",{"$f":"CONCATENATE(\"LOG \",FIXED(Tabelle1[[#This Row],[NennØ]],1),\"-\",Tabelle1[[#This Row],[A]],\"-\",Tabelle1[[#This Row],[B]])","v":"LOG 49,0-M16x1-M5"},"keine Messung","keine Messung",{"$f":"(($K$40-$K$30)/($B$40-$B$30))*Tabelle1[[#This Row],[NennØ]]+$K$40-$B$40*(($K$40-$K$30)/($B$40-$B$30))","v":5.9200000000000003E-2},{"$f":"0.1*Tabelle1[[#This Row],[F(dmin)\nberechnete Greifkraft \n6 bar]]/9.81/2","v":2.1087104743351843},"keine Messung",{"$f":"(($N$40-$N$30)/($B$40-$B$30))*Tabelle1[[#This Row],[NennØ]]+$N$40-$B$40*(($N$40-$N$30)/($B$40-$B$30))","v":15.094999999999999},6,6,"keine Messung","0,10/0,10","-40/80",{"$f":"Tabelle1[[#This Row],[NennØ]]","v":49},53.667050000000003,413.72899506456315,156.66666666666669]
["0398950",50,"Faltenbalg",49.5,{"$f":"E39*Tabelle1[[#This Row],[NennØ]]/B39","v":58.749999999999993},"M16x1","M5",{"$f":"CONCATENATE(\"LOG \",FIXED(Tabelle1[[#This Row],[NennØ]],1),\"-\",Tabelle1[[#This Row],[A]],\"-\",Tabelle1[[#This Row],[B]])","v":"LOG 50,0-M16x1-M5"},5.6689999999999997E-2,6.2E-2,{"$f":"Tabelle1[[#This Row],[Eigen-\nmasse\ngemessen\n'[kg']]]","v":6.2E-2},{"$f":"0.1*Tabelle1[[#This Row],[F(dmin)\nberechnete Greifkraft \n6 bar]]/9.81/2","v":2.2069317023445465},15.86,{"$f":"Tabelle1[[#This Row],[Fluidverbrauch pro Doppelhub (Volumen Pro/E)\n'[cm^3']]]","v":15.86},6,6,"0,10/0,10",{"$f":"Tabelle1[[#This Row],[Schließ-/\nÖffnungszeit\ngemessen\n'[s']]]","v":"0,10/0,10"},"-40/80",{"$f":"Tabelle1[[#This Row],[NennØ]]","v":50},54.7,433,166.66666666666669]
["0398951",51,"Faltenbalg",50.49,{"$f":"E40*Tabelle1[[#This Row],[NennØ]]/B40","v":59.92499999999999},"M16x1","M5",{"$f":"CONCATENATE(\"LOG \",FIXED(Tabelle1[[#This Row],[NennØ]],1),\"-\",Tabelle1[[#This Row],[A]],\"-\",Tabelle1[[#This Row],[B]])","v":"LOG 51,0-M16x1-M5"},"keine Messung","keine Messung",{"$f":"(($K$54-$K$40)/($B$54-$B$40))*Tabelle1[[#This Row],[NennØ]]+$K$54-$B$54*(($K$54-$K$40)/($B$54-$B$40))","v":6.6642857142857115E-2},{"$f":"0.1*Tabelle1[[#This Row],[F(dmin)\nberechnete Greifkraft \n6 bar]]/9.81/2","v":2.2890286427730433},"keine Messung",{"$f":"(($N$54-$N$40)/($B$54-$B$40))*Tabelle1[[#This Row],[NennØ]]+$N$54-$B$54*(($N$54-$N$40)/($B$54-$B$40))","v":17.156357142857146},6,6,"keine Messung","0,10/0,10","-40/80",{"$f":"Tabelle1[[#This Row],[NennØ]]","v":51},55.842857142857149,449.10741971207108,169.04761904761907]
["0398952",52,"Faltenbalg",51.48,{"$f":"E41*Tabelle1[[#This Row],[NennØ]]/B41","v":61.099999999999987},"M16x1","M5",{"$f":"CONCATENATE(\"LOG \",FIXED(Tabelle1[[#This Row],[NennØ]],1),\"-\",Tabelle1[[#This Row],[A]],\"-\",Tabelle1[[#This Row],[B]])","v":"LOG 52,0-M16x1-M5"},"keine Messung","keine Messung",{"$f":"(($K$54-$K$40)/($B$54-$B$40))*Tabelle1[[#This Row],[NennØ]]+$K$54-$B$54*(($K$54-$K$40)/($B$54-$B$40))","v":7.1285714285714286E-2},{"$f":"0.1*Tabelle1[[#This Row],[F(dmin)\nberechnete Greifkraft \n6 bar]]/9.81/2","v":2.3714757889069826},"keine Messung",{"$f":"(($N$54-$N$40)/($B$54-$B$40))*Tabelle1[[#This Row],[NennØ]]+$N$54-$B$54*(($N$54-$N$40)/($B$54-$B$40))","v":18.452714285714279},6,6,"keine Messung","0,10/0,10","-40/80",{"$f":"Tabelle1[[#This Row],[NennØ]]","v":52},56.985714285714288,465.28354978354992,171.42857142857144]
["0398953",53,"Faltenbalg",52.47,{"$f":"E42*Tabelle1[[#This Row],[NennØ]]/B42","v":62.274999999999984},"M16x1","M5",{"$f":"CONCATENATE(\"LOG \",FIXED(Tabelle1[[#This Row],[NennØ]],1),\"-\",Tabelle1[[#This Row],[A]],\"-\",Tabelle1[[#This Row],[B]])","v":"LOG 53,0-M16x1-M5"},"keine Messung","keine Messung",{"$f":"(($K$54-$K$40)/($B$54-$B$40))*Tabelle1[[#This Row],[NennØ]]+$K$54-$B$54*(($K$54-$K$40)/($B$54-$B$40))","v":7.5928571428571456E-2},{"$f":"0.1*Tabelle1[[#This Row],[F(dmin)\nberechnete Greifkraft \n6 bar]]/9.81/2","v":2.4542497936993355},"keine Messung",{"$f":"(($N$54-$N$40)/($B$54-$B$40))*Tabelle1[[#This Row],[NennØ]]+$N$54-$B$54*(($N$54-$N$40)/($B$54-$B$40))","v":19.749071428571426},6,6,"keine Messung","0,11/0,11","-40/80",{"$f":"Tabelle1[[#This Row],[NennØ]]","v":53},58.128571428571433,481.52380952380963,173.80952380952382]
["0398954",54,"Faltenbalg",53.46,{"$f":"E43*Tabelle1[[#This Row],[NennØ]]/B43","v":63.449999999999982},"M16x1","M5",{"$f":"CONCATENATE(\"LOG \",FIXED(Tabelle1[[#This Row],[NennØ]],1),\"-\",Tabelle1[[#This Row],[A]],\"-\",Tabelle1[[#This Row],[B]])","v":"LOG 54,0-M16x1-M5"},"keine Messung","keine Messung",{"$f":"(($K$54-$K$40)/($B$54-$B$40))*Tabelle1[[#This Row],[NennØ]]+$K$54-$B$54*(($K$54-$K$40)/($B$54-$B$40))","v":8.0571428571428572E-2},{"$f":"0.1*Tabelle1[[#This Row],[F(dmin)\nberechnete Greifkraft \n6 bar]]/9.81/2","v":2.5373293402810768},"keine Messung",{"$f":"(($N$54-$N$40)/($B$54-$B$40))*Tabelle1[[#This Row],[NennØ]]+$N$54-$B$54*(($N$54-$N$40)/($B$54-$B$40))","v":21.045428571428573},6,6,"keine Messung","0,11/0,11","-40/80",{"$f":"Tabelle1[[#This Row],[NennØ]]","v":54},59.271428571428572,497.82401656314732,176.19047619047618]
["0398955",55,"Faltenbalg",54.45,{"$f":"E44*Tabelle1[[#This Row],[NennØ]]/B44","v":64.624999999999986},"M16x1","M5",{"$f":"CONCATENATE(\"LOG \",FIXED(Tabelle1[[#This Row],[NennØ]],1),\"-\",Tabelle1[[#This Row],[A]],\"-\",Tabelle1[[#This Row],[B]])","v":"LOG 55,0-M16x1-M5"},"keine Messung","keine Messung",{"$f":"(($K$54-$K$40)/($B$54-$B$40))*Tabelle1[[#This Row],[NennØ]]+$K$54-$B$54*(($K$54-$K$40)/($B$54-$B$40))","v":8.5214285714285687E-2},{"$f":"0.1*Tabelle1[[#This Row],[F(dmin)\nberechnete Greifkraft \n6 bar]]/9.81/2","v":2.6206949259847949},"keine Messung",{"$f":"(($N$54-$N$40)/($B$54-$B$40))*Tabelle1[[#This Row],[NennØ]]+$N$54-$B$54*(($N$54-$N$40)/($B$54-$B$40))","v":22.34178571428572},6,6,"keine Messung","0,12/0,12","-40/80",{"$f":"Tabelle1[[#This Row],[NennØ]]","v":55},60.414285714285718,514.18034447821674,178.57142857142858]
["0398956",56,"Faltenbalg",55.44,{"$f":"E45*Tabelle1[[#This Row],[NennØ]]/B45","v":65.799999999999983},"M16x1","M5",{"$f":"CONCATENATE(\"LOG \",FIXED(Tabelle1[[#This Row],[NennØ]],1),\"-\",Tabelle1[[#This Row],[A]],\"-\",Tabelle1[[#This Row],[B]])","v":"LOG 56,0-M16x1-M5"},"keine Messung","keine Messung",{"$f":"(($K$54-$K$40)/($B$54-$B$40))*Tabelle1[[#This Row],[NennØ]]+$K$54-$B$54*(($K$54-$K$40)/($B$54-$B$40))","v":8.9857142857142858E-2},{"$f":"0.1*Tabelle1[[#This Row],[F(dmin)\nberechnete Greifkraft \n6 bar]]/9.81/2","v":2.7043286733653709},"keine Messung",{"$f":"(($N$54-$N$40)/($B$54-$B$40))*Tabelle1[[#This Row],[NennØ]]+$N$54-$B$54*(($N$54-$N$40)/($B$54-$B$40))","v":23.638142857142853},6,6,"keine Messung","0,12/0,12","-40/80",{"$f":"Tabelle1[[#This Row],[NennØ]]","v":56},61.557142857142864,530.58928571428578,180.95238095238096]
["0398957",57,"Faltenbalg",56.43,{"$f":"E46*Tabelle1[[#This Row],[NennØ]]/B46","v":66.97499999999998},"M16x1","M5",{"$f":"CONCATENATE(\"LOG \",FIXED(Tabelle1[[#This Row],[NennØ]],1),\"-\",Tabelle1[[#This Row],[A]],\"-\",Tabelle1[[#This Row],[B]])","v":"LOG 57,0-M16x1-M5"},"keine Messung","keine Messung",{"$f":"(($K$54-$K$40)/($B$54-$B$40))*Tabelle1[[#This Row],[NennØ]]+$K$54-$B$54*(($K$54-$K$40)/($B$54-$B$40))","v":9.4500000000000028E-2},{"$f":"0.1*Tabelle1[[#This Row],[F(dmin)\nberechnete Greifkraft \n6 bar]]/9.81/2","v":2.7882141643609546},"keine Messung",{"$f":"(($N$54-$N$40)/($B$54-$B$40))*Tabelle1[[#This Row],[NennØ]]+$N$54-$B$54*(($N$54-$N$40)/($B$54-$B$40))","v":24.9345},6,6,"keine Messung","0,12/0,12","-40/80",{"$f":"Tabelle1[[#This Row],[NennØ]]","v":57},62.7,547.04761904761926,183.33333333333334]
["0398958",58,"Faltenbalg",57.42,{"$f":"E47*Tabelle1[[#This Row],[NennØ]]/B47","v":68.149999999999977},"M16x1","M5",{"$f":"CONCATENATE(\"LOG \",FIXED(Tabelle1[[#This Row],[NennØ]],1),\"-\",Tabelle1[[#This Row],[A]],\"-\",Tabelle1[[#This Row],[B]])","v":"LOG 58,0-M16x1-M5"},"keine Messung","keine Messung",{"$f":"(($K$54-$K$40)/($B$54-$B$40))*Tabelle1[[#This Row],[NennØ]]+$K$54-$B$54*(($K$54-$K$40)/($B$54-$B$40))","v":9.9142857142857144E-2},{"$f":"0.1*Tabelle1[[#This Row],[F(dmin)\nberechnete Greifkraft \n6 bar]]/9.81/2","v":2.8723362943546413},"keine Messung",{"$f":"(($N$54-$N$40)/($B$54-$B$40))*Tabelle1[[#This Row],[NennØ]]+$N$54-$B$54*(($N$54-$N$40)/($B$54-$B$40))","v":26.230857142857147},6,6,"keine Messung","0,13/0,13","-40/80",{"$f":"Tabelle1[[#This Row],[NennØ]]","v":58},63.842857142857142,563.55238095238064,185.71428571428572]
["0398959",59,"Faltenbalg",58.41,{"$f":"E48*Tabelle1[[#This Row],[NennØ]]/B48","v":69.324999999999974},"M16x1","M5",{"$f":"CONCATENATE(\"LOG \",FIXED(Tabelle1[[#This Row],[NennØ]],1),\"-\",Tabelle1[[#This Row],[A]],\"-\",Tabelle1[[#This Row],[B]])","v":"LOG 59,0-M16x1-M5"},"keine Messung","keine Messung",{"$f":"(($K$54-$K$40)/($B$54-$B$40))*Tabelle1[[#This Row],[NennØ]]+$K$54-$B$54*(($K$54-$K$40)/($B$54-$B$40))","v":0.10378571428571426},{"$f":"0.1*Tabelle1[[#This Row],[F(dmin)\nberechnete Greifkraft \n6 bar]]/9.81/2","v":2.9566811434053784},"keine Messung",{"$f":"(($N$54-$N$40)/($B$54-$B$40))*Tabelle1[[#This Row],[NennØ]]+$N$54-$B$54*(($N$54-$N$40)/($B$54-$B$40))","v":27.52721428571428},6,6,"keine Messung","0,13/0,13","-40/80",{"$f":"Tabelle1[[#This Row],[NennØ]]","v":59},64.985714285714295,580.10084033613521,188.0952380952381]
["0398960",60,"Faltenbalg",59.4,{"$f":"E49*Tabelle1[[#This Row],[NennØ]]/B49","v":70.499999999999972},"M16x1","M5",{"$f":"CONCATENATE(\"LOG \",FIXED(Tabelle1[[#This Row],[NennØ]],1),\"-\",Tabelle1[[#This Row],[A]],\"-\",Tabelle1[[#This Row],[B]])","v":"LOG 60,0-M16x1-M5"},"keine Messung","keine Messung",{"$f":"(($K$54-$K$40)/($B$54-$B$40))*Tabelle1[[#This Row],[NennØ]]+$K$54-$B$54*(($K$54-$K$40)/($B$54-$B$40))","v":0.10842857142857143},{"$f":"0.1*Tabelle1[[#This Row],[F(dmin)\nberechnete Greifkraft \n6 bar]]/9.81/2","v":3.0412358623367819},"keine Messung",{"$f":"(($N$54-$N$40)/($B$54-$B$40))*Tabelle1[[#This Row],[NennØ]]+$N$54-$B$54*(($N$54-$N$40)/($B$54-$B$40))","v":28.823571428571427},6,6,"keine Messung","0,14/0,14","-40/80",{"$f":"Tabelle1[[#This Row],[NennØ]]","v":60},66.128571428571433,596.6904761904766,190.47619047619048]
["0398961",61,"Faltenbalg",60.39,{"$f":"E50*Tabelle1[[#This Row],[NennØ]]/B50","v":71.674999999999969},"M16x1","M5",{"$f":"CONCATENATE(\"LOG \",FIXED(Tabelle1[[#This Row],[NennØ]],1),\"-\",Tabelle1[[#This Row],[A]],\"-\",Tabelle1[[#This Row],[B]])","v":"LOG 61,0-M16x1-M5"},"keine Messung","keine Messung",{"$f":"(($K$54-$K$40)/($B$54-$B$40))*Tabelle1[[#This Row],[NennØ]]+$K$54-$B$54*(($K$54-$K$40)/($B$54-$B$40))","v":0.1130714285714286},{"$f":"0.1*Tabelle1[[#This Row],[F(dmin)\nberechnete Greifkraft \n6 bar]]/9.81/2","v":3.125988571721654},"keine Messung",{"$f":"(($N$54-$N$40)/($B$54-$B$40))*Tabelle1[[#This Row],[NennØ]]+$N$54-$B$54*(($N$54-$N$40)/($B$54-$B$40))","v":30.119928571428574},6,6,"keine Messung","0,14/0,14","-40/80",{"$f":"Tabelle1[[#This Row],[NennØ]]","v":61},67.271428571428572,613.31895777178852,192.85714285714286]
["0398962",62,"Faltenbalg",61.38,{"$f":"E51*Tabelle1[[#This Row],[NennØ]]/B51","v":72.849999999999966},"M16x1","M5",{"$f":"CONCATENATE(\"LOG \",FIXED(Tabelle1[[#This Row],[NennØ]],1),\"-\",Tabelle1[[#This Row],[A]],\"-\",Tabelle1[[#This Row],[B]])","v":"LOG 62,0-M16x1-M5"},"keine Messung","keine Messung",{"$f":"(($K$54-$K$40)/($B$54-$B$40))*Tabelle1[[#This Row],[NennØ]]+$K$54-$B$54*(($K$54-$K$40)/($B$54-$B$40))","v":0.11771428571428572},{"$f":"0.1*Tabelle1[[#This Row],[F(dmin)\nberechnete Greifkraft \n6 bar]]/9.81/2","v":3.2109282720903525},"keine Messung",{"$f":"(($N$54-$N$40)/($B$54-$B$40))*Tabelle1[[#This Row],[NennØ]]+$N$54-$B$54*(($N$54-$N$40)/($B$54-$B$40))","v":31.416285714285721},6,6,"keine Messung","0,15/0,15","-40/80",{"$f":"Tabelle1[[#This Row],[NennØ]]","v":62},68.414285714285711,629.98412698412722,195.23809523809524]
["0398963",63,"Faltenbalg",62.37,{"$f":"E52*Tabelle1[[#This Row],[NennØ]]/B52","v":74.024999999999963},"M16x1","M5",{"$f":"CONCATENATE(\"LOG \",FIXED(Tabelle1[[#This Row],[NennØ]],1),\"-\",Tabelle1[[#This Row],[A]],\"-\",Tabelle1[[#This Row],[B]])","v":"LOG 63,0-M16x1-M5"},"keine Messung","keine Messung",{"$f":"(($K$54-$K$40)/($B$54-$B$40))*Tabelle1[[#This Row],[NennØ]]+$K$54-$B$54*(($K$54-$K$40)/($B$54-$B$40))","v":0.12235714285714283},{"$f":"0.1*Tabelle1[[#This Row],[F(dmin)\nberechnete Greifkraft \n6 bar]]/9.81/2","v":3.2960447639346748},"keine Messung",{"$f":"(($N$54-$N$40)/($B$54-$B$40))*Tabelle1[[#This Row],[NennØ]]+$N$54-$B$54*(($N$54-$N$40)/($B$54-$B$40))","v":32.712642857142853},6,6,"keine Messung","0,15/0,15","-40/80",{"$f":"Tabelle1[[#This Row],[NennØ]]","v":63},69.557142857142864,646.68398268398323,197.61904761904762]
["0398964",64,"Faltenbalg",63.36,{"$f":"E53*Tabelle1[[#This Row],[NennØ]]/B53","v":75.19999999999996},"M20x1,5","G1/8",{"$f":"CONCATENATE(\"LOG \",FIXED(Tabelle1[[#This Row],[NennØ]],1),\"-\",Tabelle1[[#This Row],[A]],\"-\",Tabelle1[[#This Row],[B]])","v":"LOG 64,0-M20x1,5-G1/8"},0.12066300000000001,0.127,{"$f":"Tabelle1[[#This Row],[Eigen-\nmasse\ngemessen\n'[kg']]]","v":0.127},{"$f":"0.1*Tabelle1[[#This Row],[F(dmin)\nberechnete Greifkraft \n6 bar]]/9.81/2","v":3.3813285762827059},34.009,{"$f":"Tabelle1[[#This Row],[Fluidverbrauch pro Doppelhub (Volumen Pro/E)\n'[cm^3']]]","v":34.009},6,6,"0,15/0,15",{"$f":"Tabelle1[[#This Row],[Schließ-/\nÖffnungszeit\ngemessen\n'[s']]]","v":"0,15/0,15"},"-40/80",{"$f":"Tabelle1[[#This Row],[NennØ]]","v":64},70.7,663.41666666666697,200]
["0398965",65,"Faltenbalg",64.349999999999994,{"$f":"E54*Tabelle1[[#This Row],[NennØ]]/B54","v":76.374999999999957},"M20x1,5","G1/8",{"$f":"CONCATENATE(\"LOG \",FIXED(Tabelle1[[#This Row],[NennØ]],1),\"-\",Tabelle1[[#This Row],[A]],\"-\",Tabelle1[[#This Row],[B]])","v":"LOG 65,0-M20x1,5-G1/8"},"keine Messung","keine Messung",{"$f":"(($K$70-$K$54)/($B$70-$B$54))*Tabelle1[[#This Row],[NennØ]]+$K$70-$B$70*(($K$70-$K$54)/($B$70-$B$54))","v":0.13393750000000004},{"$f":"0.1*Tabelle1[[#This Row],[F(dmin)\nberechnete Greifkraft \n6 bar]]/9.81/2","v":3.4805470608222895},"keine Messung",{"$f":"(($N$70-$N$54)/($B$70-$B$54))*Tabelle1[[#This Row],[NennØ]]+$N$70-$B$70*(($N$70-$N$54)/($B$70-$B$54))","v":35.967168750000013},6,6,"keine Messung","0,15/0,15","-40/80",{"$f":"Tabelle1[[#This Row],[NennØ]]","v":65},71.825000000000003,682.88333333333321,214.58333333333334]
["0398966",66,"Faltenbalg",65.34,{"$f":"E55*Tabelle1[[#This Row],[NennØ]]/B55","v":77.549999999999955},"M20x1,5","G1/8",{"$f":"CONCATENATE(\"LOG \",FIXED(Tabelle1[[#This Row],[NennØ]],1),\"-\",Tabelle1[[#This Row],[A]],\"-\",Tabelle1[[#This Row],[B]])","v":"LOG 66,0-M20x1,5-G1/8"},"keine Messung","keine Messung",{"$f":"(($K$70-$K$54)/($B$70-$B$54))*Tabelle1[[#This Row],[NennØ]]+$K$70-$B$70*(($K$70-$K$54)/($B$70-$B$54))","v":0.14087499999999997},{"$f":"0.1*Tabelle1[[#This Row],[F(dmin)\nberechnete Greifkraft \n6 bar]]/9.81/2","v":3.5796548564132702},"keine Messung",{"$f":"(($N$70-$N$54)/($B$70-$B$54))*Tabelle1[[#This Row],[NennØ]]+$N$70-$B$70*(($N$70-$N$54)/($B$70-$B$54))","v":37.925337500000012},6,6,"keine Messung","0,15/0,15","-40/80",{"$f":"Tabelle1[[#This Row],[NennØ]]","v":66},72.95,702.32828282828359,229.16666666666669]
["0398967",67,"Faltenbalg",66.33,{"$f":"E56*Tabelle1[[#This Row],[NennØ]]/B56","v":78.724999999999952},"M20x1,5","G1/8",{"$f":"CONCATENATE(\"LOG \",FIXED(Tabelle1[[#This Row],[NennØ]],1),\"-\",Tabelle1[[#This Row],[A]],\"-\",Tabelle1[[#This Row],[B]])","v":"LOG 67,0-M20x1,5-G1/8"},"keine Messung","keine Messung",{"$f":"(($K$70-$K$54)/($B$70-$B$54))*Tabelle1[[#This Row],[NennØ]]+$K$70-$B$70*(($K$70-$K$54)/($B$70-$B$54))","v":0.14781250000000001},{"$f":"0.1*Tabelle1[[#This Row],[F(dmin)\nberechnete Greifkraft \n6 bar]]/9.81/2","v":3.6786569192772136},"keine Messung",{"$f":"(($N$70-$N$54)/($B$70-$B$54))*Tabelle1[[#This Row],[NennØ]]+$N$70-$B$70*(($N$70-$N$54)/($B$70-$B$54))","v":39.883506250000011},6,6,"keine Messung","0,16/0,16","-40/80",{"$f":"Tabelle1[[#This Row],[NennØ]]","v":67},74.075000000000003,721.75248756218934,243.75]
["0398968",68,"Faltenbalg",67.319999999999993,{"$f":"E57*Tabelle1[[#This Row],[NennØ]]/B57","v":79.899999999999949},"M20x1,5","G1/8",{"$f":"CONCATENATE(\"LOG \",FIXED(Tabelle1[[#This Row],[NennØ]],1),\"-\",Tabelle1[[#This Row],[A]],\"-\",Tabelle1[[#This Row],[B]])","v":"LOG 68,0-M20x1,5-G1/8"},"keine Messung","keine Messung",{"$f":"(($K$70-$K$54)/($B$70-$B$54))*Tabelle1[[#This Row],[NennØ]]+$K$70-$B$70*(($K$70-$K$54)/($B$70-$B$54))","v":0.15474999999999994},{"$f":"0.1*Tabelle1[[#This Row],[F(dmin)\nberechnete Greifkraft \n6 bar]]/9.81/2","v":3.7775579140932618},"keine Messung",{"$f":"(($N$70-$N$54)/($B$70-$B$54))*Tabelle1[[#This Row],[NennØ]]+$N$70-$B$70*(($N$70-$N$54)/($B$70-$B$54))","v":41.841675000000009},6,6,"keine Messung","0,16/0,16","-40/80",{"$f":"Tabelle1[[#This Row],[NennØ]]","v":68},75.2,741.1568627450979,258.33333333333337]
["0398969",69,"Faltenbalg",68.31,{"$f":"E58*Tabelle1[[#This Row],[NennØ]]/B58","v":81.074999999999946},"M20x1,5","G1/8",{"$f":"CONCATENATE(\"LOG \",FIXED(Tabelle1[[#This Row],[NennØ]],1),\"-\",Tabelle1[[#This Row],[A]],\"-\",Tabelle1[[#This Row],[B]])","v":"LOG 69,0-M20x1,5-G1/8"},"keine Messung","keine Messung",{"$f":"(($K$70-$K$54)/($B$70-$B$54))*Tabelle1[[#This Row],[NennØ]]+$K$70-$B$70*(($K$70-$K$54)/($B$70-$B$54))","v":0.16168749999999998},{"$f":"0.1*Tabelle1[[#This Row],[F(dmin)\nberechnete Greifkraft \n6 bar]]/9.81/2","v":3.8763622351243696},"keine Messung",{"$f":"(($N$70-$N$54)/($B$70-$B$54))*Tabelle1[[#This Row],[NennØ]]+$N$70-$B$70*(($N$70-$N$54)/($B$70-$B$54))","v":43.799843750000008},6,6,"keine Messung","0,17/0,17","-40/80",{"$f":"Tabelle1[[#This Row],[NennØ]]","v":69},76.325000000000003,760.5422705314013,272.91666666666669]
["0398970",70,"Faltenbalg",69.3,{"$f":"E59*Tabelle1[[#This Row],[NennØ]]/B59","v":82.249999999999943},"M20x1,5","G1/8",{"$f":"CONCATENATE(\"LOG \",FIXED(Tabelle1[[#This Row],[NennØ]],1),\"-\",Tabelle1[[#This Row],[A]],\"-\",Tabelle1[[#This Row],[B]])","v":"LOG 70,0-M20x1,5-G1/8"},"keine Messung","keine Messung",{"$f":"(($K$70-$K$54)/($B$70-$B$54))*Tabelle1[[#This Row],[NennØ]]+$K$70-$B$70*(($K$70-$K$54)/($B$70-$B$54))","v":0.16862500000000002},{"$f":"0.1*Tabelle1[[#This Row],[F(dmin)\nberechnete Greifkraft \n6 bar]]/9.81/2","v":3.9750740255327428},"keine Messung",{"$f":"(($N$70-$N$54)/($B$70-$B$54))*Tabelle1[[#This Row],[NennØ]]+$N$70-$B$70*(($N$70-$N$54)/($B$70-$B$54))","v":45.758012500000007},6,6,"keine Messung","0,17/0,17","-40/80",{"$f":"Tabelle1[[#This Row],[NennØ]]","v":70},77.45,779.90952380952422,287.5]
["0398971",71,"Faltenbalg",70.290000000000006,{"$f":"E60*Tabelle1[[#This Row],[NennØ]]/B60","v":83.424999999999955},"M20x1,5","G1/8",{"$f":"CONCATENATE(\"LOG \",FIXED(Tabelle1[[#This Row],[NennØ]],1),\"-\",Tabelle1[[#This Row],[A]],\"-\",Tabelle1[[#This Row],[B]])","v":"LOG 71,0-M20x1,5-G1/8"},"keine Messung","keine Messung",{"$f":"(($K$70-$K$54)/($B$70-$B$54))*Tabelle1[[#This Row],[NennØ]]+$K$70-$B$70*(($K$70-$K$54)/($B$70-$B$54))","v":0.17556250000000007},{"$f":"0.1*Tabelle1[[#This Row],[F(dmin)\nberechnete Greifkraft \n6 bar]]/9.81/2","v":4.073697195063005},"keine Messung",{"$f":"(($N$70-$N$54)/($B$70-$B$54))*Tabelle1[[#This Row],[NennØ]]+$N$70-$B$70*(($N$70-$N$54)/($B$70-$B$54))","v":47.716181250000005},6,6,"keine Messung","0,18/0,18","-40/80",{"$f":"Tabelle1[[#This Row],[NennØ]]","v":71},78.575000000000003,799.25938967136153,302.08333333333337]
["0398972",72,"Faltenbalg",71.28,{"$f":"E61*Tabelle1[[#This Row],[NennØ]]/B61","v":84.599999999999952},"M20x1,5","G1/8",{"$f":"CONCATENATE(\"LOG \",FIXED(Tabelle1[[#This Row],[NennØ]],1),\"-\",Tabelle1[[#This Row],[A]],\"-\",Tabelle1[[#This Row],[B]])","v":"LOG 72,0-M20x1,5-G1/8"},"keine Messung","keine Messung",{"$f":"(($K$70-$K$54)/($B$70-$B$54))*Tabelle1[[#This Row],[NennØ]]+$K$70-$B$70*(($K$70-$K$54)/($B$70-$B$54))","v":0.1825},{"$f":"0.1*Tabelle1[[#This Row],[F(dmin)\nberechnete Greifkraft \n6 bar]]/9.81/2","v":4.1722354362517491},"keine Messung",{"$f":"(($N$70-$N$54)/($B$70-$B$54))*Tabelle1[[#This Row],[NennØ]]+$N$70-$B$70*(($N$70-$N$54)/($B$70-$B$54))","v":49.674350000000004},6,6,"keine Messung","0,18/0,18","-40/80",{"$f":"Tabelle1[[#This Row],[NennØ]]","v":72},79.7,818.59259259259306,316.66666666666669]
["0398973",73,"Faltenbalg",{"$f":"0.99*B63","v":72.27},{"$f":"E62*Tabelle1[[#This Row],[NennØ]]/B62","v":85.774999999999949},"M20x1,5","G1/8",{"$f":"CONCATENATE(\"LOG \",FIXED(Tabelle1[[#This Row],[NennØ]],1),\"-\",Tabelle1[[#This Row],[A]],\"-\",Tabelle1[[#This Row],[B]])","v":"LOG 73,0-M20x1,5-G1/8"},"keine Messung","keine Messung",{"$f":"(($K$70-$K$54)/($B$70-$B$54))*Tabelle1[[#This Row],[NennØ]]+$K$70-$B$70*(($K$70-$K$54)/($B$70-$B$54))","v":0.18943750000000004},{"$f":"0.1*Tabelle1[[#This Row],[F(dmin)\nberechnete Greifkraft \n6 bar]]/9.81/2","v":4.2706922393047835},"keine Messung",{"$f":"(($N$70-$N$54)/($B$70-$B$54))*Tabelle1[[#This Row],[NennØ]]+$N$70-$B$70*(($N$70-$N$54)/($B$70-$B$54))","v":51.632518750000003},6,6,"keine Messung","0,19/0,19","-40/80",{"$f":"Tabelle1[[#This Row],[NennØ]]","v":73},80.825000000000003,837.90981735159858,331.25]
["0398974",74,"Faltenbalg",73.260000000000005,{"$f":"E63*Tabelle1[[#This Row],[NennØ]]/B63","v":86.949999999999946},"M20x1,5","G1/8",{"$f":"CONCATENATE(\"LOG \",FIXED(Tabelle1[[#This Row],[NennØ]],1),\"-\",Tabelle1[[#This Row],[A]],\"-\",Tabelle1[[#This Row],[B]])","v":"LOG 74,0-M20x1,5-G1/8"},"keine Messung","keine Messung",{"$f":"(($K$70-$K$54)/($B$70-$B$54))*Tabelle1[[#This Row],[NennØ]]+$K$70-$B$70*(($K$70-$K$54)/($B$70-$B$54))","v":0.19637499999999997},{"$f":"0.1*Tabelle1[[#This Row],[F(dmin)\nberechnete Greifkraft \n6 bar]]/9.81/2","v":4.3690709057681518},"keine Messung",{"$f":"(($N$70-$N$54)/($B$70-$B$54))*Tabelle1[[#This Row],[NennØ]]+$N$70-$B$70*(($N$70-$N$54)/($B$70-$B$54))","v":53.590687500000001},6,6,"keine Messung","0,19/0,19","-40/80",{"$f":"Tabelle1[[#This Row],[NennØ]]","v":74},81.95,857.21171171171136,345.83333333333337]
["0398975",75,"Faltenbalg",74.25,{"$f":"E64*Tabelle1[[#This Row],[NennØ]]/B64","v":88.124999999999957},"M20x1,5","G1/8",{"$f":"CONCATENATE(\"LOG \",FIXED(Tabelle1[[#This Row],[NennØ]],1),\"-\",Tabelle1[[#This Row],[A]],\"-\",Tabelle1[[#This Row],[B]])","v":"LOG 75,0-M20x1,5-G1/8"},"keine Messung","keine Messung",{"$f":"(($K$70-$K$54)/($B$70-$B$54))*Tabelle1[[#This Row],[NennØ]]+$K$70-$B$70*(($K$70-$K$54)/($B$70-$B$54))","v":0.20331250000000001},{"$f":"0.1*Tabelle1[[#This Row],[F(dmin)\nberechnete Greifkraft \n6 bar]]/9.81/2","v":4.4673745611054505},"keine Messung",{"$f":"(($N$70-$N$54)/($B$70-$B$54))*Tabelle1[[#This Row],[NennØ]]+$N$70-$B$70*(($N$70-$N$54)/($B$70-$B$54))","v":55.54885625},6,6,"keine Messung","0,20/0,20","-40/80",{"$f":"Tabelle1[[#This Row],[NennØ]]","v":75},83.075000000000003,876.49888888888927,360.41666666666669]
["0398976",76,"Faltenbalg",75.239999999999995,{"$f":"E65*Tabelle1[[#This Row],[NennØ]]/B65","v":89.299999999999955},"M20x1,5","G1/8",{"$f":"CONCATENATE(\"LOG \",FIXED(Tabelle1[[#This Row],[NennØ]],1),\"-\",Tabelle1[[#This Row],[A]],\"-\",Tabelle1[[#This Row],[B]])","v":"LOG 76,0-M20x1,5-G1/8"},"keine Messung","keine Messung",{"$f":"(($K$70-$K$54)/($B$70-$B$54))*Tabelle1[[#This Row],[NennØ]]+$K$70-$B$70*(($K$70-$K$54)/($B$70-$B$54))","v":0.21025000000000005},{"$f":"0.1*Tabelle1[[#This Row],[F(dmin)\nberechnete Greifkraft \n6 bar]]/9.81/2","v":4.5656061662821719},"keine Messung",{"$f":"(($N$70-$N$54)/($B$70-$B$54))*Tabelle1[[#This Row],[NennØ]]+$N$70-$B$70*(($N$70-$N$54)/($B$70-$B$54))","v":57.507024999999999},6,6,"keine Messung","0,20/0,20","-40/80",{"$f":"Tabelle1[[#This Row],[NennØ]]","v":76},84.2,895.77192982456199,375]
["0398977",77,"Faltenbalg",76.23,{"$f":"E66*Tabelle1[[#This Row],[NennØ]]/B66","v":90.474999999999952},"M20x1,5","G1/8",{"$f":"CONCATENATE(\"LOG \",FIXED(Tabelle1[[#This Row],[NennØ]],1),\"-\",Tabelle1[[#This Row],[A]],\"-\",Tabelle1[[#This Row],[B]])","v":"LOG 77,0-M20x1,5-G1/8"},"keine Messung","keine Messung",{"$f":"(($K$70-$K$54)/($B$70-$B$54))*Tabelle1[[#This Row],[NennØ]]+$K$70-$B$70*(($K$70-$K$54)/($B$70-$B$54))","v":0.21718749999999998},{"$f":"0.1*Tabelle1[[#This Row],[F(dmin)\nberechnete Greifkraft \n6 bar]]/9.81/2","v":4.6637685284474273},"keine Messung",{"$f":"(($N$70-$N$54)/($B$70-$B$54))*Tabelle1[[#This Row],[NennØ]]+$N$70-$B$70*(($N$70-$N$54)/($B$70-$B$54))","v":59.465193749999997},6,6,"keine Messung","0,21/0,21","-40/80",{"$f":"Tabelle1[[#This Row],[NennØ]]","v":77},85.325000000000003,915.03138528138516,389.58333333333337]
["0398978",78,"Faltenbalg",77.22,{"$f":"E67*Tabelle1[[#This Row],[NennØ]]/B67","v":91.649999999999949},"M20x1,5","G1/8",{"$f":"CONCATENATE(\"LOG \",FIXED(Tabelle1[[#This Row],[NennØ]],1),\"-\",Tabelle1[[#This Row],[A]],\"-\",Tabelle1[[#This Row],[B]])","v":"LOG 78,0-M20x1,5-G1/8"},"keine Messung","keine Messung",{"$f":"(($K$70-$K$54)/($B$70-$B$54))*Tabelle1[[#This Row],[NennØ]]+$K$70-$B$70*(($K$70-$K$54)/($B$70-$B$54))","v":0.22412500000000002},{"$f":"0.1*Tabelle1[[#This Row],[F(dmin)\nberechnete Greifkraft \n6 bar]]/9.81/2","v":4.7618643107939773},"keine Messung",{"$f":"(($N$70-$N$54)/($B$70-$B$54))*Tabelle1[[#This Row],[NennØ]]+$N$70-$B$70*(($N$70-$N$54)/($B$70-$B$54))","v":61.423362499999996},6,6,"keine Messung","0,21/0,21","-40/80",{"$f":"Tabelle1[[#This Row],[NennØ]]","v":78},86.45,934.27777777777828,404.16666666666669]
["0398979",79,"Faltenbalg",78.209999999999994,{"$f":"E68*Tabelle1[[#This Row],[NennØ]]/B68","v":92.824999999999946},"M20x1,5","G1/8",{"$f":"CONCATENATE(\"LOG \",FIXED(Tabelle1[[#This Row],[NennØ]],1),\"-\",Tabelle1[[#This Row],[A]],\"-\",Tabelle1[[#This Row],[B]])","v":"LOG 79,0-M20x1,5-G1/8"},"keine Messung","keine Messung",{"$f":"(($K$70-$K$54)/($B$70-$B$54))*Tabelle1[[#This Row],[NennØ]]+$K$70-$B$70*(($K$70-$K$54)/($B$70-$B$54))","v":0.23106249999999995},{"$f":"0.1*Tabelle1[[#This Row],[F(dmin)\nberechnete Greifkraft \n6 bar]]/9.81/2","v":4.8598960416693604},"keine Messung",{"$f":"(($N$70-$N$54)/($B$70-$B$54))*Tabelle1[[#This Row],[NennØ]]+$N$70-$B$70*(($N$70-$N$54)/($B$70-$B$54))","v":63.381531249999995},6,6,"keine Messung","0,22/0,22","-40/80",{"$f":"Tabelle1[[#This Row],[NennØ]]","v":79},87.575000000000003,953.51160337552847,418.75]
["0398980",80,"Faltenbalg",79.2,{"$f":"E69*Tabelle1[[#This Row],[NennØ]]/B69","v":93.999999999999943},{"$f":"IF(AND(B70<=25,B70>=20),\"M14x1,5\",IF(B70<=63,\"M16x1\",IF(B70<=99,\"M20x1,5\",\"???\")))","v":"M20x1,5"},"G1/8",{"$f":"CONCATENATE(\"LOG \",FIXED(Tabelle1[[#This Row],[NennØ]],1),\"-\",Tabelle1[[#This Row],[A]],\"-\",Tabelle1[[#This Row],[B]])","v":"LOG 80,0-M20x1,5-G1/8"},0.22813987999999999,0.23799999999999999,{"$f":"Tabelle1[[#This Row],[Eigen-\nmasse\ngemessen\n'[kg']]]","v":0.23799999999999999},{"$f":"0.1*Tabelle1[[#This Row],[F(dmin)\nberechnete Greifkraft \n6 bar]]/9.81/2","v":4.9578661230037344},65.339699999999993,{"$f":"Tabelle1[[#This Row],[Fluidverbrauch pro Doppelhub (Volumen Pro/E)\n'[cm^3']]]","v":65.339699999999993},6,6,"0,22/0,22",{"$f":"Tabelle1[[#This Row],[Schließ-/\nÖffnungszeit\ngemessen\n'[s']]]","v":"0,22/0,22"},"-40/80",{"$f":"Tabelle1[[#This Row],[NennØ]]","v":80},88.7,972.73333333333267,433.33333333333337]
["0398981",81,"Faltenbalg",80.19,{"$f":"E70*Tabelle1[[#This Row],[NennØ]]/B70","v":95.17499999999994},"M20x1,5","G1/8",{"$f":"CONCATENATE(\"LOG \",FIXED(Tabelle1[[#This Row],[NennØ]],1),\"-\",Tabelle1[[#This Row],[A]],\"-\",Tabelle1[[#This Row],[B]])","v":"LOG 81,0-M20x1,5-G1/8"},"keine Messung","keine Messung",{"$f":"(($K$89-$K$70)/($B$89-$B$70))*Tabelle1[[#This Row],[NennØ]]+$K$89-$B$89*(($K$89-$K$70)/($B$89-$B$70))","v":0.24863157894736854},{"$f":"0.1*Tabelle1[[#This Row],[F(dmin)\nberechnete Greifkraft \n6 bar]]/9.81/2","v":5.3668246821413117},"keine Messung",{"$f":"(($N$89-$N$70)/($B$89-$B$70))*Tabelle1[[#This Row],[NennØ]]+$N$89-$B$89*(($N$89-$N$70)/($B$89-$B$70))","v":68.363873684210546},6,6,"keine Messung","0,23/0,23","-40/80",{"$f":"Tabelle1[[#This Row],[NennØ]]","v":81},89.857894736842113,1052.9710026361254,471.92982456140385]
["0398982",82,"Faltenbalg",81.179999999999993,{"$f":"E71*Tabelle1[[#This Row],[NennØ]]/B71","v":96.349999999999937},"M20x1,5","G1/8",{"$f":"CONCATENATE(\"LOG \",FIXED(Tabelle1[[#This Row],[NennØ]],1),\"-\",Tabelle1[[#This Row],[A]],\"-\",Tabelle1[[#This Row],[B]])","v":"LOG 82,0-M20x1,5-G1/8"},"keine Messung","keine Messung",{"$f":"(($K$89-$K$70)/($B$89-$B$70))*Tabelle1[[#This Row],[NennØ]]+$K$89-$B$89*(($K$89-$K$70)/($B$89-$B$70))","v":0.25926315789473686},{"$f":"0.1*Tabelle1[[#This Row],[F(dmin)\nberechnete Greifkraft \n6 bar]]/9.81/2","v":5.7765126008555727},"keine Messung",{"$f":"(($N$89-$N$70)/($B$89-$B$70))*Tabelle1[[#This Row],[NennØ]]+$N$89-$B$89*(($N$89-$N$70)/($B$89-$B$70))","v":71.388047368421041},6,6,"keine Messung","0,24/0,24","-40/80",{"$f":"Tabelle1[[#This Row],[NennØ]]","v":82},91.015789473684208,1133.3517722878632,510.52631578947398]
["0398983",83,"Faltenbalg",82.17,{"$f":"E72*Tabelle1[[#This Row],[NennØ]]/B72","v":97.524999999999935},"M20x1,5","G1/8",{"$f":"CONCATENATE(\"LOG \",FIXED(Tabelle1[[#This Row],[NennØ]],1),\"-\",Tabelle1[[#This Row],[A]],\"-\",Tabelle1[[#This Row],[B]])","v":"LOG 83,0-M20x1,5-G1/8"},"keine Messung","keine Messung",{"$f":"(($K$89-$K$70)/($B$89-$B$70))*Tabelle1[[#This Row],[NennØ]]+$K$89-$B$89*(($K$89-$K$70)/($B$89-$B$70))","v":0.26989473684210541},{"$f":"0.1*Tabelle1[[#This Row],[F(dmin)\nberechnete Greifkraft \n6 bar]]/9.81/2","v":6.1868968930350237},"keine Messung",{"$f":"(($N$89-$N$70)/($B$89-$B$70))*Tabelle1[[#This Row],[NennØ]]+$N$89-$B$89*(($N$89-$N$70)/($B$89-$B$70))","v":74.412221052631537},6,6,"keine Messung","0,25/0,25","-40/80",{"$f":"Tabelle1[[#This Row],[NennØ]]","v":83},92.173684210526318,1213.8691704134717,549.12280701754412]
["0398984",84,"Faltenbalg",83.16,{"$f":"E73*Tabelle1[[#This Row],[NennØ]]/B73","v":98.699999999999932},"M20x1,5","G1/8",{"$f":"CONCATENATE(\"LOG \",FIXED(Tabelle1[[#This Row],[NennØ]],1),\"-\",Tabelle1[[#This Row],[A]],\"-\",Tabelle1[[#This Row],[B]])","v":"LOG 84,0-M20x1,5-G1/8"},"keine Messung","keine Messung",{"$f":"(($K$89-$K$70)/($B$89-$B$70))*Tabelle1[[#This Row],[NennØ]]+$K$89-$B$89*(($K$89-$K$70)/($B$89-$B$70))","v":0.28052631578947373},{"$f":"0.1*Tabelle1[[#This Row],[F(dmin)\nberechnete Greifkraft \n6 bar]]/9.81/2","v":6.5979465321391348},"keine Messung",{"$f":"(($N$89-$N$70)/($B$89-$B$70))*Tabelle1[[#This Row],[NennØ]]+$N$89-$B$89*(($N$89-$N$70)/($B$89-$B$70))","v":77.43639473684209},6,6,"keine Messung","0,26/0,26","-40/80",{"$f":"Tabelle1[[#This Row],[NennØ]]","v":84},93.331578947368428,1294.5171096056984,587.71929824561425]
["0398985",85,"Faltenbalg",84.15,{"$f":"E74*Tabelle1[[#This Row],[NennØ]]/B74","v":99.874999999999929},"M20x1,5","G1/8",{"$f":"CONCATENATE(\"LOG \",FIXED(Tabelle1[[#This Row],[NennØ]],1),\"-\",Tabelle1[[#This Row],[A]],\"-\",Tabelle1[[#This Row],[B]])","v":"LOG 85,0-M20x1,5-G1/8"},"keine Messung","keine Messung",{"$f":"(($K$89-$K$70)/($B$89-$B$70))*Tabelle1[[#This Row],[NennØ]]+$K$89-$B$89*(($K$89-$K$70)/($B$89-$B$70))","v":0.29115789473684206},{"$f":"0.1*Tabelle1[[#This Row],[F(dmin)\nberechnete Greifkraft \n6 bar]]/9.81/2","v":7.0096323078151164},"keine Messung",{"$f":"(($N$89-$N$70)/($B$89-$B$70))*Tabelle1[[#This Row],[NennØ]]+$N$89-$B$89*(($N$89-$N$70)/($B$89-$B$70))","v":80.460568421052642},6,6,"keine Messung","0,27/0,27","-40/80",{"$f":"Tabelle1[[#This Row],[NennØ]]","v":85},94.489473684210523,1375.2898587933259,626.31578947368439]
["0398986",86,"Faltenbalg",85.14,{"$f":"E75*Tabelle1[[#This Row],[NennØ]]/B75","v":101.04999999999994},"M20x1,5","G1/8",{"$f":"CONCATENATE(\"LOG \",FIXED(Tabelle1[[#This Row],[NennØ]],1),\"-\",Tabelle1[[#This Row],[A]],\"-\",Tabelle1[[#This Row],[B]])","v":"LOG 86,0-M20x1,5-G1/8"},"keine Messung","keine Messung",{"$f":"(($K$89-$K$70)/($B$89-$B$70))*Tabelle1[[#This Row],[NennØ]]+$K$89-$B$89*(($K$89-$K$70)/($B$89-$B$70))","v":0.30178947368421061},{"$f":"0.1*Tabelle1[[#This Row],[F(dmin)\nberechnete Greifkraft \n6 bar]]/9.81/2","v":7.4219266949228322},"keine Messung",{"$f":"(($N$89-$N$70)/($B$89-$B$70))*Tabelle1[[#This Row],[NennØ]]+$N$89-$B$89*(($N$89-$N$70)/($B$89-$B$70))","v":83.484742105263138},6,6,"keine Messung","0,28/0,28","-40/80",{"$f":"Tabelle1[[#This Row],[NennØ]]","v":86},95.647368421052633,1456.1820175438597,664.91228070175453]
["0398987",87,"Faltenbalg",86.13,{"$f":"E76*Tabelle1[[#This Row],[NennØ]]/B76","v":102.22499999999994},"M20x1,5","G1/8",{"$f":"CONCATENATE(\"LOG \",FIXED(Tabelle1[[#This Row],[NennØ]],1),\"-\",Tabelle1[[#This Row],[A]],\"-\",Tabelle1[[#This Row],[B]])","v":"LOG 87,0-M20x1,5-G1/8"},"keine Messung","keine Messung",{"$f":"(($K$89-$K$70)/($B$89-$B$70))*Tabelle1[[#This Row],[NennØ]]+$K$89-$B$89*(($K$89-$K$70)/($B$89-$B$70))","v":0.31242105263157893},{"$f":"0.1*Tabelle1[[#This Row],[F(dmin)\nberechnete Greifkraft \n6 bar]]/9.81/2","v":7.8348037337329854},"keine Messung",{"$f":"(($N$89-$N$70)/($B$89-$B$70))*Tabelle1[[#This Row],[NennØ]]+$N$89-$B$89*(($N$89-$N$70)/($B$89-$B$70))","v":86.508915789473633},6,6,"keine Messung","0,29/0,29","-40/80",{"$f":"Tabelle1[[#This Row],[NennØ]]","v":87},96.805263157894743,1537.1884925584118,703.50877192982512]
["0398988",88,"Faltenbalg",87.12,{"$f":"E77*Tabelle1[[#This Row],[NennØ]]/B77","v":103.39999999999993},"M20x1,5","G1/8",{"$f":"CONCATENATE(\"LOG \",FIXED(Tabelle1[[#This Row],[NennØ]],1),\"-\",Tabelle1[[#This Row],[A]],\"-\",Tabelle1[[#This Row],[B]])","v":"LOG 88,0-M20x1,5-G1/8"},"keine Messung","keine Messung",{"$f":"(($K$89-$K$70)/($B$89-$B$70))*Tabelle1[[#This Row],[NennØ]]+$K$89-$B$89*(($K$89-$K$70)/($B$89-$B$70))","v":0.32305263157894748},{"$f":"0.1*Tabelle1[[#This Row],[F(dmin)\nberechnete Greifkraft \n6 bar]]/9.81/2","v":8.2482389202019952},"keine Messung",{"$f":"(($N$89-$N$70)/($B$89-$B$70))*Tabelle1[[#This Row],[NennØ]]+$N$89-$B$89*(($N$89-$N$70)/($B$89-$B$70))","v":89.533089473684242},6,6,"keine Messung","0,30/0,30","-40/80",{"$f":"Tabelle1[[#This Row],[NennØ]]","v":88},97.963157894736838,1618.3044761436313,742.10526315789525]
["0398989",89,"Faltenbalg",88.11,{"$f":"E78*Tabelle1[[#This Row],[NennØ]]/B78","v":104.57499999999995},"M20x1,5","G1/8",{"$f":"CONCATENATE(\"LOG \",FIXED(Tabelle1[[#This Row],[NennØ]],1),\"-\",Tabelle1[[#This Row],[A]],\"-\",Tabelle1[[#This Row],[B]])","v":"LOG 89,0-M20x1,5-G1/8"},"keine Messung","keine Messung",{"$f":"(($K$89-$K$70)/($B$89-$B$70))*Tabelle1[[#This Row],[NennØ]]+$K$89-$B$89*(($K$89-$K$70)/($B$89-$B$70))","v":0.33368421052631581},{"$f":"0.1*Tabelle1[[#This Row],[F(dmin)\nberechnete Greifkraft \n6 bar]]/9.81/2","v":8.6622091053486301},"keine Messung",{"$f":"(($N$89-$N$70)/($B$89-$B$70))*Tabelle1[[#This Row],[NennØ]]+$N$89-$B$89*(($N$89-$N$70)/($B$89-$B$70))","v":92.557263157894738},6,6,"keine Messung","0,31/0,31","-40/80",{"$f":"Tabelle1[[#This Row],[NennØ]]","v":89},99.121052631578948,1699.5254264694013,780.70175438596539]
["0398990",90,"Faltenbalg",89.1,{"$f":"E79*Tabelle1[[#This Row],[NennØ]]/B79","v":105.74999999999994},"M20x1,5","G1/8",{"$f":"CONCATENATE(\"LOG \",FIXED(Tabelle1[[#This Row],[NennØ]],1),\"-\",Tabelle1[[#This Row],[A]],\"-\",Tabelle1[[#This Row],[B]])","v":"LOG 90,0-M20x1,5-G1/8"},"keine Messung","keine Messung",{"$f":"(($K$89-$K$70)/($B$89-$B$70))*Tabelle1[[#This Row],[NennØ]]+$K$89-$B$89*(($K$89-$K$70)/($B$89-$B$70))","v":0.34431578947368435},{"$f":"0.1*Tabelle1[[#This Row],[F(dmin)\nberechnete Greifkraft \n6 bar]]/9.81/2","v":9.0766924028633387},"keine Messung",{"$f":"(($N$89-$N$70)/($B$89-$B$70))*Tabelle1[[#This Row],[NennØ]]+$N$89-$B$89*(($N$89-$N$70)/($B$89-$B$70))","v":95.581436842105234},6,6,"keine Messung","0,32/0,32","-40/80",{"$f":"Tabelle1[[#This Row],[NennØ]]","v":90},100.27894736842106,1780.847049441787,819.29824561403552]
["0398991",91,"Faltenbalg",90.09,{"$f":"E80*Tabelle1[[#This Row],[NennØ]]/B80","v":106.92499999999994},"M20x1,5","G1/8",{"$f":"CONCATENATE(\"LOG \",FIXED(Tabelle1[[#This Row],[NennØ]],1),\"-\",Tabelle1[[#This Row],[A]],\"-\",Tabelle1[[#This Row],[B]])","v":"LOG 91,0-M20x1,5-G1/8"},"keine Messung","keine Messung",{"$f":"(($K$89-$K$70)/($B$89-$B$70))*Tabelle1[[#This Row],[NennØ]]+$K$89-$B$89*(($K$89-$K$70)/($B$89-$B$70))","v":0.35494736842105268},{"$f":"0.1*Tabelle1[[#This Row],[F(dmin)\nberechnete Greifkraft \n6 bar]]/9.81/2","v":9.4916681041752184},"keine Messung",{"$f":"(($N$89-$N$70)/($B$89-$B$70))*Tabelle1[[#This Row],[NennØ]]+$N$89-$B$89*(($N$89-$N$70)/($B$89-$B$70))","v":98.605610526315729},6,6,"keine Messung","0,34/0,34","-40/80",{"$f":"Tabelle1[[#This Row],[NennØ]]","v":91},101.43684210526317,1862.2652820391777,857.89473684210566]
["0398992",92,"Faltenbalg",91.08,{"$f":"E81*Tabelle1[[#This Row],[NennØ]]/B81","v":108.09999999999994},"M20x1,5","G1/8",{"$f":"CONCATENATE(\"LOG \",FIXED(Tabelle1[[#This Row],[NennØ]],1),\"-\",Tabelle1[[#This Row],[A]],\"-\",Tabelle1[[#This Row],[B]])","v":"LOG 92,0-M20x1,5-G1/8"},"keine Messung","keine Messung",{"$f":"(($K$89-$K$70)/($B$89-$B$70))*Tabelle1[[#This Row],[NennØ]]+$K$89-$B$89*(($K$89-$K$70)/($B$89-$B$70))","v":0.365578947368421},{"$f":"0.1*Tabelle1[[#This Row],[F(dmin)\nberechnete Greifkraft \n6 bar]]/9.81/2","v":9.9071166002835103},"keine Messung",{"$f":"(($N$89-$N$70)/($B$89-$B$70))*Tabelle1[[#This Row],[NennØ]]+$N$89-$B$89*(($N$89-$N$70)/($B$89-$B$70))","v":101.62978421052634},6,6,"keine Messung","0,36/0,36","-40/80",{"$f":"Tabelle1[[#This Row],[NennØ]]","v":92},102.59473684210526,1943.7762769756246,896.49122807017579]
["0398993",93,"Faltenbalg",92.07,{"$f":"E82*Tabelle1[[#This Row],[NennØ]]/B82","v":109.27499999999993},"M20x1,5","G1/8",{"$f":"CONCATENATE(\"LOG \",FIXED(Tabelle1[[#This Row],[NennØ]],1),\"-\",Tabelle1[[#This Row],[A]],\"-\",Tabelle1[[#This Row],[B]])","v":"LOG 93,0-M20x1,5-G1/8"},"keine Messung","keine Messung",{"$f":"(($K$89-$K$70)/($B$89-$B$70))*Tabelle1[[#This Row],[NennØ]]+$K$89-$B$89*(($K$89-$K$70)/($B$89-$B$70))","v":0.37621052631578955},{"$f":"0.1*Tabelle1[[#This Row],[F(dmin)\nberechnete Greifkraft \n6 bar]]/9.81/2","v":10.323019309733327},"keine Messung",{"$f":"(($N$89-$N$70)/($B$89-$B$70))*Tabelle1[[#This Row],[NennØ]]+$N$89-$B$89*(($N$89-$N$70)/($B$89-$B$70))","v":104.65395789473683},6,6,"keine Messung","0,38/0,38","-40/80",{"$f":"Tabelle1[[#This Row],[NennØ]]","v":93},103.75263157894737,2025.376388569679,935.08771929824593]
["0398994",94,"Faltenbalg",93.06,{"$f":"E83*Tabelle1[[#This Row],[NennØ]]/B83","v":110.44999999999993},"M20x1,5","G1/8",{"$f":"CONCATENATE(\"LOG \",FIXED(Tabelle1[[#This Row],[NennØ]],1),\"-\",Tabelle1[[#This Row],[A]],\"-\",Tabelle1[[#This Row],[B]])","v":"LOG 94,0-M20x1,5-G1/8"},"keine Messung","keine Messung",{"$f":"(($K$89-$K$70)/($B$89-$B$70))*Tabelle1[[#This Row],[NennØ]]+$K$89-$B$89*(($K$89-$K$70)/($B$89-$B$70))","v":0.38684210526315788},{"$f":"0.1*Tabelle1[[#This Row],[F(dmin)\nberechnete Greifkraft \n6 bar]]/9.81/2","v":10.739358612179517},"keine Messung",{"$f":"(($N$89-$N$70)/($B$89-$B$70))*Tabelle1[[#This Row],[NennØ]]+$N$89-$B$89*(($N$89-$N$70)/($B$89-$B$70))","v":107.67813157894733},6,6,"keine Messung","0,39/0,39","-40/80",{"$f":"Tabelle1[[#This Row],[NennØ]]","v":94},104.91052631578948,2107.0621597096215,973.68421052631606]
["0398995",95,"Faltenbalg",94.05,{"$f":"E84*Tabelle1[[#This Row],[NennØ]]/B84","v":111.62499999999993},"M20x1,5","G1/8",{"$f":"CONCATENATE(\"LOG \",FIXED(Tabelle1[[#This Row],[NennØ]],1),\"-\",Tabelle1[[#This Row],[A]],\"-\",Tabelle1[[#This Row],[B]])","v":"LOG 95,0-M20x1,5-G1/8"},"keine Messung","keine Messung",{"$f":"(($K$89-$K$70)/($B$89-$B$70))*Tabelle1[[#This Row],[NennØ]]+$K$89-$B$89*(($K$89-$K$70)/($B$89-$B$70))","v":0.39747368421052642},{"$f":"0.1*Tabelle1[[#This Row],[F(dmin)\nberechnete Greifkraft \n6 bar]]/9.81/2","v":11.156117787039227},"keine Messung",{"$f":"(($N$89-$N$70)/($B$89-$B$70))*Tabelle1[[#This Row],[NennØ]]+$N$89-$B$89*(($N$89-$N$70)/($B$89-$B$70))","v":110.70230526315794},6,6,"keine Messung","0,40/0,40","-40/80",{"$f":"Tabelle1[[#This Row],[NennØ]]","v":95},106.06842105263158,2188.8303098170963,1012.2807017543862]
["0398996",96,"Faltenbalg",95.039999999999992,{"$f":"E85*Tabelle1[[#This Row],[NennØ]]/B85","v":112.79999999999993},"M20x1,5","G1/8",{"$f":"CONCATENATE(\"LOG \",FIXED(Tabelle1[[#This Row],[NennØ]],1),\"-\",Tabelle1[[#This Row],[A]],\"-\",Tabelle1[[#This Row],[B]])","v":"LOG 96,0-M20x1,5-G1/8"},"keine Messung","keine Messung",{"$f":"(($K$89-$K$70)/($B$89-$B$70))*Tabelle1[[#This Row],[NennØ]]+$K$89-$B$89*(($K$89-$K$70)/($B$89-$B$70))","v":0.40810526315789475},{"$f":"0.1*Tabelle1[[#This Row],[F(dmin)\nberechnete Greifkraft \n6 bar]]/9.81/2","v":11.573280956784242},"keine Messung",{"$f":"(($N$89-$N$70)/($B$89-$B$70))*Tabelle1[[#This Row],[NennØ]]+$N$89-$B$89*(($N$89-$N$70)/($B$89-$B$70))","v":113.72647894736843},6,6,"keine Messung","0,41/0,41","-40/80",{"$f":"Tabelle1[[#This Row],[NennØ]]","v":96},107.22631578947369,2270.6777237210681,1050.8771929824563]
["0398997",97,"Faltenbalg",96.03,{"$f":"E86*Tabelle1[[#This Row],[NennØ]]/B86","v":113.97499999999992},"M20x1,5","G1/8",{"$f":"CONCATENATE(\"LOG \",FIXED(Tabelle1[[#This Row],[NennØ]],1),\"-\",Tabelle1[[#This Row],[A]],\"-\",Tabelle1[[#This Row],[B]])","v":"LOG 97,0-M20x1,5-G1/8"},"keine Messung","keine Messung",{"$f":"(($K$89-$K$70)/($B$89-$B$70))*Tabelle1[[#This Row],[NennØ]]+$K$89-$B$89*(($K$89-$K$70)/($B$89-$B$70))","v":0.41873684210526307},{"$f":"0.1*Tabelle1[[#This Row],[F(dmin)\nberechnete Greifkraft \n6 bar]]/9.81/2","v":11.990833034468622},"keine Messung",{"$f":"(($N$89-$N$70)/($B$89-$B$70))*Tabelle1[[#This Row],[NennØ]]+$N$89-$B$89*(($N$89-$N$70)/($B$89-$B$70))","v":116.75065263157893},6,6,"keine Messung","0,42/0,42","-40/80",{"$f":"Tabelle1[[#This Row],[NennØ]]","v":97},108.3842105263158,2352.6014413627436,1089.4736842105265]
["0398998",98,"Faltenbalg",97.02,{"$f":"E87*Tabelle1[[#This Row],[NennØ]]/B87","v":115.14999999999992},"M20x1,5","G1/8",{"$f":"CONCATENATE(\"LOG \",FIXED(Tabelle1[[#This Row],[NennØ]],1),\"-\",Tabelle1[[#This Row],[A]],\"-\",Tabelle1[[#This Row],[B]])","v":"LOG 98,0-M20x1,5-G1/8"},"keine Messung","keine Messung",{"$f":"(($K$89-$K$70)/($B$89-$B$70))*Tabelle1[[#This Row],[NennØ]]+$K$89-$B$89*(($K$89-$K$70)/($B$89-$B$70))","v":0.42936842105263162},{"$f":"0.1*Tabelle1[[#This Row],[F(dmin)\nberechnete Greifkraft \n6 bar]]/9.81/2","v":12.408759675127394},"keine Messung",{"$f":"(($N$89-$N$70)/($B$89-$B$70))*Tabelle1[[#This Row],[NennØ]]+$N$89-$B$89*(($N$89-$N$70)/($B$89-$B$70))","v":119.77482631578943},6,6,"keine Messung","0,43/0,43","-40/80",{"$f":"Tabelle1[[#This Row],[NennØ]]","v":98},109.54210526315789,2434.5986482599947,1128.0701754385966]
["0398999",99,"Faltenbalg",98.01,{"$f":"E88*Tabelle1[[#This Row],[NennØ]]/B88","v":116.32499999999992},"M20x1,5","G1/8",{"$f":"CONCATENATE(\"LOG \",FIXED(Tabelle1[[#This Row],[NennØ]],1),\"-\",Tabelle1[[#This Row],[A]],\"-\",Tabelle1[[#This Row],[B]])","v":"LOG 99,0-M20x1,5-G1/8"},0.42610497000000003,0.44,{"$f":"Tabelle1[[#This Row],[Eigen-\nmasse\ngemessen\n'[kg']]]","v":0.44},{"$f":"0.1*Tabelle1[[#This Row],[F(dmin)\nberechnete Greifkraft \n6 bar]]/9.81/2","v":12.827047230716962},122.79900000000001,{"$f":"Tabelle1[[#This Row],[Fluidverbrauch pro Doppelhub (Volumen Pro/E)\n'[cm^3']]]","v":122.79900000000001},6,6,"0,44/0,44",{"$f":"Tabelle1[[#This Row],[Schließ-/\nÖffnungszeit\ngemessen\n'[s']]]","v":"0,44/0,44"},"-40/80",{"$f":"Tabelle1[[#This Row],[NennØ]]","v":99},110.7,2516.6666666666679,1166.6666666666667]
[]
[]
[null,null,null,null,null,"K:\\DATEN\\Projekt\\Vorlagen\\Vorlagen_Katalogdiagramme"]
[]
[]
[]
[null,"Chronik: Wo machen wir die Grenze Schnappscheibe/Faltenbalg"]
[null,"Vorschlag 1","25/26","zu früh"]
[null,"Vorschlag 2","29/30","Schnappscheibe bis 29, Faltenbalg ab 30"]
[null,"Vorschlag 3","31/32","ab 32 Faltenbalg"]
[]
[]
[null,null,"Anschlag skaliert","Anschlag angepasst",null,null,"Membran","Beim Skalieren müssen folgende Anpassungen manuell angepasst werden:"]
["Schnappscheibe",20,0.6,0.6,null,null,0.75,"Parameter ID--> Beschriftung"]
[null,21,{"$f":"C103*B104/B103","v":0.63},0.6,null,null,0.75,"Wanddicke Membran (2x) --> Ebene \"Membrandicke\" und \"Membran1\""]
[null,22,0.65999999999999992,0.7,null,null,0.75,"Endanschlag anpassen"]
[null,23,0.69,0.8,null,null,0.75,"u.U. Gewinde M14 ersetzen durch Gewinde M16 --> Luftbohrung anpassen, Dichtungsnut anpassen, O-Ring anpassen"]
[null,24,0.72,0.9,null,null,0.75,"--> Zeichnungen anpassen (inkl. Masse aktualisieren##)"]
[null,25,0.75,1,null,null,0.75]
[null,26,0.78,1.1000000000000001,null,null,0.75,"wenn Parameter ID nicht möglich ist, Schriftgröße um 0,01 verkleinern, hat funktioniert bei LOG 27, wollte zuerst die 0398927 nicht beschriften"]
[null,27,0.81,1.2,null,null,0.75]
[null,28,0.84,1.3,null,null,0.75]
[null,29,0.87,1.4,null,null,0.75]
[null,30,0.9,1.5,null,null,0.75]
[null,31,0.93,1.6,null,null,0.75]
[]
[]
[null,30,{"$f":"$C$127*B117/$B$127","v":2.25},null,null,null,0.75,"Beim Skalieren müssen folgende Anpassungen manuell angepasst werden:",null,null,null,null,"alle LOG 20-40 sind freigegeben FS 24.10.12 Seeberger"]
[null,31,2.3250000000000002,null,null,null,0.75,"Parameter ID--> Beschriftung",null,null,null,null,"Modelle werden aber erst bei bedarf erstellt"]
["Faltenbalg",32,2.4,2.4,null,null,0.75,"Wanddicke Membran (prüfen)",null,null,null,null,"Erstelldatum dann \"neuer\" als Freigabedatum"]
[null,33,2.4750000000000001,null,null,null,0.75,"Spaltmaß zwischen Faltenbalgen prüfen --> min 0,4mm, sonst drm Faltenbalg ändern"]
[null,34,2.5499999999999998,null,null,null,{"$f":"G122*B121/B122","v":0.7649999999999999},"Spaltmaße Anschlag --> seitlich 0,6mm, gegeneinander 0,25",null,null,null,null,"Info D. Denzer wegen Dummy"]
[null,35,2.625,null,null,null,0.78749999999999987,"Luftbohrung Ø 6,2mm (M16x1)"]
[null,36,2.7,null,null,null,0.80999999999999983,"O-Ringmaß (Ebene) --> 2,9mm"]
[null,37,2.7749999999999999,null,null,null,0.83249999999999991,"Stuetzen --> 0,3mm"]
[null,38,2.85,null,null,null,0.85499999999999998,"--> Zeichnungen anpassen (inkl. Masse aktualisieren##)"]
[null,39,2.9249999999999998,null,null,null,0.87750000000000006]
[null,40,3,3,null,null,0.9]
[]
[null,41,{"$f":"$C$127*B129/$B$127","v":3.0750000000000002},null,null,null,{"$f":"$G$127*B129/$B$127","v":0.92249999999999999},"Beim Skalieren müssen folgende Anpassungen manuell angepasst werden:"]
[null,42,3.15,null,null,null,0.94500000000000006,"Parameter ID--> Beschriftung"]
[null,43,3.2250000000000001,null,null,null,0.96750000000000003,"Wanddicke Membran (prüfen)"]
[null,44,3.3,null,null,null,0.99,"Spaltmaß zwischen Faltenbalgen prüfen --> min 0,4mm, sonst drm Faltenbalg ändern"]
[null,45,3.375,null,null,null,1.0125,"Spaltmaße Anschlag --> seitlich 0,6mm, gegeneinander 0,25 (ab 50 seitlich 1mm, gegeneinander 0,5)"]
[null,46,3.45,null,null,null,1.0349999999999999,"Luftbohrung Ø 6,2mm (M16x1)"]
[null,47,3.5249999999999999,null,null,null,1.0575000000000001,"O-Ringmaß (Ebene) --> 2,9mm (ab 32-40 dann skaliert von LOG 40)"]
[null,48,3.6,null,null,null,1.08,"Stuetzen --> 0,3mm"]
[null,49,3.6749999999999998,null,null,null,1.1025,"--> Zeichnungen anpassen (inkl. Masse aktualisieren##)"]
[null,50,3.75,null,null,null,1.125]
[null,51,3.8250000000000002,null,null,null,1.1475]
[null,52,3.9,null,null,null,1.1700000000000002]
[null,53,3.9750000000000001,null,null,null,1.1925000000000001]
[null,54,4.05,null,null,null,1.2150000000000001]
[null,55,4.125,null,null,null,1.2375]
[null,56,4.2,null,null,null,1.26]
[null,57,4.2750000000000004,null,null,null,1.2825000000000002]
[null,58,4.3499999999999996,null,null,null,1.3050000000000002]
[null,59,4.4249999999999998,null,null,null,1.3275000000000001]
[null,60,4.5,null,null,null,1.35]
[null,61,4.5750000000000002,null,null,null,1.3725000000000001]
[null,62,4.6500000000000004,null,null,null,1.395]
[null,63,4.7249999999999996,null,null,null,1.4175]
[null,64,4.8,null,null,null,1.44]
[null,65,4.875,null,null,null,1.4624999999999999]
[null,66,4.95,null,null,null,1.4849999999999999]
[null,67,5.0250000000000004,null,null,null,1.5075000000000001]
[null,68,5.0999999999999996,null,null,null,1.53]
[null,69,5.1749999999999998,null,null,null,1.5525]
[null,70,5.25,null,null,null,1.575]
[null,71,5.3250000000000002,null,null,null,1.5974999999999999]
[null,72,5.4,null,null,null,1.6199999999999999]
[null,73,5.4749999999999996,null,null,null,{"$f":"$G$127*B161/$B$127","v":1.6425000000000001}]
[null,74,5.55,null,null,null,1.6650000000000003]
[null,75,5.625,null,null,null,1.6875]
[null,76,5.7,null,null,null,1.7100000000000002]
[null,77,5.7750000000000004,null,null,null,1.7324999999999999]
[null,78,5.85,null,null,null,1.7550000000000001]
[null,79,5.9249999999999998,null,null,null,1.7775000000000003]
[null,80,6,null,null,null,1.8]
[null,81,6.0750000000000002,null,null,null,1.8225000000000002]
[null,82,6.15,null,null,null,1.845]
[null,83,6.2249999999999996,null,null,null,1.8675000000000002]
[null,84,6.3,null,null,null,1.8900000000000001]
[null,85,6.375,null,null,null,1.9125000000000001]
[null,86,6.45,null,null,null,1.9350000000000001]
[null,87,6.5250000000000004,null,null,null,1.9575]
[null,88,6.6,null,null,null,1.98]
[null,89,6.6749999999999998,null,null,null,2.0025000000000004]
[null,90,6.75,null,null,null,2.0249999999999999]
[null,91,6.8250000000000002,null,null,null,2.0475000000000003]
[null,92,6.9,null,null,null,2.0699999999999998]
[null,93,6.9749999999999996,null,null,null,2.0925000000000002]
[null,94,7.05,null,null,null,2.1150000000000002]
[null,95,7.125,null,null,null,2.1375000000000002]
[null,96,7.2,null,null,null,2.16]
[null,97,7.2750000000000004,null,null,null,2.1825000000000001]
[null,98,7.35,null,null,null,2.2050000000000001]
[null,99,7.4249999999999998,null,null,null,2.2275]